{"text_format":"1","workbook":"xlsx","n_sheets":10,"sheets":["BİLGİ GİRİŞİ","EK DERS VERİ GİRİŞİ","EK DERS Ücret Hesaplama","EK DERS BORDROSU","hesaplamalar","BANKA LİSTESİ","KESİNTİ LİSTESİ","SGK KONTROL LİSTESİ"," Ö.E.B ","KATSAYILAR"],"not_rendered":{"charts":0,"images":0,"macros":1,"external_links":0,"defined_names":5,"comments":0,"pivot_tables":0},"unopened":[],"bounds":{"document_bytes":16777216,"sheet_cells":100000,"rows_first":2000,"rows_last":500,"rows_between":2000,"halvings":0,"cell_chars":16384,"cell_head_chars":4096},"cells_cut":0,"cells_raw":0,"read":"whole","date_system":"1900"}

{"sheet":"BİLGİ GİRİŞİ","index":0,"n_rows":104,"n_cols":12,"rows_kept":104,"cut":false,"hidden":false,"merged":[[2,4,3,4],[2,0,3,0],[2,1,3,1],[2,2,3,2],[2,3,3,3],[2,8,2,10],[2,11,3,11],[2,5,3,5],[2,7,3,7],[2,6,3,6]]}
[null,{"$f":"CONCATENATE(KATSAYILAR!F3,\"   \",\"---    Ücretli Öğretmenlere Ek Ders Ücreti Ödenmesine Esas Bilgiler\")","v":"OKUL KURUM ADI GİRİNİZ!!!   ---    Ücretli Öğretmenlere Ek Ders Ücreti Ödenmesine Esas Bilgiler"}]
[]
["SIRA","KİMLİK NO","ADI SOYADI","Çalışma Durumu\n(Ücretli - Emekli çalışan)","İBAN NO","Önceki Aylar Gelir Vergisi Matrahı","Engellilik İndirimi","Şahıs (Özel) Sigorta Prim Tutarı\n(ödenen primin en fazla %15'i yazılabilir)","İCRA KESİNTİSİ ve DOSYA BİLGİSİ",null,null,"NOTLAR"]
[null,null,null,null,null,null,null,null,"İcra - Nafaka Kesintisi (TL.)","İcra Dairesi Adı","İcra Dosyası No"]
[1,12345678910,"İBRAHİM KUTLUDAĞ","Ücretli Öğretmen","TR150000000000000000000000"]
[2,12345678910,"SAMET YAĞMUR","Ücretli Öğretmen","TR150000000000000000000000"]
[3,12345678910,"SAMET YAĞMUR","Ücretli Öğretmen","TR150000000000000000000000"]
[4,12345678910,"SAMET YAĞMUR","Ücretli Öğretmen","TR150000000000000000000000"]
[5,12345678910,"SAMET YAĞMUR","Ücretli Öğretmen","TR150000000000000000000000"]
[6,12345678910,"SAMET YAĞMUR","Ücretli Öğretmen (Emekli çalışan)","TR150000000000000000000000"]
[7]
[8]
[9]
[10]
[11]
[12]
[13]
[14]
[15]
[16]
[17]
[18]
[19]
[20]
[21]
[22]
[23]
[24]
[25]
[26]
[27]
[28]
[29]
[30]
[31]
[32]
[33]
[34]
[35]
[36]
[37]
[38]
[39]
[40]
[41]
[42]
[43]
[44]
[45]
[46]
[47]
[48]
[49]
[50]
[51]
[52]
[53]
[54]
[55]
[56]
[57]
[58]
[59]
[60]
[61]
[62]
[63]
[64]
[65]
[66]
[67]
[68]
[69]
[70]
[71]
[72]
[73]
[74]
[75]
[76]
[77]
[78]
[79]
[80]
[81]
[82]
[83]
[84]
[85]
[86]
[87]
[88]
[89]
[90]
[91]
[92]
[93]
[94]
[95]
[96]
[97]
[98]
[99]
[100]

{"sheet":"EK DERS VERİ GİRİŞİ","index":1,"n_rows":104,"n_cols":9,"rows_kept":104,"cut":false,"hidden":false,"merged":[[0,0,0,7],[1,2,2,6]]}
["Ücretli Öğretmenlerin Ek Ders Bordrosu Veri Girişi",null,null,null,null,null,null,null,1]
[null,null,"E-BİLDİRGE GİRİŞLERİNİ YAPARKEN SGK KONTROL LİSTESİ SAYFASINI KULLANINIZ",null,null,null,null,null,2024]
[]
["SIRA","KİMLİK NO","ADI SOYADI","Çalışma Durumu\n(Ücretli - Emekli çalışan)","Gündüz Saat","Gece Saat","DYK Kursu (gündüz) Saat","DYK Kursu (H.S.- Gece) Saat",{"$f":"CONCATENATE(\"TOPLAM SAAT\",CHAR(10),CHAR(10),'EK DERS Ücret Hesaplama'!M106)","v":"TOPLAM SAAT\n\n615"}]
[1,{"$f":"IF('BİLGİ GİRİŞİ'!B5=\"\",\"\",'BİLGİ GİRİŞİ'!B5)","v":12345678910},{"$f":"IF('BİLGİ GİRİŞİ'!C5=\"\",\"\",'BİLGİ GİRİŞİ'!C5)","v":"İBRAHİM KUTLUDAĞ"},{"$f":"IF('BİLGİ GİRİŞİ'!D5=\"\",\"\",'BİLGİ GİRİŞİ'!D5)","v":"Ücretli Öğretmen"},180,null,null,null,{"$f":"IF(AND(E5=\"\",F5=\"\",G5=\"\",H5=\"\"),\"\",SUM(E5:H5))","v":180}]
[2,{"$f":"IF('BİLGİ GİRİŞİ'!B6=\"\",\"\",'BİLGİ GİRİŞİ'!B6)","v":12345678910},{"$f":"IF('BİLGİ GİRİŞİ'!C6=\"\",\"\",'BİLGİ GİRİŞİ'!C6)","v":"SAMET YAĞMUR"},{"$f":"IF('BİLGİ GİRİŞİ'!D6=\"\",\"\",'BİLGİ GİRİŞİ'!D6)","v":"Ücretli Öğretmen"},180,null,null,null,{"$f":"IF(AND(E6=\"\",F6=\"\",G6=\"\",H6=\"\"),\"\",SUM(E6:H6))","v":180}]
[3,{"$f":"IF('BİLGİ GİRİŞİ'!B7=\"\",\"\",'BİLGİ GİRİŞİ'!B7)","v":12345678910},{"$f":"IF('BİLGİ GİRİŞİ'!C7=\"\",\"\",'BİLGİ GİRİŞİ'!C7)","v":"SAMET YAĞMUR"},{"$f":"IF('BİLGİ GİRİŞİ'!D7=\"\",\"\",'BİLGİ GİRİŞİ'!D7)","v":"Ücretli Öğretmen"},155,null,null,null,155]
[4,{"$f":"IF('BİLGİ GİRİŞİ'!B8=\"\",\"\",'BİLGİ GİRİŞİ'!B8)","v":12345678910},{"$f":"IF('BİLGİ GİRİŞİ'!C8=\"\",\"\",'BİLGİ GİRİŞİ'!C8)","v":"SAMET YAĞMUR"},{"$f":"IF('BİLGİ GİRİŞİ'!D8=\"\",\"\",'BİLGİ GİRİŞİ'!D8)","v":"Ücretli Öğretmen"},100,null,null,null,100]
[5,{"$f":"IF('BİLGİ GİRİŞİ'!B9=\"\",\"\",'BİLGİ GİRİŞİ'!B9)","v":12345678910},{"$f":"IF('BİLGİ GİRİŞİ'!C9=\"\",\"\",'BİLGİ GİRİŞİ'!C9)","v":"SAMET YAĞMUR"},{"$f":"IF('BİLGİ GİRİŞİ'!D9=\"\",\"\",'BİLGİ GİRİŞİ'!D9)","v":"Ücretli Öğretmen"},null,null,null,null,""]
[6,{"$f":"IF('BİLGİ GİRİŞİ'!B10=\"\",\"\",'BİLGİ GİRİŞİ'!B10)","v":12345678910},{"$f":"IF('BİLGİ GİRİŞİ'!C10=\"\",\"\",'BİLGİ GİRİŞİ'!C10)","v":"SAMET YAĞMUR"},{"$f":"IF('BİLGİ GİRİŞİ'!D10=\"\",\"\",'BİLGİ GİRİŞİ'!D10)","v":"Ücretli Öğretmen (Emekli çalışan)"},null,null,null,null,""]
[7,{"$f":"IF('BİLGİ GİRİŞİ'!B11=\"\",\"\",'BİLGİ GİRİŞİ'!B11)","v":""},{"$f":"IF('BİLGİ GİRİŞİ'!C11=\"\",\"\",'BİLGİ GİRİŞİ'!C11)","v":""},{"$f":"IF('BİLGİ GİRİŞİ'!D11=\"\",\"\",'BİLGİ GİRİŞİ'!D11)","v":""},null,null,null,null,""]
[8,{"$f":"IF('BİLGİ GİRİŞİ'!B12=\"\",\"\",'BİLGİ GİRİŞİ'!B12)","v":""},{"$f":"IF('BİLGİ GİRİŞİ'!C12=\"\",\"\",'BİLGİ GİRİŞİ'!C12)","v":""},{"$f":"IF('BİLGİ GİRİŞİ'!D12=\"\",\"\",'BİLGİ GİRİŞİ'!D12)","v":""},null,null,null,null,""]
[9,{"$f":"IF('BİLGİ GİRİŞİ'!B13=\"\",\"\",'BİLGİ GİRİŞİ'!B13)","v":""},{"$f":"IF('BİLGİ GİRİŞİ'!C13=\"\",\"\",'BİLGİ GİRİŞİ'!C13)","v":""},{"$f":"IF('BİLGİ GİRİŞİ'!D13=\"\",\"\",'BİLGİ GİRİŞİ'!D13)","v":""},null,null,null,null,""]
[10,{"$f":"IF('BİLGİ GİRİŞİ'!B14=\"\",\"\",'BİLGİ GİRİŞİ'!B14)","v":""},{"$f":"IF('BİLGİ GİRİŞİ'!C14=\"\",\"\",'BİLGİ GİRİŞİ'!C14)","v":""},{"$f":"IF('BİLGİ GİRİŞİ'!D14=\"\",\"\",'BİLGİ GİRİŞİ'!D14)","v":""},null,null,null,null,""]
[11,{"$f":"IF('BİLGİ GİRİŞİ'!B15=\"\",\"\",'BİLGİ GİRİŞİ'!B15)","v":""},{"$f":"IF('BİLGİ GİRİŞİ'!C15=\"\",\"\",'BİLGİ GİRİŞİ'!C15)","v":""},{"$f":"IF('BİLGİ GİRİŞİ'!D15=\"\",\"\",'BİLGİ GİRİŞİ'!D15)","v":""},null,null,null,null,""]
[12,{"$f":"IF('BİLGİ GİRİŞİ'!B16=\"\",\"\",'BİLGİ GİRİŞİ'!B16)","v":""},{"$f":"IF('BİLGİ GİRİŞİ'!C16=\"\",\"\",'BİLGİ GİRİŞİ'!C16)","v":""},{"$f":"IF('BİLGİ GİRİŞİ'!D16=\"\",\"\",'BİLGİ GİRİŞİ'!D16)","v":""},null,null,null,null,""]
[13,{"$f":"IF('BİLGİ GİRİŞİ'!B17=\"\",\"\",'BİLGİ GİRİŞİ'!B17)","v":""},{"$f":"IF('BİLGİ GİRİŞİ'!C17=\"\",\"\",'BİLGİ GİRİŞİ'!C17)","v":""},{"$f":"IF('BİLGİ GİRİŞİ'!D17=\"\",\"\",'BİLGİ GİRİŞİ'!D17)","v":""},null,null,null,null,""]
[14,{"$f":"IF('BİLGİ GİRİŞİ'!B18=\"\",\"\",'BİLGİ GİRİŞİ'!B18)","v":""},{"$f":"IF('BİLGİ GİRİŞİ'!C18=\"\",\"\",'BİLGİ GİRİŞİ'!C18)","v":""},{"$f":"IF('BİLGİ GİRİŞİ'!D18=\"\",\"\",'BİLGİ GİRİŞİ'!D18)","v":""},null,null,null,null,""]
[15,{"$f":"IF('BİLGİ GİRİŞİ'!B19=\"\",\"\",'BİLGİ GİRİŞİ'!B19)","v":""},{"$f":"IF('BİLGİ GİRİŞİ'!C19=\"\",\"\",'BİLGİ GİRİŞİ'!C19)","v":""},{"$f":"IF('BİLGİ GİRİŞİ'!D19=\"\",\"\",'BİLGİ GİRİŞİ'!D19)","v":""},null,null,null,null,""]
[16,{"$f":"IF('BİLGİ GİRİŞİ'!B20=\"\",\"\",'BİLGİ GİRİŞİ'!B20)","v":""},{"$f":"IF('BİLGİ GİRİŞİ'!C20=\"\",\"\",'BİLGİ GİRİŞİ'!C20)","v":""},{"$f":"IF('BİLGİ GİRİŞİ'!D20=\"\",\"\",'BİLGİ GİRİŞİ'!D20)","v":""},null,null,null,null,""]
[17,{"$f":"IF('BİLGİ GİRİŞİ'!B21=\"\",\"\",'BİLGİ GİRİŞİ'!B21)","v":""},{"$f":"IF('BİLGİ GİRİŞİ'!C21=\"\",\"\",'BİLGİ GİRİŞİ'!C21)","v":""},{"$f":"IF('BİLGİ GİRİŞİ'!D21=\"\",\"\",'BİLGİ GİRİŞİ'!D21)","v":""},null,null,null,null,""]
[18,{"$f":"IF('BİLGİ GİRİŞİ'!B22=\"\",\"\",'BİLGİ GİRİŞİ'!B22)","v":""},{"$f":"IF('BİLGİ GİRİŞİ'!C22=\"\",\"\",'BİLGİ GİRİŞİ'!C22)","v":""},{"$f":"IF('BİLGİ GİRİŞİ'!D22=\"\",\"\",'BİLGİ GİRİŞİ'!D22)","v":""},null,null,null,null,""]
[19,{"$f":"IF('BİLGİ GİRİŞİ'!B23=\"\",\"\",'BİLGİ GİRİŞİ'!B23)","v":""},{"$f":"IF('BİLGİ GİRİŞİ'!C23=\"\",\"\",'BİLGİ GİRİŞİ'!C23)","v":""},{"$f":"IF('BİLGİ GİRİŞİ'!D23=\"\",\"\",'BİLGİ GİRİŞİ'!D23)","v":""},null,null,null,null,""]
[20,{"$f":"IF('BİLGİ GİRİŞİ'!B24=\"\",\"\",'BİLGİ GİRİŞİ'!B24)","v":""},{"$f":"IF('BİLGİ GİRİŞİ'!C24=\"\",\"\",'BİLGİ GİRİŞİ'!C24)","v":""},{"$f":"IF('BİLGİ GİRİŞİ'!D24=\"\",\"\",'BİLGİ GİRİŞİ'!D24)","v":""},null,null,null,null,""]
[21,{"$f":"IF('BİLGİ GİRİŞİ'!B25=\"\",\"\",'BİLGİ GİRİŞİ'!B25)","v":""},{"$f":"IF('BİLGİ GİRİŞİ'!C25=\"\",\"\",'BİLGİ GİRİŞİ'!C25)","v":""},{"$f":"IF('BİLGİ GİRİŞİ'!D25=\"\",\"\",'BİLGİ GİRİŞİ'!D25)","v":""},null,null,null,null,""]
[22,{"$f":"IF('BİLGİ GİRİŞİ'!B26=\"\",\"\",'BİLGİ GİRİŞİ'!B26)","v":""},{"$f":"IF('BİLGİ GİRİŞİ'!C26=\"\",\"\",'BİLGİ GİRİŞİ'!C26)","v":""},{"$f":"IF('BİLGİ GİRİŞİ'!D26=\"\",\"\",'BİLGİ GİRİŞİ'!D26)","v":""},null,null,null,null,""]
[23,{"$f":"IF('BİLGİ GİRİŞİ'!B27=\"\",\"\",'BİLGİ GİRİŞİ'!B27)","v":""},{"$f":"IF('BİLGİ GİRİŞİ'!C27=\"\",\"\",'BİLGİ GİRİŞİ'!C27)","v":""},{"$f":"IF('BİLGİ GİRİŞİ'!D27=\"\",\"\",'BİLGİ GİRİŞİ'!D27)","v":""},null,null,null,null,""]
[24,{"$f":"IF('BİLGİ GİRİŞİ'!B28=\"\",\"\",'BİLGİ GİRİŞİ'!B28)","v":""},{"$f":"IF('BİLGİ GİRİŞİ'!C28=\"\",\"\",'BİLGİ GİRİŞİ'!C28)","v":""},{"$f":"IF('BİLGİ GİRİŞİ'!D28=\"\",\"\",'BİLGİ GİRİŞİ'!D28)","v":""},null,null,null,null,""]
[25,{"$f":"IF('BİLGİ GİRİŞİ'!B29=\"\",\"\",'BİLGİ GİRİŞİ'!B29)","v":""},{"$f":"IF('BİLGİ GİRİŞİ'!C29=\"\",\"\",'BİLGİ GİRİŞİ'!C29)","v":""},{"$f":"IF('BİLGİ GİRİŞİ'!D29=\"\",\"\",'BİLGİ GİRİŞİ'!D29)","v":""},null,null,null,null,""]
[26,{"$f":"IF('BİLGİ GİRİŞİ'!B30=\"\",\"\",'BİLGİ GİRİŞİ'!B30)","v":""},{"$f":"IF('BİLGİ GİRİŞİ'!C30=\"\",\"\",'BİLGİ GİRİŞİ'!C30)","v":""},{"$f":"IF('BİLGİ GİRİŞİ'!D30=\"\",\"\",'BİLGİ GİRİŞİ'!D30)","v":""},null,null,null,null,""]
[27,{"$f":"IF('BİLGİ GİRİŞİ'!B31=\"\",\"\",'BİLGİ GİRİŞİ'!B31)","v":""},{"$f":"IF('BİLGİ GİRİŞİ'!C31=\"\",\"\",'BİLGİ GİRİŞİ'!C31)","v":""},{"$f":"IF('BİLGİ GİRİŞİ'!D31=\"\",\"\",'BİLGİ GİRİŞİ'!D31)","v":""},null,null,null,null,""]
[28,{"$f":"IF('BİLGİ GİRİŞİ'!B32=\"\",\"\",'BİLGİ GİRİŞİ'!B32)","v":""},{"$f":"IF('BİLGİ GİRİŞİ'!C32=\"\",\"\",'BİLGİ GİRİŞİ'!C32)","v":""},{"$f":"IF('BİLGİ GİRİŞİ'!D32=\"\",\"\",'BİLGİ GİRİŞİ'!D32)","v":""},null,null,null,null,""]
[29,{"$f":"IF('BİLGİ GİRİŞİ'!B33=\"\",\"\",'BİLGİ GİRİŞİ'!B33)","v":""},{"$f":"IF('BİLGİ GİRİŞİ'!C33=\"\",\"\",'BİLGİ GİRİŞİ'!C33)","v":""},{"$f":"IF('BİLGİ GİRİŞİ'!D33=\"\",\"\",'BİLGİ GİRİŞİ'!D33)","v":""},null,null,null,null,""]
[30,{"$f":"IF('BİLGİ GİRİŞİ'!B34=\"\",\"\",'BİLGİ GİRİŞİ'!B34)","v":""},{"$f":"IF('BİLGİ GİRİŞİ'!C34=\"\",\"\",'BİLGİ GİRİŞİ'!C34)","v":""},{"$f":"IF('BİLGİ GİRİŞİ'!D34=\"\",\"\",'BİLGİ GİRİŞİ'!D34)","v":""},null,null,null,null,""]
[31,{"$f":"IF('BİLGİ GİRİŞİ'!B35=\"\",\"\",'BİLGİ GİRİŞİ'!B35)","v":""},{"$f":"IF('BİLGİ GİRİŞİ'!C35=\"\",\"\",'BİLGİ GİRİŞİ'!C35)","v":""},{"$f":"IF('BİLGİ GİRİŞİ'!D35=\"\",\"\",'BİLGİ GİRİŞİ'!D35)","v":""},null,null,null,null,""]
[32,{"$f":"IF('BİLGİ GİRİŞİ'!B36=\"\",\"\",'BİLGİ GİRİŞİ'!B36)","v":""},{"$f":"IF('BİLGİ GİRİŞİ'!C36=\"\",\"\",'BİLGİ GİRİŞİ'!C36)","v":""},{"$f":"IF('BİLGİ GİRİŞİ'!D36=\"\",\"\",'BİLGİ GİRİŞİ'!D36)","v":""},null,null,null,null,""]
[33,{"$f":"IF('BİLGİ GİRİŞİ'!B37=\"\",\"\",'BİLGİ GİRİŞİ'!B37)","v":""},{"$f":"IF('BİLGİ GİRİŞİ'!C37=\"\",\"\",'BİLGİ GİRİŞİ'!C37)","v":""},{"$f":"IF('BİLGİ GİRİŞİ'!D37=\"\",\"\",'BİLGİ GİRİŞİ'!D37)","v":""},null,null,null,null,""]
[34,{"$f":"IF('BİLGİ GİRİŞİ'!B38=\"\",\"\",'BİLGİ GİRİŞİ'!B38)","v":""},{"$f":"IF('BİLGİ GİRİŞİ'!C38=\"\",\"\",'BİLGİ GİRİŞİ'!C38)","v":""},{"$f":"IF('BİLGİ GİRİŞİ'!D38=\"\",\"\",'BİLGİ GİRİŞİ'!D38)","v":""},null,null,null,null,""]
[35,{"$f":"IF('BİLGİ GİRİŞİ'!B39=\"\",\"\",'BİLGİ GİRİŞİ'!B39)","v":""},{"$f":"IF('BİLGİ GİRİŞİ'!C39=\"\",\"\",'BİLGİ GİRİŞİ'!C39)","v":""},{"$f":"IF('BİLGİ GİRİŞİ'!D39=\"\",\"\",'BİLGİ GİRİŞİ'!D39)","v":""},null,null,null,null,""]
[36,{"$f":"IF('BİLGİ GİRİŞİ'!B40=\"\",\"\",'BİLGİ GİRİŞİ'!B40)","v":""},{"$f":"IF('BİLGİ GİRİŞİ'!C40=\"\",\"\",'BİLGİ GİRİŞİ'!C40)","v":""},{"$f":"IF('BİLGİ GİRİŞİ'!D40=\"\",\"\",'BİLGİ GİRİŞİ'!D40)","v":""},null,null,null,null,""]
[37,{"$f":"IF('BİLGİ GİRİŞİ'!B41=\"\",\"\",'BİLGİ GİRİŞİ'!B41)","v":""},{"$f":"IF('BİLGİ GİRİŞİ'!C41=\"\",\"\",'BİLGİ GİRİŞİ'!C41)","v":""},{"$f":"IF('BİLGİ GİRİŞİ'!D41=\"\",\"\",'BİLGİ GİRİŞİ'!D41)","v":""},null,null,null,null,""]
[38,{"$f":"IF('BİLGİ GİRİŞİ'!B42=\"\",\"\",'BİLGİ GİRİŞİ'!B42)","v":""},{"$f":"IF('BİLGİ GİRİŞİ'!C42=\"\",\"\",'BİLGİ GİRİŞİ'!C42)","v":""},{"$f":"IF('BİLGİ GİRİŞİ'!D42=\"\",\"\",'BİLGİ GİRİŞİ'!D42)","v":""},null,null,null,null,""]
[39,{"$f":"IF('BİLGİ GİRİŞİ'!B43=\"\",\"\",'BİLGİ GİRİŞİ'!B43)","v":""},{"$f":"IF('BİLGİ GİRİŞİ'!C43=\"\",\"\",'BİLGİ GİRİŞİ'!C43)","v":""},{"$f":"IF('BİLGİ GİRİŞİ'!D43=\"\",\"\",'BİLGİ GİRİŞİ'!D43)","v":""},null,null,null,null,""]
[40,{"$f":"IF('BİLGİ GİRİŞİ'!B44=\"\",\"\",'BİLGİ GİRİŞİ'!B44)","v":""},{"$f":"IF('BİLGİ GİRİŞİ'!C44=\"\",\"\",'BİLGİ GİRİŞİ'!C44)","v":""},{"$f":"IF('BİLGİ GİRİŞİ'!D44=\"\",\"\",'BİLGİ GİRİŞİ'!D44)","v":""},null,null,null,null,""]
[41,{"$f":"IF('BİLGİ GİRİŞİ'!B45=\"\",\"\",'BİLGİ GİRİŞİ'!B45)","v":""},{"$f":"IF('BİLGİ GİRİŞİ'!C45=\"\",\"\",'BİLGİ GİRİŞİ'!C45)","v":""},{"$f":"IF('BİLGİ GİRİŞİ'!D45=\"\",\"\",'BİLGİ GİRİŞİ'!D45)","v":""},null,null,null,null,""]
[42,{"$f":"IF('BİLGİ GİRİŞİ'!B46=\"\",\"\",'BİLGİ GİRİŞİ'!B46)","v":""},{"$f":"IF('BİLGİ GİRİŞİ'!C46=\"\",\"\",'BİLGİ GİRİŞİ'!C46)","v":""},{"$f":"IF('BİLGİ GİRİŞİ'!D46=\"\",\"\",'BİLGİ GİRİŞİ'!D46)","v":""},null,null,null,null,""]
[43,{"$f":"IF('BİLGİ GİRİŞİ'!B47=\"\",\"\",'BİLGİ GİRİŞİ'!B47)","v":""},{"$f":"IF('BİLGİ GİRİŞİ'!C47=\"\",\"\",'BİLGİ GİRİŞİ'!C47)","v":""},{"$f":"IF('BİLGİ GİRİŞİ'!D47=\"\",\"\",'BİLGİ GİRİŞİ'!D47)","v":""},null,null,null,null,""]
[44,{"$f":"IF('BİLGİ GİRİŞİ'!B48=\"\",\"\",'BİLGİ GİRİŞİ'!B48)","v":""},{"$f":"IF('BİLGİ GİRİŞİ'!C48=\"\",\"\",'BİLGİ GİRİŞİ'!C48)","v":""},{"$f":"IF('BİLGİ GİRİŞİ'!D48=\"\",\"\",'BİLGİ GİRİŞİ'!D48)","v":""},null,null,null,null,""]
[45,{"$f":"IF('BİLGİ GİRİŞİ'!B49=\"\",\"\",'BİLGİ GİRİŞİ'!B49)","v":""},{"$f":"IF('BİLGİ GİRİŞİ'!C49=\"\",\"\",'BİLGİ GİRİŞİ'!C49)","v":""},{"$f":"IF('BİLGİ GİRİŞİ'!D49=\"\",\"\",'BİLGİ GİRİŞİ'!D49)","v":""},null,null,null,null,""]
[46,{"$f":"IF('BİLGİ GİRİŞİ'!B50=\"\",\"\",'BİLGİ GİRİŞİ'!B50)","v":""},{"$f":"IF('BİLGİ GİRİŞİ'!C50=\"\",\"\",'BİLGİ GİRİŞİ'!C50)","v":""},{"$f":"IF('BİLGİ GİRİŞİ'!D50=\"\",\"\",'BİLGİ GİRİŞİ'!D50)","v":""},null,null,null,null,""]
[47,{"$f":"IF('BİLGİ GİRİŞİ'!B51=\"\",\"\",'BİLGİ GİRİŞİ'!B51)","v":""},{"$f":"IF('BİLGİ GİRİŞİ'!C51=\"\",\"\",'BİLGİ GİRİŞİ'!C51)","v":""},{"$f":"IF('BİLGİ GİRİŞİ'!D51=\"\",\"\",'BİLGİ GİRİŞİ'!D51)","v":""},null,null,null,null,""]
[48,{"$f":"IF('BİLGİ GİRİŞİ'!B52=\"\",\"\",'BİLGİ GİRİŞİ'!B52)","v":""},{"$f":"IF('BİLGİ GİRİŞİ'!C52=\"\",\"\",'BİLGİ GİRİŞİ'!C52)","v":""},{"$f":"IF('BİLGİ GİRİŞİ'!D52=\"\",\"\",'BİLGİ GİRİŞİ'!D52)","v":""},null,null,null,null,""]
[49,{"$f":"IF('BİLGİ GİRİŞİ'!B53=\"\",\"\",'BİLGİ GİRİŞİ'!B53)","v":""},{"$f":"IF('BİLGİ GİRİŞİ'!C53=\"\",\"\",'BİLGİ GİRİŞİ'!C53)","v":""},{"$f":"IF('BİLGİ GİRİŞİ'!D53=\"\",\"\",'BİLGİ GİRİŞİ'!D53)","v":""},null,null,null,null,""]
[50,{"$f":"IF('BİLGİ GİRİŞİ'!B54=\"\",\"\",'BİLGİ GİRİŞİ'!B54)","v":""},{"$f":"IF('BİLGİ GİRİŞİ'!C54=\"\",\"\",'BİLGİ GİRİŞİ'!C54)","v":""},{"$f":"IF('BİLGİ GİRİŞİ'!D54=\"\",\"\",'BİLGİ GİRİŞİ'!D54)","v":""},null,null,null,null,""]
[51,{"$f":"IF('BİLGİ GİRİŞİ'!B55=\"\",\"\",'BİLGİ GİRİŞİ'!B55)","v":""},{"$f":"IF('BİLGİ GİRİŞİ'!C55=\"\",\"\",'BİLGİ GİRİŞİ'!C55)","v":""},{"$f":"IF('BİLGİ GİRİŞİ'!D55=\"\",\"\",'BİLGİ GİRİŞİ'!D55)","v":""},null,null,null,null,""]
[52,{"$f":"IF('BİLGİ GİRİŞİ'!B56=\"\",\"\",'BİLGİ GİRİŞİ'!B56)","v":""},{"$f":"IF('BİLGİ GİRİŞİ'!C56=\"\",\"\",'BİLGİ GİRİŞİ'!C56)","v":""},{"$f":"IF('BİLGİ GİRİŞİ'!D56=\"\",\"\",'BİLGİ GİRİŞİ'!D56)","v":""},null,null,null,null,""]
[53,{"$f":"IF('BİLGİ GİRİŞİ'!B57=\"\",\"\",'BİLGİ GİRİŞİ'!B57)","v":""},{"$f":"IF('BİLGİ GİRİŞİ'!C57=\"\",\"\",'BİLGİ GİRİŞİ'!C57)","v":""},{"$f":"IF('BİLGİ GİRİŞİ'!D57=\"\",\"\",'BİLGİ GİRİŞİ'!D57)","v":""},null,null,null,null,""]
[54,{"$f":"IF('BİLGİ GİRİŞİ'!B58=\"\",\"\",'BİLGİ GİRİŞİ'!B58)","v":""},{"$f":"IF('BİLGİ GİRİŞİ'!C58=\"\",\"\",'BİLGİ GİRİŞİ'!C58)","v":""},{"$f":"IF('BİLGİ GİRİŞİ'!D58=\"\",\"\",'BİLGİ GİRİŞİ'!D58)","v":""},null,null,null,null,""]
[55,{"$f":"IF('BİLGİ GİRİŞİ'!B59=\"\",\"\",'BİLGİ GİRİŞİ'!B59)","v":""},{"$f":"IF('BİLGİ GİRİŞİ'!C59=\"\",\"\",'BİLGİ GİRİŞİ'!C59)","v":""},{"$f":"IF('BİLGİ GİRİŞİ'!D59=\"\",\"\",'BİLGİ GİRİŞİ'!D59)","v":""},null,null,null,null,""]
[56,{"$f":"IF('BİLGİ GİRİŞİ'!B60=\"\",\"\",'BİLGİ GİRİŞİ'!B60)","v":""},{"$f":"IF('BİLGİ GİRİŞİ'!C60=\"\",\"\",'BİLGİ GİRİŞİ'!C60)","v":""},{"$f":"IF('BİLGİ GİRİŞİ'!D60=\"\",\"\",'BİLGİ GİRİŞİ'!D60)","v":""},null,null,null,null,""]
[57,{"$f":"IF('BİLGİ GİRİŞİ'!B61=\"\",\"\",'BİLGİ GİRİŞİ'!B61)","v":""},{"$f":"IF('BİLGİ GİRİŞİ'!C61=\"\",\"\",'BİLGİ GİRİŞİ'!C61)","v":""},{"$f":"IF('BİLGİ GİRİŞİ'!D61=\"\",\"\",'BİLGİ GİRİŞİ'!D61)","v":""},null,null,null,null,""]
[58,{"$f":"IF('BİLGİ GİRİŞİ'!B62=\"\",\"\",'BİLGİ GİRİŞİ'!B62)","v":""},{"$f":"IF('BİLGİ GİRİŞİ'!C62=\"\",\"\",'BİLGİ GİRİŞİ'!C62)","v":""},{"$f":"IF('BİLGİ GİRİŞİ'!D62=\"\",\"\",'BİLGİ GİRİŞİ'!D62)","v":""},null,null,null,null,""]
[59,{"$f":"IF('BİLGİ GİRİŞİ'!B63=\"\",\"\",'BİLGİ GİRİŞİ'!B63)","v":""},{"$f":"IF('BİLGİ GİRİŞİ'!C63=\"\",\"\",'BİLGİ GİRİŞİ'!C63)","v":""},{"$f":"IF('BİLGİ GİRİŞİ'!D63=\"\",\"\",'BİLGİ GİRİŞİ'!D63)","v":""},null,null,null,null,""]
[60,{"$f":"IF('BİLGİ GİRİŞİ'!B64=\"\",\"\",'BİLGİ GİRİŞİ'!B64)","v":""},{"$f":"IF('BİLGİ GİRİŞİ'!C64=\"\",\"\",'BİLGİ GİRİŞİ'!C64)","v":""},{"$f":"IF('BİLGİ GİRİŞİ'!D64=\"\",\"\",'BİLGİ GİRİŞİ'!D64)","v":""},null,null,null,null,""]
[61,{"$f":"IF('BİLGİ GİRİŞİ'!B65=\"\",\"\",'BİLGİ GİRİŞİ'!B65)","v":""},{"$f":"IF('BİLGİ GİRİŞİ'!C65=\"\",\"\",'BİLGİ GİRİŞİ'!C65)","v":""},{"$f":"IF('BİLGİ GİRİŞİ'!D65=\"\",\"\",'BİLGİ GİRİŞİ'!D65)","v":""},null,null,null,null,""]
[62,{"$f":"IF('BİLGİ GİRİŞİ'!B66=\"\",\"\",'BİLGİ GİRİŞİ'!B66)","v":""},{"$f":"IF('BİLGİ GİRİŞİ'!C66=\"\",\"\",'BİLGİ GİRİŞİ'!C66)","v":""},{"$f":"IF('BİLGİ GİRİŞİ'!D66=\"\",\"\",'BİLGİ GİRİŞİ'!D66)","v":""},null,null,null,null,""]
[63,{"$f":"IF('BİLGİ GİRİŞİ'!B67=\"\",\"\",'BİLGİ GİRİŞİ'!B67)","v":""},{"$f":"IF('BİLGİ GİRİŞİ'!C67=\"\",\"\",'BİLGİ GİRİŞİ'!C67)","v":""},{"$f":"IF('BİLGİ GİRİŞİ'!D67=\"\",\"\",'BİLGİ GİRİŞİ'!D67)","v":""},null,null,null,null,""]
[64,{"$f":"IF('BİLGİ GİRİŞİ'!B68=\"\",\"\",'BİLGİ GİRİŞİ'!B68)","v":""},{"$f":"IF('BİLGİ GİRİŞİ'!C68=\"\",\"\",'BİLGİ GİRİŞİ'!C68)","v":""},{"$f":"IF('BİLGİ GİRİŞİ'!D68=\"\",\"\",'BİLGİ GİRİŞİ'!D68)","v":""},null,null,null,null,""]
[65,{"$f":"IF('BİLGİ GİRİŞİ'!B69=\"\",\"\",'BİLGİ GİRİŞİ'!B69)","v":""},{"$f":"IF('BİLGİ GİRİŞİ'!C69=\"\",\"\",'BİLGİ GİRİŞİ'!C69)","v":""},{"$f":"IF('BİLGİ GİRİŞİ'!D69=\"\",\"\",'BİLGİ GİRİŞİ'!D69)","v":""},null,null,null,null,""]
[66,{"$f":"IF('BİLGİ GİRİŞİ'!B70=\"\",\"\",'BİLGİ GİRİŞİ'!B70)","v":""},{"$f":"IF('BİLGİ GİRİŞİ'!C70=\"\",\"\",'BİLGİ GİRİŞİ'!C70)","v":""},{"$f":"IF('BİLGİ GİRİŞİ'!D70=\"\",\"\",'BİLGİ GİRİŞİ'!D70)","v":""},null,null,null,null,""]
[67,{"$f":"IF('BİLGİ GİRİŞİ'!B71=\"\",\"\",'BİLGİ GİRİŞİ'!B71)","v":""},{"$f":"IF('BİLGİ GİRİŞİ'!C71=\"\",\"\",'BİLGİ GİRİŞİ'!C71)","v":""},{"$f":"IF('BİLGİ GİRİŞİ'!D71=\"\",\"\",'BİLGİ GİRİŞİ'!D71)","v":""},null,null,null,null,""]
[68,{"$f":"IF('BİLGİ GİRİŞİ'!B72=\"\",\"\",'BİLGİ GİRİŞİ'!B72)","v":""},{"$f":"IF('BİLGİ GİRİŞİ'!C72=\"\",\"\",'BİLGİ GİRİŞİ'!C72)","v":""},{"$f":"IF('BİLGİ GİRİŞİ'!D72=\"\",\"\",'BİLGİ GİRİŞİ'!D72)","v":""},null,null,null,null,""]
[69,{"$f":"IF('BİLGİ GİRİŞİ'!B73=\"\",\"\",'BİLGİ GİRİŞİ'!B73)","v":""},{"$f":"IF('BİLGİ GİRİŞİ'!C73=\"\",\"\",'BİLGİ GİRİŞİ'!C73)","v":""},{"$f":"IF('BİLGİ GİRİŞİ'!D73=\"\",\"\",'BİLGİ GİRİŞİ'!D73)","v":""},null,null,null,null,""]
[70,{"$f":"IF('BİLGİ GİRİŞİ'!B74=\"\",\"\",'BİLGİ GİRİŞİ'!B74)","v":""},{"$f":"IF('BİLGİ GİRİŞİ'!C74=\"\",\"\",'BİLGİ GİRİŞİ'!C74)","v":""},{"$f":"IF('BİLGİ GİRİŞİ'!D74=\"\",\"\",'BİLGİ GİRİŞİ'!D74)","v":""},null,null,null,null,""]
[71,{"$f":"IF('BİLGİ GİRİŞİ'!B75=\"\",\"\",'BİLGİ GİRİŞİ'!B75)","v":""},{"$f":"IF('BİLGİ GİRİŞİ'!C75=\"\",\"\",'BİLGİ GİRİŞİ'!C75)","v":""},{"$f":"IF('BİLGİ GİRİŞİ'!D75=\"\",\"\",'BİLGİ GİRİŞİ'!D75)","v":""},null,null,null,null,""]
[72,{"$f":"IF('BİLGİ GİRİŞİ'!B76=\"\",\"\",'BİLGİ GİRİŞİ'!B76)","v":""},{"$f":"IF('BİLGİ GİRİŞİ'!C76=\"\",\"\",'BİLGİ GİRİŞİ'!C76)","v":""},{"$f":"IF('BİLGİ GİRİŞİ'!D76=\"\",\"\",'BİLGİ GİRİŞİ'!D76)","v":""},null,null,null,null,""]
[73,{"$f":"IF('BİLGİ GİRİŞİ'!B77=\"\",\"\",'BİLGİ GİRİŞİ'!B77)","v":""},{"$f":"IF('BİLGİ GİRİŞİ'!C77=\"\",\"\",'BİLGİ GİRİŞİ'!C77)","v":""},{"$f":"IF('BİLGİ GİRİŞİ'!D77=\"\",\"\",'BİLGİ GİRİŞİ'!D77)","v":""},null,null,null,null,""]
[74,{"$f":"IF('BİLGİ GİRİŞİ'!B78=\"\",\"\",'BİLGİ GİRİŞİ'!B78)","v":""},{"$f":"IF('BİLGİ GİRİŞİ'!C78=\"\",\"\",'BİLGİ GİRİŞİ'!C78)","v":""},{"$f":"IF('BİLGİ GİRİŞİ'!D78=\"\",\"\",'BİLGİ GİRİŞİ'!D78)","v":""},null,null,null,null,""]
[75,{"$f":"IF('BİLGİ GİRİŞİ'!B79=\"\",\"\",'BİLGİ GİRİŞİ'!B79)","v":""},{"$f":"IF('BİLGİ GİRİŞİ'!C79=\"\",\"\",'BİLGİ GİRİŞİ'!C79)","v":""},{"$f":"IF('BİLGİ GİRİŞİ'!D79=\"\",\"\",'BİLGİ GİRİŞİ'!D79)","v":""},null,null,null,null,""]
[76,{"$f":"IF('BİLGİ GİRİŞİ'!B80=\"\",\"\",'BİLGİ GİRİŞİ'!B80)","v":""},{"$f":"IF('BİLGİ GİRİŞİ'!C80=\"\",\"\",'BİLGİ GİRİŞİ'!C80)","v":""},{"$f":"IF('BİLGİ GİRİŞİ'!D80=\"\",\"\",'BİLGİ GİRİŞİ'!D80)","v":""},null,null,null,null,""]
[77,{"$f":"IF('BİLGİ GİRİŞİ'!B81=\"\",\"\",'BİLGİ GİRİŞİ'!B81)","v":""},{"$f":"IF('BİLGİ GİRİŞİ'!C81=\"\",\"\",'BİLGİ GİRİŞİ'!C81)","v":""},{"$f":"IF('BİLGİ GİRİŞİ'!D81=\"\",\"\",'BİLGİ GİRİŞİ'!D81)","v":""},null,null,null,null,""]
[78,{"$f":"IF('BİLGİ GİRİŞİ'!B82=\"\",\"\",'BİLGİ GİRİŞİ'!B82)","v":""},{"$f":"IF('BİLGİ GİRİŞİ'!C82=\"\",\"\",'BİLGİ GİRİŞİ'!C82)","v":""},{"$f":"IF('BİLGİ GİRİŞİ'!D82=\"\",\"\",'BİLGİ GİRİŞİ'!D82)","v":""},null,null,null,null,""]
[79,{"$f":"IF('BİLGİ GİRİŞİ'!B83=\"\",\"\",'BİLGİ GİRİŞİ'!B83)","v":""},{"$f":"IF('BİLGİ GİRİŞİ'!C83=\"\",\"\",'BİLGİ GİRİŞİ'!C83)","v":""},{"$f":"IF('BİLGİ GİRİŞİ'!D83=\"\",\"\",'BİLGİ GİRİŞİ'!D83)","v":""},null,null,null,null,""]
[80,{"$f":"IF('BİLGİ GİRİŞİ'!B84=\"\",\"\",'BİLGİ GİRİŞİ'!B84)","v":""},{"$f":"IF('BİLGİ GİRİŞİ'!C84=\"\",\"\",'BİLGİ GİRİŞİ'!C84)","v":""},{"$f":"IF('BİLGİ GİRİŞİ'!D84=\"\",\"\",'BİLGİ GİRİŞİ'!D84)","v":""},null,null,null,null,""]
[81,{"$f":"IF('BİLGİ GİRİŞİ'!B85=\"\",\"\",'BİLGİ GİRİŞİ'!B85)","v":""},{"$f":"IF('BİLGİ GİRİŞİ'!C85=\"\",\"\",'BİLGİ GİRİŞİ'!C85)","v":""},{"$f":"IF('BİLGİ GİRİŞİ'!D85=\"\",\"\",'BİLGİ GİRİŞİ'!D85)","v":""},null,null,null,null,""]
[82,{"$f":"IF('BİLGİ GİRİŞİ'!B86=\"\",\"\",'BİLGİ GİRİŞİ'!B86)","v":""},{"$f":"IF('BİLGİ GİRİŞİ'!C86=\"\",\"\",'BİLGİ GİRİŞİ'!C86)","v":""},{"$f":"IF('BİLGİ GİRİŞİ'!D86=\"\",\"\",'BİLGİ GİRİŞİ'!D86)","v":""},null,null,null,null,""]
[83,{"$f":"IF('BİLGİ GİRİŞİ'!B87=\"\",\"\",'BİLGİ GİRİŞİ'!B87)","v":""},{"$f":"IF('BİLGİ GİRİŞİ'!C87=\"\",\"\",'BİLGİ GİRİŞİ'!C87)","v":""},{"$f":"IF('BİLGİ GİRİŞİ'!D87=\"\",\"\",'BİLGİ GİRİŞİ'!D87)","v":""},null,null,null,null,""]
[84,{"$f":"IF('BİLGİ GİRİŞİ'!B88=\"\",\"\",'BİLGİ GİRİŞİ'!B88)","v":""},{"$f":"IF('BİLGİ GİRİŞİ'!C88=\"\",\"\",'BİLGİ GİRİŞİ'!C88)","v":""},{"$f":"IF('BİLGİ GİRİŞİ'!D88=\"\",\"\",'BİLGİ GİRİŞİ'!D88)","v":""},null,null,null,null,""]
[85,{"$f":"IF('BİLGİ GİRİŞİ'!B89=\"\",\"\",'BİLGİ GİRİŞİ'!B89)","v":""},{"$f":"IF('BİLGİ GİRİŞİ'!C89=\"\",\"\",'BİLGİ GİRİŞİ'!C89)","v":""},{"$f":"IF('BİLGİ GİRİŞİ'!D89=\"\",\"\",'BİLGİ GİRİŞİ'!D89)","v":""},null,null,null,null,""]
[86,{"$f":"IF('BİLGİ GİRİŞİ'!B90=\"\",\"\",'BİLGİ GİRİŞİ'!B90)","v":""},{"$f":"IF('BİLGİ GİRİŞİ'!C90=\"\",\"\",'BİLGİ GİRİŞİ'!C90)","v":""},{"$f":"IF('BİLGİ GİRİŞİ'!D90=\"\",\"\",'BİLGİ GİRİŞİ'!D90)","v":""},null,null,null,null,""]
[87,{"$f":"IF('BİLGİ GİRİŞİ'!B91=\"\",\"\",'BİLGİ GİRİŞİ'!B91)","v":""},{"$f":"IF('BİLGİ GİRİŞİ'!C91=\"\",\"\",'BİLGİ GİRİŞİ'!C91)","v":""},{"$f":"IF('BİLGİ GİRİŞİ'!D91=\"\",\"\",'BİLGİ GİRİŞİ'!D91)","v":""},null,null,null,null,""]
[88,{"$f":"IF('BİLGİ GİRİŞİ'!B92=\"\",\"\",'BİLGİ GİRİŞİ'!B92)","v":""},{"$f":"IF('BİLGİ GİRİŞİ'!C92=\"\",\"\",'BİLGİ GİRİŞİ'!C92)","v":""},{"$f":"IF('BİLGİ GİRİŞİ'!D92=\"\",\"\",'BİLGİ GİRİŞİ'!D92)","v":""},null,null,null,null,""]
[89,{"$f":"IF('BİLGİ GİRİŞİ'!B93=\"\",\"\",'BİLGİ GİRİŞİ'!B93)","v":""},{"$f":"IF('BİLGİ GİRİŞİ'!C93=\"\",\"\",'BİLGİ GİRİŞİ'!C93)","v":""},{"$f":"IF('BİLGİ GİRİŞİ'!D93=\"\",\"\",'BİLGİ GİRİŞİ'!D93)","v":""},null,null,null,null,""]
[90,{"$f":"IF('BİLGİ GİRİŞİ'!B94=\"\",\"\",'BİLGİ GİRİŞİ'!B94)","v":""},{"$f":"IF('BİLGİ GİRİŞİ'!C94=\"\",\"\",'BİLGİ GİRİŞİ'!C94)","v":""},{"$f":"IF('BİLGİ GİRİŞİ'!D94=\"\",\"\",'BİLGİ GİRİŞİ'!D94)","v":""},null,null,null,null,""]
[91,{"$f":"IF('BİLGİ GİRİŞİ'!B95=\"\",\"\",'BİLGİ GİRİŞİ'!B95)","v":""},{"$f":"IF('BİLGİ GİRİŞİ'!C95=\"\",\"\",'BİLGİ GİRİŞİ'!C95)","v":""},{"$f":"IF('BİLGİ GİRİŞİ'!D95=\"\",\"\",'BİLGİ GİRİŞİ'!D95)","v":""},null,null,null,null,""]
[92,{"$f":"IF('BİLGİ GİRİŞİ'!B96=\"\",\"\",'BİLGİ GİRİŞİ'!B96)","v":""},{"$f":"IF('BİLGİ GİRİŞİ'!C96=\"\",\"\",'BİLGİ GİRİŞİ'!C96)","v":""},{"$f":"IF('BİLGİ GİRİŞİ'!D96=\"\",\"\",'BİLGİ GİRİŞİ'!D96)","v":""},null,null,null,null,""]
[93,{"$f":"IF('BİLGİ GİRİŞİ'!B97=\"\",\"\",'BİLGİ GİRİŞİ'!B97)","v":""},{"$f":"IF('BİLGİ GİRİŞİ'!C97=\"\",\"\",'BİLGİ GİRİŞİ'!C97)","v":""},{"$f":"IF('BİLGİ GİRİŞİ'!D97=\"\",\"\",'BİLGİ GİRİŞİ'!D97)","v":""},null,null,null,null,""]
[94,{"$f":"IF('BİLGİ GİRİŞİ'!B98=\"\",\"\",'BİLGİ GİRİŞİ'!B98)","v":""},{"$f":"IF('BİLGİ GİRİŞİ'!C98=\"\",\"\",'BİLGİ GİRİŞİ'!C98)","v":""},{"$f":"IF('BİLGİ GİRİŞİ'!D98=\"\",\"\",'BİLGİ GİRİŞİ'!D98)","v":""},null,null,null,null,""]
[95,{"$f":"IF('BİLGİ GİRİŞİ'!B99=\"\",\"\",'BİLGİ GİRİŞİ'!B99)","v":""},{"$f":"IF('BİLGİ GİRİŞİ'!C99=\"\",\"\",'BİLGİ GİRİŞİ'!C99)","v":""},{"$f":"IF('BİLGİ GİRİŞİ'!D99=\"\",\"\",'BİLGİ GİRİŞİ'!D99)","v":""},null,null,null,null,""]
[96,{"$f":"IF('BİLGİ GİRİŞİ'!B100=\"\",\"\",'BİLGİ GİRİŞİ'!B100)","v":""},{"$f":"IF('BİLGİ GİRİŞİ'!C100=\"\",\"\",'BİLGİ GİRİŞİ'!C100)","v":""},{"$f":"IF('BİLGİ GİRİŞİ'!D100=\"\",\"\",'BİLGİ GİRİŞİ'!D100)","v":""},null,null,null,null,""]
[97,{"$f":"IF('BİLGİ GİRİŞİ'!B101=\"\",\"\",'BİLGİ GİRİŞİ'!B101)","v":""},{"$f":"IF('BİLGİ GİRİŞİ'!C101=\"\",\"\",'BİLGİ GİRİŞİ'!C101)","v":""},{"$f":"IF('BİLGİ GİRİŞİ'!D101=\"\",\"\",'BİLGİ GİRİŞİ'!D101)","v":""},null,null,null,null,""]
[98,{"$f":"IF('BİLGİ GİRİŞİ'!B102=\"\",\"\",'BİLGİ GİRİŞİ'!B102)","v":""},{"$f":"IF('BİLGİ GİRİŞİ'!C102=\"\",\"\",'BİLGİ GİRİŞİ'!C102)","v":""},{"$f":"IF('BİLGİ GİRİŞİ'!D102=\"\",\"\",'BİLGİ GİRİŞİ'!D102)","v":""},null,null,null,null,""]
[99,{"$f":"IF('BİLGİ GİRİŞİ'!B103=\"\",\"\",'BİLGİ GİRİŞİ'!B103)","v":""},{"$f":"IF('BİLGİ GİRİŞİ'!C103=\"\",\"\",'BİLGİ GİRİŞİ'!C103)","v":""},{"$f":"IF('BİLGİ GİRİŞİ'!D103=\"\",\"\",'BİLGİ GİRİŞİ'!D103)","v":""},null,null,null,null,""]
[100,{"$f":"IF('BİLGİ GİRİŞİ'!B104=\"\",\"\",'BİLGİ GİRİŞİ'!B104)","v":""},{"$f":"IF('BİLGİ GİRİŞİ'!C104=\"\",\"\",'BİLGİ GİRİŞİ'!C104)","v":""},{"$f":"IF('BİLGİ GİRİŞİ'!D104=\"\",\"\",'BİLGİ GİRİŞİ'!D104)","v":""},null,null,null,null,""]

{"sheet":"EK DERS Ücret Hesaplama","index":2,"n_rows":106,"n_cols":41,"rows_kept":106,"cut":false,"hidden":true,"merged":[]}
[]
[]
[]
[]
["SIRA","KİMLİK NO","ADI SOYADI","Çalışma Durumu\n(Ücretli - Emekli çalışan)","Gündüz Saat","Gündüz Tutar","Gece Saat","Gece Tutar","DYK Kursu (gündüz) Saat","DYK Kursu (gündüz) Tutar","DYK Kursu (H.S. gece) Saat","DYK Kursu (gece) Tutar","Toplam Çalışma Saati","Sigortalı Gün Saysı","Gelir Toplamı","SGK Matrahı","SGK Devlet Kat. % 20.5","Sosyal Des. Primi %24.5","TAHAKKUK TOPLAMI","Geçen Aylar Gelir Vergisi Matrahı Toplamı","Engellilik İndirimi","Şahıs (Özel) Sigorta Prim Tutarı","Bu  Ay Gelir Vergisi Matrahı ","Gelir Vergisi","Vergi Muafiyeti","Muafiyet Sonrası Gelir Vergisi","Damga Vergisi Matrahı","Damga Vergisi","Damga Vergisi Muafiyeti","Muafiyet Sonrası  Damga Vergisi","Sigorta Keseneği %20.5 (İşveren)","Sigorta Keseneği %14 (Çalışan)","Sosyal Destek Primi %24.5 (İşveren)","Sosyal Destek Primi %7.5 (Çalışan)","İcra - Nafaka Kesintisi","Kesinti Toplamı","Net Odenecek Ucret",null,"ÜCRET ÖDENİYORSA",null,"İBAN"]
[{"$f":"'EK DERS VERİ GİRİŞİ'!A5","v":1},{"$f":"'EK DERS VERİ GİRİŞİ'!B5","v":12345678910},{"$f":"'EK DERS VERİ GİRİŞİ'!C5","v":"İBRAHİM KUTLUDAĞ"},{"$f":"'BİLGİ GİRİŞİ'!D5","v":"Ücretli Öğretmen"},{"$f":"'EK DERS VERİ GİRİŞİ'!E5","v":180},{"$f":"ROUND(E6*KATSAYILAR!$C$3*KATSAYILAR!$B$37,2)","v":19173.95},{"$f":"'EK DERS VERİ GİRİŞİ'!F5","v":0},{"$f":"ROUND(G6*KATSAYILAR!$C$3*KATSAYILAR!$B$38,2)","v":0},{"$f":"'EK DERS VERİ GİRİŞİ'!G5","v":0},{"$f":"ROUND(I6*KATSAYILAR!$C$3*KATSAYILAR!$B$39,2)","v":0},{"$f":"'EK DERS VERİ GİRİŞİ'!H5","v":0},{"$f":"ROUND(K6*KATSAYILAR!$C$3*KATSAYILAR!$B$40,2)","v":0},{"$f":"E6+G6+I6+K6","v":180},{"$f":"ROUNDUP(M6/7.5,0)","v":24},{"$f":"F6+H6+J6+L6","v":19173.95},{"$f":"IF(O6=0,0,IF(O6<KATSAYILAR!$C$9*N6,KATSAYILAR!$C$9*N6,O6))","v":19173.95},{"$f":"ROUND(IF('BİLGİ GİRİŞİ'!D5=\"Ücretli Öğretmen\",P6*KATSAYILAR!$C$22,0),2)+'SGK KONTROL LİSTESİ'!G115-'SGK KONTROL LİSTESİ'!J115","v":3930.66},{"$f":"ROUND(IF('BİLGİ GİRİŞİ'!D5=\"Ücretli Öğretmen (Emekli çalışan)\",P6*KATSAYILAR!$C$24,0),2)","v":0},{"$f":"O6+Q6+R6","v":23104.61},{"$f":"'BİLGİ GİRİŞİ'!F5","v":0},{"$f":"\nIF('BİLGİ GİRİŞİ'!G5=KATSAYILAR!$B$16,KATSAYILAR!$C$16,\nIF('BİLGİ GİRİŞİ'!G5=KATSAYILAR!$B$17,KATSAYILAR!$C$17,\nIF('BİLGİ GİRİŞİ'!G5=KATSAYILAR!$B$18,KATSAYILAR!$C$18,0)))","v":0},{"$f":"'BİLGİ GİRİŞİ'!H5","v":0},{"$f":"IF(O6-U6-V6-AF6-AH6<=0,0,O6-U6-V6-AF6-AH6)","v":16489.600000000002},{"$f":"hesaplamalar!J3","v":2473.44},{"$f":"hesaplamalar!M3","v":2473.44},{"$f":"hesaplamalar!N3","v":0},{"$f":"hesaplamalar!P3","v":19173.95},{"$f":"hesaplamalar!Q3","v":145.53},{"$f":"hesaplamalar!T3","v":145.53},{"$f":"hesaplamalar!U3","v":0},{"$f":"Q6","v":3930.66},{"$f":"ROUND(IF('BİLGİ GİRİŞİ'!D5=\"Ücretli Öğretmen\",P6*KATSAYILAR!$C$23,0),2)","v":2684.35},{"$f":"R6","v":0},{"$f":"ROUND(IF('BİLGİ GİRİŞİ'!D5=\"Ücretli Öğretmen (Emekli çalışan)\",P6*KATSAYILAR!$C$34,0),2)","v":0},{"$f":"'BİLGİ GİRİŞİ'!I5","v":0},{"$f":"Z6+AD6+AE6+AF6+AG6+AH6+AI6","v":6615.01},{"$f":"S6-AJ6","v":16489.599999999999},null,{"$f":"IF(AK6<>0,1,0)","v":1},null,{"$f":"'BİLGİ GİRİŞİ'!E5","v":"TR150000000000000000000000"}]
[{"$f":"'EK DERS VERİ GİRİŞİ'!A6","v":2},{"$f":"'EK DERS VERİ GİRİŞİ'!B6","v":12345678910},{"$f":"'EK DERS VERİ GİRİŞİ'!C6","v":"SAMET YAĞMUR"},{"$f":"'BİLGİ GİRİŞİ'!D6","v":"Ücretli Öğretmen"},{"$f":"'EK DERS VERİ GİRİŞİ'!E6","v":180},{"$f":"ROUND(E7*KATSAYILAR!$C$3*KATSAYILAR!$B$37,2)","v":19173.95},{"$f":"'EK DERS VERİ GİRİŞİ'!F6","v":0},{"$f":"ROUND(G7*KATSAYILAR!$C$3*KATSAYILAR!$B$38,2)","v":0},{"$f":"'EK DERS VERİ GİRİŞİ'!G6","v":0},{"$f":"ROUND(I7*KATSAYILAR!$C$3*KATSAYILAR!$B$39,2)","v":0},{"$f":"'EK DERS VERİ GİRİŞİ'!H6","v":0},{"$f":"ROUND(K7*KATSAYILAR!$C$3*KATSAYILAR!$B$40,2)","v":0},{"$f":"E7+G7+I7+K7","v":180},{"$f":"ROUNDUP(M7/7.5,0)","v":24},{"$f":"F7+H7+J7+L7","v":19173.95},{"$f":"IF(O7=0,0,IF(O7<KATSAYILAR!$C$9*N7,KATSAYILAR!$C$9*N7,O7))","v":19173.95},{"$f":"ROUND(IF('BİLGİ GİRİŞİ'!D6=\"Ücretli Öğretmen\",P7*KATSAYILAR!$C$22,0),2)","v":3930.66},{"$f":"ROUND(IF('BİLGİ GİRİŞİ'!D6=\"Ücretli Öğretmen (Emekli çalışan)\",P7*KATSAYILAR!$C$24,0),2)","v":0},{"$f":"O7+Q7+R7","v":23104.61},{"$f":"'BİLGİ GİRİŞİ'!F6","v":0},{"$f":"\nIF('BİLGİ GİRİŞİ'!G6=KATSAYILAR!$B$16,KATSAYILAR!$C$16,\nIF('BİLGİ GİRİŞİ'!G6=KATSAYILAR!$B$17,KATSAYILAR!$C$17,\nIF('BİLGİ GİRİŞİ'!G6=KATSAYILAR!$B$18,KATSAYILAR!$C$18,0)))","v":0},{"$f":"'BİLGİ GİRİŞİ'!H6","v":0},{"$f":"IF(O7-U7-V7-AF7-AH7<=0,0,O7-U7-V7-AF7-AH7)","v":16489.600000000002},{"$f":"hesaplamalar!J4","v":2473.44},{"$f":"hesaplamalar!M4","v":2473.44},{"$f":"hesaplamalar!N4","v":0},{"$f":"hesaplamalar!P4","v":19173.95},{"$f":"hesaplamalar!Q4","v":145.53},{"$f":"hesaplamalar!T4","v":145.53},{"$f":"hesaplamalar!U4","v":0},{"$f":"Q7","v":3930.66},{"$f":"ROUND(IF('BİLGİ GİRİŞİ'!D6=\"Ücretli Öğretmen\",P7*KATSAYILAR!$C$23,0),2)","v":2684.35},{"$f":"R7","v":0},{"$f":"ROUND(IF('BİLGİ GİRİŞİ'!D6=\"Ücretli Öğretmen (Emekli çalışan)\",P7*KATSAYILAR!$C$34,0),2)","v":0},{"$f":"'BİLGİ GİRİŞİ'!I6","v":0},{"$f":"Z7+AD7+AE7+AF7+AG7+AH7+AI7","v":6615.01},{"$f":"S7-AJ7","v":16489.599999999999},null,{"$f":"IF(AK7<>0,1,0)","v":1},null,{"$f":"'BİLGİ GİRİŞİ'!E6","v":"TR150000000000000000000000"}]
[{"$f":"'EK DERS VERİ GİRİŞİ'!A7","v":3},{"$f":"'EK DERS VERİ GİRİŞİ'!B7","v":12345678910},{"$f":"'EK DERS VERİ GİRİŞİ'!C7","v":"SAMET YAĞMUR"},{"$f":"'BİLGİ GİRİŞİ'!D7","v":"Ücretli Öğretmen"},{"$f":"'EK DERS VERİ GİRİŞİ'!E7","v":155},{"$f":"ROUND(E8*KATSAYILAR!$C$3*KATSAYILAR!$B$37,2)","v":16510.900000000001},{"$f":"'EK DERS VERİ GİRİŞİ'!F7","v":0},{"$f":"ROUND(G8*KATSAYILAR!$C$3*KATSAYILAR!$B$38,2)","v":0},{"$f":"'EK DERS VERİ GİRİŞİ'!G7","v":0},{"$f":"ROUND(I8*KATSAYILAR!$C$3*KATSAYILAR!$B$39,2)","v":0},{"$f":"'EK DERS VERİ GİRİŞİ'!H7","v":0},{"$f":"ROUND(K8*KATSAYILAR!$C$3*KATSAYILAR!$B$40,2)","v":0},155,21,16510.900000000001,{"$f":"IF(O8=0,0,IF(O8<KATSAYILAR!$C$9*N8,KATSAYILAR!$C$9*N8,O8))","v":16510.900000000001},{"$f":"ROUND(IF('BİLGİ GİRİŞİ'!D7=\"Ücretli Öğretmen\",P8*KATSAYILAR!$C$22,0),2)","v":3384.73},{"$f":"ROUND(IF('BİLGİ GİRİŞİ'!D7=\"Ücretli Öğretmen (Emekli çalışan)\",P8*KATSAYILAR!$C$24,0),2)","v":0},19895.63,{"$f":"'BİLGİ GİRİŞİ'!F7","v":0},{"$f":"\nIF('BİLGİ GİRİŞİ'!G7=KATSAYILAR!$B$16,KATSAYILAR!$C$16,\nIF('BİLGİ GİRİŞİ'!G7=KATSAYILAR!$B$17,KATSAYILAR!$C$17,\nIF('BİLGİ GİRİŞİ'!G7=KATSAYILAR!$B$18,KATSAYILAR!$C$18,0)))","v":0},{"$f":"'BİLGİ GİRİŞİ'!H7","v":0},14199.37,{"$f":"hesaplamalar!J5","v":2129.91},{"$f":"hesaplamalar!M5","v":2129.91},{"$f":"hesaplamalar!N5","v":0},{"$f":"hesaplamalar!P5","v":16510.900000000001},{"$f":"hesaplamalar!Q5","v":125.32},{"$f":"hesaplamalar!T5","v":125.32},{"$f":"hesaplamalar!U5","v":0},3384.73,{"$f":"ROUND(IF('BİLGİ GİRİŞİ'!D7=\"Ücretli Öğretmen\",P8*KATSAYILAR!$C$23,0),2)","v":2311.5300000000002},0,{"$f":"ROUND(IF('BİLGİ GİRİŞİ'!D7=\"Ücretli Öğretmen (Emekli çalışan)\",P8*KATSAYILAR!$C$34,0),2)","v":0},{"$f":"'BİLGİ GİRİŞİ'!I7","v":0},5696.26,14199.37,null,1,null,{"$f":"'BİLGİ GİRİŞİ'!E7","v":"TR150000000000000000000000"}]
[{"$f":"'EK DERS VERİ GİRİŞİ'!A8","v":4},{"$f":"'EK DERS VERİ GİRİŞİ'!B8","v":12345678910},{"$f":"'EK DERS VERİ GİRİŞİ'!C8","v":"SAMET YAĞMUR"},{"$f":"'BİLGİ GİRİŞİ'!D8","v":"Ücretli Öğretmen"},{"$f":"'EK DERS VERİ GİRİŞİ'!E8","v":100},{"$f":"ROUND(E9*KATSAYILAR!$C$3*KATSAYILAR!$B$37,2)","v":10652.19},{"$f":"'EK DERS VERİ GİRİŞİ'!F8","v":0},{"$f":"ROUND(G9*KATSAYILAR!$C$3*KATSAYILAR!$B$38,2)","v":0},{"$f":"'EK DERS VERİ GİRİŞİ'!G8","v":0},{"$f":"ROUND(I9*KATSAYILAR!$C$3*KATSAYILAR!$B$39,2)","v":0},{"$f":"'EK DERS VERİ GİRİŞİ'!H8","v":0},{"$f":"ROUND(K9*KATSAYILAR!$C$3*KATSAYILAR!$B$40,2)","v":0},100,14,10652.19,{"$f":"IF(O9=0,0,IF(O9<KATSAYILAR!$C$9*N9,KATSAYILAR!$C$9*N9,O9))","v":10652.19},{"$f":"ROUND(IF('BİLGİ GİRİŞİ'!D8=\"Ücretli Öğretmen\",P9*KATSAYILAR!$C$22,0),2)","v":2183.6999999999998},{"$f":"ROUND(IF('BİLGİ GİRİŞİ'!D8=\"Ücretli Öğretmen (Emekli çalışan)\",P9*KATSAYILAR!$C$24,0),2)","v":0},12835.89,{"$f":"'BİLGİ GİRİŞİ'!F8","v":0},{"$f":"\nIF('BİLGİ GİRİŞİ'!G8=KATSAYILAR!$B$16,KATSAYILAR!$C$16,\nIF('BİLGİ GİRİŞİ'!G8=KATSAYILAR!$B$17,KATSAYILAR!$C$17,\nIF('BİLGİ GİRİŞİ'!G8=KATSAYILAR!$B$18,KATSAYILAR!$C$18,0)))","v":0},{"$f":"'BİLGİ GİRİŞİ'!H8","v":0},9160.880000000001,{"$f":"hesaplamalar!J6","v":1374.13},{"$f":"hesaplamalar!M6","v":1374.13},{"$f":"hesaplamalar!N6","v":0},{"$f":"hesaplamalar!P6","v":10652.19},{"$f":"hesaplamalar!Q6","v":80.849999999999994},{"$f":"hesaplamalar!T6","v":80.849999999999994},{"$f":"hesaplamalar!U6","v":0},2183.6999999999998,{"$f":"ROUND(IF('BİLGİ GİRİŞİ'!D8=\"Ücretli Öğretmen\",P9*KATSAYILAR!$C$23,0),2)","v":1491.31},0,{"$f":"ROUND(IF('BİLGİ GİRİŞİ'!D8=\"Ücretli Öğretmen (Emekli çalışan)\",P9*KATSAYILAR!$C$34,0),2)","v":0},{"$f":"'BİLGİ GİRİŞİ'!I8","v":0},3675.0099999999998,9160.8799999999992,null,1,null,{"$f":"'BİLGİ GİRİŞİ'!E8","v":"TR150000000000000000000000"}]
[{"$f":"'EK DERS VERİ GİRİŞİ'!A9","v":5},{"$f":"'EK DERS VERİ GİRİŞİ'!B9","v":12345678910},{"$f":"'EK DERS VERİ GİRİŞİ'!C9","v":"SAMET YAĞMUR"},{"$f":"'BİLGİ GİRİŞİ'!D9","v":"Ücretli Öğretmen"},{"$f":"'EK DERS VERİ GİRİŞİ'!E9","v":0},{"$f":"ROUND(E10*KATSAYILAR!$C$3*KATSAYILAR!$B$37,2)","v":0},{"$f":"'EK DERS VERİ GİRİŞİ'!F9","v":0},{"$f":"ROUND(G10*KATSAYILAR!$C$3*KATSAYILAR!$B$38,2)","v":0},{"$f":"'EK DERS VERİ GİRİŞİ'!G9","v":0},{"$f":"ROUND(I10*KATSAYILAR!$C$3*KATSAYILAR!$B$39,2)","v":0},{"$f":"'EK DERS VERİ GİRİŞİ'!H9","v":0},{"$f":"ROUND(K10*KATSAYILAR!$C$3*KATSAYILAR!$B$40,2)","v":0},0,0,0,{"$f":"IF(O10=0,0,IF(O10<KATSAYILAR!$C$9*N10,KATSAYILAR!$C$9*N10,O10))","v":0},{"$f":"ROUND(IF('BİLGİ GİRİŞİ'!D9=\"Ücretli Öğretmen\",P10*KATSAYILAR!$C$22,0),2)","v":0},{"$f":"ROUND(IF('BİLGİ GİRİŞİ'!D9=\"Ücretli Öğretmen (Emekli çalışan)\",P10*KATSAYILAR!$C$24,0),2)","v":0},0,{"$f":"'BİLGİ GİRİŞİ'!F9","v":0},{"$f":"\nIF('BİLGİ GİRİŞİ'!G9=KATSAYILAR!$B$16,KATSAYILAR!$C$16,\nIF('BİLGİ GİRİŞİ'!G9=KATSAYILAR!$B$17,KATSAYILAR!$C$17,\nIF('BİLGİ GİRİŞİ'!G9=KATSAYILAR!$B$18,KATSAYILAR!$C$18,0)))","v":0},{"$f":"'BİLGİ GİRİŞİ'!H9","v":0},0,{"$f":"hesaplamalar!J7","v":0},{"$f":"hesaplamalar!M7","v":0},{"$f":"hesaplamalar!N7","v":0},{"$f":"hesaplamalar!P7","v":0},{"$f":"hesaplamalar!Q7","v":0},{"$f":"hesaplamalar!T7","v":0},{"$f":"hesaplamalar!U7","v":0},0,{"$f":"ROUND(IF('BİLGİ GİRİŞİ'!D9=\"Ücretli Öğretmen\",P10*KATSAYILAR!$C$23,0),2)","v":0},0,{"$f":"ROUND(IF('BİLGİ GİRİŞİ'!D9=\"Ücretli Öğretmen (Emekli çalışan)\",P10*KATSAYILAR!$C$34,0),2)","v":0},{"$f":"'BİLGİ GİRİŞİ'!I9","v":0},0,0,null,0,null,{"$f":"'BİLGİ GİRİŞİ'!E9","v":"TR150000000000000000000000"}]
[{"$f":"'EK DERS VERİ GİRİŞİ'!A10","v":6},{"$f":"'EK DERS VERİ GİRİŞİ'!B10","v":12345678910},{"$f":"'EK DERS VERİ GİRİŞİ'!C10","v":"SAMET YAĞMUR"},{"$f":"'BİLGİ GİRİŞİ'!D10","v":"Ücretli Öğretmen (Emekli çalışan)"},{"$f":"'EK DERS VERİ GİRİŞİ'!E10","v":0},{"$f":"ROUND(E11*KATSAYILAR!$C$3*KATSAYILAR!$B$37,2)","v":0},{"$f":"'EK DERS VERİ GİRİŞİ'!F10","v":0},{"$f":"ROUND(G11*KATSAYILAR!$C$3*KATSAYILAR!$B$38,2)","v":0},{"$f":"'EK DERS VERİ GİRİŞİ'!G10","v":0},{"$f":"ROUND(I11*KATSAYILAR!$C$3*KATSAYILAR!$B$39,2)","v":0},{"$f":"'EK DERS VERİ GİRİŞİ'!H10","v":0},{"$f":"ROUND(K11*KATSAYILAR!$C$3*KATSAYILAR!$B$40,2)","v":0},0,0,0,{"$f":"IF(O11=0,0,IF(O11<KATSAYILAR!$C$9*N11,KATSAYILAR!$C$9*N11,O11))","v":0},{"$f":"ROUND(IF('BİLGİ GİRİŞİ'!D10=\"Ücretli Öğretmen\",P11*KATSAYILAR!$C$22,0),2)","v":0},{"$f":"ROUND(IF('BİLGİ GİRİŞİ'!D10=\"Ücretli Öğretmen (Emekli çalışan)\",P11*KATSAYILAR!$C$24,0),2)","v":0},0,{"$f":"'BİLGİ GİRİŞİ'!F10","v":0},{"$f":"\nIF('BİLGİ GİRİŞİ'!G10=KATSAYILAR!$B$16,KATSAYILAR!$C$16,\nIF('BİLGİ GİRİŞİ'!G10=KATSAYILAR!$B$17,KATSAYILAR!$C$17,\nIF('BİLGİ GİRİŞİ'!G10=KATSAYILAR!$B$18,KATSAYILAR!$C$18,0)))","v":0},{"$f":"'BİLGİ GİRİŞİ'!H10","v":0},0,{"$f":"hesaplamalar!J8","v":0},{"$f":"hesaplamalar!M8","v":0},{"$f":"hesaplamalar!N8","v":0},{"$f":"hesaplamalar!P8","v":0},{"$f":"hesaplamalar!Q8","v":0},{"$f":"hesaplamalar!T8","v":0},{"$f":"hesaplamalar!U8","v":0},0,{"$f":"ROUND(IF('BİLGİ GİRİŞİ'!D10=\"Ücretli Öğretmen\",P11*KATSAYILAR!$C$23,0),2)","v":0},0,{"$f":"ROUND(IF('BİLGİ GİRİŞİ'!D10=\"Ücretli Öğretmen (Emekli çalışan)\",P11*KATSAYILAR!$C$34,0),2)","v":0},{"$f":"'BİLGİ GİRİŞİ'!I10","v":0},0,0,null,0,null,{"$f":"'BİLGİ GİRİŞİ'!E10","v":"TR150000000000000000000000"}]
[{"$f":"'EK DERS VERİ GİRİŞİ'!A11","v":7},{"$f":"'EK DERS VERİ GİRİŞİ'!B11","v":""},{"$f":"'EK DERS VERİ GİRİŞİ'!C11","v":""},{"$f":"'BİLGİ GİRİŞİ'!D11","v":0},{"$f":"'EK DERS VERİ GİRİŞİ'!E11","v":0},{"$f":"ROUND(E12*KATSAYILAR!$C$3*KATSAYILAR!$B$37,2)","v":0},{"$f":"'EK DERS VERİ GİRİŞİ'!F11","v":0},{"$f":"ROUND(G12*KATSAYILAR!$C$3*KATSAYILAR!$B$38,2)","v":0},{"$f":"'EK DERS VERİ GİRİŞİ'!G11","v":0},{"$f":"ROUND(I12*KATSAYILAR!$C$3*KATSAYILAR!$B$39,2)","v":0},{"$f":"'EK DERS VERİ GİRİŞİ'!H11","v":0},{"$f":"ROUND(K12*KATSAYILAR!$C$3*KATSAYILAR!$B$40,2)","v":0},0,0,0,{"$f":"IF(O12=0,0,IF(O12<KATSAYILAR!$C$9*N12,KATSAYILAR!$C$9*N12,O12))","v":0},{"$f":"ROUND(IF('BİLGİ GİRİŞİ'!D11=\"Ücretli Öğretmen\",P12*KATSAYILAR!$C$22,0),2)","v":0},{"$f":"ROUND(IF('BİLGİ GİRİŞİ'!D11=\"Ücretli Öğretmen (Emekli çalışan)\",P12*KATSAYILAR!$C$24,0),2)","v":0},0,{"$f":"'BİLGİ GİRİŞİ'!F11","v":0},{"$f":"\nIF('BİLGİ GİRİŞİ'!G11=KATSAYILAR!$B$16,KATSAYILAR!$C$16,\nIF('BİLGİ GİRİŞİ'!G11=KATSAYILAR!$B$17,KATSAYILAR!$C$17,\nIF('BİLGİ GİRİŞİ'!G11=KATSAYILAR!$B$18,KATSAYILAR!$C$18,0)))","v":0},{"$f":"'BİLGİ GİRİŞİ'!H11","v":0},0,{"$f":"hesaplamalar!J9","v":0},{"$f":"hesaplamalar!M9","v":0},{"$f":"hesaplamalar!N9","v":0},{"$f":"hesaplamalar!P9","v":0},{"$f":"hesaplamalar!Q9","v":0},{"$f":"hesaplamalar!T9","v":0},{"$f":"hesaplamalar!U9","v":0},0,{"$f":"ROUND(IF('BİLGİ GİRİŞİ'!D11=\"Ücretli Öğretmen\",P12*KATSAYILAR!$C$23,0),2)","v":0},0,{"$f":"ROUND(IF('BİLGİ GİRİŞİ'!D11=\"Ücretli Öğretmen (Emekli çalışan)\",P12*KATSAYILAR!$C$34,0),2)","v":0},{"$f":"'BİLGİ GİRİŞİ'!I11","v":0},0,0,null,0,null,{"$f":"'BİLGİ GİRİŞİ'!E11","v":0}]
[{"$f":"'EK DERS VERİ GİRİŞİ'!A12","v":8},{"$f":"'EK DERS VERİ GİRİŞİ'!B12","v":""},{"$f":"'EK DERS VERİ GİRİŞİ'!C12","v":""},{"$f":"'BİLGİ GİRİŞİ'!D12","v":0},{"$f":"'EK DERS VERİ GİRİŞİ'!E12","v":0},{"$f":"ROUND(E13*KATSAYILAR!$C$3*KATSAYILAR!$B$37,2)","v":0},{"$f":"'EK DERS VERİ GİRİŞİ'!F12","v":0},{"$f":"ROUND(G13*KATSAYILAR!$C$3*KATSAYILAR!$B$38,2)","v":0},{"$f":"'EK DERS VERİ GİRİŞİ'!G12","v":0},{"$f":"ROUND(I13*KATSAYILAR!$C$3*KATSAYILAR!$B$39,2)","v":0},{"$f":"'EK DERS VERİ GİRİŞİ'!H12","v":0},{"$f":"ROUND(K13*KATSAYILAR!$C$3*KATSAYILAR!$B$40,2)","v":0},0,0,0,{"$f":"IF(O13=0,0,IF(O13<KATSAYILAR!$C$9*N13,KATSAYILAR!$C$9*N13,O13))","v":0},{"$f":"ROUND(IF('BİLGİ GİRİŞİ'!D12=\"Ücretli Öğretmen\",P13*KATSAYILAR!$C$22,0),2)","v":0},{"$f":"ROUND(IF('BİLGİ GİRİŞİ'!D12=\"Ücretli Öğretmen (Emekli çalışan)\",P13*KATSAYILAR!$C$24,0),2)","v":0},0,{"$f":"'BİLGİ GİRİŞİ'!F12","v":0},{"$f":"\nIF('BİLGİ GİRİŞİ'!G12=KATSAYILAR!$B$16,KATSAYILAR!$C$16,\nIF('BİLGİ GİRİŞİ'!G12=KATSAYILAR!$B$17,KATSAYILAR!$C$17,\nIF('BİLGİ GİRİŞİ'!G12=KATSAYILAR!$B$18,KATSAYILAR!$C$18,0)))","v":0},{"$f":"'BİLGİ GİRİŞİ'!H12","v":0},0,{"$f":"hesaplamalar!J10","v":0},{"$f":"hesaplamalar!M10","v":0},{"$f":"hesaplamalar!N10","v":0},{"$f":"hesaplamalar!P10","v":0},{"$f":"hesaplamalar!Q10","v":0},{"$f":"hesaplamalar!T10","v":0},{"$f":"hesaplamalar!U10","v":0},0,{"$f":"ROUND(IF('BİLGİ GİRİŞİ'!D12=\"Ücretli Öğretmen\",P13*KATSAYILAR!$C$23,0),2)","v":0},0,{"$f":"ROUND(IF('BİLGİ GİRİŞİ'!D12=\"Ücretli Öğretmen (Emekli çalışan)\",P13*KATSAYILAR!$C$34,0),2)","v":0},{"$f":"'BİLGİ GİRİŞİ'!I12","v":0},0,0,null,0,null,{"$f":"'BİLGİ GİRİŞİ'!E12","v":0}]
[{"$f":"'EK DERS VERİ GİRİŞİ'!A13","v":9},{"$f":"'EK DERS VERİ GİRİŞİ'!B13","v":""},{"$f":"'EK DERS VERİ GİRİŞİ'!C13","v":""},{"$f":"'BİLGİ GİRİŞİ'!D13","v":0},{"$f":"'EK DERS VERİ GİRİŞİ'!E13","v":0},{"$f":"ROUND(E14*KATSAYILAR!$C$3*KATSAYILAR!$B$37,2)","v":0},{"$f":"'EK DERS VERİ GİRİŞİ'!F13","v":0},{"$f":"ROUND(G14*KATSAYILAR!$C$3*KATSAYILAR!$B$38,2)","v":0},{"$f":"'EK DERS VERİ GİRİŞİ'!G13","v":0},{"$f":"ROUND(I14*KATSAYILAR!$C$3*KATSAYILAR!$B$39,2)","v":0},{"$f":"'EK DERS VERİ GİRİŞİ'!H13","v":0},{"$f":"ROUND(K14*KATSAYILAR!$C$3*KATSAYILAR!$B$40,2)","v":0},0,0,0,{"$f":"IF(O14=0,0,IF(O14<KATSAYILAR!$C$9*N14,KATSAYILAR!$C$9*N14,O14))","v":0},{"$f":"ROUND(IF('BİLGİ GİRİŞİ'!D13=\"Ücretli Öğretmen\",P14*KATSAYILAR!$C$22,0),2)","v":0},{"$f":"ROUND(IF('BİLGİ GİRİŞİ'!D13=\"Ücretli Öğretmen (Emekli çalışan)\",P14*KATSAYILAR!$C$24,0),2)","v":0},0,{"$f":"'BİLGİ GİRİŞİ'!F13","v":0},{"$f":"\nIF('BİLGİ GİRİŞİ'!G13=KATSAYILAR!$B$16,KATSAYILAR!$C$16,\nIF('BİLGİ GİRİŞİ'!G13=KATSAYILAR!$B$17,KATSAYILAR!$C$17,\nIF('BİLGİ GİRİŞİ'!G13=KATSAYILAR!$B$18,KATSAYILAR!$C$18,0)))","v":0},{"$f":"'BİLGİ GİRİŞİ'!H13","v":0},0,{"$f":"hesaplamalar!J11","v":0},{"$f":"hesaplamalar!M11","v":0},{"$f":"hesaplamalar!N11","v":0},{"$f":"hesaplamalar!P11","v":0},{"$f":"hesaplamalar!Q11","v":0},{"$f":"hesaplamalar!T11","v":0},{"$f":"hesaplamalar!U11","v":0},0,{"$f":"ROUND(IF('BİLGİ GİRİŞİ'!D13=\"Ücretli Öğretmen\",P14*KATSAYILAR!$C$23,0),2)","v":0},0,{"$f":"ROUND(IF('BİLGİ GİRİŞİ'!D13=\"Ücretli Öğretmen (Emekli çalışan)\",P14*KATSAYILAR!$C$34,0),2)","v":0},{"$f":"'BİLGİ GİRİŞİ'!I13","v":0},0,0,null,0,null,{"$f":"'BİLGİ GİRİŞİ'!E13","v":0}]
[{"$f":"'EK DERS VERİ GİRİŞİ'!A14","v":10},{"$f":"'EK DERS VERİ GİRİŞİ'!B14","v":""},{"$f":"'EK DERS VERİ GİRİŞİ'!C14","v":""},{"$f":"'BİLGİ GİRİŞİ'!D14","v":0},{"$f":"'EK DERS VERİ GİRİŞİ'!E14","v":0},{"$f":"ROUND(E15*KATSAYILAR!$C$3*KATSAYILAR!$B$37,2)","v":0},{"$f":"'EK DERS VERİ GİRİŞİ'!F14","v":0},{"$f":"ROUND(G15*KATSAYILAR!$C$3*KATSAYILAR!$B$38,2)","v":0},{"$f":"'EK DERS VERİ GİRİŞİ'!G14","v":0},{"$f":"ROUND(I15*KATSAYILAR!$C$3*KATSAYILAR!$B$39,2)","v":0},{"$f":"'EK DERS VERİ GİRİŞİ'!H14","v":0},{"$f":"ROUND(K15*KATSAYILAR!$C$3*KATSAYILAR!$B$40,2)","v":0},0,0,0,{"$f":"IF(O15=0,0,IF(O15<KATSAYILAR!$C$9*N15,KATSAYILAR!$C$9*N15,O15))","v":0},{"$f":"ROUND(IF('BİLGİ GİRİŞİ'!D14=\"Ücretli Öğretmen\",P15*KATSAYILAR!$C$22,0),2)","v":0},{"$f":"ROUND(IF('BİLGİ GİRİŞİ'!D14=\"Ücretli Öğretmen (Emekli çalışan)\",P15*KATSAYILAR!$C$24,0),2)","v":0},0,{"$f":"'BİLGİ GİRİŞİ'!F14","v":0},{"$f":"\nIF('BİLGİ GİRİŞİ'!G14=KATSAYILAR!$B$16,KATSAYILAR!$C$16,\nIF('BİLGİ GİRİŞİ'!G14=KATSAYILAR!$B$17,KATSAYILAR!$C$17,\nIF('BİLGİ GİRİŞİ'!G14=KATSAYILAR!$B$18,KATSAYILAR!$C$18,0)))","v":0},{"$f":"'BİLGİ GİRİŞİ'!H14","v":0},0,{"$f":"hesaplamalar!J12","v":0},{"$f":"hesaplamalar!M12","v":0},{"$f":"hesaplamalar!N12","v":0},{"$f":"hesaplamalar!P12","v":0},{"$f":"hesaplamalar!Q12","v":0},{"$f":"hesaplamalar!T12","v":0},{"$f":"hesaplamalar!U12","v":0},0,{"$f":"ROUND(IF('BİLGİ GİRİŞİ'!D14=\"Ücretli Öğretmen\",P15*KATSAYILAR!$C$23,0),2)","v":0},0,{"$f":"ROUND(IF('BİLGİ GİRİŞİ'!D14=\"Ücretli Öğretmen (Emekli çalışan)\",P15*KATSAYILAR!$C$34,0),2)","v":0},{"$f":"'BİLGİ GİRİŞİ'!I14","v":0},0,0,null,0,null,{"$f":"'BİLGİ GİRİŞİ'!E14","v":0}]
[{"$f":"'EK DERS VERİ GİRİŞİ'!A15","v":11},{"$f":"'EK DERS VERİ GİRİŞİ'!B15","v":""},{"$f":"'EK DERS VERİ GİRİŞİ'!C15","v":""},{"$f":"'BİLGİ GİRİŞİ'!D15","v":0},{"$f":"'EK DERS VERİ GİRİŞİ'!E15","v":0},{"$f":"ROUND(E16*KATSAYILAR!$C$3*KATSAYILAR!$B$37,2)","v":0},{"$f":"'EK DERS VERİ GİRİŞİ'!F15","v":0},{"$f":"ROUND(G16*KATSAYILAR!$C$3*KATSAYILAR!$B$38,2)","v":0},{"$f":"'EK DERS VERİ GİRİŞİ'!G15","v":0},{"$f":"ROUND(I16*KATSAYILAR!$C$3*KATSAYILAR!$B$39,2)","v":0},{"$f":"'EK DERS VERİ GİRİŞİ'!H15","v":0},{"$f":"ROUND(K16*KATSAYILAR!$C$3*KATSAYILAR!$B$40,2)","v":0},0,0,0,{"$f":"IF(O16=0,0,IF(O16<KATSAYILAR!$C$9*N16,KATSAYILAR!$C$9*N16,O16))","v":0},{"$f":"ROUND(IF('BİLGİ GİRİŞİ'!D15=\"Ücretli Öğretmen\",P16*KATSAYILAR!$C$22,0),2)","v":0},{"$f":"ROUND(IF('BİLGİ GİRİŞİ'!D15=\"Ücretli Öğretmen (Emekli çalışan)\",P16*KATSAYILAR!$C$24,0),2)","v":0},0,{"$f":"'BİLGİ GİRİŞİ'!F15","v":0},{"$f":"\nIF('BİLGİ GİRİŞİ'!G15=KATSAYILAR!$B$16,KATSAYILAR!$C$16,\nIF('BİLGİ GİRİŞİ'!G15=KATSAYILAR!$B$17,KATSAYILAR!$C$17,\nIF('BİLGİ GİRİŞİ'!G15=KATSAYILAR!$B$18,KATSAYILAR!$C$18,0)))","v":0},{"$f":"'BİLGİ GİRİŞİ'!H15","v":0},0,{"$f":"hesaplamalar!J13","v":0},{"$f":"hesaplamalar!M13","v":0},{"$f":"hesaplamalar!N13","v":0},{"$f":"hesaplamalar!P13","v":0},{"$f":"hesaplamalar!Q13","v":0},{"$f":"hesaplamalar!T13","v":0},{"$f":"hesaplamalar!U13","v":0},0,{"$f":"ROUND(IF('BİLGİ GİRİŞİ'!D15=\"Ücretli Öğretmen\",P16*KATSAYILAR!$C$23,0),2)","v":0},0,{"$f":"ROUND(IF('BİLGİ GİRİŞİ'!D15=\"Ücretli Öğretmen (Emekli çalışan)\",P16*KATSAYILAR!$C$34,0),2)","v":0},{"$f":"'BİLGİ GİRİŞİ'!I15","v":0},0,0,null,0,null,{"$f":"'BİLGİ GİRİŞİ'!E15","v":0}]
[{"$f":"'EK DERS VERİ GİRİŞİ'!A16","v":12},{"$f":"'EK DERS VERİ GİRİŞİ'!B16","v":""},{"$f":"'EK DERS VERİ GİRİŞİ'!C16","v":""},{"$f":"'BİLGİ GİRİŞİ'!D16","v":0},{"$f":"'EK DERS VERİ GİRİŞİ'!E16","v":0},{"$f":"ROUND(E17*KATSAYILAR!$C$3*KATSAYILAR!$B$37,2)","v":0},{"$f":"'EK DERS VERİ GİRİŞİ'!F16","v":0},{"$f":"ROUND(G17*KATSAYILAR!$C$3*KATSAYILAR!$B$38,2)","v":0},{"$f":"'EK DERS VERİ GİRİŞİ'!G16","v":0},{"$f":"ROUND(I17*KATSAYILAR!$C$3*KATSAYILAR!$B$39,2)","v":0},{"$f":"'EK DERS VERİ GİRİŞİ'!H16","v":0},{"$f":"ROUND(K17*KATSAYILAR!$C$3*KATSAYILAR!$B$40,2)","v":0},0,0,0,{"$f":"IF(O17=0,0,IF(O17<KATSAYILAR!$C$9*N17,KATSAYILAR!$C$9*N17,O17))","v":0},{"$f":"ROUND(IF('BİLGİ GİRİŞİ'!D16=\"Ücretli Öğretmen\",P17*KATSAYILAR!$C$22,0),2)","v":0},{"$f":"ROUND(IF('BİLGİ GİRİŞİ'!D16=\"Ücretli Öğretmen (Emekli çalışan)\",P17*KATSAYILAR!$C$24,0),2)","v":0},0,{"$f":"'BİLGİ GİRİŞİ'!F16","v":0},{"$f":"\nIF('BİLGİ GİRİŞİ'!G16=KATSAYILAR!$B$16,KATSAYILAR!$C$16,\nIF('BİLGİ GİRİŞİ'!G16=KATSAYILAR!$B$17,KATSAYILAR!$C$17,\nIF('BİLGİ GİRİŞİ'!G16=KATSAYILAR!$B$18,KATSAYILAR!$C$18,0)))","v":0},{"$f":"'BİLGİ GİRİŞİ'!H16","v":0},0,{"$f":"hesaplamalar!J14","v":0},{"$f":"hesaplamalar!M14","v":0},{"$f":"hesaplamalar!N14","v":0},{"$f":"hesaplamalar!P14","v":0},{"$f":"hesaplamalar!Q14","v":0},{"$f":"hesaplamalar!T14","v":0},{"$f":"hesaplamalar!U14","v":0},0,{"$f":"ROUND(IF('BİLGİ GİRİŞİ'!D16=\"Ücretli Öğretmen\",P17*KATSAYILAR!$C$23,0),2)","v":0},0,{"$f":"ROUND(IF('BİLGİ GİRİŞİ'!D16=\"Ücretli Öğretmen (Emekli çalışan)\",P17*KATSAYILAR!$C$34,0),2)","v":0},{"$f":"'BİLGİ GİRİŞİ'!I16","v":0},0,0,null,0,null,{"$f":"'BİLGİ GİRİŞİ'!E16","v":0}]
[{"$f":"'EK DERS VERİ GİRİŞİ'!A17","v":13},{"$f":"'EK DERS VERİ GİRİŞİ'!B17","v":""},{"$f":"'EK DERS VERİ GİRİŞİ'!C17","v":""},{"$f":"'BİLGİ GİRİŞİ'!D17","v":0},{"$f":"'EK DERS VERİ GİRİŞİ'!E17","v":0},{"$f":"ROUND(E18*KATSAYILAR!$C$3*KATSAYILAR!$B$37,2)","v":0},{"$f":"'EK DERS VERİ GİRİŞİ'!F17","v":0},{"$f":"ROUND(G18*KATSAYILAR!$C$3*KATSAYILAR!$B$38,2)","v":0},{"$f":"'EK DERS VERİ GİRİŞİ'!G17","v":0},{"$f":"ROUND(I18*KATSAYILAR!$C$3*KATSAYILAR!$B$39,2)","v":0},{"$f":"'EK DERS VERİ GİRİŞİ'!H17","v":0},{"$f":"ROUND(K18*KATSAYILAR!$C$3*KATSAYILAR!$B$40,2)","v":0},0,0,0,{"$f":"IF(O18=0,0,IF(O18<KATSAYILAR!$C$9*N18,KATSAYILAR!$C$9*N18,O18))","v":0},{"$f":"ROUND(IF('BİLGİ GİRİŞİ'!D17=\"Ücretli Öğretmen\",P18*KATSAYILAR!$C$22,0),2)","v":0},{"$f":"ROUND(IF('BİLGİ GİRİŞİ'!D17=\"Ücretli Öğretmen (Emekli çalışan)\",P18*KATSAYILAR!$C$24,0),2)","v":0},0,{"$f":"'BİLGİ GİRİŞİ'!F17","v":0},{"$f":"\nIF('BİLGİ GİRİŞİ'!G17=KATSAYILAR!$B$16,KATSAYILAR!$C$16,\nIF('BİLGİ GİRİŞİ'!G17=KATSAYILAR!$B$17,KATSAYILAR!$C$17,\nIF('BİLGİ GİRİŞİ'!G17=KATSAYILAR!$B$18,KATSAYILAR!$C$18,0)))","v":0},{"$f":"'BİLGİ GİRİŞİ'!H17","v":0},0,{"$f":"hesaplamalar!J15","v":0},{"$f":"hesaplamalar!M15","v":0},{"$f":"hesaplamalar!N15","v":0},{"$f":"hesaplamalar!P15","v":0},{"$f":"hesaplamalar!Q15","v":0},{"$f":"hesaplamalar!T15","v":0},{"$f":"hesaplamalar!U15","v":0},0,{"$f":"ROUND(IF('BİLGİ GİRİŞİ'!D17=\"Ücretli Öğretmen\",P18*KATSAYILAR!$C$23,0),2)","v":0},0,{"$f":"ROUND(IF('BİLGİ GİRİŞİ'!D17=\"Ücretli Öğretmen (Emekli çalışan)\",P18*KATSAYILAR!$C$34,0),2)","v":0},{"$f":"'BİLGİ GİRİŞİ'!I17","v":0},0,0,null,0,null,{"$f":"'BİLGİ GİRİŞİ'!E17","v":0}]
[{"$f":"'EK DERS VERİ GİRİŞİ'!A18","v":14},{"$f":"'EK DERS VERİ GİRİŞİ'!B18","v":""},{"$f":"'EK DERS VERİ GİRİŞİ'!C18","v":""},{"$f":"'BİLGİ GİRİŞİ'!D18","v":0},{"$f":"'EK DERS VERİ GİRİŞİ'!E18","v":0},{"$f":"ROUND(E19*KATSAYILAR!$C$3*KATSAYILAR!$B$37,2)","v":0},{"$f":"'EK DERS VERİ GİRİŞİ'!F18","v":0},{"$f":"ROUND(G19*KATSAYILAR!$C$3*KATSAYILAR!$B$38,2)","v":0},{"$f":"'EK DERS VERİ GİRİŞİ'!G18","v":0},{"$f":"ROUND(I19*KATSAYILAR!$C$3*KATSAYILAR!$B$39,2)","v":0},{"$f":"'EK DERS VERİ GİRİŞİ'!H18","v":0},{"$f":"ROUND(K19*KATSAYILAR!$C$3*KATSAYILAR!$B$40,2)","v":0},0,0,0,{"$f":"IF(O19=0,0,IF(O19<KATSAYILAR!$C$9*N19,KATSAYILAR!$C$9*N19,O19))","v":0},{"$f":"ROUND(IF('BİLGİ GİRİŞİ'!D18=\"Ücretli Öğretmen\",P19*KATSAYILAR!$C$22,0),2)","v":0},{"$f":"ROUND(IF('BİLGİ GİRİŞİ'!D18=\"Ücretli Öğretmen (Emekli çalışan)\",P19*KATSAYILAR!$C$24,0),2)","v":0},0,{"$f":"'BİLGİ GİRİŞİ'!F18","v":0},{"$f":"\nIF('BİLGİ GİRİŞİ'!G18=KATSAYILAR!$B$16,KATSAYILAR!$C$16,\nIF('BİLGİ GİRİŞİ'!G18=KATSAYILAR!$B$17,KATSAYILAR!$C$17,\nIF('BİLGİ GİRİŞİ'!G18=KATSAYILAR!$B$18,KATSAYILAR!$C$18,0)))","v":0},{"$f":"'BİLGİ GİRİŞİ'!H18","v":0},0,{"$f":"hesaplamalar!J16","v":0},{"$f":"hesaplamalar!M16","v":0},{"$f":"hesaplamalar!N16","v":0},{"$f":"hesaplamalar!P16","v":0},{"$f":"hesaplamalar!Q16","v":0},{"$f":"hesaplamalar!T16","v":0},{"$f":"hesaplamalar!U16","v":0},0,{"$f":"ROUND(IF('BİLGİ GİRİŞİ'!D18=\"Ücretli Öğretmen\",P19*KATSAYILAR!$C$23,0),2)","v":0},0,{"$f":"ROUND(IF('BİLGİ GİRİŞİ'!D18=\"Ücretli Öğretmen (Emekli çalışan)\",P19*KATSAYILAR!$C$34,0),2)","v":0},{"$f":"'BİLGİ GİRİŞİ'!I18","v":0},0,0,null,0,null,{"$f":"'BİLGİ GİRİŞİ'!E18","v":0}]
[{"$f":"'EK DERS VERİ GİRİŞİ'!A19","v":15},{"$f":"'EK DERS VERİ GİRİŞİ'!B19","v":""},{"$f":"'EK DERS VERİ GİRİŞİ'!C19","v":""},{"$f":"'BİLGİ GİRİŞİ'!D19","v":0},{"$f":"'EK DERS VERİ GİRİŞİ'!E19","v":0},{"$f":"ROUND(E20*KATSAYILAR!$C$3*KATSAYILAR!$B$37,2)","v":0},{"$f":"'EK DERS VERİ GİRİŞİ'!F19","v":0},{"$f":"ROUND(G20*KATSAYILAR!$C$3*KATSAYILAR!$B$38,2)","v":0},{"$f":"'EK DERS VERİ GİRİŞİ'!G19","v":0},{"$f":"ROUND(I20*KATSAYILAR!$C$3*KATSAYILAR!$B$39,2)","v":0},{"$f":"'EK DERS VERİ GİRİŞİ'!H19","v":0},{"$f":"ROUND(K20*KATSAYILAR!$C$3*KATSAYILAR!$B$40,2)","v":0},0,0,0,{"$f":"IF(O20=0,0,IF(O20<KATSAYILAR!$C$9*N20,KATSAYILAR!$C$9*N20,O20))","v":0},{"$f":"ROUND(IF('BİLGİ GİRİŞİ'!D19=\"Ücretli Öğretmen\",P20*KATSAYILAR!$C$22,0),2)","v":0},{"$f":"ROUND(IF('BİLGİ GİRİŞİ'!D19=\"Ücretli Öğretmen (Emekli çalışan)\",P20*KATSAYILAR!$C$24,0),2)","v":0},0,{"$f":"'BİLGİ GİRİŞİ'!F19","v":0},{"$f":"\nIF('BİLGİ GİRİŞİ'!G19=KATSAYILAR!$B$16,KATSAYILAR!$C$16,\nIF('BİLGİ GİRİŞİ'!G19=KATSAYILAR!$B$17,KATSAYILAR!$C$17,\nIF('BİLGİ GİRİŞİ'!G19=KATSAYILAR!$B$18,KATSAYILAR!$C$18,0)))","v":0},{"$f":"'BİLGİ GİRİŞİ'!H19","v":0},0,{"$f":"hesaplamalar!J17","v":0},{"$f":"hesaplamalar!M17","v":0},{"$f":"hesaplamalar!N17","v":0},{"$f":"hesaplamalar!P17","v":0},{"$f":"hesaplamalar!Q17","v":0},{"$f":"hesaplamalar!T17","v":0},{"$f":"hesaplamalar!U17","v":0},0,{"$f":"ROUND(IF('BİLGİ GİRİŞİ'!D19=\"Ücretli Öğretmen\",P20*KATSAYILAR!$C$23,0),2)","v":0},0,{"$f":"ROUND(IF('BİLGİ GİRİŞİ'!D19=\"Ücretli Öğretmen (Emekli çalışan)\",P20*KATSAYILAR!$C$34,0),2)","v":0},{"$f":"'BİLGİ GİRİŞİ'!I19","v":0},0,0,null,0,null,{"$f":"'BİLGİ GİRİŞİ'!E19","v":0}]
[{"$f":"'EK DERS VERİ GİRİŞİ'!A20","v":16},{"$f":"'EK DERS VERİ GİRİŞİ'!B20","v":""},{"$f":"'EK DERS VERİ GİRİŞİ'!C20","v":""},{"$f":"'BİLGİ GİRİŞİ'!D20","v":0},{"$f":"'EK DERS VERİ GİRİŞİ'!E20","v":0},{"$f":"ROUND(E21*KATSAYILAR!$C$3*KATSAYILAR!$B$37,2)","v":0},{"$f":"'EK DERS VERİ GİRİŞİ'!F20","v":0},{"$f":"ROUND(G21*KATSAYILAR!$C$3*KATSAYILAR!$B$38,2)","v":0},{"$f":"'EK DERS VERİ GİRİŞİ'!G20","v":0},{"$f":"ROUND(I21*KATSAYILAR!$C$3*KATSAYILAR!$B$39,2)","v":0},{"$f":"'EK DERS VERİ GİRİŞİ'!H20","v":0},{"$f":"ROUND(K21*KATSAYILAR!$C$3*KATSAYILAR!$B$40,2)","v":0},0,0,0,{"$f":"IF(O21=0,0,IF(O21<KATSAYILAR!$C$9*N21,KATSAYILAR!$C$9*N21,O21))","v":0},{"$f":"ROUND(IF('BİLGİ GİRİŞİ'!D20=\"Ücretli Öğretmen\",P21*KATSAYILAR!$C$22,0),2)","v":0},{"$f":"ROUND(IF('BİLGİ GİRİŞİ'!D20=\"Ücretli Öğretmen (Emekli çalışan)\",P21*KATSAYILAR!$C$24,0),2)","v":0},0,{"$f":"'BİLGİ GİRİŞİ'!F20","v":0},{"$f":"\nIF('BİLGİ GİRİŞİ'!G20=KATSAYILAR!$B$16,KATSAYILAR!$C$16,\nIF('BİLGİ GİRİŞİ'!G20=KATSAYILAR!$B$17,KATSAYILAR!$C$17,\nIF('BİLGİ GİRİŞİ'!G20=KATSAYILAR!$B$18,KATSAYILAR!$C$18,0)))","v":0},{"$f":"'BİLGİ GİRİŞİ'!H20","v":0},0,{"$f":"hesaplamalar!J18","v":0},{"$f":"hesaplamalar!M18","v":0},{"$f":"hesaplamalar!N18","v":0},{"$f":"hesaplamalar!P18","v":0},{"$f":"hesaplamalar!Q18","v":0},{"$f":"hesaplamalar!T18","v":0},{"$f":"hesaplamalar!U18","v":0},0,{"$f":"ROUND(IF('BİLGİ GİRİŞİ'!D20=\"Ücretli Öğretmen\",P21*KATSAYILAR!$C$23,0),2)","v":0},0,{"$f":"ROUND(IF('BİLGİ GİRİŞİ'!D20=\"Ücretli Öğretmen (Emekli çalışan)\",P21*KATSAYILAR!$C$34,0),2)","v":0},{"$f":"'BİLGİ GİRİŞİ'!I20","v":0},0,0,null,0,null,{"$f":"'BİLGİ GİRİŞİ'!E20","v":0}]
[{"$f":"'EK DERS VERİ GİRİŞİ'!A21","v":17},{"$f":"'EK DERS VERİ GİRİŞİ'!B21","v":""},{"$f":"'EK DERS VERİ GİRİŞİ'!C21","v":""},{"$f":"'BİLGİ GİRİŞİ'!D21","v":0},{"$f":"'EK DERS VERİ GİRİŞİ'!E21","v":0},{"$f":"ROUND(E22*KATSAYILAR!$C$3*KATSAYILAR!$B$37,2)","v":0},{"$f":"'EK DERS VERİ GİRİŞİ'!F21","v":0},{"$f":"ROUND(G22*KATSAYILAR!$C$3*KATSAYILAR!$B$38,2)","v":0},{"$f":"'EK DERS VERİ GİRİŞİ'!G21","v":0},{"$f":"ROUND(I22*KATSAYILAR!$C$3*KATSAYILAR!$B$39,2)","v":0},{"$f":"'EK DERS VERİ GİRİŞİ'!H21","v":0},{"$f":"ROUND(K22*KATSAYILAR!$C$3*KATSAYILAR!$B$40,2)","v":0},0,0,0,{"$f":"IF(O22=0,0,IF(O22<KATSAYILAR!$C$9*N22,KATSAYILAR!$C$9*N22,O22))","v":0},{"$f":"ROUND(IF('BİLGİ GİRİŞİ'!D21=\"Ücretli Öğretmen\",P22*KATSAYILAR!$C$22,0),2)","v":0},{"$f":"ROUND(IF('BİLGİ GİRİŞİ'!D21=\"Ücretli Öğretmen (Emekli çalışan)\",P22*KATSAYILAR!$C$24,0),2)","v":0},0,{"$f":"'BİLGİ GİRİŞİ'!F21","v":0},{"$f":"\nIF('BİLGİ GİRİŞİ'!G21=KATSAYILAR!$B$16,KATSAYILAR!$C$16,\nIF('BİLGİ GİRİŞİ'!G21=KATSAYILAR!$B$17,KATSAYILAR!$C$17,\nIF('BİLGİ GİRİŞİ'!G21=KATSAYILAR!$B$18,KATSAYILAR!$C$18,0)))","v":0},{"$f":"'BİLGİ GİRİŞİ'!H21","v":0},0,{"$f":"hesaplamalar!J19","v":0},{"$f":"hesaplamalar!M19","v":0},{"$f":"hesaplamalar!N19","v":0},{"$f":"hesaplamalar!P19","v":0},{"$f":"hesaplamalar!Q19","v":0},{"$f":"hesaplamalar!T19","v":0},{"$f":"hesaplamalar!U19","v":0},0,{"$f":"ROUND(IF('BİLGİ GİRİŞİ'!D21=\"Ücretli Öğretmen\",P22*KATSAYILAR!$C$23,0),2)","v":0},0,{"$f":"ROUND(IF('BİLGİ GİRİŞİ'!D21=\"Ücretli Öğretmen (Emekli çalışan)\",P22*KATSAYILAR!$C$34,0),2)","v":0},{"$f":"'BİLGİ GİRİŞİ'!I21","v":0},0,0,null,0,null,{"$f":"'BİLGİ GİRİŞİ'!E21","v":0}]
[{"$f":"'EK DERS VERİ GİRİŞİ'!A22","v":18},{"$f":"'EK DERS VERİ GİRİŞİ'!B22","v":""},{"$f":"'EK DERS VERİ GİRİŞİ'!C22","v":""},{"$f":"'BİLGİ GİRİŞİ'!D22","v":0},{"$f":"'EK DERS VERİ GİRİŞİ'!E22","v":0},{"$f":"ROUND(E23*KATSAYILAR!$C$3*KATSAYILAR!$B$37,2)","v":0},{"$f":"'EK DERS VERİ GİRİŞİ'!F22","v":0},{"$f":"ROUND(G23*KATSAYILAR!$C$3*KATSAYILAR!$B$38,2)","v":0},{"$f":"'EK DERS VERİ GİRİŞİ'!G22","v":0},{"$f":"ROUND(I23*KATSAYILAR!$C$3*KATSAYILAR!$B$39,2)","v":0},{"$f":"'EK DERS VERİ GİRİŞİ'!H22","v":0},{"$f":"ROUND(K23*KATSAYILAR!$C$3*KATSAYILAR!$B$40,2)","v":0},0,0,0,{"$f":"IF(O23=0,0,IF(O23<KATSAYILAR!$C$9*N23,KATSAYILAR!$C$9*N23,O23))","v":0},{"$f":"ROUND(IF('BİLGİ GİRİŞİ'!D22=\"Ücretli Öğretmen\",P23*KATSAYILAR!$C$22,0),2)","v":0},{"$f":"ROUND(IF('BİLGİ GİRİŞİ'!D22=\"Ücretli Öğretmen (Emekli çalışan)\",P23*KATSAYILAR!$C$24,0),2)","v":0},0,{"$f":"'BİLGİ GİRİŞİ'!F22","v":0},{"$f":"\nIF('BİLGİ GİRİŞİ'!G22=KATSAYILAR!$B$16,KATSAYILAR!$C$16,\nIF('BİLGİ GİRİŞİ'!G22=KATSAYILAR!$B$17,KATSAYILAR!$C$17,\nIF('BİLGİ GİRİŞİ'!G22=KATSAYILAR!$B$18,KATSAYILAR!$C$18,0)))","v":0},{"$f":"'BİLGİ GİRİŞİ'!H22","v":0},0,{"$f":"hesaplamalar!J20","v":0},{"$f":"hesaplamalar!M20","v":0},{"$f":"hesaplamalar!N20","v":0},{"$f":"hesaplamalar!P20","v":0},{"$f":"hesaplamalar!Q20","v":0},{"$f":"hesaplamalar!T20","v":0},{"$f":"hesaplamalar!U20","v":0},0,{"$f":"ROUND(IF('BİLGİ GİRİŞİ'!D22=\"Ücretli Öğretmen\",P23*KATSAYILAR!$C$23,0),2)","v":0},0,{"$f":"ROUND(IF('BİLGİ GİRİŞİ'!D22=\"Ücretli Öğretmen (Emekli çalışan)\",P23*KATSAYILAR!$C$34,0),2)","v":0},{"$f":"'BİLGİ GİRİŞİ'!I22","v":0},0,0,null,0,null,{"$f":"'BİLGİ GİRİŞİ'!E22","v":0}]
[{"$f":"'EK DERS VERİ GİRİŞİ'!A23","v":19},{"$f":"'EK DERS VERİ GİRİŞİ'!B23","v":""},{"$f":"'EK DERS VERİ GİRİŞİ'!C23","v":""},{"$f":"'BİLGİ GİRİŞİ'!D23","v":0},{"$f":"'EK DERS VERİ GİRİŞİ'!E23","v":0},{"$f":"ROUND(E24*KATSAYILAR!$C$3*KATSAYILAR!$B$37,2)","v":0},{"$f":"'EK DERS VERİ GİRİŞİ'!F23","v":0},{"$f":"ROUND(G24*KATSAYILAR!$C$3*KATSAYILAR!$B$38,2)","v":0},{"$f":"'EK DERS VERİ GİRİŞİ'!G23","v":0},{"$f":"ROUND(I24*KATSAYILAR!$C$3*KATSAYILAR!$B$39,2)","v":0},{"$f":"'EK DERS VERİ GİRİŞİ'!H23","v":0},{"$f":"ROUND(K24*KATSAYILAR!$C$3*KATSAYILAR!$B$40,2)","v":0},0,0,0,{"$f":"IF(O24=0,0,IF(O24<KATSAYILAR!$C$9*N24,KATSAYILAR!$C$9*N24,O24))","v":0},{"$f":"ROUND(IF('BİLGİ GİRİŞİ'!D23=\"Ücretli Öğretmen\",P24*KATSAYILAR!$C$22,0),2)","v":0},{"$f":"ROUND(IF('BİLGİ GİRİŞİ'!D23=\"Ücretli Öğretmen (Emekli çalışan)\",P24*KATSAYILAR!$C$24,0),2)","v":0},0,{"$f":"'BİLGİ GİRİŞİ'!F23","v":0},{"$f":"\nIF('BİLGİ GİRİŞİ'!G23=KATSAYILAR!$B$16,KATSAYILAR!$C$16,\nIF('BİLGİ GİRİŞİ'!G23=KATSAYILAR!$B$17,KATSAYILAR!$C$17,\nIF('BİLGİ GİRİŞİ'!G23=KATSAYILAR!$B$18,KATSAYILAR!$C$18,0)))","v":0},{"$f":"'BİLGİ GİRİŞİ'!H23","v":0},0,{"$f":"hesaplamalar!J21","v":0},{"$f":"hesaplamalar!M21","v":0},{"$f":"hesaplamalar!N21","v":0},{"$f":"hesaplamalar!P21","v":0},{"$f":"hesaplamalar!Q21","v":0},{"$f":"hesaplamalar!T21","v":0},{"$f":"hesaplamalar!U21","v":0},0,{"$f":"ROUND(IF('BİLGİ GİRİŞİ'!D23=\"Ücretli Öğretmen\",P24*KATSAYILAR!$C$23,0),2)","v":0},0,{"$f":"ROUND(IF('BİLGİ GİRİŞİ'!D23=\"Ücretli Öğretmen (Emekli çalışan)\",P24*KATSAYILAR!$C$34,0),2)","v":0},{"$f":"'BİLGİ GİRİŞİ'!I23","v":0},0,0,null,0,null,{"$f":"'BİLGİ GİRİŞİ'!E23","v":0}]
[{"$f":"'EK DERS VERİ GİRİŞİ'!A24","v":20},{"$f":"'EK DERS VERİ GİRİŞİ'!B24","v":""},{"$f":"'EK DERS VERİ GİRİŞİ'!C24","v":""},{"$f":"'BİLGİ GİRİŞİ'!D24","v":0},{"$f":"'EK DERS VERİ GİRİŞİ'!E24","v":0},{"$f":"ROUND(E25*KATSAYILAR!$C$3*KATSAYILAR!$B$37,2)","v":0},{"$f":"'EK DERS VERİ GİRİŞİ'!F24","v":0},{"$f":"ROUND(G25*KATSAYILAR!$C$3*KATSAYILAR!$B$38,2)","v":0},{"$f":"'EK DERS VERİ GİRİŞİ'!G24","v":0},{"$f":"ROUND(I25*KATSAYILAR!$C$3*KATSAYILAR!$B$39,2)","v":0},{"$f":"'EK DERS VERİ GİRİŞİ'!H24","v":0},{"$f":"ROUND(K25*KATSAYILAR!$C$3*KATSAYILAR!$B$40,2)","v":0},0,0,0,{"$f":"IF(O25=0,0,IF(O25<KATSAYILAR!$C$9*N25,KATSAYILAR!$C$9*N25,O25))","v":0},{"$f":"ROUND(IF('BİLGİ GİRİŞİ'!D24=\"Ücretli Öğretmen\",P25*KATSAYILAR!$C$22,0),2)","v":0},{"$f":"ROUND(IF('BİLGİ GİRİŞİ'!D24=\"Ücretli Öğretmen (Emekli çalışan)\",P25*KATSAYILAR!$C$24,0),2)","v":0},0,{"$f":"'BİLGİ GİRİŞİ'!F24","v":0},{"$f":"\nIF('BİLGİ GİRİŞİ'!G24=KATSAYILAR!$B$16,KATSAYILAR!$C$16,\nIF('BİLGİ GİRİŞİ'!G24=KATSAYILAR!$B$17,KATSAYILAR!$C$17,\nIF('BİLGİ GİRİŞİ'!G24=KATSAYILAR!$B$18,KATSAYILAR!$C$18,0)))","v":0},{"$f":"'BİLGİ GİRİŞİ'!H24","v":0},0,{"$f":"hesaplamalar!J22","v":0},{"$f":"hesaplamalar!M22","v":0},{"$f":"hesaplamalar!N22","v":0},{"$f":"hesaplamalar!P22","v":0},{"$f":"hesaplamalar!Q22","v":0},{"$f":"hesaplamalar!T22","v":0},{"$f":"hesaplamalar!U22","v":0},0,{"$f":"ROUND(IF('BİLGİ GİRİŞİ'!D24=\"Ücretli Öğretmen\",P25*KATSAYILAR!$C$23,0),2)","v":0},0,{"$f":"ROUND(IF('BİLGİ GİRİŞİ'!D24=\"Ücretli Öğretmen (Emekli çalışan)\",P25*KATSAYILAR!$C$34,0),2)","v":0},{"$f":"'BİLGİ GİRİŞİ'!I24","v":0},0,0,null,0,null,{"$f":"'BİLGİ GİRİŞİ'!E24","v":0}]
[{"$f":"'EK DERS VERİ GİRİŞİ'!A25","v":21},{"$f":"'EK DERS VERİ GİRİŞİ'!B25","v":""},{"$f":"'EK DERS VERİ GİRİŞİ'!C25","v":""},{"$f":"'BİLGİ GİRİŞİ'!D25","v":0},{"$f":"'EK DERS VERİ GİRİŞİ'!E25","v":0},{"$f":"ROUND(E26*KATSAYILAR!$C$3*KATSAYILAR!$B$37,2)","v":0},{"$f":"'EK DERS VERİ GİRİŞİ'!F25","v":0},{"$f":"ROUND(G26*KATSAYILAR!$C$3*KATSAYILAR!$B$38,2)","v":0},{"$f":"'EK DERS VERİ GİRİŞİ'!G25","v":0},{"$f":"ROUND(I26*KATSAYILAR!$C$3*KATSAYILAR!$B$39,2)","v":0},{"$f":"'EK DERS VERİ GİRİŞİ'!H25","v":0},{"$f":"ROUND(K26*KATSAYILAR!$C$3*KATSAYILAR!$B$40,2)","v":0},0,0,0,{"$f":"IF(O26=0,0,IF(O26<KATSAYILAR!$C$9*N26,KATSAYILAR!$C$9*N26,O26))","v":0},{"$f":"ROUND(IF('BİLGİ GİRİŞİ'!D25=\"Ücretli Öğretmen\",P26*KATSAYILAR!$C$22,0),2)","v":0},{"$f":"ROUND(IF('BİLGİ GİRİŞİ'!D25=\"Ücretli Öğretmen (Emekli çalışan)\",P26*KATSAYILAR!$C$24,0),2)","v":0},0,{"$f":"'BİLGİ GİRİŞİ'!F25","v":0},{"$f":"\nIF('BİLGİ GİRİŞİ'!G25=KATSAYILAR!$B$16,KATSAYILAR!$C$16,\nIF('BİLGİ GİRİŞİ'!G25=KATSAYILAR!$B$17,KATSAYILAR!$C$17,\nIF('BİLGİ GİRİŞİ'!G25=KATSAYILAR!$B$18,KATSAYILAR!$C$18,0)))","v":0},{"$f":"'BİLGİ GİRİŞİ'!H25","v":0},0,{"$f":"hesaplamalar!J23","v":0},{"$f":"hesaplamalar!M23","v":0},{"$f":"hesaplamalar!N23","v":0},{"$f":"hesaplamalar!P23","v":0},{"$f":"hesaplamalar!Q23","v":0},{"$f":"hesaplamalar!T23","v":0},{"$f":"hesaplamalar!U23","v":0},0,{"$f":"ROUND(IF('BİLGİ GİRİŞİ'!D25=\"Ücretli Öğretmen\",P26*KATSAYILAR!$C$23,0),2)","v":0},0,{"$f":"ROUND(IF('BİLGİ GİRİŞİ'!D25=\"Ücretli Öğretmen (Emekli çalışan)\",P26*KATSAYILAR!$C$34,0),2)","v":0},{"$f":"'BİLGİ GİRİŞİ'!I25","v":0},0,0,null,0,null,{"$f":"'BİLGİ GİRİŞİ'!E25","v":0}]
[{"$f":"'EK DERS VERİ GİRİŞİ'!A26","v":22},{"$f":"'EK DERS VERİ GİRİŞİ'!B26","v":""},{"$f":"'EK DERS VERİ GİRİŞİ'!C26","v":""},{"$f":"'BİLGİ GİRİŞİ'!D26","v":0},{"$f":"'EK DERS VERİ GİRİŞİ'!E26","v":0},{"$f":"ROUND(E27*KATSAYILAR!$C$3*KATSAYILAR!$B$37,2)","v":0},{"$f":"'EK DERS VERİ GİRİŞİ'!F26","v":0},{"$f":"ROUND(G27*KATSAYILAR!$C$3*KATSAYILAR!$B$38,2)","v":0},{"$f":"'EK DERS VERİ GİRİŞİ'!G26","v":0},{"$f":"ROUND(I27*KATSAYILAR!$C$3*KATSAYILAR!$B$39,2)","v":0},{"$f":"'EK DERS VERİ GİRİŞİ'!H26","v":0},{"$f":"ROUND(K27*KATSAYILAR!$C$3*KATSAYILAR!$B$40,2)","v":0},0,0,0,{"$f":"IF(O27=0,0,IF(O27<KATSAYILAR!$C$9*N27,KATSAYILAR!$C$9*N27,O27))","v":0},{"$f":"ROUND(IF('BİLGİ GİRİŞİ'!D26=\"Ücretli Öğretmen\",P27*KATSAYILAR!$C$22,0),2)","v":0},{"$f":"ROUND(IF('BİLGİ GİRİŞİ'!D26=\"Ücretli Öğretmen (Emekli çalışan)\",P27*KATSAYILAR!$C$24,0),2)","v":0},0,{"$f":"'BİLGİ GİRİŞİ'!F26","v":0},{"$f":"\nIF('BİLGİ GİRİŞİ'!G26=KATSAYILAR!$B$16,KATSAYILAR!$C$16,\nIF('BİLGİ GİRİŞİ'!G26=KATSAYILAR!$B$17,KATSAYILAR!$C$17,\nIF('BİLGİ GİRİŞİ'!G26=KATSAYILAR!$B$18,KATSAYILAR!$C$18,0)))","v":0},{"$f":"'BİLGİ GİRİŞİ'!H26","v":0},0,{"$f":"hesaplamalar!J24","v":0},{"$f":"hesaplamalar!M24","v":0},{"$f":"hesaplamalar!N24","v":0},{"$f":"hesaplamalar!P24","v":0},{"$f":"hesaplamalar!Q24","v":0},{"$f":"hesaplamalar!T24","v":0},{"$f":"hesaplamalar!U24","v":0},0,{"$f":"ROUND(IF('BİLGİ GİRİŞİ'!D26=\"Ücretli Öğretmen\",P27*KATSAYILAR!$C$23,0),2)","v":0},0,{"$f":"ROUND(IF('BİLGİ GİRİŞİ'!D26=\"Ücretli Öğretmen (Emekli çalışan)\",P27*KATSAYILAR!$C$34,0),2)","v":0},{"$f":"'BİLGİ GİRİŞİ'!I26","v":0},0,0,null,0,null,{"$f":"'BİLGİ GİRİŞİ'!E26","v":0}]
[{"$f":"'EK DERS VERİ GİRİŞİ'!A27","v":23},{"$f":"'EK DERS VERİ GİRİŞİ'!B27","v":""},{"$f":"'EK DERS VERİ GİRİŞİ'!C27","v":""},{"$f":"'BİLGİ GİRİŞİ'!D27","v":0},{"$f":"'EK DERS VERİ GİRİŞİ'!E27","v":0},{"$f":"ROUND(E28*KATSAYILAR!$C$3*KATSAYILAR!$B$37,2)","v":0},{"$f":"'EK DERS VERİ GİRİŞİ'!F27","v":0},{"$f":"ROUND(G28*KATSAYILAR!$C$3*KATSAYILAR!$B$38,2)","v":0},{"$f":"'EK DERS VERİ GİRİŞİ'!G27","v":0},{"$f":"ROUND(I28*KATSAYILAR!$C$3*KATSAYILAR!$B$39,2)","v":0},{"$f":"'EK DERS VERİ GİRİŞİ'!H27","v":0},{"$f":"ROUND(K28*KATSAYILAR!$C$3*KATSAYILAR!$B$40,2)","v":0},0,0,0,{"$f":"IF(O28=0,0,IF(O28<KATSAYILAR!$C$9*N28,KATSAYILAR!$C$9*N28,O28))","v":0},{"$f":"ROUND(IF('BİLGİ GİRİŞİ'!D27=\"Ücretli Öğretmen\",P28*KATSAYILAR!$C$22,0),2)","v":0},{"$f":"ROUND(IF('BİLGİ GİRİŞİ'!D27=\"Ücretli Öğretmen (Emekli çalışan)\",P28*KATSAYILAR!$C$24,0),2)","v":0},0,{"$f":"'BİLGİ GİRİŞİ'!F27","v":0},{"$f":"\nIF('BİLGİ GİRİŞİ'!G27=KATSAYILAR!$B$16,KATSAYILAR!$C$16,\nIF('BİLGİ GİRİŞİ'!G27=KATSAYILAR!$B$17,KATSAYILAR!$C$17,\nIF('BİLGİ GİRİŞİ'!G27=KATSAYILAR!$B$18,KATSAYILAR!$C$18,0)))","v":0},{"$f":"'BİLGİ GİRİŞİ'!H27","v":0},0,{"$f":"hesaplamalar!J25","v":0},{"$f":"hesaplamalar!M25","v":0},{"$f":"hesaplamalar!N25","v":0},{"$f":"hesaplamalar!P25","v":0},{"$f":"hesaplamalar!Q25","v":0},{"$f":"hesaplamalar!T25","v":0},{"$f":"hesaplamalar!U25","v":0},0,{"$f":"ROUND(IF('BİLGİ GİRİŞİ'!D27=\"Ücretli Öğretmen\",P28*KATSAYILAR!$C$23,0),2)","v":0},0,{"$f":"ROUND(IF('BİLGİ GİRİŞİ'!D27=\"Ücretli Öğretmen (Emekli çalışan)\",P28*KATSAYILAR!$C$34,0),2)","v":0},{"$f":"'BİLGİ GİRİŞİ'!I27","v":0},0,0,null,0,null,{"$f":"'BİLGİ GİRİŞİ'!E27","v":0}]
[{"$f":"'EK DERS VERİ GİRİŞİ'!A28","v":24},{"$f":"'EK DERS VERİ GİRİŞİ'!B28","v":""},{"$f":"'EK DERS VERİ GİRİŞİ'!C28","v":""},{"$f":"'BİLGİ GİRİŞİ'!D28","v":0},{"$f":"'EK DERS VERİ GİRİŞİ'!E28","v":0},{"$f":"ROUND(E29*KATSAYILAR!$C$3*KATSAYILAR!$B$37,2)","v":0},{"$f":"'EK DERS VERİ GİRİŞİ'!F28","v":0},{"$f":"ROUND(G29*KATSAYILAR!$C$3*KATSAYILAR!$B$38,2)","v":0},{"$f":"'EK DERS VERİ GİRİŞİ'!G28","v":0},{"$f":"ROUND(I29*KATSAYILAR!$C$3*KATSAYILAR!$B$39,2)","v":0},{"$f":"'EK DERS VERİ GİRİŞİ'!H28","v":0},{"$f":"ROUND(K29*KATSAYILAR!$C$3*KATSAYILAR!$B$40,2)","v":0},0,0,0,{"$f":"IF(O29=0,0,IF(O29<KATSAYILAR!$C$9*N29,KATSAYILAR!$C$9*N29,O29))","v":0},{"$f":"ROUND(IF('BİLGİ GİRİŞİ'!D28=\"Ücretli Öğretmen\",P29*KATSAYILAR!$C$22,0),2)","v":0},{"$f":"ROUND(IF('BİLGİ GİRİŞİ'!D28=\"Ücretli Öğretmen (Emekli çalışan)\",P29*KATSAYILAR!$C$24,0),2)","v":0},0,{"$f":"'BİLGİ GİRİŞİ'!F28","v":0},{"$f":"\nIF('BİLGİ GİRİŞİ'!G28=KATSAYILAR!$B$16,KATSAYILAR!$C$16,\nIF('BİLGİ GİRİŞİ'!G28=KATSAYILAR!$B$17,KATSAYILAR!$C$17,\nIF('BİLGİ GİRİŞİ'!G28=KATSAYILAR!$B$18,KATSAYILAR!$C$18,0)))","v":0},{"$f":"'BİLGİ GİRİŞİ'!H28","v":0},0,{"$f":"hesaplamalar!J26","v":0},{"$f":"hesaplamalar!M26","v":0},{"$f":"hesaplamalar!N26","v":0},{"$f":"hesaplamalar!P26","v":0},{"$f":"hesaplamalar!Q26","v":0},{"$f":"hesaplamalar!T26","v":0},{"$f":"hesaplamalar!U26","v":0},0,{"$f":"ROUND(IF('BİLGİ GİRİŞİ'!D28=\"Ücretli Öğretmen\",P29*KATSAYILAR!$C$23,0),2)","v":0},0,{"$f":"ROUND(IF('BİLGİ GİRİŞİ'!D28=\"Ücretli Öğretmen (Emekli çalışan)\",P29*KATSAYILAR!$C$34,0),2)","v":0},{"$f":"'BİLGİ GİRİŞİ'!I28","v":0},0,0,null,0,null,{"$f":"'BİLGİ GİRİŞİ'!E28","v":0}]
[{"$f":"'EK DERS VERİ GİRİŞİ'!A29","v":25},{"$f":"'EK DERS VERİ GİRİŞİ'!B29","v":""},{"$f":"'EK DERS VERİ GİRİŞİ'!C29","v":""},{"$f":"'BİLGİ GİRİŞİ'!D29","v":0},{"$f":"'EK DERS VERİ GİRİŞİ'!E29","v":0},{"$f":"ROUND(E30*KATSAYILAR!$C$3*KATSAYILAR!$B$37,2)","v":0},{"$f":"'EK DERS VERİ GİRİŞİ'!F29","v":0},{"$f":"ROUND(G30*KATSAYILAR!$C$3*KATSAYILAR!$B$38,2)","v":0},{"$f":"'EK DERS VERİ GİRİŞİ'!G29","v":0},{"$f":"ROUND(I30*KATSAYILAR!$C$3*KATSAYILAR!$B$39,2)","v":0},{"$f":"'EK DERS VERİ GİRİŞİ'!H29","v":0},{"$f":"ROUND(K30*KATSAYILAR!$C$3*KATSAYILAR!$B$40,2)","v":0},0,0,0,{"$f":"IF(O30=0,0,IF(O30<KATSAYILAR!$C$9*N30,KATSAYILAR!$C$9*N30,O30))","v":0},{"$f":"ROUND(IF('BİLGİ GİRİŞİ'!D29=\"Ücretli Öğretmen\",P30*KATSAYILAR!$C$22,0),2)","v":0},{"$f":"ROUND(IF('BİLGİ GİRİŞİ'!D29=\"Ücretli Öğretmen (Emekli çalışan)\",P30*KATSAYILAR!$C$24,0),2)","v":0},0,{"$f":"'BİLGİ GİRİŞİ'!F29","v":0},{"$f":"\nIF('BİLGİ GİRİŞİ'!G29=KATSAYILAR!$B$16,KATSAYILAR!$C$16,\nIF('BİLGİ GİRİŞİ'!G29=KATSAYILAR!$B$17,KATSAYILAR!$C$17,\nIF('BİLGİ GİRİŞİ'!G29=KATSAYILAR!$B$18,KATSAYILAR!$C$18,0)))","v":0},{"$f":"'BİLGİ GİRİŞİ'!H29","v":0},0,{"$f":"hesaplamalar!J27","v":0},{"$f":"hesaplamalar!M27","v":0},{"$f":"hesaplamalar!N27","v":0},{"$f":"hesaplamalar!P27","v":0},{"$f":"hesaplamalar!Q27","v":0},{"$f":"hesaplamalar!T27","v":0},{"$f":"hesaplamalar!U27","v":0},0,{"$f":"ROUND(IF('BİLGİ GİRİŞİ'!D29=\"Ücretli Öğretmen\",P30*KATSAYILAR!$C$23,0),2)","v":0},0,{"$f":"ROUND(IF('BİLGİ GİRİŞİ'!D29=\"Ücretli Öğretmen (Emekli çalışan)\",P30*KATSAYILAR!$C$34,0),2)","v":0},{"$f":"'BİLGİ GİRİŞİ'!I29","v":0},0,0,null,0,null,{"$f":"'BİLGİ GİRİŞİ'!E29","v":0}]
[{"$f":"'EK DERS VERİ GİRİŞİ'!A30","v":26},{"$f":"'EK DERS VERİ GİRİŞİ'!B30","v":""},{"$f":"'EK DERS VERİ GİRİŞİ'!C30","v":""},{"$f":"'BİLGİ GİRİŞİ'!D30","v":0},{"$f":"'EK DERS VERİ GİRİŞİ'!E30","v":0},{"$f":"ROUND(E31*KATSAYILAR!$C$3*KATSAYILAR!$B$37,2)","v":0},{"$f":"'EK DERS VERİ GİRİŞİ'!F30","v":0},{"$f":"ROUND(G31*KATSAYILAR!$C$3*KATSAYILAR!$B$38,2)","v":0},{"$f":"'EK DERS VERİ GİRİŞİ'!G30","v":0},{"$f":"ROUND(I31*KATSAYILAR!$C$3*KATSAYILAR!$B$39,2)","v":0},{"$f":"'EK DERS VERİ GİRİŞİ'!H30","v":0},{"$f":"ROUND(K31*KATSAYILAR!$C$3*KATSAYILAR!$B$40,2)","v":0},0,0,0,{"$f":"IF(O31=0,0,IF(O31<KATSAYILAR!$C$9*N31,KATSAYILAR!$C$9*N31,O31))","v":0},{"$f":"ROUND(IF('BİLGİ GİRİŞİ'!D30=\"Ücretli Öğretmen\",P31*KATSAYILAR!$C$22,0),2)","v":0},{"$f":"ROUND(IF('BİLGİ GİRİŞİ'!D30=\"Ücretli Öğretmen (Emekli çalışan)\",P31*KATSAYILAR!$C$24,0),2)","v":0},0,{"$f":"'BİLGİ GİRİŞİ'!F30","v":0},{"$f":"\nIF('BİLGİ GİRİŞİ'!G30=KATSAYILAR!$B$16,KATSAYILAR!$C$16,\nIF('BİLGİ GİRİŞİ'!G30=KATSAYILAR!$B$17,KATSAYILAR!$C$17,\nIF('BİLGİ GİRİŞİ'!G30=KATSAYILAR!$B$18,KATSAYILAR!$C$18,0)))","v":0},{"$f":"'BİLGİ GİRİŞİ'!H30","v":0},0,{"$f":"hesaplamalar!J28","v":0},{"$f":"hesaplamalar!M28","v":0},{"$f":"hesaplamalar!N28","v":0},{"$f":"hesaplamalar!P28","v":0},{"$f":"hesaplamalar!Q28","v":0},{"$f":"hesaplamalar!T28","v":0},{"$f":"hesaplamalar!U28","v":0},0,{"$f":"ROUND(IF('BİLGİ GİRİŞİ'!D30=\"Ücretli Öğretmen\",P31*KATSAYILAR!$C$23,0),2)","v":0},0,{"$f":"ROUND(IF('BİLGİ GİRİŞİ'!D30=\"Ücretli Öğretmen (Emekli çalışan)\",P31*KATSAYILAR!$C$34,0),2)","v":0},{"$f":"'BİLGİ GİRİŞİ'!I30","v":0},0,0,null,0,null,{"$f":"'BİLGİ GİRİŞİ'!E30","v":0}]
[{"$f":"'EK DERS VERİ GİRİŞİ'!A31","v":27},{"$f":"'EK DERS VERİ GİRİŞİ'!B31","v":""},{"$f":"'EK DERS VERİ GİRİŞİ'!C31","v":""},{"$f":"'BİLGİ GİRİŞİ'!D31","v":0},{"$f":"'EK DERS VERİ GİRİŞİ'!E31","v":0},{"$f":"ROUND(E32*KATSAYILAR!$C$3*KATSAYILAR!$B$37,2)","v":0},{"$f":"'EK DERS VERİ GİRİŞİ'!F31","v":0},{"$f":"ROUND(G32*KATSAYILAR!$C$3*KATSAYILAR!$B$38,2)","v":0},{"$f":"'EK DERS VERİ GİRİŞİ'!G31","v":0},{"$f":"ROUND(I32*KATSAYILAR!$C$3*KATSAYILAR!$B$39,2)","v":0},{"$f":"'EK DERS VERİ GİRİŞİ'!H31","v":0},{"$f":"ROUND(K32*KATSAYILAR!$C$3*KATSAYILAR!$B$40,2)","v":0},0,0,0,{"$f":"IF(O32=0,0,IF(O32<KATSAYILAR!$C$9*N32,KATSAYILAR!$C$9*N32,O32))","v":0},{"$f":"ROUND(IF('BİLGİ GİRİŞİ'!D31=\"Ücretli Öğretmen\",P32*KATSAYILAR!$C$22,0),2)","v":0},{"$f":"ROUND(IF('BİLGİ GİRİŞİ'!D31=\"Ücretli Öğretmen (Emekli çalışan)\",P32*KATSAYILAR!$C$24,0),2)","v":0},0,{"$f":"'BİLGİ GİRİŞİ'!F31","v":0},{"$f":"\nIF('BİLGİ GİRİŞİ'!G31=KATSAYILAR!$B$16,KATSAYILAR!$C$16,\nIF('BİLGİ GİRİŞİ'!G31=KATSAYILAR!$B$17,KATSAYILAR!$C$17,\nIF('BİLGİ GİRİŞİ'!G31=KATSAYILAR!$B$18,KATSAYILAR!$C$18,0)))","v":0},{"$f":"'BİLGİ GİRİŞİ'!H31","v":0},0,{"$f":"hesaplamalar!J29","v":0},{"$f":"hesaplamalar!M29","v":0},{"$f":"hesaplamalar!N29","v":0},{"$f":"hesaplamalar!P29","v":0},{"$f":"hesaplamalar!Q29","v":0},{"$f":"hesaplamalar!T29","v":0},{"$f":"hesaplamalar!U29","v":0},0,{"$f":"ROUND(IF('BİLGİ GİRİŞİ'!D31=\"Ücretli Öğretmen\",P32*KATSAYILAR!$C$23,0),2)","v":0},0,{"$f":"ROUND(IF('BİLGİ GİRİŞİ'!D31=\"Ücretli Öğretmen (Emekli çalışan)\",P32*KATSAYILAR!$C$34,0),2)","v":0},{"$f":"'BİLGİ GİRİŞİ'!I31","v":0},0,0,null,0,null,{"$f":"'BİLGİ GİRİŞİ'!E31","v":0}]
[{"$f":"'EK DERS VERİ GİRİŞİ'!A32","v":28},{"$f":"'EK DERS VERİ GİRİŞİ'!B32","v":""},{"$f":"'EK DERS VERİ GİRİŞİ'!C32","v":""},{"$f":"'BİLGİ GİRİŞİ'!D32","v":0},{"$f":"'EK DERS VERİ GİRİŞİ'!E32","v":0},{"$f":"ROUND(E33*KATSAYILAR!$C$3*KATSAYILAR!$B$37,2)","v":0},{"$f":"'EK DERS VERİ GİRİŞİ'!F32","v":0},{"$f":"ROUND(G33*KATSAYILAR!$C$3*KATSAYILAR!$B$38,2)","v":0},{"$f":"'EK DERS VERİ GİRİŞİ'!G32","v":0},{"$f":"ROUND(I33*KATSAYILAR!$C$3*KATSAYILAR!$B$39,2)","v":0},{"$f":"'EK DERS VERİ GİRİŞİ'!H32","v":0},{"$f":"ROUND(K33*KATSAYILAR!$C$3*KATSAYILAR!$B$40,2)","v":0},0,0,0,{"$f":"IF(O33=0,0,IF(O33<KATSAYILAR!$C$9*N33,KATSAYILAR!$C$9*N33,O33))","v":0},{"$f":"ROUND(IF('BİLGİ GİRİŞİ'!D32=\"Ücretli Öğretmen\",P33*KATSAYILAR!$C$22,0),2)","v":0},{"$f":"ROUND(IF('BİLGİ GİRİŞİ'!D32=\"Ücretli Öğretmen (Emekli çalışan)\",P33*KATSAYILAR!$C$24,0),2)","v":0},0,{"$f":"'BİLGİ GİRİŞİ'!F32","v":0},{"$f":"\nIF('BİLGİ GİRİŞİ'!G32=KATSAYILAR!$B$16,KATSAYILAR!$C$16,\nIF('BİLGİ GİRİŞİ'!G32=KATSAYILAR!$B$17,KATSAYILAR!$C$17,\nIF('BİLGİ GİRİŞİ'!G32=KATSAYILAR!$B$18,KATSAYILAR!$C$18,0)))","v":0},{"$f":"'BİLGİ GİRİŞİ'!H32","v":0},0,{"$f":"hesaplamalar!J30","v":0},{"$f":"hesaplamalar!M30","v":0},{"$f":"hesaplamalar!N30","v":0},{"$f":"hesaplamalar!P30","v":0},{"$f":"hesaplamalar!Q30","v":0},{"$f":"hesaplamalar!T30","v":0},{"$f":"hesaplamalar!U30","v":0},0,{"$f":"ROUND(IF('BİLGİ GİRİŞİ'!D32=\"Ücretli Öğretmen\",P33*KATSAYILAR!$C$23,0),2)","v":0},0,{"$f":"ROUND(IF('BİLGİ GİRİŞİ'!D32=\"Ücretli Öğretmen (Emekli çalışan)\",P33*KATSAYILAR!$C$34,0),2)","v":0},{"$f":"'BİLGİ GİRİŞİ'!I32","v":0},0,0,null,0,null,{"$f":"'BİLGİ GİRİŞİ'!E32","v":0}]
[{"$f":"'EK DERS VERİ GİRİŞİ'!A33","v":29},{"$f":"'EK DERS VERİ GİRİŞİ'!B33","v":""},{"$f":"'EK DERS VERİ GİRİŞİ'!C33","v":""},{"$f":"'BİLGİ GİRİŞİ'!D33","v":0},{"$f":"'EK DERS VERİ GİRİŞİ'!E33","v":0},{"$f":"ROUND(E34*KATSAYILAR!$C$3*KATSAYILAR!$B$37,2)","v":0},{"$f":"'EK DERS VERİ GİRİŞİ'!F33","v":0},{"$f":"ROUND(G34*KATSAYILAR!$C$3*KATSAYILAR!$B$38,2)","v":0},{"$f":"'EK DERS VERİ GİRİŞİ'!G33","v":0},{"$f":"ROUND(I34*KATSAYILAR!$C$3*KATSAYILAR!$B$39,2)","v":0},{"$f":"'EK DERS VERİ GİRİŞİ'!H33","v":0},{"$f":"ROUND(K34*KATSAYILAR!$C$3*KATSAYILAR!$B$40,2)","v":0},0,0,0,{"$f":"IF(O34=0,0,IF(O34<KATSAYILAR!$C$9*N34,KATSAYILAR!$C$9*N34,O34))","v":0},{"$f":"ROUND(IF('BİLGİ GİRİŞİ'!D33=\"Ücretli Öğretmen\",P34*KATSAYILAR!$C$22,0),2)","v":0},{"$f":"ROUND(IF('BİLGİ GİRİŞİ'!D33=\"Ücretli Öğretmen (Emekli çalışan)\",P34*KATSAYILAR!$C$24,0),2)","v":0},0,{"$f":"'BİLGİ GİRİŞİ'!F33","v":0},{"$f":"\nIF('BİLGİ GİRİŞİ'!G33=KATSAYILAR!$B$16,KATSAYILAR!$C$16,\nIF('BİLGİ GİRİŞİ'!G33=KATSAYILAR!$B$17,KATSAYILAR!$C$17,\nIF('BİLGİ GİRİŞİ'!G33=KATSAYILAR!$B$18,KATSAYILAR!$C$18,0)))","v":0},{"$f":"'BİLGİ GİRİŞİ'!H33","v":0},0,{"$f":"hesaplamalar!J31","v":0},{"$f":"hesaplamalar!M31","v":0},{"$f":"hesaplamalar!N31","v":0},{"$f":"hesaplamalar!P31","v":0},{"$f":"hesaplamalar!Q31","v":0},{"$f":"hesaplamalar!T31","v":0},{"$f":"hesaplamalar!U31","v":0},0,{"$f":"ROUND(IF('BİLGİ GİRİŞİ'!D33=\"Ücretli Öğretmen\",P34*KATSAYILAR!$C$23,0),2)","v":0},0,{"$f":"ROUND(IF('BİLGİ GİRİŞİ'!D33=\"Ücretli Öğretmen (Emekli çalışan)\",P34*KATSAYILAR!$C$34,0),2)","v":0},{"$f":"'BİLGİ GİRİŞİ'!I33","v":0},0,0,null,0,null,{"$f":"'BİLGİ GİRİŞİ'!E33","v":0}]
[{"$f":"'EK DERS VERİ GİRİŞİ'!A34","v":30},{"$f":"'EK DERS VERİ GİRİŞİ'!B34","v":""},{"$f":"'EK DERS VERİ GİRİŞİ'!C34","v":""},{"$f":"'BİLGİ GİRİŞİ'!D34","v":0},{"$f":"'EK DERS VERİ GİRİŞİ'!E34","v":0},{"$f":"ROUND(E35*KATSAYILAR!$C$3*KATSAYILAR!$B$37,2)","v":0},{"$f":"'EK DERS VERİ GİRİŞİ'!F34","v":0},{"$f":"ROUND(G35*KATSAYILAR!$C$3*KATSAYILAR!$B$38,2)","v":0},{"$f":"'EK DERS VERİ GİRİŞİ'!G34","v":0},{"$f":"ROUND(I35*KATSAYILAR!$C$3*KATSAYILAR!$B$39,2)","v":0},{"$f":"'EK DERS VERİ GİRİŞİ'!H34","v":0},{"$f":"ROUND(K35*KATSAYILAR!$C$3*KATSAYILAR!$B$40,2)","v":0},0,0,0,{"$f":"IF(O35=0,0,IF(O35<KATSAYILAR!$C$9*N35,KATSAYILAR!$C$9*N35,O35))","v":0},{"$f":"ROUND(IF('BİLGİ GİRİŞİ'!D34=\"Ücretli Öğretmen\",P35*KATSAYILAR!$C$22,0),2)","v":0},{"$f":"ROUND(IF('BİLGİ GİRİŞİ'!D34=\"Ücretli Öğretmen (Emekli çalışan)\",P35*KATSAYILAR!$C$24,0),2)","v":0},0,{"$f":"'BİLGİ GİRİŞİ'!F34","v":0},{"$f":"\nIF('BİLGİ GİRİŞİ'!G34=KATSAYILAR!$B$16,KATSAYILAR!$C$16,\nIF('BİLGİ GİRİŞİ'!G34=KATSAYILAR!$B$17,KATSAYILAR!$C$17,\nIF('BİLGİ GİRİŞİ'!G34=KATSAYILAR!$B$18,KATSAYILAR!$C$18,0)))","v":0},{"$f":"'BİLGİ GİRİŞİ'!H34","v":0},0,{"$f":"hesaplamalar!J32","v":0},{"$f":"hesaplamalar!M32","v":0},{"$f":"hesaplamalar!N32","v":0},{"$f":"hesaplamalar!P32","v":0},{"$f":"hesaplamalar!Q32","v":0},{"$f":"hesaplamalar!T32","v":0},{"$f":"hesaplamalar!U32","v":0},0,{"$f":"ROUND(IF('BİLGİ GİRİŞİ'!D34=\"Ücretli Öğretmen\",P35*KATSAYILAR!$C$23,0),2)","v":0},0,{"$f":"ROUND(IF('BİLGİ GİRİŞİ'!D34=\"Ücretli Öğretmen (Emekli çalışan)\",P35*KATSAYILAR!$C$34,0),2)","v":0},{"$f":"'BİLGİ GİRİŞİ'!I34","v":0},0,0,null,0,null,{"$f":"'BİLGİ GİRİŞİ'!E34","v":0}]
[{"$f":"'EK DERS VERİ GİRİŞİ'!A35","v":31},{"$f":"'EK DERS VERİ GİRİŞİ'!B35","v":""},{"$f":"'EK DERS VERİ GİRİŞİ'!C35","v":""},{"$f":"'BİLGİ GİRİŞİ'!D35","v":0},{"$f":"'EK DERS VERİ GİRİŞİ'!E35","v":0},{"$f":"ROUND(E36*KATSAYILAR!$C$3*KATSAYILAR!$B$37,2)","v":0},{"$f":"'EK DERS VERİ GİRİŞİ'!F35","v":0},{"$f":"ROUND(G36*KATSAYILAR!$C$3*KATSAYILAR!$B$38,2)","v":0},{"$f":"'EK DERS VERİ GİRİŞİ'!G35","v":0},{"$f":"ROUND(I36*KATSAYILAR!$C$3*KATSAYILAR!$B$39,2)","v":0},{"$f":"'EK DERS VERİ GİRİŞİ'!H35","v":0},{"$f":"ROUND(K36*KATSAYILAR!$C$3*KATSAYILAR!$B$40,2)","v":0},0,0,0,{"$f":"IF(O36=0,0,IF(O36<KATSAYILAR!$C$9*N36,KATSAYILAR!$C$9*N36,O36))","v":0},{"$f":"ROUND(IF('BİLGİ GİRİŞİ'!D35=\"Ücretli Öğretmen\",P36*KATSAYILAR!$C$22,0),2)","v":0},{"$f":"ROUND(IF('BİLGİ GİRİŞİ'!D35=\"Ücretli Öğretmen (Emekli çalışan)\",P36*KATSAYILAR!$C$24,0),2)","v":0},0,{"$f":"'BİLGİ GİRİŞİ'!F35","v":0},{"$f":"\nIF('BİLGİ GİRİŞİ'!G35=KATSAYILAR!$B$16,KATSAYILAR!$C$16,\nIF('BİLGİ GİRİŞİ'!G35=KATSAYILAR!$B$17,KATSAYILAR!$C$17,\nIF('BİLGİ GİRİŞİ'!G35=KATSAYILAR!$B$18,KATSAYILAR!$C$18,0)))","v":0},{"$f":"'BİLGİ GİRİŞİ'!H35","v":0},0,{"$f":"hesaplamalar!J33","v":0},{"$f":"hesaplamalar!M33","v":0},{"$f":"hesaplamalar!N33","v":0},{"$f":"hesaplamalar!P33","v":0},{"$f":"hesaplamalar!Q33","v":0},{"$f":"hesaplamalar!T33","v":0},{"$f":"hesaplamalar!U33","v":0},0,{"$f":"ROUND(IF('BİLGİ GİRİŞİ'!D35=\"Ücretli Öğretmen\",P36*KATSAYILAR!$C$23,0),2)","v":0},0,{"$f":"ROUND(IF('BİLGİ GİRİŞİ'!D35=\"Ücretli Öğretmen (Emekli çalışan)\",P36*KATSAYILAR!$C$34,0),2)","v":0},{"$f":"'BİLGİ GİRİŞİ'!I35","v":0},0,0,null,0,null,{"$f":"'BİLGİ GİRİŞİ'!E35","v":0}]
[{"$f":"'EK DERS VERİ GİRİŞİ'!A36","v":32},{"$f":"'EK DERS VERİ GİRİŞİ'!B36","v":""},{"$f":"'EK DERS VERİ GİRİŞİ'!C36","v":""},{"$f":"'BİLGİ GİRİŞİ'!D36","v":0},{"$f":"'EK DERS VERİ GİRİŞİ'!E36","v":0},{"$f":"ROUND(E37*KATSAYILAR!$C$3*KATSAYILAR!$B$37,2)","v":0},{"$f":"'EK DERS VERİ GİRİŞİ'!F36","v":0},{"$f":"ROUND(G37*KATSAYILAR!$C$3*KATSAYILAR!$B$38,2)","v":0},{"$f":"'EK DERS VERİ GİRİŞİ'!G36","v":0},{"$f":"ROUND(I37*KATSAYILAR!$C$3*KATSAYILAR!$B$39,2)","v":0},{"$f":"'EK DERS VERİ GİRİŞİ'!H36","v":0},{"$f":"ROUND(K37*KATSAYILAR!$C$3*KATSAYILAR!$B$40,2)","v":0},0,0,0,{"$f":"IF(O37=0,0,IF(O37<KATSAYILAR!$C$9*N37,KATSAYILAR!$C$9*N37,O37))","v":0},{"$f":"ROUND(IF('BİLGİ GİRİŞİ'!D36=\"Ücretli Öğretmen\",P37*KATSAYILAR!$C$22,0),2)","v":0},{"$f":"ROUND(IF('BİLGİ GİRİŞİ'!D36=\"Ücretli Öğretmen (Emekli çalışan)\",P37*KATSAYILAR!$C$24,0),2)","v":0},0,{"$f":"'BİLGİ GİRİŞİ'!F36","v":0},{"$f":"\nIF('BİLGİ GİRİŞİ'!G36=KATSAYILAR!$B$16,KATSAYILAR!$C$16,\nIF('BİLGİ GİRİŞİ'!G36=KATSAYILAR!$B$17,KATSAYILAR!$C$17,\nIF('BİLGİ GİRİŞİ'!G36=KATSAYILAR!$B$18,KATSAYILAR!$C$18,0)))","v":0},{"$f":"'BİLGİ GİRİŞİ'!H36","v":0},0,{"$f":"hesaplamalar!J34","v":0},{"$f":"hesaplamalar!M34","v":0},{"$f":"hesaplamalar!N34","v":0},{"$f":"hesaplamalar!P34","v":0},{"$f":"hesaplamalar!Q34","v":0},{"$f":"hesaplamalar!T34","v":0},{"$f":"hesaplamalar!U34","v":0},0,{"$f":"ROUND(IF('BİLGİ GİRİŞİ'!D36=\"Ücretli Öğretmen\",P37*KATSAYILAR!$C$23,0),2)","v":0},0,{"$f":"ROUND(IF('BİLGİ GİRİŞİ'!D36=\"Ücretli Öğretmen (Emekli çalışan)\",P37*KATSAYILAR!$C$34,0),2)","v":0},{"$f":"'BİLGİ GİRİŞİ'!I36","v":0},0,0,null,0,null,{"$f":"'BİLGİ GİRİŞİ'!E36","v":0}]
[{"$f":"'EK DERS VERİ GİRİŞİ'!A37","v":33},{"$f":"'EK DERS VERİ GİRİŞİ'!B37","v":""},{"$f":"'EK DERS VERİ GİRİŞİ'!C37","v":""},{"$f":"'BİLGİ GİRİŞİ'!D37","v":0},{"$f":"'EK DERS VERİ GİRİŞİ'!E37","v":0},{"$f":"ROUND(E38*KATSAYILAR!$C$3*KATSAYILAR!$B$37,2)","v":0},{"$f":"'EK DERS VERİ GİRİŞİ'!F37","v":0},{"$f":"ROUND(G38*KATSAYILAR!$C$3*KATSAYILAR!$B$38,2)","v":0},{"$f":"'EK DERS VERİ GİRİŞİ'!G37","v":0},{"$f":"ROUND(I38*KATSAYILAR!$C$3*KATSAYILAR!$B$39,2)","v":0},{"$f":"'EK DERS VERİ GİRİŞİ'!H37","v":0},{"$f":"ROUND(K38*KATSAYILAR!$C$3*KATSAYILAR!$B$40,2)","v":0},0,0,0,{"$f":"IF(O38=0,0,IF(O38<KATSAYILAR!$C$9*N38,KATSAYILAR!$C$9*N38,O38))","v":0},{"$f":"ROUND(IF('BİLGİ GİRİŞİ'!D37=\"Ücretli Öğretmen\",P38*KATSAYILAR!$C$22,0),2)","v":0},{"$f":"ROUND(IF('BİLGİ GİRİŞİ'!D37=\"Ücretli Öğretmen (Emekli çalışan)\",P38*KATSAYILAR!$C$24,0),2)","v":0},0,{"$f":"'BİLGİ GİRİŞİ'!F37","v":0},{"$f":"\nIF('BİLGİ GİRİŞİ'!G37=KATSAYILAR!$B$16,KATSAYILAR!$C$16,\nIF('BİLGİ GİRİŞİ'!G37=KATSAYILAR!$B$17,KATSAYILAR!$C$17,\nIF('BİLGİ GİRİŞİ'!G37=KATSAYILAR!$B$18,KATSAYILAR!$C$18,0)))","v":0},{"$f":"'BİLGİ GİRİŞİ'!H37","v":0},0,{"$f":"hesaplamalar!J35","v":0},{"$f":"hesaplamalar!M35","v":0},{"$f":"hesaplamalar!N35","v":0},{"$f":"hesaplamalar!P35","v":0},{"$f":"hesaplamalar!Q35","v":0},{"$f":"hesaplamalar!T35","v":0},{"$f":"hesaplamalar!U35","v":0},0,{"$f":"ROUND(IF('BİLGİ GİRİŞİ'!D37=\"Ücretli Öğretmen\",P38*KATSAYILAR!$C$23,0),2)","v":0},0,{"$f":"ROUND(IF('BİLGİ GİRİŞİ'!D37=\"Ücretli Öğretmen (Emekli çalışan)\",P38*KATSAYILAR!$C$34,0),2)","v":0},{"$f":"'BİLGİ GİRİŞİ'!I37","v":0},0,0,null,0,null,{"$f":"'BİLGİ GİRİŞİ'!E37","v":0}]
[{"$f":"'EK DERS VERİ GİRİŞİ'!A38","v":34},{"$f":"'EK DERS VERİ GİRİŞİ'!B38","v":""},{"$f":"'EK DERS VERİ GİRİŞİ'!C38","v":""},{"$f":"'BİLGİ GİRİŞİ'!D38","v":0},{"$f":"'EK DERS VERİ GİRİŞİ'!E38","v":0},{"$f":"ROUND(E39*KATSAYILAR!$C$3*KATSAYILAR!$B$37,2)","v":0},{"$f":"'EK DERS VERİ GİRİŞİ'!F38","v":0},{"$f":"ROUND(G39*KATSAYILAR!$C$3*KATSAYILAR!$B$38,2)","v":0},{"$f":"'EK DERS VERİ GİRİŞİ'!G38","v":0},{"$f":"ROUND(I39*KATSAYILAR!$C$3*KATSAYILAR!$B$39,2)","v":0},{"$f":"'EK DERS VERİ GİRİŞİ'!H38","v":0},{"$f":"ROUND(K39*KATSAYILAR!$C$3*KATSAYILAR!$B$40,2)","v":0},0,0,0,{"$f":"IF(O39=0,0,IF(O39<KATSAYILAR!$C$9*N39,KATSAYILAR!$C$9*N39,O39))","v":0},{"$f":"ROUND(IF('BİLGİ GİRİŞİ'!D38=\"Ücretli Öğretmen\",P39*KATSAYILAR!$C$22,0),2)","v":0},{"$f":"ROUND(IF('BİLGİ GİRİŞİ'!D38=\"Ücretli Öğretmen (Emekli çalışan)\",P39*KATSAYILAR!$C$24,0),2)","v":0},0,{"$f":"'BİLGİ GİRİŞİ'!F38","v":0},{"$f":"\nIF('BİLGİ GİRİŞİ'!G38=KATSAYILAR!$B$16,KATSAYILAR!$C$16,\nIF('BİLGİ GİRİŞİ'!G38=KATSAYILAR!$B$17,KATSAYILAR!$C$17,\nIF('BİLGİ GİRİŞİ'!G38=KATSAYILAR!$B$18,KATSAYILAR!$C$18,0)))","v":0},{"$f":"'BİLGİ GİRİŞİ'!H38","v":0},0,{"$f":"hesaplamalar!J36","v":0},{"$f":"hesaplamalar!M36","v":0},{"$f":"hesaplamalar!N36","v":0},{"$f":"hesaplamalar!P36","v":0},{"$f":"hesaplamalar!Q36","v":0},{"$f":"hesaplamalar!T36","v":0},{"$f":"hesaplamalar!U36","v":0},0,{"$f":"ROUND(IF('BİLGİ GİRİŞİ'!D38=\"Ücretli Öğretmen\",P39*KATSAYILAR!$C$23,0),2)","v":0},0,{"$f":"ROUND(IF('BİLGİ GİRİŞİ'!D38=\"Ücretli Öğretmen (Emekli çalışan)\",P39*KATSAYILAR!$C$34,0),2)","v":0},{"$f":"'BİLGİ GİRİŞİ'!I38","v":0},0,0,null,0,null,{"$f":"'BİLGİ GİRİŞİ'!E38","v":0}]
[{"$f":"'EK DERS VERİ GİRİŞİ'!A39","v":35},{"$f":"'EK DERS VERİ GİRİŞİ'!B39","v":""},{"$f":"'EK DERS VERİ GİRİŞİ'!C39","v":""},{"$f":"'BİLGİ GİRİŞİ'!D39","v":0},{"$f":"'EK DERS VERİ GİRİŞİ'!E39","v":0},{"$f":"ROUND(E40*KATSAYILAR!$C$3*KATSAYILAR!$B$37,2)","v":0},{"$f":"'EK DERS VERİ GİRİŞİ'!F39","v":0},{"$f":"ROUND(G40*KATSAYILAR!$C$3*KATSAYILAR!$B$38,2)","v":0},{"$f":"'EK DERS VERİ GİRİŞİ'!G39","v":0},{"$f":"ROUND(I40*KATSAYILAR!$C$3*KATSAYILAR!$B$39,2)","v":0},{"$f":"'EK DERS VERİ GİRİŞİ'!H39","v":0},{"$f":"ROUND(K40*KATSAYILAR!$C$3*KATSAYILAR!$B$40,2)","v":0},0,0,0,{"$f":"IF(O40=0,0,IF(O40<KATSAYILAR!$C$9*N40,KATSAYILAR!$C$9*N40,O40))","v":0},{"$f":"ROUND(IF('BİLGİ GİRİŞİ'!D39=\"Ücretli Öğretmen\",P40*KATSAYILAR!$C$22,0),2)","v":0},{"$f":"ROUND(IF('BİLGİ GİRİŞİ'!D39=\"Ücretli Öğretmen (Emekli çalışan)\",P40*KATSAYILAR!$C$24,0),2)","v":0},0,{"$f":"'BİLGİ GİRİŞİ'!F39","v":0},{"$f":"\nIF('BİLGİ GİRİŞİ'!G39=KATSAYILAR!$B$16,KATSAYILAR!$C$16,\nIF('BİLGİ GİRİŞİ'!G39=KATSAYILAR!$B$17,KATSAYILAR!$C$17,\nIF('BİLGİ GİRİŞİ'!G39=KATSAYILAR!$B$18,KATSAYILAR!$C$18,0)))","v":0},{"$f":"'BİLGİ GİRİŞİ'!H39","v":0},0,{"$f":"hesaplamalar!J37","v":0},{"$f":"hesaplamalar!M37","v":0},{"$f":"hesaplamalar!N37","v":0},{"$f":"hesaplamalar!P37","v":0},{"$f":"hesaplamalar!Q37","v":0},{"$f":"hesaplamalar!T37","v":0},{"$f":"hesaplamalar!U37","v":0},0,{"$f":"ROUND(IF('BİLGİ GİRİŞİ'!D39=\"Ücretli Öğretmen\",P40*KATSAYILAR!$C$23,0),2)","v":0},0,{"$f":"ROUND(IF('BİLGİ GİRİŞİ'!D39=\"Ücretli Öğretmen (Emekli çalışan)\",P40*KATSAYILAR!$C$34,0),2)","v":0},{"$f":"'BİLGİ GİRİŞİ'!I39","v":0},0,0,null,0,null,{"$f":"'BİLGİ GİRİŞİ'!E39","v":0}]
[{"$f":"'EK DERS VERİ GİRİŞİ'!A40","v":36},{"$f":"'EK DERS VERİ GİRİŞİ'!B40","v":""},{"$f":"'EK DERS VERİ GİRİŞİ'!C40","v":""},{"$f":"'BİLGİ GİRİŞİ'!D40","v":0},{"$f":"'EK DERS VERİ GİRİŞİ'!E40","v":0},{"$f":"ROUND(E41*KATSAYILAR!$C$3*KATSAYILAR!$B$37,2)","v":0},{"$f":"'EK DERS VERİ GİRİŞİ'!F40","v":0},{"$f":"ROUND(G41*KATSAYILAR!$C$3*KATSAYILAR!$B$38,2)","v":0},{"$f":"'EK DERS VERİ GİRİŞİ'!G40","v":0},{"$f":"ROUND(I41*KATSAYILAR!$C$3*KATSAYILAR!$B$39,2)","v":0},{"$f":"'EK DERS VERİ GİRİŞİ'!H40","v":0},{"$f":"ROUND(K41*KATSAYILAR!$C$3*KATSAYILAR!$B$40,2)","v":0},0,0,0,{"$f":"IF(O41=0,0,IF(O41<KATSAYILAR!$C$9*N41,KATSAYILAR!$C$9*N41,O41))","v":0},{"$f":"ROUND(IF('BİLGİ GİRİŞİ'!D40=\"Ücretli Öğretmen\",P41*KATSAYILAR!$C$22,0),2)","v":0},{"$f":"ROUND(IF('BİLGİ GİRİŞİ'!D40=\"Ücretli Öğretmen (Emekli çalışan)\",P41*KATSAYILAR!$C$24,0),2)","v":0},0,{"$f":"'BİLGİ GİRİŞİ'!F40","v":0},{"$f":"\nIF('BİLGİ GİRİŞİ'!G40=KATSAYILAR!$B$16,KATSAYILAR!$C$16,\nIF('BİLGİ GİRİŞİ'!G40=KATSAYILAR!$B$17,KATSAYILAR!$C$17,\nIF('BİLGİ GİRİŞİ'!G40=KATSAYILAR!$B$18,KATSAYILAR!$C$18,0)))","v":0},{"$f":"'BİLGİ GİRİŞİ'!H40","v":0},0,{"$f":"hesaplamalar!J38","v":0},{"$f":"hesaplamalar!M38","v":0},{"$f":"hesaplamalar!N38","v":0},{"$f":"hesaplamalar!P38","v":0},{"$f":"hesaplamalar!Q38","v":0},{"$f":"hesaplamalar!T38","v":0},{"$f":"hesaplamalar!U38","v":0},0,{"$f":"ROUND(IF('BİLGİ GİRİŞİ'!D40=\"Ücretli Öğretmen\",P41*KATSAYILAR!$C$23,0),2)","v":0},0,{"$f":"ROUND(IF('BİLGİ GİRİŞİ'!D40=\"Ücretli Öğretmen (Emekli çalışan)\",P41*KATSAYILAR!$C$34,0),2)","v":0},{"$f":"'BİLGİ GİRİŞİ'!I40","v":0},0,0,null,0,null,{"$f":"'BİLGİ GİRİŞİ'!E40","v":0}]
[{"$f":"'EK DERS VERİ GİRİŞİ'!A41","v":37},{"$f":"'EK DERS VERİ GİRİŞİ'!B41","v":""},{"$f":"'EK DERS VERİ GİRİŞİ'!C41","v":""},{"$f":"'BİLGİ GİRİŞİ'!D41","v":0},{"$f":"'EK DERS VERİ GİRİŞİ'!E41","v":0},{"$f":"ROUND(E42*KATSAYILAR!$C$3*KATSAYILAR!$B$37,2)","v":0},{"$f":"'EK DERS VERİ GİRİŞİ'!F41","v":0},{"$f":"ROUND(G42*KATSAYILAR!$C$3*KATSAYILAR!$B$38,2)","v":0},{"$f":"'EK DERS VERİ GİRİŞİ'!G41","v":0},{"$f":"ROUND(I42*KATSAYILAR!$C$3*KATSAYILAR!$B$39,2)","v":0},{"$f":"'EK DERS VERİ GİRİŞİ'!H41","v":0},{"$f":"ROUND(K42*KATSAYILAR!$C$3*KATSAYILAR!$B$40,2)","v":0},0,0,0,{"$f":"IF(O42=0,0,IF(O42<KATSAYILAR!$C$9*N42,KATSAYILAR!$C$9*N42,O42))","v":0},{"$f":"ROUND(IF('BİLGİ GİRİŞİ'!D41=\"Ücretli Öğretmen\",P42*KATSAYILAR!$C$22,0),2)","v":0},{"$f":"ROUND(IF('BİLGİ GİRİŞİ'!D41=\"Ücretli Öğretmen (Emekli çalışan)\",P42*KATSAYILAR!$C$24,0),2)","v":0},0,{"$f":"'BİLGİ GİRİŞİ'!F41","v":0},{"$f":"\nIF('BİLGİ GİRİŞİ'!G41=KATSAYILAR!$B$16,KATSAYILAR!$C$16,\nIF('BİLGİ GİRİŞİ'!G41=KATSAYILAR!$B$17,KATSAYILAR!$C$17,\nIF('BİLGİ GİRİŞİ'!G41=KATSAYILAR!$B$18,KATSAYILAR!$C$18,0)))","v":0},{"$f":"'BİLGİ GİRİŞİ'!H41","v":0},0,{"$f":"hesaplamalar!J39","v":0},{"$f":"hesaplamalar!M39","v":0},{"$f":"hesaplamalar!N39","v":0},{"$f":"hesaplamalar!P39","v":0},{"$f":"hesaplamalar!Q39","v":0},{"$f":"hesaplamalar!T39","v":0},{"$f":"hesaplamalar!U39","v":0},0,{"$f":"ROUND(IF('BİLGİ GİRİŞİ'!D41=\"Ücretli Öğretmen\",P42*KATSAYILAR!$C$23,0),2)","v":0},0,{"$f":"ROUND(IF('BİLGİ GİRİŞİ'!D41=\"Ücretli Öğretmen (Emekli çalışan)\",P42*KATSAYILAR!$C$34,0),2)","v":0},{"$f":"'BİLGİ GİRİŞİ'!I41","v":0},0,0,null,0,null,{"$f":"'BİLGİ GİRİŞİ'!E41","v":0}]
[{"$f":"'EK DERS VERİ GİRİŞİ'!A42","v":38},{"$f":"'EK DERS VERİ GİRİŞİ'!B42","v":""},{"$f":"'EK DERS VERİ GİRİŞİ'!C42","v":""},{"$f":"'BİLGİ GİRİŞİ'!D42","v":0},{"$f":"'EK DERS VERİ GİRİŞİ'!E42","v":0},{"$f":"ROUND(E43*KATSAYILAR!$C$3*KATSAYILAR!$B$37,2)","v":0},{"$f":"'EK DERS VERİ GİRİŞİ'!F42","v":0},{"$f":"ROUND(G43*KATSAYILAR!$C$3*KATSAYILAR!$B$38,2)","v":0},{"$f":"'EK DERS VERİ GİRİŞİ'!G42","v":0},{"$f":"ROUND(I43*KATSAYILAR!$C$3*KATSAYILAR!$B$39,2)","v":0},{"$f":"'EK DERS VERİ GİRİŞİ'!H42","v":0},{"$f":"ROUND(K43*KATSAYILAR!$C$3*KATSAYILAR!$B$40,2)","v":0},0,0,0,{"$f":"IF(O43=0,0,IF(O43<KATSAYILAR!$C$9*N43,KATSAYILAR!$C$9*N43,O43))","v":0},{"$f":"ROUND(IF('BİLGİ GİRİŞİ'!D42=\"Ücretli Öğretmen\",P43*KATSAYILAR!$C$22,0),2)","v":0},{"$f":"ROUND(IF('BİLGİ GİRİŞİ'!D42=\"Ücretli Öğretmen (Emekli çalışan)\",P43*KATSAYILAR!$C$24,0),2)","v":0},0,{"$f":"'BİLGİ GİRİŞİ'!F42","v":0},{"$f":"\nIF('BİLGİ GİRİŞİ'!G42=KATSAYILAR!$B$16,KATSAYILAR!$C$16,\nIF('BİLGİ GİRİŞİ'!G42=KATSAYILAR!$B$17,KATSAYILAR!$C$17,\nIF('BİLGİ GİRİŞİ'!G42=KATSAYILAR!$B$18,KATSAYILAR!$C$18,0)))","v":0},{"$f":"'BİLGİ GİRİŞİ'!H42","v":0},0,{"$f":"hesaplamalar!J40","v":0},{"$f":"hesaplamalar!M40","v":0},{"$f":"hesaplamalar!N40","v":0},{"$f":"hesaplamalar!P40","v":0},{"$f":"hesaplamalar!Q40","v":0},{"$f":"hesaplamalar!T40","v":0},{"$f":"hesaplamalar!U40","v":0},0,{"$f":"ROUND(IF('BİLGİ GİRİŞİ'!D42=\"Ücretli Öğretmen\",P43*KATSAYILAR!$C$23,0),2)","v":0},0,{"$f":"ROUND(IF('BİLGİ GİRİŞİ'!D42=\"Ücretli Öğretmen (Emekli çalışan)\",P43*KATSAYILAR!$C$34,0),2)","v":0},{"$f":"'BİLGİ GİRİŞİ'!I42","v":0},0,0,null,0,null,{"$f":"'BİLGİ GİRİŞİ'!E42","v":0}]
[{"$f":"'EK DERS VERİ GİRİŞİ'!A43","v":39},{"$f":"'EK DERS VERİ GİRİŞİ'!B43","v":""},{"$f":"'EK DERS VERİ GİRİŞİ'!C43","v":""},{"$f":"'BİLGİ GİRİŞİ'!D43","v":0},{"$f":"'EK DERS VERİ GİRİŞİ'!E43","v":0},{"$f":"ROUND(E44*KATSAYILAR!$C$3*KATSAYILAR!$B$37,2)","v":0},{"$f":"'EK DERS VERİ GİRİŞİ'!F43","v":0},{"$f":"ROUND(G44*KATSAYILAR!$C$3*KATSAYILAR!$B$38,2)","v":0},{"$f":"'EK DERS VERİ GİRİŞİ'!G43","v":0},{"$f":"ROUND(I44*KATSAYILAR!$C$3*KATSAYILAR!$B$39,2)","v":0},{"$f":"'EK DERS VERİ GİRİŞİ'!H43","v":0},{"$f":"ROUND(K44*KATSAYILAR!$C$3*KATSAYILAR!$B$40,2)","v":0},0,0,0,{"$f":"IF(O44=0,0,IF(O44<KATSAYILAR!$C$9*N44,KATSAYILAR!$C$9*N44,O44))","v":0},{"$f":"ROUND(IF('BİLGİ GİRİŞİ'!D43=\"Ücretli Öğretmen\",P44*KATSAYILAR!$C$22,0),2)","v":0},{"$f":"ROUND(IF('BİLGİ GİRİŞİ'!D43=\"Ücretli Öğretmen (Emekli çalışan)\",P44*KATSAYILAR!$C$24,0),2)","v":0},0,{"$f":"'BİLGİ GİRİŞİ'!F43","v":0},{"$f":"\nIF('BİLGİ GİRİŞİ'!G43=KATSAYILAR!$B$16,KATSAYILAR!$C$16,\nIF('BİLGİ GİRİŞİ'!G43=KATSAYILAR!$B$17,KATSAYILAR!$C$17,\nIF('BİLGİ GİRİŞİ'!G43=KATSAYILAR!$B$18,KATSAYILAR!$C$18,0)))","v":0},{"$f":"'BİLGİ GİRİŞİ'!H43","v":0},0,{"$f":"hesaplamalar!J41","v":0},{"$f":"hesaplamalar!M41","v":0},{"$f":"hesaplamalar!N41","v":0},{"$f":"hesaplamalar!P41","v":0},{"$f":"hesaplamalar!Q41","v":0},{"$f":"hesaplamalar!T41","v":0},{"$f":"hesaplamalar!U41","v":0},0,{"$f":"ROUND(IF('BİLGİ GİRİŞİ'!D43=\"Ücretli Öğretmen\",P44*KATSAYILAR!$C$23,0),2)","v":0},0,{"$f":"ROUND(IF('BİLGİ GİRİŞİ'!D43=\"Ücretli Öğretmen (Emekli çalışan)\",P44*KATSAYILAR!$C$34,0),2)","v":0},{"$f":"'BİLGİ GİRİŞİ'!I43","v":0},0,0,null,0,null,{"$f":"'BİLGİ GİRİŞİ'!E43","v":0}]
[{"$f":"'EK DERS VERİ GİRİŞİ'!A44","v":40},{"$f":"'EK DERS VERİ GİRİŞİ'!B44","v":""},{"$f":"'EK DERS VERİ GİRİŞİ'!C44","v":""},{"$f":"'BİLGİ GİRİŞİ'!D44","v":0},{"$f":"'EK DERS VERİ GİRİŞİ'!E44","v":0},{"$f":"ROUND(E45*KATSAYILAR!$C$3*KATSAYILAR!$B$37,2)","v":0},{"$f":"'EK DERS VERİ GİRİŞİ'!F44","v":0},{"$f":"ROUND(G45*KATSAYILAR!$C$3*KATSAYILAR!$B$38,2)","v":0},{"$f":"'EK DERS VERİ GİRİŞİ'!G44","v":0},{"$f":"ROUND(I45*KATSAYILAR!$C$3*KATSAYILAR!$B$39,2)","v":0},{"$f":"'EK DERS VERİ GİRİŞİ'!H44","v":0},{"$f":"ROUND(K45*KATSAYILAR!$C$3*KATSAYILAR!$B$40,2)","v":0},0,0,0,{"$f":"IF(O45=0,0,IF(O45<KATSAYILAR!$C$9*N45,KATSAYILAR!$C$9*N45,O45))","v":0},{"$f":"ROUND(IF('BİLGİ GİRİŞİ'!D44=\"Ücretli Öğretmen\",P45*KATSAYILAR!$C$22,0),2)","v":0},{"$f":"ROUND(IF('BİLGİ GİRİŞİ'!D44=\"Ücretli Öğretmen (Emekli çalışan)\",P45*KATSAYILAR!$C$24,0),2)","v":0},0,{"$f":"'BİLGİ GİRİŞİ'!F44","v":0},{"$f":"\nIF('BİLGİ GİRİŞİ'!G44=KATSAYILAR!$B$16,KATSAYILAR!$C$16,\nIF('BİLGİ GİRİŞİ'!G44=KATSAYILAR!$B$17,KATSAYILAR!$C$17,\nIF('BİLGİ GİRİŞİ'!G44=KATSAYILAR!$B$18,KATSAYILAR!$C$18,0)))","v":0},{"$f":"'BİLGİ GİRİŞİ'!H44","v":0},0,{"$f":"hesaplamalar!J42","v":0},{"$f":"hesaplamalar!M42","v":0},{"$f":"hesaplamalar!N42","v":0},{"$f":"hesaplamalar!P42","v":0},{"$f":"hesaplamalar!Q42","v":0},{"$f":"hesaplamalar!T42","v":0},{"$f":"hesaplamalar!U42","v":0},0,{"$f":"ROUND(IF('BİLGİ GİRİŞİ'!D44=\"Ücretli Öğretmen\",P45*KATSAYILAR!$C$23,0),2)","v":0},0,{"$f":"ROUND(IF('BİLGİ GİRİŞİ'!D44=\"Ücretli Öğretmen (Emekli çalışan)\",P45*KATSAYILAR!$C$34,0),2)","v":0},{"$f":"'BİLGİ GİRİŞİ'!I44","v":0},0,0,null,0,null,{"$f":"'BİLGİ GİRİŞİ'!E44","v":0}]
[{"$f":"'EK DERS VERİ GİRİŞİ'!A45","v":41},{"$f":"'EK DERS VERİ GİRİŞİ'!B45","v":""},{"$f":"'EK DERS VERİ GİRİŞİ'!C45","v":""},{"$f":"'BİLGİ GİRİŞİ'!D45","v":0},{"$f":"'EK DERS VERİ GİRİŞİ'!E45","v":0},{"$f":"ROUND(E46*KATSAYILAR!$C$3*KATSAYILAR!$B$37,2)","v":0},{"$f":"'EK DERS VERİ GİRİŞİ'!F45","v":0},{"$f":"ROUND(G46*KATSAYILAR!$C$3*KATSAYILAR!$B$38,2)","v":0},{"$f":"'EK DERS VERİ GİRİŞİ'!G45","v":0},{"$f":"ROUND(I46*KATSAYILAR!$C$3*KATSAYILAR!$B$39,2)","v":0},{"$f":"'EK DERS VERİ GİRİŞİ'!H45","v":0},{"$f":"ROUND(K46*KATSAYILAR!$C$3*KATSAYILAR!$B$40,2)","v":0},0,0,0,{"$f":"IF(O46=0,0,IF(O46<KATSAYILAR!$C$9*N46,KATSAYILAR!$C$9*N46,O46))","v":0},{"$f":"ROUND(IF('BİLGİ GİRİŞİ'!D45=\"Ücretli Öğretmen\",P46*KATSAYILAR!$C$22,0),2)","v":0},{"$f":"ROUND(IF('BİLGİ GİRİŞİ'!D45=\"Ücretli Öğretmen (Emekli çalışan)\",P46*KATSAYILAR!$C$24,0),2)","v":0},0,{"$f":"'BİLGİ GİRİŞİ'!F45","v":0},{"$f":"\nIF('BİLGİ GİRİŞİ'!G45=KATSAYILAR!$B$16,KATSAYILAR!$C$16,\nIF('BİLGİ GİRİŞİ'!G45=KATSAYILAR!$B$17,KATSAYILAR!$C$17,\nIF('BİLGİ GİRİŞİ'!G45=KATSAYILAR!$B$18,KATSAYILAR!$C$18,0)))","v":0},{"$f":"'BİLGİ GİRİŞİ'!H45","v":0},0,{"$f":"hesaplamalar!J43","v":0},{"$f":"hesaplamalar!M43","v":0},{"$f":"hesaplamalar!N43","v":0},{"$f":"hesaplamalar!P43","v":0},{"$f":"hesaplamalar!Q43","v":0},{"$f":"hesaplamalar!T43","v":0},{"$f":"hesaplamalar!U43","v":0},0,{"$f":"ROUND(IF('BİLGİ GİRİŞİ'!D45=\"Ücretli Öğretmen\",P46*KATSAYILAR!$C$23,0),2)","v":0},0,{"$f":"ROUND(IF('BİLGİ GİRİŞİ'!D45=\"Ücretli Öğretmen (Emekli çalışan)\",P46*KATSAYILAR!$C$34,0),2)","v":0},{"$f":"'BİLGİ GİRİŞİ'!I45","v":0},0,0,null,0,null,{"$f":"'BİLGİ GİRİŞİ'!E45","v":0}]
[{"$f":"'EK DERS VERİ GİRİŞİ'!A46","v":42},{"$f":"'EK DERS VERİ GİRİŞİ'!B46","v":""},{"$f":"'EK DERS VERİ GİRİŞİ'!C46","v":""},{"$f":"'BİLGİ GİRİŞİ'!D46","v":0},{"$f":"'EK DERS VERİ GİRİŞİ'!E46","v":0},{"$f":"ROUND(E47*KATSAYILAR!$C$3*KATSAYILAR!$B$37,2)","v":0},{"$f":"'EK DERS VERİ GİRİŞİ'!F46","v":0},{"$f":"ROUND(G47*KATSAYILAR!$C$3*KATSAYILAR!$B$38,2)","v":0},{"$f":"'EK DERS VERİ GİRİŞİ'!G46","v":0},{"$f":"ROUND(I47*KATSAYILAR!$C$3*KATSAYILAR!$B$39,2)","v":0},{"$f":"'EK DERS VERİ GİRİŞİ'!H46","v":0},{"$f":"ROUND(K47*KATSAYILAR!$C$3*KATSAYILAR!$B$40,2)","v":0},0,0,0,{"$f":"IF(O47=0,0,IF(O47<KATSAYILAR!$C$9*N47,KATSAYILAR!$C$9*N47,O47))","v":0},{"$f":"ROUND(IF('BİLGİ GİRİŞİ'!D46=\"Ücretli Öğretmen\",P47*KATSAYILAR!$C$22,0),2)","v":0},{"$f":"ROUND(IF('BİLGİ GİRİŞİ'!D46=\"Ücretli Öğretmen (Emekli çalışan)\",P47*KATSAYILAR!$C$24,0),2)","v":0},0,{"$f":"'BİLGİ GİRİŞİ'!F46","v":0},{"$f":"\nIF('BİLGİ GİRİŞİ'!G46=KATSAYILAR!$B$16,KATSAYILAR!$C$16,\nIF('BİLGİ GİRİŞİ'!G46=KATSAYILAR!$B$17,KATSAYILAR!$C$17,\nIF('BİLGİ GİRİŞİ'!G46=KATSAYILAR!$B$18,KATSAYILAR!$C$18,0)))","v":0},{"$f":"'BİLGİ GİRİŞİ'!H46","v":0},0,{"$f":"hesaplamalar!J44","v":0},{"$f":"hesaplamalar!M44","v":0},{"$f":"hesaplamalar!N44","v":0},{"$f":"hesaplamalar!P44","v":0},{"$f":"hesaplamalar!Q44","v":0},{"$f":"hesaplamalar!T44","v":0},{"$f":"hesaplamalar!U44","v":0},0,{"$f":"ROUND(IF('BİLGİ GİRİŞİ'!D46=\"Ücretli Öğretmen\",P47*KATSAYILAR!$C$23,0),2)","v":0},0,{"$f":"ROUND(IF('BİLGİ GİRİŞİ'!D46=\"Ücretli Öğretmen (Emekli çalışan)\",P47*KATSAYILAR!$C$34,0),2)","v":0},{"$f":"'BİLGİ GİRİŞİ'!I46","v":0},0,0,null,0,null,{"$f":"'BİLGİ GİRİŞİ'!E46","v":0}]
[{"$f":"'EK DERS VERİ GİRİŞİ'!A47","v":43},{"$f":"'EK DERS VERİ GİRİŞİ'!B47","v":""},{"$f":"'EK DERS VERİ GİRİŞİ'!C47","v":""},{"$f":"'BİLGİ GİRİŞİ'!D47","v":0},{"$f":"'EK DERS VERİ GİRİŞİ'!E47","v":0},{"$f":"ROUND(E48*KATSAYILAR!$C$3*KATSAYILAR!$B$37,2)","v":0},{"$f":"'EK DERS VERİ GİRİŞİ'!F47","v":0},{"$f":"ROUND(G48*KATSAYILAR!$C$3*KATSAYILAR!$B$38,2)","v":0},{"$f":"'EK DERS VERİ GİRİŞİ'!G47","v":0},{"$f":"ROUND(I48*KATSAYILAR!$C$3*KATSAYILAR!$B$39,2)","v":0},{"$f":"'EK DERS VERİ GİRİŞİ'!H47","v":0},{"$f":"ROUND(K48*KATSAYILAR!$C$3*KATSAYILAR!$B$40,2)","v":0},0,0,0,{"$f":"IF(O48=0,0,IF(O48<KATSAYILAR!$C$9*N48,KATSAYILAR!$C$9*N48,O48))","v":0},{"$f":"ROUND(IF('BİLGİ GİRİŞİ'!D47=\"Ücretli Öğretmen\",P48*KATSAYILAR!$C$22,0),2)","v":0},{"$f":"ROUND(IF('BİLGİ GİRİŞİ'!D47=\"Ücretli Öğretmen (Emekli çalışan)\",P48*KATSAYILAR!$C$24,0),2)","v":0},0,{"$f":"'BİLGİ GİRİŞİ'!F47","v":0},{"$f":"\nIF('BİLGİ GİRİŞİ'!G47=KATSAYILAR!$B$16,KATSAYILAR!$C$16,\nIF('BİLGİ GİRİŞİ'!G47=KATSAYILAR!$B$17,KATSAYILAR!$C$17,\nIF('BİLGİ GİRİŞİ'!G47=KATSAYILAR!$B$18,KATSAYILAR!$C$18,0)))","v":0},{"$f":"'BİLGİ GİRİŞİ'!H47","v":0},0,{"$f":"hesaplamalar!J45","v":0},{"$f":"hesaplamalar!M45","v":0},{"$f":"hesaplamalar!N45","v":0},{"$f":"hesaplamalar!P45","v":0},{"$f":"hesaplamalar!Q45","v":0},{"$f":"hesaplamalar!T45","v":0},{"$f":"hesaplamalar!U45","v":0},0,{"$f":"ROUND(IF('BİLGİ GİRİŞİ'!D47=\"Ücretli Öğretmen\",P48*KATSAYILAR!$C$23,0),2)","v":0},0,{"$f":"ROUND(IF('BİLGİ GİRİŞİ'!D47=\"Ücretli Öğretmen (Emekli çalışan)\",P48*KATSAYILAR!$C$34,0),2)","v":0},{"$f":"'BİLGİ GİRİŞİ'!I47","v":0},0,0,null,0,null,{"$f":"'BİLGİ GİRİŞİ'!E47","v":0}]
[{"$f":"'EK DERS VERİ GİRİŞİ'!A48","v":44},{"$f":"'EK DERS VERİ GİRİŞİ'!B48","v":""},{"$f":"'EK DERS VERİ GİRİŞİ'!C48","v":""},{"$f":"'BİLGİ GİRİŞİ'!D48","v":0},{"$f":"'EK DERS VERİ GİRİŞİ'!E48","v":0},{"$f":"ROUND(E49*KATSAYILAR!$C$3*KATSAYILAR!$B$37,2)","v":0},{"$f":"'EK DERS VERİ GİRİŞİ'!F48","v":0},{"$f":"ROUND(G49*KATSAYILAR!$C$3*KATSAYILAR!$B$38,2)","v":0},{"$f":"'EK DERS VERİ GİRİŞİ'!G48","v":0},{"$f":"ROUND(I49*KATSAYILAR!$C$3*KATSAYILAR!$B$39,2)","v":0},{"$f":"'EK DERS VERİ GİRİŞİ'!H48","v":0},{"$f":"ROUND(K49*KATSAYILAR!$C$3*KATSAYILAR!$B$40,2)","v":0},0,0,0,{"$f":"IF(O49=0,0,IF(O49<KATSAYILAR!$C$9*N49,KATSAYILAR!$C$9*N49,O49))","v":0},{"$f":"ROUND(IF('BİLGİ GİRİŞİ'!D48=\"Ücretli Öğretmen\",P49*KATSAYILAR!$C$22,0),2)","v":0},{"$f":"ROUND(IF('BİLGİ GİRİŞİ'!D48=\"Ücretli Öğretmen (Emekli çalışan)\",P49*KATSAYILAR!$C$24,0),2)","v":0},0,{"$f":"'BİLGİ GİRİŞİ'!F48","v":0},{"$f":"\nIF('BİLGİ GİRİŞİ'!G48=KATSAYILAR!$B$16,KATSAYILAR!$C$16,\nIF('BİLGİ GİRİŞİ'!G48=KATSAYILAR!$B$17,KATSAYILAR!$C$17,\nIF('BİLGİ GİRİŞİ'!G48=KATSAYILAR!$B$18,KATSAYILAR!$C$18,0)))","v":0},{"$f":"'BİLGİ GİRİŞİ'!H48","v":0},0,{"$f":"hesaplamalar!J46","v":0},{"$f":"hesaplamalar!M46","v":0},{"$f":"hesaplamalar!N46","v":0},{"$f":"hesaplamalar!P46","v":0},{"$f":"hesaplamalar!Q46","v":0},{"$f":"hesaplamalar!T46","v":0},{"$f":"hesaplamalar!U46","v":0},0,{"$f":"ROUND(IF('BİLGİ GİRİŞİ'!D48=\"Ücretli Öğretmen\",P49*KATSAYILAR!$C$23,0),2)","v":0},0,{"$f":"ROUND(IF('BİLGİ GİRİŞİ'!D48=\"Ücretli Öğretmen (Emekli çalışan)\",P49*KATSAYILAR!$C$34,0),2)","v":0},{"$f":"'BİLGİ GİRİŞİ'!I48","v":0},0,0,null,0,null,{"$f":"'BİLGİ GİRİŞİ'!E48","v":0}]
[{"$f":"'EK DERS VERİ GİRİŞİ'!A49","v":45},{"$f":"'EK DERS VERİ GİRİŞİ'!B49","v":""},{"$f":"'EK DERS VERİ GİRİŞİ'!C49","v":""},{"$f":"'BİLGİ GİRİŞİ'!D49","v":0},{"$f":"'EK DERS VERİ GİRİŞİ'!E49","v":0},{"$f":"ROUND(E50*KATSAYILAR!$C$3*KATSAYILAR!$B$37,2)","v":0},{"$f":"'EK DERS VERİ GİRİŞİ'!F49","v":0},{"$f":"ROUND(G50*KATSAYILAR!$C$3*KATSAYILAR!$B$38,2)","v":0},{"$f":"'EK DERS VERİ GİRİŞİ'!G49","v":0},{"$f":"ROUND(I50*KATSAYILAR!$C$3*KATSAYILAR!$B$39,2)","v":0},{"$f":"'EK DERS VERİ GİRİŞİ'!H49","v":0},{"$f":"ROUND(K50*KATSAYILAR!$C$3*KATSAYILAR!$B$40,2)","v":0},0,0,0,{"$f":"IF(O50=0,0,IF(O50<KATSAYILAR!$C$9*N50,KATSAYILAR!$C$9*N50,O50))","v":0},{"$f":"ROUND(IF('BİLGİ GİRİŞİ'!D49=\"Ücretli Öğretmen\",P50*KATSAYILAR!$C$22,0),2)","v":0},{"$f":"ROUND(IF('BİLGİ GİRİŞİ'!D49=\"Ücretli Öğretmen (Emekli çalışan)\",P50*KATSAYILAR!$C$24,0),2)","v":0},0,{"$f":"'BİLGİ GİRİŞİ'!F49","v":0},{"$f":"\nIF('BİLGİ GİRİŞİ'!G49=KATSAYILAR!$B$16,KATSAYILAR!$C$16,\nIF('BİLGİ GİRİŞİ'!G49=KATSAYILAR!$B$17,KATSAYILAR!$C$17,\nIF('BİLGİ GİRİŞİ'!G49=KATSAYILAR!$B$18,KATSAYILAR!$C$18,0)))","v":0},{"$f":"'BİLGİ GİRİŞİ'!H49","v":0},0,{"$f":"hesaplamalar!J47","v":0},{"$f":"hesaplamalar!M47","v":0},{"$f":"hesaplamalar!N47","v":0},{"$f":"hesaplamalar!P47","v":0},{"$f":"hesaplamalar!Q47","v":0},{"$f":"hesaplamalar!T47","v":0},{"$f":"hesaplamalar!U47","v":0},0,{"$f":"ROUND(IF('BİLGİ GİRİŞİ'!D49=\"Ücretli Öğretmen\",P50*KATSAYILAR!$C$23,0),2)","v":0},0,{"$f":"ROUND(IF('BİLGİ GİRİŞİ'!D49=\"Ücretli Öğretmen (Emekli çalışan)\",P50*KATSAYILAR!$C$34,0),2)","v":0},{"$f":"'BİLGİ GİRİŞİ'!I49","v":0},0,0,null,0,null,{"$f":"'BİLGİ GİRİŞİ'!E49","v":0}]
[{"$f":"'EK DERS VERİ GİRİŞİ'!A50","v":46},{"$f":"'EK DERS VERİ GİRİŞİ'!B50","v":""},{"$f":"'EK DERS VERİ GİRİŞİ'!C50","v":""},{"$f":"'BİLGİ GİRİŞİ'!D50","v":0},{"$f":"'EK DERS VERİ GİRİŞİ'!E50","v":0},{"$f":"ROUND(E51*KATSAYILAR!$C$3*KATSAYILAR!$B$37,2)","v":0},{"$f":"'EK DERS VERİ GİRİŞİ'!F50","v":0},{"$f":"ROUND(G51*KATSAYILAR!$C$3*KATSAYILAR!$B$38,2)","v":0},{"$f":"'EK DERS VERİ GİRİŞİ'!G50","v":0},{"$f":"ROUND(I51*KATSAYILAR!$C$3*KATSAYILAR!$B$39,2)","v":0},{"$f":"'EK DERS VERİ GİRİŞİ'!H50","v":0},{"$f":"ROUND(K51*KATSAYILAR!$C$3*KATSAYILAR!$B$40,2)","v":0},0,0,0,{"$f":"IF(O51=0,0,IF(O51<KATSAYILAR!$C$9*N51,KATSAYILAR!$C$9*N51,O51))","v":0},{"$f":"ROUND(IF('BİLGİ GİRİŞİ'!D50=\"Ücretli Öğretmen\",P51*KATSAYILAR!$C$22,0),2)","v":0},{"$f":"ROUND(IF('BİLGİ GİRİŞİ'!D50=\"Ücretli Öğretmen (Emekli çalışan)\",P51*KATSAYILAR!$C$24,0),2)","v":0},0,{"$f":"'BİLGİ GİRİŞİ'!F50","v":0},{"$f":"\nIF('BİLGİ GİRİŞİ'!G50=KATSAYILAR!$B$16,KATSAYILAR!$C$16,\nIF('BİLGİ GİRİŞİ'!G50=KATSAYILAR!$B$17,KATSAYILAR!$C$17,\nIF('BİLGİ GİRİŞİ'!G50=KATSAYILAR!$B$18,KATSAYILAR!$C$18,0)))","v":0},{"$f":"'BİLGİ GİRİŞİ'!H50","v":0},0,{"$f":"hesaplamalar!J48","v":0},{"$f":"hesaplamalar!M48","v":0},{"$f":"hesaplamalar!N48","v":0},{"$f":"hesaplamalar!P48","v":0},{"$f":"hesaplamalar!Q48","v":0},{"$f":"hesaplamalar!T48","v":0},{"$f":"hesaplamalar!U48","v":0},0,{"$f":"ROUND(IF('BİLGİ GİRİŞİ'!D50=\"Ücretli Öğretmen\",P51*KATSAYILAR!$C$23,0),2)","v":0},0,{"$f":"ROUND(IF('BİLGİ GİRİŞİ'!D50=\"Ücretli Öğretmen (Emekli çalışan)\",P51*KATSAYILAR!$C$34,0),2)","v":0},{"$f":"'BİLGİ GİRİŞİ'!I50","v":0},0,0,null,0,null,{"$f":"'BİLGİ GİRİŞİ'!E50","v":0}]
[{"$f":"'EK DERS VERİ GİRİŞİ'!A51","v":47},{"$f":"'EK DERS VERİ GİRİŞİ'!B51","v":""},{"$f":"'EK DERS VERİ GİRİŞİ'!C51","v":""},{"$f":"'BİLGİ GİRİŞİ'!D51","v":0},{"$f":"'EK DERS VERİ GİRİŞİ'!E51","v":0},{"$f":"ROUND(E52*KATSAYILAR!$C$3*KATSAYILAR!$B$37,2)","v":0},{"$f":"'EK DERS VERİ GİRİŞİ'!F51","v":0},{"$f":"ROUND(G52*KATSAYILAR!$C$3*KATSAYILAR!$B$38,2)","v":0},{"$f":"'EK DERS VERİ GİRİŞİ'!G51","v":0},{"$f":"ROUND(I52*KATSAYILAR!$C$3*KATSAYILAR!$B$39,2)","v":0},{"$f":"'EK DERS VERİ GİRİŞİ'!H51","v":0},{"$f":"ROUND(K52*KATSAYILAR!$C$3*KATSAYILAR!$B$40,2)","v":0},0,0,0,{"$f":"IF(O52=0,0,IF(O52<KATSAYILAR!$C$9*N52,KATSAYILAR!$C$9*N52,O52))","v":0},{"$f":"ROUND(IF('BİLGİ GİRİŞİ'!D51=\"Ücretli Öğretmen\",P52*KATSAYILAR!$C$22,0),2)","v":0},{"$f":"ROUND(IF('BİLGİ GİRİŞİ'!D51=\"Ücretli Öğretmen (Emekli çalışan)\",P52*KATSAYILAR!$C$24,0),2)","v":0},0,{"$f":"'BİLGİ GİRİŞİ'!F51","v":0},{"$f":"\nIF('BİLGİ GİRİŞİ'!G51=KATSAYILAR!$B$16,KATSAYILAR!$C$16,\nIF('BİLGİ GİRİŞİ'!G51=KATSAYILAR!$B$17,KATSAYILAR!$C$17,\nIF('BİLGİ GİRİŞİ'!G51=KATSAYILAR!$B$18,KATSAYILAR!$C$18,0)))","v":0},{"$f":"'BİLGİ GİRİŞİ'!H51","v":0},0,{"$f":"hesaplamalar!J49","v":0},{"$f":"hesaplamalar!M49","v":0},{"$f":"hesaplamalar!N49","v":0},{"$f":"hesaplamalar!P49","v":0},{"$f":"hesaplamalar!Q49","v":0},{"$f":"hesaplamalar!T49","v":0},{"$f":"hesaplamalar!U49","v":0},0,{"$f":"ROUND(IF('BİLGİ GİRİŞİ'!D51=\"Ücretli Öğretmen\",P52*KATSAYILAR!$C$23,0),2)","v":0},0,{"$f":"ROUND(IF('BİLGİ GİRİŞİ'!D51=\"Ücretli Öğretmen (Emekli çalışan)\",P52*KATSAYILAR!$C$34,0),2)","v":0},{"$f":"'BİLGİ GİRİŞİ'!I51","v":0},0,0,null,0,null,{"$f":"'BİLGİ GİRİŞİ'!E51","v":0}]
[{"$f":"'EK DERS VERİ GİRİŞİ'!A52","v":48},{"$f":"'EK DERS VERİ GİRİŞİ'!B52","v":""},{"$f":"'EK DERS VERİ GİRİŞİ'!C52","v":""},{"$f":"'BİLGİ GİRİŞİ'!D52","v":0},{"$f":"'EK DERS VERİ GİRİŞİ'!E52","v":0},{"$f":"ROUND(E53*KATSAYILAR!$C$3*KATSAYILAR!$B$37,2)","v":0},{"$f":"'EK DERS VERİ GİRİŞİ'!F52","v":0},{"$f":"ROUND(G53*KATSAYILAR!$C$3*KATSAYILAR!$B$38,2)","v":0},{"$f":"'EK DERS VERİ GİRİŞİ'!G52","v":0},{"$f":"ROUND(I53*KATSAYILAR!$C$3*KATSAYILAR!$B$39,2)","v":0},{"$f":"'EK DERS VERİ GİRİŞİ'!H52","v":0},{"$f":"ROUND(K53*KATSAYILAR!$C$3*KATSAYILAR!$B$40,2)","v":0},0,0,0,{"$f":"IF(O53=0,0,IF(O53<KATSAYILAR!$C$9*N53,KATSAYILAR!$C$9*N53,O53))","v":0},{"$f":"ROUND(IF('BİLGİ GİRİŞİ'!D52=\"Ücretli Öğretmen\",P53*KATSAYILAR!$C$22,0),2)","v":0},{"$f":"ROUND(IF('BİLGİ GİRİŞİ'!D52=\"Ücretli Öğretmen (Emekli çalışan)\",P53*KATSAYILAR!$C$24,0),2)","v":0},0,{"$f":"'BİLGİ GİRİŞİ'!F52","v":0},{"$f":"\nIF('BİLGİ GİRİŞİ'!G52=KATSAYILAR!$B$16,KATSAYILAR!$C$16,\nIF('BİLGİ GİRİŞİ'!G52=KATSAYILAR!$B$17,KATSAYILAR!$C$17,\nIF('BİLGİ GİRİŞİ'!G52=KATSAYILAR!$B$18,KATSAYILAR!$C$18,0)))","v":0},{"$f":"'BİLGİ GİRİŞİ'!H52","v":0},0,{"$f":"hesaplamalar!J50","v":0},{"$f":"hesaplamalar!M50","v":0},{"$f":"hesaplamalar!N50","v":0},{"$f":"hesaplamalar!P50","v":0},{"$f":"hesaplamalar!Q50","v":0},{"$f":"hesaplamalar!T50","v":0},{"$f":"hesaplamalar!U50","v":0},0,{"$f":"ROUND(IF('BİLGİ GİRİŞİ'!D52=\"Ücretli Öğretmen\",P53*KATSAYILAR!$C$23,0),2)","v":0},0,{"$f":"ROUND(IF('BİLGİ GİRİŞİ'!D52=\"Ücretli Öğretmen (Emekli çalışan)\",P53*KATSAYILAR!$C$34,0),2)","v":0},{"$f":"'BİLGİ GİRİŞİ'!I52","v":0},0,0,null,0,null,{"$f":"'BİLGİ GİRİŞİ'!E52","v":0}]
[{"$f":"'EK DERS VERİ GİRİŞİ'!A53","v":49},{"$f":"'EK DERS VERİ GİRİŞİ'!B53","v":""},{"$f":"'EK DERS VERİ GİRİŞİ'!C53","v":""},{"$f":"'BİLGİ GİRİŞİ'!D53","v":0},{"$f":"'EK DERS VERİ GİRİŞİ'!E53","v":0},{"$f":"ROUND(E54*KATSAYILAR!$C$3*KATSAYILAR!$B$37,2)","v":0},{"$f":"'EK DERS VERİ GİRİŞİ'!F53","v":0},{"$f":"ROUND(G54*KATSAYILAR!$C$3*KATSAYILAR!$B$38,2)","v":0},{"$f":"'EK DERS VERİ GİRİŞİ'!G53","v":0},{"$f":"ROUND(I54*KATSAYILAR!$C$3*KATSAYILAR!$B$39,2)","v":0},{"$f":"'EK DERS VERİ GİRİŞİ'!H53","v":0},{"$f":"ROUND(K54*KATSAYILAR!$C$3*KATSAYILAR!$B$40,2)","v":0},0,0,0,{"$f":"IF(O54=0,0,IF(O54<KATSAYILAR!$C$9*N54,KATSAYILAR!$C$9*N54,O54))","v":0},{"$f":"ROUND(IF('BİLGİ GİRİŞİ'!D53=\"Ücretli Öğretmen\",P54*KATSAYILAR!$C$22,0),2)","v":0},{"$f":"ROUND(IF('BİLGİ GİRİŞİ'!D53=\"Ücretli Öğretmen (Emekli çalışan)\",P54*KATSAYILAR!$C$24,0),2)","v":0},0,{"$f":"'BİLGİ GİRİŞİ'!F53","v":0},{"$f":"\nIF('BİLGİ GİRİŞİ'!G53=KATSAYILAR!$B$16,KATSAYILAR!$C$16,\nIF('BİLGİ GİRİŞİ'!G53=KATSAYILAR!$B$17,KATSAYILAR!$C$17,\nIF('BİLGİ GİRİŞİ'!G53=KATSAYILAR!$B$18,KATSAYILAR!$C$18,0)))","v":0},{"$f":"'BİLGİ GİRİŞİ'!H53","v":0},0,{"$f":"hesaplamalar!J51","v":0},{"$f":"hesaplamalar!M51","v":0},{"$f":"hesaplamalar!N51","v":0},{"$f":"hesaplamalar!P51","v":0},{"$f":"hesaplamalar!Q51","v":0},{"$f":"hesaplamalar!T51","v":0},{"$f":"hesaplamalar!U51","v":0},0,{"$f":"ROUND(IF('BİLGİ GİRİŞİ'!D53=\"Ücretli Öğretmen\",P54*KATSAYILAR!$C$23,0),2)","v":0},0,{"$f":"ROUND(IF('BİLGİ GİRİŞİ'!D53=\"Ücretli Öğretmen (Emekli çalışan)\",P54*KATSAYILAR!$C$34,0),2)","v":0},{"$f":"'BİLGİ GİRİŞİ'!I53","v":0},0,0,null,0,null,{"$f":"'BİLGİ GİRİŞİ'!E53","v":0}]
[{"$f":"'EK DERS VERİ GİRİŞİ'!A54","v":50},{"$f":"'EK DERS VERİ GİRİŞİ'!B54","v":""},{"$f":"'EK DERS VERİ GİRİŞİ'!C54","v":""},{"$f":"'BİLGİ GİRİŞİ'!D54","v":0},{"$f":"'EK DERS VERİ GİRİŞİ'!E54","v":0},{"$f":"ROUND(E55*KATSAYILAR!$C$3*KATSAYILAR!$B$37,2)","v":0},{"$f":"'EK DERS VERİ GİRİŞİ'!F54","v":0},{"$f":"ROUND(G55*KATSAYILAR!$C$3*KATSAYILAR!$B$38,2)","v":0},{"$f":"'EK DERS VERİ GİRİŞİ'!G54","v":0},{"$f":"ROUND(I55*KATSAYILAR!$C$3*KATSAYILAR!$B$39,2)","v":0},{"$f":"'EK DERS VERİ GİRİŞİ'!H54","v":0},{"$f":"ROUND(K55*KATSAYILAR!$C$3*KATSAYILAR!$B$40,2)","v":0},0,0,0,{"$f":"IF(O55=0,0,IF(O55<KATSAYILAR!$C$9*N55,KATSAYILAR!$C$9*N55,O55))","v":0},{"$f":"ROUND(IF('BİLGİ GİRİŞİ'!D54=\"Ücretli Öğretmen\",P55*KATSAYILAR!$C$22,0),2)","v":0},{"$f":"ROUND(IF('BİLGİ GİRİŞİ'!D54=\"Ücretli Öğretmen (Emekli çalışan)\",P55*KATSAYILAR!$C$24,0),2)","v":0},0,{"$f":"'BİLGİ GİRİŞİ'!F54","v":0},{"$f":"\nIF('BİLGİ GİRİŞİ'!G54=KATSAYILAR!$B$16,KATSAYILAR!$C$16,\nIF('BİLGİ GİRİŞİ'!G54=KATSAYILAR!$B$17,KATSAYILAR!$C$17,\nIF('BİLGİ GİRİŞİ'!G54=KATSAYILAR!$B$18,KATSAYILAR!$C$18,0)))","v":0},{"$f":"'BİLGİ GİRİŞİ'!H54","v":0},0,{"$f":"hesaplamalar!J52","v":0},{"$f":"hesaplamalar!M52","v":0},{"$f":"hesaplamalar!N52","v":0},{"$f":"hesaplamalar!P52","v":0},{"$f":"hesaplamalar!Q52","v":0},{"$f":"hesaplamalar!T52","v":0},{"$f":"hesaplamalar!U52","v":0},0,{"$f":"ROUND(IF('BİLGİ GİRİŞİ'!D54=\"Ücretli Öğretmen\",P55*KATSAYILAR!$C$23,0),2)","v":0},0,{"$f":"ROUND(IF('BİLGİ GİRİŞİ'!D54=\"Ücretli Öğretmen (Emekli çalışan)\",P55*KATSAYILAR!$C$34,0),2)","v":0},{"$f":"'BİLGİ GİRİŞİ'!I54","v":0},0,0,null,0,null,{"$f":"'BİLGİ GİRİŞİ'!E54","v":0}]
[{"$f":"'EK DERS VERİ GİRİŞİ'!A55","v":51},{"$f":"'EK DERS VERİ GİRİŞİ'!B55","v":""},{"$f":"'EK DERS VERİ GİRİŞİ'!C55","v":""},{"$f":"'BİLGİ GİRİŞİ'!D55","v":0},{"$f":"'EK DERS VERİ GİRİŞİ'!E55","v":0},{"$f":"ROUND(E56*KATSAYILAR!$C$3*KATSAYILAR!$B$37,2)","v":0},{"$f":"'EK DERS VERİ GİRİŞİ'!F55","v":0},{"$f":"ROUND(G56*KATSAYILAR!$C$3*KATSAYILAR!$B$38,2)","v":0},{"$f":"'EK DERS VERİ GİRİŞİ'!G55","v":0},{"$f":"ROUND(I56*KATSAYILAR!$C$3*KATSAYILAR!$B$39,2)","v":0},{"$f":"'EK DERS VERİ GİRİŞİ'!H55","v":0},{"$f":"ROUND(K56*KATSAYILAR!$C$3*KATSAYILAR!$B$40,2)","v":0},0,0,0,{"$f":"IF(O56=0,0,IF(O56<KATSAYILAR!$C$9*N56,KATSAYILAR!$C$9*N56,O56))","v":0},{"$f":"ROUND(IF('BİLGİ GİRİŞİ'!D55=\"Ücretli Öğretmen\",P56*KATSAYILAR!$C$22,0),2)","v":0},{"$f":"ROUND(IF('BİLGİ GİRİŞİ'!D55=\"Ücretli Öğretmen (Emekli çalışan)\",P56*KATSAYILAR!$C$24,0),2)","v":0},0,{"$f":"'BİLGİ GİRİŞİ'!F55","v":0},{"$f":"\nIF('BİLGİ GİRİŞİ'!G55=KATSAYILAR!$B$16,KATSAYILAR!$C$16,\nIF('BİLGİ GİRİŞİ'!G55=KATSAYILAR!$B$17,KATSAYILAR!$C$17,\nIF('BİLGİ GİRİŞİ'!G55=KATSAYILAR!$B$18,KATSAYILAR!$C$18,0)))","v":0},{"$f":"'BİLGİ GİRİŞİ'!H55","v":0},0,{"$f":"hesaplamalar!J53","v":0},{"$f":"hesaplamalar!M53","v":0},{"$f":"hesaplamalar!N53","v":0},{"$f":"hesaplamalar!P53","v":0},{"$f":"hesaplamalar!Q53","v":0},{"$f":"hesaplamalar!T53","v":0},{"$f":"hesaplamalar!U53","v":0},0,{"$f":"ROUND(IF('BİLGİ GİRİŞİ'!D55=\"Ücretli Öğretmen\",P56*KATSAYILAR!$C$23,0),2)","v":0},0,{"$f":"ROUND(IF('BİLGİ GİRİŞİ'!D55=\"Ücretli Öğretmen (Emekli çalışan)\",P56*KATSAYILAR!$C$34,0),2)","v":0},{"$f":"'BİLGİ GİRİŞİ'!I55","v":0},0,0,null,0,null,{"$f":"'BİLGİ GİRİŞİ'!E55","v":0}]
[{"$f":"'EK DERS VERİ GİRİŞİ'!A56","v":52},{"$f":"'EK DERS VERİ GİRİŞİ'!B56","v":""},{"$f":"'EK DERS VERİ GİRİŞİ'!C56","v":""},{"$f":"'BİLGİ GİRİŞİ'!D56","v":0},{"$f":"'EK DERS VERİ GİRİŞİ'!E56","v":0},{"$f":"ROUND(E57*KATSAYILAR!$C$3*KATSAYILAR!$B$37,2)","v":0},{"$f":"'EK DERS VERİ GİRİŞİ'!F56","v":0},{"$f":"ROUND(G57*KATSAYILAR!$C$3*KATSAYILAR!$B$38,2)","v":0},{"$f":"'EK DERS VERİ GİRİŞİ'!G56","v":0},{"$f":"ROUND(I57*KATSAYILAR!$C$3*KATSAYILAR!$B$39,2)","v":0},{"$f":"'EK DERS VERİ GİRİŞİ'!H56","v":0},{"$f":"ROUND(K57*KATSAYILAR!$C$3*KATSAYILAR!$B$40,2)","v":0},0,0,0,{"$f":"IF(O57=0,0,IF(O57<KATSAYILAR!$C$9*N57,KATSAYILAR!$C$9*N57,O57))","v":0},{"$f":"ROUND(IF('BİLGİ GİRİŞİ'!D56=\"Ücretli Öğretmen\",P57*KATSAYILAR!$C$22,0),2)","v":0},{"$f":"ROUND(IF('BİLGİ GİRİŞİ'!D56=\"Ücretli Öğretmen (Emekli çalışan)\",P57*KATSAYILAR!$C$24,0),2)","v":0},0,{"$f":"'BİLGİ GİRİŞİ'!F56","v":0},{"$f":"\nIF('BİLGİ GİRİŞİ'!G56=KATSAYILAR!$B$16,KATSAYILAR!$C$16,\nIF('BİLGİ GİRİŞİ'!G56=KATSAYILAR!$B$17,KATSAYILAR!$C$17,\nIF('BİLGİ GİRİŞİ'!G56=KATSAYILAR!$B$18,KATSAYILAR!$C$18,0)))","v":0},{"$f":"'BİLGİ GİRİŞİ'!H56","v":0},0,{"$f":"hesaplamalar!J54","v":0},{"$f":"hesaplamalar!M54","v":0},{"$f":"hesaplamalar!N54","v":0},{"$f":"hesaplamalar!P54","v":0},{"$f":"hesaplamalar!Q54","v":0},{"$f":"hesaplamalar!T54","v":0},{"$f":"hesaplamalar!U54","v":0},0,{"$f":"ROUND(IF('BİLGİ GİRİŞİ'!D56=\"Ücretli Öğretmen\",P57*KATSAYILAR!$C$23,0),2)","v":0},0,{"$f":"ROUND(IF('BİLGİ GİRİŞİ'!D56=\"Ücretli Öğretmen (Emekli çalışan)\",P57*KATSAYILAR!$C$34,0),2)","v":0},{"$f":"'BİLGİ GİRİŞİ'!I56","v":0},0,0,null,0,null,{"$f":"'BİLGİ GİRİŞİ'!E56","v":0}]
[{"$f":"'EK DERS VERİ GİRİŞİ'!A57","v":53},{"$f":"'EK DERS VERİ GİRİŞİ'!B57","v":""},{"$f":"'EK DERS VERİ GİRİŞİ'!C57","v":""},{"$f":"'BİLGİ GİRİŞİ'!D57","v":0},{"$f":"'EK DERS VERİ GİRİŞİ'!E57","v":0},{"$f":"ROUND(E58*KATSAYILAR!$C$3*KATSAYILAR!$B$37,2)","v":0},{"$f":"'EK DERS VERİ GİRİŞİ'!F57","v":0},{"$f":"ROUND(G58*KATSAYILAR!$C$3*KATSAYILAR!$B$38,2)","v":0},{"$f":"'EK DERS VERİ GİRİŞİ'!G57","v":0},{"$f":"ROUND(I58*KATSAYILAR!$C$3*KATSAYILAR!$B$39,2)","v":0},{"$f":"'EK DERS VERİ GİRİŞİ'!H57","v":0},{"$f":"ROUND(K58*KATSAYILAR!$C$3*KATSAYILAR!$B$40,2)","v":0},0,0,0,{"$f":"IF(O58=0,0,IF(O58<KATSAYILAR!$C$9*N58,KATSAYILAR!$C$9*N58,O58))","v":0},{"$f":"ROUND(IF('BİLGİ GİRİŞİ'!D57=\"Ücretli Öğretmen\",P58*KATSAYILAR!$C$22,0),2)","v":0},{"$f":"ROUND(IF('BİLGİ GİRİŞİ'!D57=\"Ücretli Öğretmen (Emekli çalışan)\",P58*KATSAYILAR!$C$24,0),2)","v":0},0,{"$f":"'BİLGİ GİRİŞİ'!F57","v":0},{"$f":"\nIF('BİLGİ GİRİŞİ'!G57=KATSAYILAR!$B$16,KATSAYILAR!$C$16,\nIF('BİLGİ GİRİŞİ'!G57=KATSAYILAR!$B$17,KATSAYILAR!$C$17,\nIF('BİLGİ GİRİŞİ'!G57=KATSAYILAR!$B$18,KATSAYILAR!$C$18,0)))","v":0},{"$f":"'BİLGİ GİRİŞİ'!H57","v":0},0,{"$f":"hesaplamalar!J55","v":0},{"$f":"hesaplamalar!M55","v":0},{"$f":"hesaplamalar!N55","v":0},{"$f":"hesaplamalar!P55","v":0},{"$f":"hesaplamalar!Q55","v":0},{"$f":"hesaplamalar!T55","v":0},{"$f":"hesaplamalar!U55","v":0},0,{"$f":"ROUND(IF('BİLGİ GİRİŞİ'!D57=\"Ücretli Öğretmen\",P58*KATSAYILAR!$C$23,0),2)","v":0},0,{"$f":"ROUND(IF('BİLGİ GİRİŞİ'!D57=\"Ücretli Öğretmen (Emekli çalışan)\",P58*KATSAYILAR!$C$34,0),2)","v":0},{"$f":"'BİLGİ GİRİŞİ'!I57","v":0},0,0,null,0,null,{"$f":"'BİLGİ GİRİŞİ'!E57","v":0}]
[{"$f":"'EK DERS VERİ GİRİŞİ'!A58","v":54},{"$f":"'EK DERS VERİ GİRİŞİ'!B58","v":""},{"$f":"'EK DERS VERİ GİRİŞİ'!C58","v":""},{"$f":"'BİLGİ GİRİŞİ'!D58","v":0},{"$f":"'EK DERS VERİ GİRİŞİ'!E58","v":0},{"$f":"ROUND(E59*KATSAYILAR!$C$3*KATSAYILAR!$B$37,2)","v":0},{"$f":"'EK DERS VERİ GİRİŞİ'!F58","v":0},{"$f":"ROUND(G59*KATSAYILAR!$C$3*KATSAYILAR!$B$38,2)","v":0},{"$f":"'EK DERS VERİ GİRİŞİ'!G58","v":0},{"$f":"ROUND(I59*KATSAYILAR!$C$3*KATSAYILAR!$B$39,2)","v":0},{"$f":"'EK DERS VERİ GİRİŞİ'!H58","v":0},{"$f":"ROUND(K59*KATSAYILAR!$C$3*KATSAYILAR!$B$40,2)","v":0},0,0,0,{"$f":"IF(O59=0,0,IF(O59<KATSAYILAR!$C$9*N59,KATSAYILAR!$C$9*N59,O59))","v":0},{"$f":"ROUND(IF('BİLGİ GİRİŞİ'!D58=\"Ücretli Öğretmen\",P59*KATSAYILAR!$C$22,0),2)","v":0},{"$f":"ROUND(IF('BİLGİ GİRİŞİ'!D58=\"Ücretli Öğretmen (Emekli çalışan)\",P59*KATSAYILAR!$C$24,0),2)","v":0},0,{"$f":"'BİLGİ GİRİŞİ'!F58","v":0},{"$f":"\nIF('BİLGİ GİRİŞİ'!G58=KATSAYILAR!$B$16,KATSAYILAR!$C$16,\nIF('BİLGİ GİRİŞİ'!G58=KATSAYILAR!$B$17,KATSAYILAR!$C$17,\nIF('BİLGİ GİRİŞİ'!G58=KATSAYILAR!$B$18,KATSAYILAR!$C$18,0)))","v":0},{"$f":"'BİLGİ GİRİŞİ'!H58","v":0},0,{"$f":"hesaplamalar!J56","v":0},{"$f":"hesaplamalar!M56","v":0},{"$f":"hesaplamalar!N56","v":0},{"$f":"hesaplamalar!P56","v":0},{"$f":"hesaplamalar!Q56","v":0},{"$f":"hesaplamalar!T56","v":0},{"$f":"hesaplamalar!U56","v":0},0,{"$f":"ROUND(IF('BİLGİ GİRİŞİ'!D58=\"Ücretli Öğretmen\",P59*KATSAYILAR!$C$23,0),2)","v":0},0,{"$f":"ROUND(IF('BİLGİ GİRİŞİ'!D58=\"Ücretli Öğretmen (Emekli çalışan)\",P59*KATSAYILAR!$C$34,0),2)","v":0},{"$f":"'BİLGİ GİRİŞİ'!I58","v":0},0,0,null,0,null,{"$f":"'BİLGİ GİRİŞİ'!E58","v":0}]
[{"$f":"'EK DERS VERİ GİRİŞİ'!A59","v":55},{"$f":"'EK DERS VERİ GİRİŞİ'!B59","v":""},{"$f":"'EK DERS VERİ GİRİŞİ'!C59","v":""},{"$f":"'BİLGİ GİRİŞİ'!D59","v":0},{"$f":"'EK DERS VERİ GİRİŞİ'!E59","v":0},{"$f":"ROUND(E60*KATSAYILAR!$C$3*KATSAYILAR!$B$37,2)","v":0},{"$f":"'EK DERS VERİ GİRİŞİ'!F59","v":0},{"$f":"ROUND(G60*KATSAYILAR!$C$3*KATSAYILAR!$B$38,2)","v":0},{"$f":"'EK DERS VERİ GİRİŞİ'!G59","v":0},{"$f":"ROUND(I60*KATSAYILAR!$C$3*KATSAYILAR!$B$39,2)","v":0},{"$f":"'EK DERS VERİ GİRİŞİ'!H59","v":0},{"$f":"ROUND(K60*KATSAYILAR!$C$3*KATSAYILAR!$B$40,2)","v":0},0,0,0,{"$f":"IF(O60=0,0,IF(O60<KATSAYILAR!$C$9*N60,KATSAYILAR!$C$9*N60,O60))","v":0},{"$f":"ROUND(IF('BİLGİ GİRİŞİ'!D59=\"Ücretli Öğretmen\",P60*KATSAYILAR!$C$22,0),2)","v":0},{"$f":"ROUND(IF('BİLGİ GİRİŞİ'!D59=\"Ücretli Öğretmen (Emekli çalışan)\",P60*KATSAYILAR!$C$24,0),2)","v":0},0,{"$f":"'BİLGİ GİRİŞİ'!F59","v":0},{"$f":"\nIF('BİLGİ GİRİŞİ'!G59=KATSAYILAR!$B$16,KATSAYILAR!$C$16,\nIF('BİLGİ GİRİŞİ'!G59=KATSAYILAR!$B$17,KATSAYILAR!$C$17,\nIF('BİLGİ GİRİŞİ'!G59=KATSAYILAR!$B$18,KATSAYILAR!$C$18,0)))","v":0},{"$f":"'BİLGİ GİRİŞİ'!H59","v":0},0,{"$f":"hesaplamalar!J57","v":0},{"$f":"hesaplamalar!M57","v":0},{"$f":"hesaplamalar!N57","v":0},{"$f":"hesaplamalar!P57","v":0},{"$f":"hesaplamalar!Q57","v":0},{"$f":"hesaplamalar!T57","v":0},{"$f":"hesaplamalar!U57","v":0},0,{"$f":"ROUND(IF('BİLGİ GİRİŞİ'!D59=\"Ücretli Öğretmen\",P60*KATSAYILAR!$C$23,0),2)","v":0},0,{"$f":"ROUND(IF('BİLGİ GİRİŞİ'!D59=\"Ücretli Öğretmen (Emekli çalışan)\",P60*KATSAYILAR!$C$34,0),2)","v":0},{"$f":"'BİLGİ GİRİŞİ'!I59","v":0},0,0,null,0,null,{"$f":"'BİLGİ GİRİŞİ'!E59","v":0}]
[{"$f":"'EK DERS VERİ GİRİŞİ'!A60","v":56},{"$f":"'EK DERS VERİ GİRİŞİ'!B60","v":""},{"$f":"'EK DERS VERİ GİRİŞİ'!C60","v":""},{"$f":"'BİLGİ GİRİŞİ'!D60","v":0},{"$f":"'EK DERS VERİ GİRİŞİ'!E60","v":0},{"$f":"ROUND(E61*KATSAYILAR!$C$3*KATSAYILAR!$B$37,2)","v":0},{"$f":"'EK DERS VERİ GİRİŞİ'!F60","v":0},{"$f":"ROUND(G61*KATSAYILAR!$C$3*KATSAYILAR!$B$38,2)","v":0},{"$f":"'EK DERS VERİ GİRİŞİ'!G60","v":0},{"$f":"ROUND(I61*KATSAYILAR!$C$3*KATSAYILAR!$B$39,2)","v":0},{"$f":"'EK DERS VERİ GİRİŞİ'!H60","v":0},{"$f":"ROUND(K61*KATSAYILAR!$C$3*KATSAYILAR!$B$40,2)","v":0},0,0,0,{"$f":"IF(O61=0,0,IF(O61<KATSAYILAR!$C$9*N61,KATSAYILAR!$C$9*N61,O61))","v":0},{"$f":"ROUND(IF('BİLGİ GİRİŞİ'!D60=\"Ücretli Öğretmen\",P61*KATSAYILAR!$C$22,0),2)","v":0},{"$f":"ROUND(IF('BİLGİ GİRİŞİ'!D60=\"Ücretli Öğretmen (Emekli çalışan)\",P61*KATSAYILAR!$C$24,0),2)","v":0},0,{"$f":"'BİLGİ GİRİŞİ'!F60","v":0},{"$f":"\nIF('BİLGİ GİRİŞİ'!G60=KATSAYILAR!$B$16,KATSAYILAR!$C$16,\nIF('BİLGİ GİRİŞİ'!G60=KATSAYILAR!$B$17,KATSAYILAR!$C$17,\nIF('BİLGİ GİRİŞİ'!G60=KATSAYILAR!$B$18,KATSAYILAR!$C$18,0)))","v":0},{"$f":"'BİLGİ GİRİŞİ'!H60","v":0},0,{"$f":"hesaplamalar!J58","v":0},{"$f":"hesaplamalar!M58","v":0},{"$f":"hesaplamalar!N58","v":0},{"$f":"hesaplamalar!P58","v":0},{"$f":"hesaplamalar!Q58","v":0},{"$f":"hesaplamalar!T58","v":0},{"$f":"hesaplamalar!U58","v":0},0,{"$f":"ROUND(IF('BİLGİ GİRİŞİ'!D60=\"Ücretli Öğretmen\",P61*KATSAYILAR!$C$23,0),2)","v":0},0,{"$f":"ROUND(IF('BİLGİ GİRİŞİ'!D60=\"Ücretli Öğretmen (Emekli çalışan)\",P61*KATSAYILAR!$C$34,0),2)","v":0},{"$f":"'BİLGİ GİRİŞİ'!I60","v":0},0,0,null,0,null,{"$f":"'BİLGİ GİRİŞİ'!E60","v":0}]
[{"$f":"'EK DERS VERİ GİRİŞİ'!A61","v":57},{"$f":"'EK DERS VERİ GİRİŞİ'!B61","v":""},{"$f":"'EK DERS VERİ GİRİŞİ'!C61","v":""},{"$f":"'BİLGİ GİRİŞİ'!D61","v":0},{"$f":"'EK DERS VERİ GİRİŞİ'!E61","v":0},{"$f":"ROUND(E62*KATSAYILAR!$C$3*KATSAYILAR!$B$37,2)","v":0},{"$f":"'EK DERS VERİ GİRİŞİ'!F61","v":0},{"$f":"ROUND(G62*KATSAYILAR!$C$3*KATSAYILAR!$B$38,2)","v":0},{"$f":"'EK DERS VERİ GİRİŞİ'!G61","v":0},{"$f":"ROUND(I62*KATSAYILAR!$C$3*KATSAYILAR!$B$39,2)","v":0},{"$f":"'EK DERS VERİ GİRİŞİ'!H61","v":0},{"$f":"ROUND(K62*KATSAYILAR!$C$3*KATSAYILAR!$B$40,2)","v":0},0,0,0,{"$f":"IF(O62=0,0,IF(O62<KATSAYILAR!$C$9*N62,KATSAYILAR!$C$9*N62,O62))","v":0},{"$f":"ROUND(IF('BİLGİ GİRİŞİ'!D61=\"Ücretli Öğretmen\",P62*KATSAYILAR!$C$22,0),2)","v":0},{"$f":"ROUND(IF('BİLGİ GİRİŞİ'!D61=\"Ücretli Öğretmen (Emekli çalışan)\",P62*KATSAYILAR!$C$24,0),2)","v":0},0,{"$f":"'BİLGİ GİRİŞİ'!F61","v":0},{"$f":"\nIF('BİLGİ GİRİŞİ'!G61=KATSAYILAR!$B$16,KATSAYILAR!$C$16,\nIF('BİLGİ GİRİŞİ'!G61=KATSAYILAR!$B$17,KATSAYILAR!$C$17,\nIF('BİLGİ GİRİŞİ'!G61=KATSAYILAR!$B$18,KATSAYILAR!$C$18,0)))","v":0},{"$f":"'BİLGİ GİRİŞİ'!H61","v":0},0,{"$f":"hesaplamalar!J59","v":0},{"$f":"hesaplamalar!M59","v":0},{"$f":"hesaplamalar!N59","v":0},{"$f":"hesaplamalar!P59","v":0},{"$f":"hesaplamalar!Q59","v":0},{"$f":"hesaplamalar!T59","v":0},{"$f":"hesaplamalar!U59","v":0},0,{"$f":"ROUND(IF('BİLGİ GİRİŞİ'!D61=\"Ücretli Öğretmen\",P62*KATSAYILAR!$C$23,0),2)","v":0},0,{"$f":"ROUND(IF('BİLGİ GİRİŞİ'!D61=\"Ücretli Öğretmen (Emekli çalışan)\",P62*KATSAYILAR!$C$34,0),2)","v":0},{"$f":"'BİLGİ GİRİŞİ'!I61","v":0},0,0,null,0,null,{"$f":"'BİLGİ GİRİŞİ'!E61","v":0}]
[{"$f":"'EK DERS VERİ GİRİŞİ'!A62","v":58},{"$f":"'EK DERS VERİ GİRİŞİ'!B62","v":""},{"$f":"'EK DERS VERİ GİRİŞİ'!C62","v":""},{"$f":"'BİLGİ GİRİŞİ'!D62","v":0},{"$f":"'EK DERS VERİ GİRİŞİ'!E62","v":0},{"$f":"ROUND(E63*KATSAYILAR!$C$3*KATSAYILAR!$B$37,2)","v":0},{"$f":"'EK DERS VERİ GİRİŞİ'!F62","v":0},{"$f":"ROUND(G63*KATSAYILAR!$C$3*KATSAYILAR!$B$38,2)","v":0},{"$f":"'EK DERS VERİ GİRİŞİ'!G62","v":0},{"$f":"ROUND(I63*KATSAYILAR!$C$3*KATSAYILAR!$B$39,2)","v":0},{"$f":"'EK DERS VERİ GİRİŞİ'!H62","v":0},{"$f":"ROUND(K63*KATSAYILAR!$C$3*KATSAYILAR!$B$40,2)","v":0},0,0,0,{"$f":"IF(O63=0,0,IF(O63<KATSAYILAR!$C$9*N63,KATSAYILAR!$C$9*N63,O63))","v":0},{"$f":"ROUND(IF('BİLGİ GİRİŞİ'!D62=\"Ücretli Öğretmen\",P63*KATSAYILAR!$C$22,0),2)","v":0},{"$f":"ROUND(IF('BİLGİ GİRİŞİ'!D62=\"Ücretli Öğretmen (Emekli çalışan)\",P63*KATSAYILAR!$C$24,0),2)","v":0},0,{"$f":"'BİLGİ GİRİŞİ'!F62","v":0},{"$f":"\nIF('BİLGİ GİRİŞİ'!G62=KATSAYILAR!$B$16,KATSAYILAR!$C$16,\nIF('BİLGİ GİRİŞİ'!G62=KATSAYILAR!$B$17,KATSAYILAR!$C$17,\nIF('BİLGİ GİRİŞİ'!G62=KATSAYILAR!$B$18,KATSAYILAR!$C$18,0)))","v":0},{"$f":"'BİLGİ GİRİŞİ'!H62","v":0},0,{"$f":"hesaplamalar!J60","v":0},{"$f":"hesaplamalar!M60","v":0},{"$f":"hesaplamalar!N60","v":0},{"$f":"hesaplamalar!P60","v":0},{"$f":"hesaplamalar!Q60","v":0},{"$f":"hesaplamalar!T60","v":0},{"$f":"hesaplamalar!U60","v":0},0,{"$f":"ROUND(IF('BİLGİ GİRİŞİ'!D62=\"Ücretli Öğretmen\",P63*KATSAYILAR!$C$23,0),2)","v":0},0,{"$f":"ROUND(IF('BİLGİ GİRİŞİ'!D62=\"Ücretli Öğretmen (Emekli çalışan)\",P63*KATSAYILAR!$C$34,0),2)","v":0},{"$f":"'BİLGİ GİRİŞİ'!I62","v":0},0,0,null,0,null,{"$f":"'BİLGİ GİRİŞİ'!E62","v":0}]
[{"$f":"'EK DERS VERİ GİRİŞİ'!A63","v":59},{"$f":"'EK DERS VERİ GİRİŞİ'!B63","v":""},{"$f":"'EK DERS VERİ GİRİŞİ'!C63","v":""},{"$f":"'BİLGİ GİRİŞİ'!D63","v":0},{"$f":"'EK DERS VERİ GİRİŞİ'!E63","v":0},{"$f":"ROUND(E64*KATSAYILAR!$C$3*KATSAYILAR!$B$37,2)","v":0},{"$f":"'EK DERS VERİ GİRİŞİ'!F63","v":0},{"$f":"ROUND(G64*KATSAYILAR!$C$3*KATSAYILAR!$B$38,2)","v":0},{"$f":"'EK DERS VERİ GİRİŞİ'!G63","v":0},{"$f":"ROUND(I64*KATSAYILAR!$C$3*KATSAYILAR!$B$39,2)","v":0},{"$f":"'EK DERS VERİ GİRİŞİ'!H63","v":0},{"$f":"ROUND(K64*KATSAYILAR!$C$3*KATSAYILAR!$B$40,2)","v":0},0,0,0,{"$f":"IF(O64=0,0,IF(O64<KATSAYILAR!$C$9*N64,KATSAYILAR!$C$9*N64,O64))","v":0},{"$f":"ROUND(IF('BİLGİ GİRİŞİ'!D63=\"Ücretli Öğretmen\",P64*KATSAYILAR!$C$22,0),2)","v":0},{"$f":"ROUND(IF('BİLGİ GİRİŞİ'!D63=\"Ücretli Öğretmen (Emekli çalışan)\",P64*KATSAYILAR!$C$24,0),2)","v":0},0,{"$f":"'BİLGİ GİRİŞİ'!F63","v":0},{"$f":"\nIF('BİLGİ GİRİŞİ'!G63=KATSAYILAR!$B$16,KATSAYILAR!$C$16,\nIF('BİLGİ GİRİŞİ'!G63=KATSAYILAR!$B$17,KATSAYILAR!$C$17,\nIF('BİLGİ GİRİŞİ'!G63=KATSAYILAR!$B$18,KATSAYILAR!$C$18,0)))","v":0},{"$f":"'BİLGİ GİRİŞİ'!H63","v":0},0,{"$f":"hesaplamalar!J61","v":0},{"$f":"hesaplamalar!M61","v":0},{"$f":"hesaplamalar!N61","v":0},{"$f":"hesaplamalar!P61","v":0},{"$f":"hesaplamalar!Q61","v":0},{"$f":"hesaplamalar!T61","v":0},{"$f":"hesaplamalar!U61","v":0},0,{"$f":"ROUND(IF('BİLGİ GİRİŞİ'!D63=\"Ücretli Öğretmen\",P64*KATSAYILAR!$C$23,0),2)","v":0},0,{"$f":"ROUND(IF('BİLGİ GİRİŞİ'!D63=\"Ücretli Öğretmen (Emekli çalışan)\",P64*KATSAYILAR!$C$34,0),2)","v":0},{"$f":"'BİLGİ GİRİŞİ'!I63","v":0},0,0,null,0,null,{"$f":"'BİLGİ GİRİŞİ'!E63","v":0}]
[{"$f":"'EK DERS VERİ GİRİŞİ'!A64","v":60},{"$f":"'EK DERS VERİ GİRİŞİ'!B64","v":""},{"$f":"'EK DERS VERİ GİRİŞİ'!C64","v":""},{"$f":"'BİLGİ GİRİŞİ'!D64","v":0},{"$f":"'EK DERS VERİ GİRİŞİ'!E64","v":0},{"$f":"ROUND(E65*KATSAYILAR!$C$3*KATSAYILAR!$B$37,2)","v":0},{"$f":"'EK DERS VERİ GİRİŞİ'!F64","v":0},{"$f":"ROUND(G65*KATSAYILAR!$C$3*KATSAYILAR!$B$38,2)","v":0},{"$f":"'EK DERS VERİ GİRİŞİ'!G64","v":0},{"$f":"ROUND(I65*KATSAYILAR!$C$3*KATSAYILAR!$B$39,2)","v":0},{"$f":"'EK DERS VERİ GİRİŞİ'!H64","v":0},{"$f":"ROUND(K65*KATSAYILAR!$C$3*KATSAYILAR!$B$40,2)","v":0},0,0,0,{"$f":"IF(O65=0,0,IF(O65<KATSAYILAR!$C$9*N65,KATSAYILAR!$C$9*N65,O65))","v":0},{"$f":"ROUND(IF('BİLGİ GİRİŞİ'!D64=\"Ücretli Öğretmen\",P65*KATSAYILAR!$C$22,0),2)","v":0},{"$f":"ROUND(IF('BİLGİ GİRİŞİ'!D64=\"Ücretli Öğretmen (Emekli çalışan)\",P65*KATSAYILAR!$C$24,0),2)","v":0},0,{"$f":"'BİLGİ GİRİŞİ'!F64","v":0},{"$f":"\nIF('BİLGİ GİRİŞİ'!G64=KATSAYILAR!$B$16,KATSAYILAR!$C$16,\nIF('BİLGİ GİRİŞİ'!G64=KATSAYILAR!$B$17,KATSAYILAR!$C$17,\nIF('BİLGİ GİRİŞİ'!G64=KATSAYILAR!$B$18,KATSAYILAR!$C$18,0)))","v":0},{"$f":"'BİLGİ GİRİŞİ'!H64","v":0},0,{"$f":"hesaplamalar!J62","v":0},{"$f":"hesaplamalar!M62","v":0},{"$f":"hesaplamalar!N62","v":0},{"$f":"hesaplamalar!P62","v":0},{"$f":"hesaplamalar!Q62","v":0},{"$f":"hesaplamalar!T62","v":0},{"$f":"hesaplamalar!U62","v":0},0,{"$f":"ROUND(IF('BİLGİ GİRİŞİ'!D64=\"Ücretli Öğretmen\",P65*KATSAYILAR!$C$23,0),2)","v":0},0,{"$f":"ROUND(IF('BİLGİ GİRİŞİ'!D64=\"Ücretli Öğretmen (Emekli çalışan)\",P65*KATSAYILAR!$C$34,0),2)","v":0},{"$f":"'BİLGİ GİRİŞİ'!I64","v":0},0,0,null,0,null,{"$f":"'BİLGİ GİRİŞİ'!E64","v":0}]
[{"$f":"'EK DERS VERİ GİRİŞİ'!A65","v":61},{"$f":"'EK DERS VERİ GİRİŞİ'!B65","v":""},{"$f":"'EK DERS VERİ GİRİŞİ'!C65","v":""},{"$f":"'BİLGİ GİRİŞİ'!D65","v":0},{"$f":"'EK DERS VERİ GİRİŞİ'!E65","v":0},{"$f":"ROUND(E66*KATSAYILAR!$C$3*KATSAYILAR!$B$37,2)","v":0},{"$f":"'EK DERS VERİ GİRİŞİ'!F65","v":0},{"$f":"ROUND(G66*KATSAYILAR!$C$3*KATSAYILAR!$B$38,2)","v":0},{"$f":"'EK DERS VERİ GİRİŞİ'!G65","v":0},{"$f":"ROUND(I66*KATSAYILAR!$C$3*KATSAYILAR!$B$39,2)","v":0},{"$f":"'EK DERS VERİ GİRİŞİ'!H65","v":0},{"$f":"ROUND(K66*KATSAYILAR!$C$3*KATSAYILAR!$B$40,2)","v":0},0,0,0,{"$f":"IF(O66=0,0,IF(O66<KATSAYILAR!$C$9*N66,KATSAYILAR!$C$9*N66,O66))","v":0},{"$f":"ROUND(IF('BİLGİ GİRİŞİ'!D65=\"Ücretli Öğretmen\",P66*KATSAYILAR!$C$22,0),2)","v":0},{"$f":"ROUND(IF('BİLGİ GİRİŞİ'!D65=\"Ücretli Öğretmen (Emekli çalışan)\",P66*KATSAYILAR!$C$24,0),2)","v":0},0,{"$f":"'BİLGİ GİRİŞİ'!F65","v":0},{"$f":"\nIF('BİLGİ GİRİŞİ'!G65=KATSAYILAR!$B$16,KATSAYILAR!$C$16,\nIF('BİLGİ GİRİŞİ'!G65=KATSAYILAR!$B$17,KATSAYILAR!$C$17,\nIF('BİLGİ GİRİŞİ'!G65=KATSAYILAR!$B$18,KATSAYILAR!$C$18,0)))","v":0},{"$f":"'BİLGİ GİRİŞİ'!H65","v":0},0,{"$f":"hesaplamalar!J63","v":0},{"$f":"hesaplamalar!M63","v":0},{"$f":"hesaplamalar!N63","v":0},{"$f":"hesaplamalar!P63","v":0},{"$f":"hesaplamalar!Q63","v":0},{"$f":"hesaplamalar!T63","v":0},{"$f":"hesaplamalar!U63","v":0},0,{"$f":"ROUND(IF('BİLGİ GİRİŞİ'!D65=\"Ücretli Öğretmen\",P66*KATSAYILAR!$C$23,0),2)","v":0},0,{"$f":"ROUND(IF('BİLGİ GİRİŞİ'!D65=\"Ücretli Öğretmen (Emekli çalışan)\",P66*KATSAYILAR!$C$34,0),2)","v":0},{"$f":"'BİLGİ GİRİŞİ'!I65","v":0},0,0,null,0,null,{"$f":"'BİLGİ GİRİŞİ'!E65","v":0}]
[{"$f":"'EK DERS VERİ GİRİŞİ'!A66","v":62},{"$f":"'EK DERS VERİ GİRİŞİ'!B66","v":""},{"$f":"'EK DERS VERİ GİRİŞİ'!C66","v":""},{"$f":"'BİLGİ GİRİŞİ'!D66","v":0},{"$f":"'EK DERS VERİ GİRİŞİ'!E66","v":0},{"$f":"ROUND(E67*KATSAYILAR!$C$3*KATSAYILAR!$B$37,2)","v":0},{"$f":"'EK DERS VERİ GİRİŞİ'!F66","v":0},{"$f":"ROUND(G67*KATSAYILAR!$C$3*KATSAYILAR!$B$38,2)","v":0},{"$f":"'EK DERS VERİ GİRİŞİ'!G66","v":0},{"$f":"ROUND(I67*KATSAYILAR!$C$3*KATSAYILAR!$B$39,2)","v":0},{"$f":"'EK DERS VERİ GİRİŞİ'!H66","v":0},{"$f":"ROUND(K67*KATSAYILAR!$C$3*KATSAYILAR!$B$40,2)","v":0},0,0,0,{"$f":"IF(O67=0,0,IF(O67<KATSAYILAR!$C$9*N67,KATSAYILAR!$C$9*N67,O67))","v":0},{"$f":"ROUND(IF('BİLGİ GİRİŞİ'!D66=\"Ücretli Öğretmen\",P67*KATSAYILAR!$C$22,0),2)","v":0},{"$f":"ROUND(IF('BİLGİ GİRİŞİ'!D66=\"Ücretli Öğretmen (Emekli çalışan)\",P67*KATSAYILAR!$C$24,0),2)","v":0},0,{"$f":"'BİLGİ GİRİŞİ'!F66","v":0},{"$f":"\nIF('BİLGİ GİRİŞİ'!G66=KATSAYILAR!$B$16,KATSAYILAR!$C$16,\nIF('BİLGİ GİRİŞİ'!G66=KATSAYILAR!$B$17,KATSAYILAR!$C$17,\nIF('BİLGİ GİRİŞİ'!G66=KATSAYILAR!$B$18,KATSAYILAR!$C$18,0)))","v":0},{"$f":"'BİLGİ GİRİŞİ'!H66","v":0},0,{"$f":"hesaplamalar!J64","v":0},{"$f":"hesaplamalar!M64","v":0},{"$f":"hesaplamalar!N64","v":0},{"$f":"hesaplamalar!P64","v":0},{"$f":"hesaplamalar!Q64","v":0},{"$f":"hesaplamalar!T64","v":0},{"$f":"hesaplamalar!U64","v":0},0,{"$f":"ROUND(IF('BİLGİ GİRİŞİ'!D66=\"Ücretli Öğretmen\",P67*KATSAYILAR!$C$23,0),2)","v":0},0,{"$f":"ROUND(IF('BİLGİ GİRİŞİ'!D66=\"Ücretli Öğretmen (Emekli çalışan)\",P67*KATSAYILAR!$C$34,0),2)","v":0},{"$f":"'BİLGİ GİRİŞİ'!I66","v":0},0,0,null,0,null,{"$f":"'BİLGİ GİRİŞİ'!E66","v":0}]
[{"$f":"'EK DERS VERİ GİRİŞİ'!A67","v":63},{"$f":"'EK DERS VERİ GİRİŞİ'!B67","v":""},{"$f":"'EK DERS VERİ GİRİŞİ'!C67","v":""},{"$f":"'BİLGİ GİRİŞİ'!D67","v":0},{"$f":"'EK DERS VERİ GİRİŞİ'!E67","v":0},{"$f":"ROUND(E68*KATSAYILAR!$C$3*KATSAYILAR!$B$37,2)","v":0},{"$f":"'EK DERS VERİ GİRİŞİ'!F67","v":0},{"$f":"ROUND(G68*KATSAYILAR!$C$3*KATSAYILAR!$B$38,2)","v":0},{"$f":"'EK DERS VERİ GİRİŞİ'!G67","v":0},{"$f":"ROUND(I68*KATSAYILAR!$C$3*KATSAYILAR!$B$39,2)","v":0},{"$f":"'EK DERS VERİ GİRİŞİ'!H67","v":0},{"$f":"ROUND(K68*KATSAYILAR!$C$3*KATSAYILAR!$B$40,2)","v":0},0,0,0,{"$f":"IF(O68=0,0,IF(O68<KATSAYILAR!$C$9*N68,KATSAYILAR!$C$9*N68,O68))","v":0},{"$f":"ROUND(IF('BİLGİ GİRİŞİ'!D67=\"Ücretli Öğretmen\",P68*KATSAYILAR!$C$22,0),2)","v":0},{"$f":"ROUND(IF('BİLGİ GİRİŞİ'!D67=\"Ücretli Öğretmen (Emekli çalışan)\",P68*KATSAYILAR!$C$24,0),2)","v":0},0,{"$f":"'BİLGİ GİRİŞİ'!F67","v":0},{"$f":"\nIF('BİLGİ GİRİŞİ'!G67=KATSAYILAR!$B$16,KATSAYILAR!$C$16,\nIF('BİLGİ GİRİŞİ'!G67=KATSAYILAR!$B$17,KATSAYILAR!$C$17,\nIF('BİLGİ GİRİŞİ'!G67=KATSAYILAR!$B$18,KATSAYILAR!$C$18,0)))","v":0},{"$f":"'BİLGİ GİRİŞİ'!H67","v":0},0,{"$f":"hesaplamalar!J65","v":0},{"$f":"hesaplamalar!M65","v":0},{"$f":"hesaplamalar!N65","v":0},{"$f":"hesaplamalar!P65","v":0},{"$f":"hesaplamalar!Q65","v":0},{"$f":"hesaplamalar!T65","v":0},{"$f":"hesaplamalar!U65","v":0},0,{"$f":"ROUND(IF('BİLGİ GİRİŞİ'!D67=\"Ücretli Öğretmen\",P68*KATSAYILAR!$C$23,0),2)","v":0},0,{"$f":"ROUND(IF('BİLGİ GİRİŞİ'!D67=\"Ücretli Öğretmen (Emekli çalışan)\",P68*KATSAYILAR!$C$34,0),2)","v":0},{"$f":"'BİLGİ GİRİŞİ'!I67","v":0},0,0,null,0,null,{"$f":"'BİLGİ GİRİŞİ'!E67","v":0}]
[{"$f":"'EK DERS VERİ GİRİŞİ'!A68","v":64},{"$f":"'EK DERS VERİ GİRİŞİ'!B68","v":""},{"$f":"'EK DERS VERİ GİRİŞİ'!C68","v":""},{"$f":"'BİLGİ GİRİŞİ'!D68","v":0},{"$f":"'EK DERS VERİ GİRİŞİ'!E68","v":0},{"$f":"ROUND(E69*KATSAYILAR!$C$3*KATSAYILAR!$B$37,2)","v":0},{"$f":"'EK DERS VERİ GİRİŞİ'!F68","v":0},{"$f":"ROUND(G69*KATSAYILAR!$C$3*KATSAYILAR!$B$38,2)","v":0},{"$f":"'EK DERS VERİ GİRİŞİ'!G68","v":0},{"$f":"ROUND(I69*KATSAYILAR!$C$3*KATSAYILAR!$B$39,2)","v":0},{"$f":"'EK DERS VERİ GİRİŞİ'!H68","v":0},{"$f":"ROUND(K69*KATSAYILAR!$C$3*KATSAYILAR!$B$40,2)","v":0},0,0,0,{"$f":"IF(O69=0,0,IF(O69<KATSAYILAR!$C$9*N69,KATSAYILAR!$C$9*N69,O69))","v":0},{"$f":"ROUND(IF('BİLGİ GİRİŞİ'!D68=\"Ücretli Öğretmen\",P69*KATSAYILAR!$C$22,0),2)","v":0},{"$f":"ROUND(IF('BİLGİ GİRİŞİ'!D68=\"Ücretli Öğretmen (Emekli çalışan)\",P69*KATSAYILAR!$C$24,0),2)","v":0},0,{"$f":"'BİLGİ GİRİŞİ'!F68","v":0},{"$f":"\nIF('BİLGİ GİRİŞİ'!G68=KATSAYILAR!$B$16,KATSAYILAR!$C$16,\nIF('BİLGİ GİRİŞİ'!G68=KATSAYILAR!$B$17,KATSAYILAR!$C$17,\nIF('BİLGİ GİRİŞİ'!G68=KATSAYILAR!$B$18,KATSAYILAR!$C$18,0)))","v":0},{"$f":"'BİLGİ GİRİŞİ'!H68","v":0},0,{"$f":"hesaplamalar!J66","v":0},{"$f":"hesaplamalar!M66","v":0},{"$f":"hesaplamalar!N66","v":0},{"$f":"hesaplamalar!P66","v":0},{"$f":"hesaplamalar!Q66","v":0},{"$f":"hesaplamalar!T66","v":0},{"$f":"hesaplamalar!U66","v":0},0,{"$f":"ROUND(IF('BİLGİ GİRİŞİ'!D68=\"Ücretli Öğretmen\",P69*KATSAYILAR!$C$23,0),2)","v":0},0,{"$f":"ROUND(IF('BİLGİ GİRİŞİ'!D68=\"Ücretli Öğretmen (Emekli çalışan)\",P69*KATSAYILAR!$C$34,0),2)","v":0},{"$f":"'BİLGİ GİRİŞİ'!I68","v":0},0,0,null,0,null,{"$f":"'BİLGİ GİRİŞİ'!E68","v":0}]
[{"$f":"'EK DERS VERİ GİRİŞİ'!A69","v":65},{"$f":"'EK DERS VERİ GİRİŞİ'!B69","v":""},{"$f":"'EK DERS VERİ GİRİŞİ'!C69","v":""},{"$f":"'BİLGİ GİRİŞİ'!D69","v":0},{"$f":"'EK DERS VERİ GİRİŞİ'!E69","v":0},{"$f":"ROUND(E70*KATSAYILAR!$C$3*KATSAYILAR!$B$37,2)","v":0},{"$f":"'EK DERS VERİ GİRİŞİ'!F69","v":0},{"$f":"ROUND(G70*KATSAYILAR!$C$3*KATSAYILAR!$B$38,2)","v":0},{"$f":"'EK DERS VERİ GİRİŞİ'!G69","v":0},{"$f":"ROUND(I70*KATSAYILAR!$C$3*KATSAYILAR!$B$39,2)","v":0},{"$f":"'EK DERS VERİ GİRİŞİ'!H69","v":0},{"$f":"ROUND(K70*KATSAYILAR!$C$3*KATSAYILAR!$B$40,2)","v":0},0,0,0,{"$f":"IF(O70=0,0,IF(O70<KATSAYILAR!$C$9*N70,KATSAYILAR!$C$9*N70,O70))","v":0},{"$f":"ROUND(IF('BİLGİ GİRİŞİ'!D69=\"Ücretli Öğretmen\",P70*KATSAYILAR!$C$22,0),2)","v":0},{"$f":"ROUND(IF('BİLGİ GİRİŞİ'!D69=\"Ücretli Öğretmen (Emekli çalışan)\",P70*KATSAYILAR!$C$24,0),2)","v":0},0,{"$f":"'BİLGİ GİRİŞİ'!F69","v":0},{"$f":"\nIF('BİLGİ GİRİŞİ'!G69=KATSAYILAR!$B$16,KATSAYILAR!$C$16,\nIF('BİLGİ GİRİŞİ'!G69=KATSAYILAR!$B$17,KATSAYILAR!$C$17,\nIF('BİLGİ GİRİŞİ'!G69=KATSAYILAR!$B$18,KATSAYILAR!$C$18,0)))","v":0},{"$f":"'BİLGİ GİRİŞİ'!H69","v":0},0,{"$f":"hesaplamalar!J67","v":0},{"$f":"hesaplamalar!M67","v":0},{"$f":"hesaplamalar!N67","v":0},{"$f":"hesaplamalar!P67","v":0},{"$f":"hesaplamalar!Q67","v":0},{"$f":"hesaplamalar!T67","v":0},{"$f":"hesaplamalar!U67","v":0},0,{"$f":"ROUND(IF('BİLGİ GİRİŞİ'!D69=\"Ücretli Öğretmen\",P70*KATSAYILAR!$C$23,0),2)","v":0},0,{"$f":"ROUND(IF('BİLGİ GİRİŞİ'!D69=\"Ücretli Öğretmen (Emekli çalışan)\",P70*KATSAYILAR!$C$34,0),2)","v":0},{"$f":"'BİLGİ GİRİŞİ'!I69","v":0},0,0,null,0,null,{"$f":"'BİLGİ GİRİŞİ'!E69","v":0}]
[{"$f":"'EK DERS VERİ GİRİŞİ'!A70","v":66},{"$f":"'EK DERS VERİ GİRİŞİ'!B70","v":""},{"$f":"'EK DERS VERİ GİRİŞİ'!C70","v":""},{"$f":"'BİLGİ GİRİŞİ'!D70","v":0},{"$f":"'EK DERS VERİ GİRİŞİ'!E70","v":0},{"$f":"ROUND(E71*KATSAYILAR!$C$3*KATSAYILAR!$B$37,2)","v":0},{"$f":"'EK DERS VERİ GİRİŞİ'!F70","v":0},{"$f":"ROUND(G71*KATSAYILAR!$C$3*KATSAYILAR!$B$38,2)","v":0},{"$f":"'EK DERS VERİ GİRİŞİ'!G70","v":0},{"$f":"ROUND(I71*KATSAYILAR!$C$3*KATSAYILAR!$B$39,2)","v":0},{"$f":"'EK DERS VERİ GİRİŞİ'!H70","v":0},{"$f":"ROUND(K71*KATSAYILAR!$C$3*KATSAYILAR!$B$40,2)","v":0},{"$f":"E71+G71+I71+K71","v":0},{"$f":"ROUNDUP(M71/7.5,0)","v":0},{"$f":"F71+H71+J71+L71","v":0},{"$f":"IF(O71=0,0,IF(O71<KATSAYILAR!$C$9*N71,KATSAYILAR!$C$9*N71,O71))","v":0},{"$f":"ROUND(IF('BİLGİ GİRİŞİ'!D70=\"Ücretli Öğretmen\",P71*KATSAYILAR!$C$22,0),2)","v":0},{"$f":"ROUND(IF('BİLGİ GİRİŞİ'!D70=\"Ücretli Öğretmen (Emekli çalışan)\",P71*KATSAYILAR!$C$24,0),2)","v":0},{"$f":"O71+Q71+R71","v":0},{"$f":"'BİLGİ GİRİŞİ'!F70","v":0},{"$f":"\nIF('BİLGİ GİRİŞİ'!G70=KATSAYILAR!$B$16,KATSAYILAR!$C$16,\nIF('BİLGİ GİRİŞİ'!G70=KATSAYILAR!$B$17,KATSAYILAR!$C$17,\nIF('BİLGİ GİRİŞİ'!G70=KATSAYILAR!$B$18,KATSAYILAR!$C$18,0)))","v":0},{"$f":"'BİLGİ GİRİŞİ'!H70","v":0},{"$f":"IF(O71-U71-V71-AF71-AH71<=0,0,O71-U71-V71-AF71-AH71)","v":0},{"$f":"hesaplamalar!J68","v":0},{"$f":"hesaplamalar!M68","v":0},{"$f":"hesaplamalar!N68","v":0},{"$f":"hesaplamalar!P68","v":0},{"$f":"hesaplamalar!Q68","v":0},{"$f":"hesaplamalar!T68","v":0},{"$f":"hesaplamalar!U68","v":0},{"$f":"Q71","v":0},{"$f":"ROUND(IF('BİLGİ GİRİŞİ'!D70=\"Ücretli Öğretmen\",P71*KATSAYILAR!$C$23,0),2)","v":0},{"$f":"R71","v":0},{"$f":"ROUND(IF('BİLGİ GİRİŞİ'!D70=\"Ücretli Öğretmen (Emekli çalışan)\",P71*KATSAYILAR!$C$34,0),2)","v":0},{"$f":"'BİLGİ GİRİŞİ'!I70","v":0},{"$f":"Z71+AD71+AE71+AF71+AG71+AH71+AI71","v":0},{"$f":"S71-AJ71","v":0},null,{"$f":"IF(AK71<>0,1,0)","v":0},null,{"$f":"'BİLGİ GİRİŞİ'!E70","v":0}]
[{"$f":"'EK DERS VERİ GİRİŞİ'!A71","v":67},{"$f":"'EK DERS VERİ GİRİŞİ'!B71","v":""},{"$f":"'EK DERS VERİ GİRİŞİ'!C71","v":""},{"$f":"'BİLGİ GİRİŞİ'!D71","v":0},{"$f":"'EK DERS VERİ GİRİŞİ'!E71","v":0},{"$f":"ROUND(E72*KATSAYILAR!$C$3*KATSAYILAR!$B$37,2)","v":0},{"$f":"'EK DERS VERİ GİRİŞİ'!F71","v":0},{"$f":"ROUND(G72*KATSAYILAR!$C$3*KATSAYILAR!$B$38,2)","v":0},{"$f":"'EK DERS VERİ GİRİŞİ'!G71","v":0},{"$f":"ROUND(I72*KATSAYILAR!$C$3*KATSAYILAR!$B$39,2)","v":0},{"$f":"'EK DERS VERİ GİRİŞİ'!H71","v":0},{"$f":"ROUND(K72*KATSAYILAR!$C$3*KATSAYILAR!$B$40,2)","v":0},0,0,0,{"$f":"IF(O72=0,0,IF(O72<KATSAYILAR!$C$9*N72,KATSAYILAR!$C$9*N72,O72))","v":0},{"$f":"ROUND(IF('BİLGİ GİRİŞİ'!D71=\"Ücretli Öğretmen\",P72*KATSAYILAR!$C$22,0),2)","v":0},{"$f":"ROUND(IF('BİLGİ GİRİŞİ'!D71=\"Ücretli Öğretmen (Emekli çalışan)\",P72*KATSAYILAR!$C$24,0),2)","v":0},0,{"$f":"'BİLGİ GİRİŞİ'!F71","v":0},{"$f":"\nIF('BİLGİ GİRİŞİ'!G71=KATSAYILAR!$B$16,KATSAYILAR!$C$16,\nIF('BİLGİ GİRİŞİ'!G71=KATSAYILAR!$B$17,KATSAYILAR!$C$17,\nIF('BİLGİ GİRİŞİ'!G71=KATSAYILAR!$B$18,KATSAYILAR!$C$18,0)))","v":0},{"$f":"'BİLGİ GİRİŞİ'!H71","v":0},0,{"$f":"hesaplamalar!J69","v":0},{"$f":"hesaplamalar!M69","v":0},{"$f":"hesaplamalar!N69","v":0},{"$f":"hesaplamalar!P69","v":0},{"$f":"hesaplamalar!Q69","v":0},{"$f":"hesaplamalar!T69","v":0},{"$f":"hesaplamalar!U69","v":0},0,{"$f":"ROUND(IF('BİLGİ GİRİŞİ'!D71=\"Ücretli Öğretmen\",P72*KATSAYILAR!$C$23,0),2)","v":0},0,{"$f":"ROUND(IF('BİLGİ GİRİŞİ'!D71=\"Ücretli Öğretmen (Emekli çalışan)\",P72*KATSAYILAR!$C$34,0),2)","v":0},{"$f":"'BİLGİ GİRİŞİ'!I71","v":0},0,0,null,0,null,{"$f":"'BİLGİ GİRİŞİ'!E71","v":0}]
[{"$f":"'EK DERS VERİ GİRİŞİ'!A72","v":68},{"$f":"'EK DERS VERİ GİRİŞİ'!B72","v":""},{"$f":"'EK DERS VERİ GİRİŞİ'!C72","v":""},{"$f":"'BİLGİ GİRİŞİ'!D72","v":0},{"$f":"'EK DERS VERİ GİRİŞİ'!E72","v":0},{"$f":"ROUND(E73*KATSAYILAR!$C$3*KATSAYILAR!$B$37,2)","v":0},{"$f":"'EK DERS VERİ GİRİŞİ'!F72","v":0},{"$f":"ROUND(G73*KATSAYILAR!$C$3*KATSAYILAR!$B$38,2)","v":0},{"$f":"'EK DERS VERİ GİRİŞİ'!G72","v":0},{"$f":"ROUND(I73*KATSAYILAR!$C$3*KATSAYILAR!$B$39,2)","v":0},{"$f":"'EK DERS VERİ GİRİŞİ'!H72","v":0},{"$f":"ROUND(K73*KATSAYILAR!$C$3*KATSAYILAR!$B$40,2)","v":0},0,0,0,{"$f":"IF(O73=0,0,IF(O73<KATSAYILAR!$C$9*N73,KATSAYILAR!$C$9*N73,O73))","v":0},{"$f":"ROUND(IF('BİLGİ GİRİŞİ'!D72=\"Ücretli Öğretmen\",P73*KATSAYILAR!$C$22,0),2)","v":0},{"$f":"ROUND(IF('BİLGİ GİRİŞİ'!D72=\"Ücretli Öğretmen (Emekli çalışan)\",P73*KATSAYILAR!$C$24,0),2)","v":0},0,{"$f":"'BİLGİ GİRİŞİ'!F72","v":0},{"$f":"\nIF('BİLGİ GİRİŞİ'!G72=KATSAYILAR!$B$16,KATSAYILAR!$C$16,\nIF('BİLGİ GİRİŞİ'!G72=KATSAYILAR!$B$17,KATSAYILAR!$C$17,\nIF('BİLGİ GİRİŞİ'!G72=KATSAYILAR!$B$18,KATSAYILAR!$C$18,0)))","v":0},{"$f":"'BİLGİ GİRİŞİ'!H72","v":0},0,{"$f":"hesaplamalar!J70","v":0},{"$f":"hesaplamalar!M70","v":0},{"$f":"hesaplamalar!N70","v":0},{"$f":"hesaplamalar!P70","v":0},{"$f":"hesaplamalar!Q70","v":0},{"$f":"hesaplamalar!T70","v":0},{"$f":"hesaplamalar!U70","v":0},0,{"$f":"ROUND(IF('BİLGİ GİRİŞİ'!D72=\"Ücretli Öğretmen\",P73*KATSAYILAR!$C$23,0),2)","v":0},0,{"$f":"ROUND(IF('BİLGİ GİRİŞİ'!D72=\"Ücretli Öğretmen (Emekli çalışan)\",P73*KATSAYILAR!$C$34,0),2)","v":0},{"$f":"'BİLGİ GİRİŞİ'!I72","v":0},0,0,null,0,null,{"$f":"'BİLGİ GİRİŞİ'!E72","v":0}]
[{"$f":"'EK DERS VERİ GİRİŞİ'!A73","v":69},{"$f":"'EK DERS VERİ GİRİŞİ'!B73","v":""},{"$f":"'EK DERS VERİ GİRİŞİ'!C73","v":""},{"$f":"'BİLGİ GİRİŞİ'!D73","v":0},{"$f":"'EK DERS VERİ GİRİŞİ'!E73","v":0},{"$f":"ROUND(E74*KATSAYILAR!$C$3*KATSAYILAR!$B$37,2)","v":0},{"$f":"'EK DERS VERİ GİRİŞİ'!F73","v":0},{"$f":"ROUND(G74*KATSAYILAR!$C$3*KATSAYILAR!$B$38,2)","v":0},{"$f":"'EK DERS VERİ GİRİŞİ'!G73","v":0},{"$f":"ROUND(I74*KATSAYILAR!$C$3*KATSAYILAR!$B$39,2)","v":0},{"$f":"'EK DERS VERİ GİRİŞİ'!H73","v":0},{"$f":"ROUND(K74*KATSAYILAR!$C$3*KATSAYILAR!$B$40,2)","v":0},0,0,0,{"$f":"IF(O74=0,0,IF(O74<KATSAYILAR!$C$9*N74,KATSAYILAR!$C$9*N74,O74))","v":0},{"$f":"ROUND(IF('BİLGİ GİRİŞİ'!D73=\"Ücretli Öğretmen\",P74*KATSAYILAR!$C$22,0),2)","v":0},{"$f":"ROUND(IF('BİLGİ GİRİŞİ'!D73=\"Ücretli Öğretmen (Emekli çalışan)\",P74*KATSAYILAR!$C$24,0),2)","v":0},0,{"$f":"'BİLGİ GİRİŞİ'!F73","v":0},{"$f":"\nIF('BİLGİ GİRİŞİ'!G73=KATSAYILAR!$B$16,KATSAYILAR!$C$16,\nIF('BİLGİ GİRİŞİ'!G73=KATSAYILAR!$B$17,KATSAYILAR!$C$17,\nIF('BİLGİ GİRİŞİ'!G73=KATSAYILAR!$B$18,KATSAYILAR!$C$18,0)))","v":0},{"$f":"'BİLGİ GİRİŞİ'!H73","v":0},0,{"$f":"hesaplamalar!J71","v":0},{"$f":"hesaplamalar!M71","v":0},{"$f":"hesaplamalar!N71","v":0},{"$f":"hesaplamalar!P71","v":0},{"$f":"hesaplamalar!Q71","v":0},{"$f":"hesaplamalar!T71","v":0},{"$f":"hesaplamalar!U71","v":0},0,{"$f":"ROUND(IF('BİLGİ GİRİŞİ'!D73=\"Ücretli Öğretmen\",P74*KATSAYILAR!$C$23,0),2)","v":0},0,{"$f":"ROUND(IF('BİLGİ GİRİŞİ'!D73=\"Ücretli Öğretmen (Emekli çalışan)\",P74*KATSAYILAR!$C$34,0),2)","v":0},{"$f":"'BİLGİ GİRİŞİ'!I73","v":0},0,0,null,0,null,{"$f":"'BİLGİ GİRİŞİ'!E73","v":0}]
[{"$f":"'EK DERS VERİ GİRİŞİ'!A74","v":70},{"$f":"'EK DERS VERİ GİRİŞİ'!B74","v":""},{"$f":"'EK DERS VERİ GİRİŞİ'!C74","v":""},{"$f":"'BİLGİ GİRİŞİ'!D74","v":0},{"$f":"'EK DERS VERİ GİRİŞİ'!E74","v":0},{"$f":"ROUND(E75*KATSAYILAR!$C$3*KATSAYILAR!$B$37,2)","v":0},{"$f":"'EK DERS VERİ GİRİŞİ'!F74","v":0},{"$f":"ROUND(G75*KATSAYILAR!$C$3*KATSAYILAR!$B$38,2)","v":0},{"$f":"'EK DERS VERİ GİRİŞİ'!G74","v":0},{"$f":"ROUND(I75*KATSAYILAR!$C$3*KATSAYILAR!$B$39,2)","v":0},{"$f":"'EK DERS VERİ GİRİŞİ'!H74","v":0},{"$f":"ROUND(K75*KATSAYILAR!$C$3*KATSAYILAR!$B$40,2)","v":0},0,0,0,{"$f":"IF(O75=0,0,IF(O75<KATSAYILAR!$C$9*N75,KATSAYILAR!$C$9*N75,O75))","v":0},{"$f":"ROUND(IF('BİLGİ GİRİŞİ'!D74=\"Ücretli Öğretmen\",P75*KATSAYILAR!$C$22,0),2)","v":0},{"$f":"ROUND(IF('BİLGİ GİRİŞİ'!D74=\"Ücretli Öğretmen (Emekli çalışan)\",P75*KATSAYILAR!$C$24,0),2)","v":0},0,{"$f":"'BİLGİ GİRİŞİ'!F74","v":0},{"$f":"\nIF('BİLGİ GİRİŞİ'!G74=KATSAYILAR!$B$16,KATSAYILAR!$C$16,\nIF('BİLGİ GİRİŞİ'!G74=KATSAYILAR!$B$17,KATSAYILAR!$C$17,\nIF('BİLGİ GİRİŞİ'!G74=KATSAYILAR!$B$18,KATSAYILAR!$C$18,0)))","v":0},{"$f":"'BİLGİ GİRİŞİ'!H74","v":0},0,{"$f":"hesaplamalar!J72","v":0},{"$f":"hesaplamalar!M72","v":0},{"$f":"hesaplamalar!N72","v":0},{"$f":"hesaplamalar!P72","v":0},{"$f":"hesaplamalar!Q72","v":0},{"$f":"hesaplamalar!T72","v":0},{"$f":"hesaplamalar!U72","v":0},0,{"$f":"ROUND(IF('BİLGİ GİRİŞİ'!D74=\"Ücretli Öğretmen\",P75*KATSAYILAR!$C$23,0),2)","v":0},0,{"$f":"ROUND(IF('BİLGİ GİRİŞİ'!D74=\"Ücretli Öğretmen (Emekli çalışan)\",P75*KATSAYILAR!$C$34,0),2)","v":0},{"$f":"'BİLGİ GİRİŞİ'!I74","v":0},0,0,null,0,null,{"$f":"'BİLGİ GİRİŞİ'!E74","v":0}]
[{"$f":"'EK DERS VERİ GİRİŞİ'!A75","v":71},{"$f":"'EK DERS VERİ GİRİŞİ'!B75","v":""},{"$f":"'EK DERS VERİ GİRİŞİ'!C75","v":""},{"$f":"'BİLGİ GİRİŞİ'!D75","v":0},{"$f":"'EK DERS VERİ GİRİŞİ'!E75","v":0},{"$f":"ROUND(E76*KATSAYILAR!$C$3*KATSAYILAR!$B$37,2)","v":0},{"$f":"'EK DERS VERİ GİRİŞİ'!F75","v":0},{"$f":"ROUND(G76*KATSAYILAR!$C$3*KATSAYILAR!$B$38,2)","v":0},{"$f":"'EK DERS VERİ GİRİŞİ'!G75","v":0},{"$f":"ROUND(I76*KATSAYILAR!$C$3*KATSAYILAR!$B$39,2)","v":0},{"$f":"'EK DERS VERİ GİRİŞİ'!H75","v":0},{"$f":"ROUND(K76*KATSAYILAR!$C$3*KATSAYILAR!$B$40,2)","v":0},0,0,0,{"$f":"IF(O76=0,0,IF(O76<KATSAYILAR!$C$9*N76,KATSAYILAR!$C$9*N76,O76))","v":0},{"$f":"ROUND(IF('BİLGİ GİRİŞİ'!D75=\"Ücretli Öğretmen\",P76*KATSAYILAR!$C$22,0),2)","v":0},{"$f":"ROUND(IF('BİLGİ GİRİŞİ'!D75=\"Ücretli Öğretmen (Emekli çalışan)\",P76*KATSAYILAR!$C$24,0),2)","v":0},0,{"$f":"'BİLGİ GİRİŞİ'!F75","v":0},{"$f":"\nIF('BİLGİ GİRİŞİ'!G75=KATSAYILAR!$B$16,KATSAYILAR!$C$16,\nIF('BİLGİ GİRİŞİ'!G75=KATSAYILAR!$B$17,KATSAYILAR!$C$17,\nIF('BİLGİ GİRİŞİ'!G75=KATSAYILAR!$B$18,KATSAYILAR!$C$18,0)))","v":0},{"$f":"'BİLGİ GİRİŞİ'!H75","v":0},0,{"$f":"hesaplamalar!J73","v":0},{"$f":"hesaplamalar!M73","v":0},{"$f":"hesaplamalar!N73","v":0},{"$f":"hesaplamalar!P73","v":0},{"$f":"hesaplamalar!Q73","v":0},{"$f":"hesaplamalar!T73","v":0},{"$f":"hesaplamalar!U73","v":0},0,{"$f":"ROUND(IF('BİLGİ GİRİŞİ'!D75=\"Ücretli Öğretmen\",P76*KATSAYILAR!$C$23,0),2)","v":0},0,{"$f":"ROUND(IF('BİLGİ GİRİŞİ'!D75=\"Ücretli Öğretmen (Emekli çalışan)\",P76*KATSAYILAR!$C$34,0),2)","v":0},{"$f":"'BİLGİ GİRİŞİ'!I75","v":0},0,0,null,0,null,{"$f":"'BİLGİ GİRİŞİ'!E75","v":0}]
[{"$f":"'EK DERS VERİ GİRİŞİ'!A76","v":72},{"$f":"'EK DERS VERİ GİRİŞİ'!B76","v":""},{"$f":"'EK DERS VERİ GİRİŞİ'!C76","v":""},{"$f":"'BİLGİ GİRİŞİ'!D76","v":0},{"$f":"'EK DERS VERİ GİRİŞİ'!E76","v":0},{"$f":"ROUND(E77*KATSAYILAR!$C$3*KATSAYILAR!$B$37,2)","v":0},{"$f":"'EK DERS VERİ GİRİŞİ'!F76","v":0},{"$f":"ROUND(G77*KATSAYILAR!$C$3*KATSAYILAR!$B$38,2)","v":0},{"$f":"'EK DERS VERİ GİRİŞİ'!G76","v":0},{"$f":"ROUND(I77*KATSAYILAR!$C$3*KATSAYILAR!$B$39,2)","v":0},{"$f":"'EK DERS VERİ GİRİŞİ'!H76","v":0},{"$f":"ROUND(K77*KATSAYILAR!$C$3*KATSAYILAR!$B$40,2)","v":0},0,0,0,{"$f":"IF(O77=0,0,IF(O77<KATSAYILAR!$C$9*N77,KATSAYILAR!$C$9*N77,O77))","v":0},{"$f":"ROUND(IF('BİLGİ GİRİŞİ'!D76=\"Ücretli Öğretmen\",P77*KATSAYILAR!$C$22,0),2)","v":0},{"$f":"ROUND(IF('BİLGİ GİRİŞİ'!D76=\"Ücretli Öğretmen (Emekli çalışan)\",P77*KATSAYILAR!$C$24,0),2)","v":0},0,{"$f":"'BİLGİ GİRİŞİ'!F76","v":0},{"$f":"\nIF('BİLGİ GİRİŞİ'!G76=KATSAYILAR!$B$16,KATSAYILAR!$C$16,\nIF('BİLGİ GİRİŞİ'!G76=KATSAYILAR!$B$17,KATSAYILAR!$C$17,\nIF('BİLGİ GİRİŞİ'!G76=KATSAYILAR!$B$18,KATSAYILAR!$C$18,0)))","v":0},{"$f":"'BİLGİ GİRİŞİ'!H76","v":0},0,{"$f":"hesaplamalar!J74","v":0},{"$f":"hesaplamalar!M74","v":0},{"$f":"hesaplamalar!N74","v":0},{"$f":"hesaplamalar!P74","v":0},{"$f":"hesaplamalar!Q74","v":0},{"$f":"hesaplamalar!T74","v":0},{"$f":"hesaplamalar!U74","v":0},0,{"$f":"ROUND(IF('BİLGİ GİRİŞİ'!D76=\"Ücretli Öğretmen\",P77*KATSAYILAR!$C$23,0),2)","v":0},0,{"$f":"ROUND(IF('BİLGİ GİRİŞİ'!D76=\"Ücretli Öğretmen (Emekli çalışan)\",P77*KATSAYILAR!$C$34,0),2)","v":0},{"$f":"'BİLGİ GİRİŞİ'!I76","v":0},0,0,null,0,null,{"$f":"'BİLGİ GİRİŞİ'!E76","v":0}]
[{"$f":"'EK DERS VERİ GİRİŞİ'!A77","v":73},{"$f":"'EK DERS VERİ GİRİŞİ'!B77","v":""},{"$f":"'EK DERS VERİ GİRİŞİ'!C77","v":""},{"$f":"'BİLGİ GİRİŞİ'!D77","v":0},{"$f":"'EK DERS VERİ GİRİŞİ'!E77","v":0},{"$f":"ROUND(E78*KATSAYILAR!$C$3*KATSAYILAR!$B$37,2)","v":0},{"$f":"'EK DERS VERİ GİRİŞİ'!F77","v":0},{"$f":"ROUND(G78*KATSAYILAR!$C$3*KATSAYILAR!$B$38,2)","v":0},{"$f":"'EK DERS VERİ GİRİŞİ'!G77","v":0},{"$f":"ROUND(I78*KATSAYILAR!$C$3*KATSAYILAR!$B$39,2)","v":0},{"$f":"'EK DERS VERİ GİRİŞİ'!H77","v":0},{"$f":"ROUND(K78*KATSAYILAR!$C$3*KATSAYILAR!$B$40,2)","v":0},0,0,0,{"$f":"IF(O78=0,0,IF(O78<KATSAYILAR!$C$9*N78,KATSAYILAR!$C$9*N78,O78))","v":0},{"$f":"ROUND(IF('BİLGİ GİRİŞİ'!D77=\"Ücretli Öğretmen\",P78*KATSAYILAR!$C$22,0),2)","v":0},{"$f":"ROUND(IF('BİLGİ GİRİŞİ'!D77=\"Ücretli Öğretmen (Emekli çalışan)\",P78*KATSAYILAR!$C$24,0),2)","v":0},0,{"$f":"'BİLGİ GİRİŞİ'!F77","v":0},{"$f":"\nIF('BİLGİ GİRİŞİ'!G77=KATSAYILAR!$B$16,KATSAYILAR!$C$16,\nIF('BİLGİ GİRİŞİ'!G77=KATSAYILAR!$B$17,KATSAYILAR!$C$17,\nIF('BİLGİ GİRİŞİ'!G77=KATSAYILAR!$B$18,KATSAYILAR!$C$18,0)))","v":0},{"$f":"'BİLGİ GİRİŞİ'!H77","v":0},0,{"$f":"hesaplamalar!J75","v":0},{"$f":"hesaplamalar!M75","v":0},{"$f":"hesaplamalar!N75","v":0},{"$f":"hesaplamalar!P75","v":0},{"$f":"hesaplamalar!Q75","v":0},{"$f":"hesaplamalar!T75","v":0},{"$f":"hesaplamalar!U75","v":0},0,{"$f":"ROUND(IF('BİLGİ GİRİŞİ'!D77=\"Ücretli Öğretmen\",P78*KATSAYILAR!$C$23,0),2)","v":0},0,{"$f":"ROUND(IF('BİLGİ GİRİŞİ'!D77=\"Ücretli Öğretmen (Emekli çalışan)\",P78*KATSAYILAR!$C$34,0),2)","v":0},{"$f":"'BİLGİ GİRİŞİ'!I77","v":0},0,0,null,0,null,{"$f":"'BİLGİ GİRİŞİ'!E77","v":0}]
[{"$f":"'EK DERS VERİ GİRİŞİ'!A78","v":74},{"$f":"'EK DERS VERİ GİRİŞİ'!B78","v":""},{"$f":"'EK DERS VERİ GİRİŞİ'!C78","v":""},{"$f":"'BİLGİ GİRİŞİ'!D78","v":0},{"$f":"'EK DERS VERİ GİRİŞİ'!E78","v":0},{"$f":"ROUND(E79*KATSAYILAR!$C$3*KATSAYILAR!$B$37,2)","v":0},{"$f":"'EK DERS VERİ GİRİŞİ'!F78","v":0},{"$f":"ROUND(G79*KATSAYILAR!$C$3*KATSAYILAR!$B$38,2)","v":0},{"$f":"'EK DERS VERİ GİRİŞİ'!G78","v":0},{"$f":"ROUND(I79*KATSAYILAR!$C$3*KATSAYILAR!$B$39,2)","v":0},{"$f":"'EK DERS VERİ GİRİŞİ'!H78","v":0},{"$f":"ROUND(K79*KATSAYILAR!$C$3*KATSAYILAR!$B$40,2)","v":0},0,0,0,{"$f":"IF(O79=0,0,IF(O79<KATSAYILAR!$C$9*N79,KATSAYILAR!$C$9*N79,O79))","v":0},{"$f":"ROUND(IF('BİLGİ GİRİŞİ'!D78=\"Ücretli Öğretmen\",P79*KATSAYILAR!$C$22,0),2)","v":0},{"$f":"ROUND(IF('BİLGİ GİRİŞİ'!D78=\"Ücretli Öğretmen (Emekli çalışan)\",P79*KATSAYILAR!$C$24,0),2)","v":0},0,{"$f":"'BİLGİ GİRİŞİ'!F78","v":0},{"$f":"\nIF('BİLGİ GİRİŞİ'!G78=KATSAYILAR!$B$16,KATSAYILAR!$C$16,\nIF('BİLGİ GİRİŞİ'!G78=KATSAYILAR!$B$17,KATSAYILAR!$C$17,\nIF('BİLGİ GİRİŞİ'!G78=KATSAYILAR!$B$18,KATSAYILAR!$C$18,0)))","v":0},{"$f":"'BİLGİ GİRİŞİ'!H78","v":0},0,{"$f":"hesaplamalar!J76","v":0},{"$f":"hesaplamalar!M76","v":0},{"$f":"hesaplamalar!N76","v":0},{"$f":"hesaplamalar!P76","v":0},{"$f":"hesaplamalar!Q76","v":0},{"$f":"hesaplamalar!T76","v":0},{"$f":"hesaplamalar!U76","v":0},0,{"$f":"ROUND(IF('BİLGİ GİRİŞİ'!D78=\"Ücretli Öğretmen\",P79*KATSAYILAR!$C$23,0),2)","v":0},0,{"$f":"ROUND(IF('BİLGİ GİRİŞİ'!D78=\"Ücretli Öğretmen (Emekli çalışan)\",P79*KATSAYILAR!$C$34,0),2)","v":0},{"$f":"'BİLGİ GİRİŞİ'!I78","v":0},0,0,null,0,null,{"$f":"'BİLGİ GİRİŞİ'!E78","v":0}]
[{"$f":"'EK DERS VERİ GİRİŞİ'!A79","v":75},{"$f":"'EK DERS VERİ GİRİŞİ'!B79","v":""},{"$f":"'EK DERS VERİ GİRİŞİ'!C79","v":""},{"$f":"'BİLGİ GİRİŞİ'!D79","v":0},{"$f":"'EK DERS VERİ GİRİŞİ'!E79","v":0},{"$f":"ROUND(E80*KATSAYILAR!$C$3*KATSAYILAR!$B$37,2)","v":0},{"$f":"'EK DERS VERİ GİRİŞİ'!F79","v":0},{"$f":"ROUND(G80*KATSAYILAR!$C$3*KATSAYILAR!$B$38,2)","v":0},{"$f":"'EK DERS VERİ GİRİŞİ'!G79","v":0},{"$f":"ROUND(I80*KATSAYILAR!$C$3*KATSAYILAR!$B$39,2)","v":0},{"$f":"'EK DERS VERİ GİRİŞİ'!H79","v":0},{"$f":"ROUND(K80*KATSAYILAR!$C$3*KATSAYILAR!$B$40,2)","v":0},0,0,0,{"$f":"IF(O80=0,0,IF(O80<KATSAYILAR!$C$9*N80,KATSAYILAR!$C$9*N80,O80))","v":0},{"$f":"ROUND(IF('BİLGİ GİRİŞİ'!D79=\"Ücretli Öğretmen\",P80*KATSAYILAR!$C$22,0),2)","v":0},{"$f":"ROUND(IF('BİLGİ GİRİŞİ'!D79=\"Ücretli Öğretmen (Emekli çalışan)\",P80*KATSAYILAR!$C$24,0),2)","v":0},0,{"$f":"'BİLGİ GİRİŞİ'!F79","v":0},{"$f":"\nIF('BİLGİ GİRİŞİ'!G79=KATSAYILAR!$B$16,KATSAYILAR!$C$16,\nIF('BİLGİ GİRİŞİ'!G79=KATSAYILAR!$B$17,KATSAYILAR!$C$17,\nIF('BİLGİ GİRİŞİ'!G79=KATSAYILAR!$B$18,KATSAYILAR!$C$18,0)))","v":0},{"$f":"'BİLGİ GİRİŞİ'!H79","v":0},0,{"$f":"hesaplamalar!J77","v":0},{"$f":"hesaplamalar!M77","v":0},{"$f":"hesaplamalar!N77","v":0},{"$f":"hesaplamalar!P77","v":0},{"$f":"hesaplamalar!Q77","v":0},{"$f":"hesaplamalar!T77","v":0},{"$f":"hesaplamalar!U77","v":0},0,{"$f":"ROUND(IF('BİLGİ GİRİŞİ'!D79=\"Ücretli Öğretmen\",P80*KATSAYILAR!$C$23,0),2)","v":0},0,{"$f":"ROUND(IF('BİLGİ GİRİŞİ'!D79=\"Ücretli Öğretmen (Emekli çalışan)\",P80*KATSAYILAR!$C$34,0),2)","v":0},{"$f":"'BİLGİ GİRİŞİ'!I79","v":0},0,0,null,0,null,{"$f":"'BİLGİ GİRİŞİ'!E79","v":0}]
[{"$f":"'EK DERS VERİ GİRİŞİ'!A80","v":76},{"$f":"'EK DERS VERİ GİRİŞİ'!B80","v":""},{"$f":"'EK DERS VERİ GİRİŞİ'!C80","v":""},{"$f":"'BİLGİ GİRİŞİ'!D80","v":0},{"$f":"'EK DERS VERİ GİRİŞİ'!E80","v":0},{"$f":"ROUND(E81*KATSAYILAR!$C$3*KATSAYILAR!$B$37,2)","v":0},{"$f":"'EK DERS VERİ GİRİŞİ'!F80","v":0},{"$f":"ROUND(G81*KATSAYILAR!$C$3*KATSAYILAR!$B$38,2)","v":0},{"$f":"'EK DERS VERİ GİRİŞİ'!G80","v":0},{"$f":"ROUND(I81*KATSAYILAR!$C$3*KATSAYILAR!$B$39,2)","v":0},{"$f":"'EK DERS VERİ GİRİŞİ'!H80","v":0},{"$f":"ROUND(K81*KATSAYILAR!$C$3*KATSAYILAR!$B$40,2)","v":0},0,0,0,{"$f":"IF(O81=0,0,IF(O81<KATSAYILAR!$C$9*N81,KATSAYILAR!$C$9*N81,O81))","v":0},{"$f":"ROUND(IF('BİLGİ GİRİŞİ'!D80=\"Ücretli Öğretmen\",P81*KATSAYILAR!$C$22,0),2)","v":0},{"$f":"ROUND(IF('BİLGİ GİRİŞİ'!D80=\"Ücretli Öğretmen (Emekli çalışan)\",P81*KATSAYILAR!$C$24,0),2)","v":0},0,{"$f":"'BİLGİ GİRİŞİ'!F80","v":0},{"$f":"\nIF('BİLGİ GİRİŞİ'!G80=KATSAYILAR!$B$16,KATSAYILAR!$C$16,\nIF('BİLGİ GİRİŞİ'!G80=KATSAYILAR!$B$17,KATSAYILAR!$C$17,\nIF('BİLGİ GİRİŞİ'!G80=KATSAYILAR!$B$18,KATSAYILAR!$C$18,0)))","v":0},{"$f":"'BİLGİ GİRİŞİ'!H80","v":0},0,{"$f":"hesaplamalar!J78","v":0},{"$f":"hesaplamalar!M78","v":0},{"$f":"hesaplamalar!N78","v":0},{"$f":"hesaplamalar!P78","v":0},{"$f":"hesaplamalar!Q78","v":0},{"$f":"hesaplamalar!T78","v":0},{"$f":"hesaplamalar!U78","v":0},0,{"$f":"ROUND(IF('BİLGİ GİRİŞİ'!D80=\"Ücretli Öğretmen\",P81*KATSAYILAR!$C$23,0),2)","v":0},0,{"$f":"ROUND(IF('BİLGİ GİRİŞİ'!D80=\"Ücretli Öğretmen (Emekli çalışan)\",P81*KATSAYILAR!$C$34,0),2)","v":0},{"$f":"'BİLGİ GİRİŞİ'!I80","v":0},0,0,null,0,null,{"$f":"'BİLGİ GİRİŞİ'!E80","v":0}]
[{"$f":"'EK DERS VERİ GİRİŞİ'!A81","v":77},{"$f":"'EK DERS VERİ GİRİŞİ'!B81","v":""},{"$f":"'EK DERS VERİ GİRİŞİ'!C81","v":""},{"$f":"'BİLGİ GİRİŞİ'!D81","v":0},{"$f":"'EK DERS VERİ GİRİŞİ'!E81","v":0},{"$f":"ROUND(E82*KATSAYILAR!$C$3*KATSAYILAR!$B$37,2)","v":0},{"$f":"'EK DERS VERİ GİRİŞİ'!F81","v":0},{"$f":"ROUND(G82*KATSAYILAR!$C$3*KATSAYILAR!$B$38,2)","v":0},{"$f":"'EK DERS VERİ GİRİŞİ'!G81","v":0},{"$f":"ROUND(I82*KATSAYILAR!$C$3*KATSAYILAR!$B$39,2)","v":0},{"$f":"'EK DERS VERİ GİRİŞİ'!H81","v":0},{"$f":"ROUND(K82*KATSAYILAR!$C$3*KATSAYILAR!$B$40,2)","v":0},0,0,0,{"$f":"IF(O82=0,0,IF(O82<KATSAYILAR!$C$9*N82,KATSAYILAR!$C$9*N82,O82))","v":0},{"$f":"ROUND(IF('BİLGİ GİRİŞİ'!D81=\"Ücretli Öğretmen\",P82*KATSAYILAR!$C$22,0),2)","v":0},{"$f":"ROUND(IF('BİLGİ GİRİŞİ'!D81=\"Ücretli Öğretmen (Emekli çalışan)\",P82*KATSAYILAR!$C$24,0),2)","v":0},0,{"$f":"'BİLGİ GİRİŞİ'!F81","v":0},{"$f":"\nIF('BİLGİ GİRİŞİ'!G81=KATSAYILAR!$B$16,KATSAYILAR!$C$16,\nIF('BİLGİ GİRİŞİ'!G81=KATSAYILAR!$B$17,KATSAYILAR!$C$17,\nIF('BİLGİ GİRİŞİ'!G81=KATSAYILAR!$B$18,KATSAYILAR!$C$18,0)))","v":0},{"$f":"'BİLGİ GİRİŞİ'!H81","v":0},0,{"$f":"hesaplamalar!J79","v":0},{"$f":"hesaplamalar!M79","v":0},{"$f":"hesaplamalar!N79","v":0},{"$f":"hesaplamalar!P79","v":0},{"$f":"hesaplamalar!Q79","v":0},{"$f":"hesaplamalar!T79","v":0},{"$f":"hesaplamalar!U79","v":0},0,{"$f":"ROUND(IF('BİLGİ GİRİŞİ'!D81=\"Ücretli Öğretmen\",P82*KATSAYILAR!$C$23,0),2)","v":0},0,{"$f":"ROUND(IF('BİLGİ GİRİŞİ'!D81=\"Ücretli Öğretmen (Emekli çalışan)\",P82*KATSAYILAR!$C$34,0),2)","v":0},{"$f":"'BİLGİ GİRİŞİ'!I81","v":0},0,0,null,0,null,{"$f":"'BİLGİ GİRİŞİ'!E81","v":0}]
[{"$f":"'EK DERS VERİ GİRİŞİ'!A82","v":78},{"$f":"'EK DERS VERİ GİRİŞİ'!B82","v":""},{"$f":"'EK DERS VERİ GİRİŞİ'!C82","v":""},{"$f":"'BİLGİ GİRİŞİ'!D82","v":0},{"$f":"'EK DERS VERİ GİRİŞİ'!E82","v":0},{"$f":"ROUND(E83*KATSAYILAR!$C$3*KATSAYILAR!$B$37,2)","v":0},{"$f":"'EK DERS VERİ GİRİŞİ'!F82","v":0},{"$f":"ROUND(G83*KATSAYILAR!$C$3*KATSAYILAR!$B$38,2)","v":0},{"$f":"'EK DERS VERİ GİRİŞİ'!G82","v":0},{"$f":"ROUND(I83*KATSAYILAR!$C$3*KATSAYILAR!$B$39,2)","v":0},{"$f":"'EK DERS VERİ GİRİŞİ'!H82","v":0},{"$f":"ROUND(K83*KATSAYILAR!$C$3*KATSAYILAR!$B$40,2)","v":0},0,0,0,{"$f":"IF(O83=0,0,IF(O83<KATSAYILAR!$C$9*N83,KATSAYILAR!$C$9*N83,O83))","v":0},{"$f":"ROUND(IF('BİLGİ GİRİŞİ'!D82=\"Ücretli Öğretmen\",P83*KATSAYILAR!$C$22,0),2)","v":0},{"$f":"ROUND(IF('BİLGİ GİRİŞİ'!D82=\"Ücretli Öğretmen (Emekli çalışan)\",P83*KATSAYILAR!$C$24,0),2)","v":0},0,{"$f":"'BİLGİ GİRİŞİ'!F82","v":0},{"$f":"\nIF('BİLGİ GİRİŞİ'!G82=KATSAYILAR!$B$16,KATSAYILAR!$C$16,\nIF('BİLGİ GİRİŞİ'!G82=KATSAYILAR!$B$17,KATSAYILAR!$C$17,\nIF('BİLGİ GİRİŞİ'!G82=KATSAYILAR!$B$18,KATSAYILAR!$C$18,0)))","v":0},{"$f":"'BİLGİ GİRİŞİ'!H82","v":0},0,{"$f":"hesaplamalar!J80","v":0},{"$f":"hesaplamalar!M80","v":0},{"$f":"hesaplamalar!N80","v":0},{"$f":"hesaplamalar!P80","v":0},{"$f":"hesaplamalar!Q80","v":0},{"$f":"hesaplamalar!T80","v":0},{"$f":"hesaplamalar!U80","v":0},0,{"$f":"ROUND(IF('BİLGİ GİRİŞİ'!D82=\"Ücretli Öğretmen\",P83*KATSAYILAR!$C$23,0),2)","v":0},0,{"$f":"ROUND(IF('BİLGİ GİRİŞİ'!D82=\"Ücretli Öğretmen (Emekli çalışan)\",P83*KATSAYILAR!$C$34,0),2)","v":0},{"$f":"'BİLGİ GİRİŞİ'!I82","v":0},0,0,null,0,null,{"$f":"'BİLGİ GİRİŞİ'!E82","v":0}]
[{"$f":"'EK DERS VERİ GİRİŞİ'!A83","v":79},{"$f":"'EK DERS VERİ GİRİŞİ'!B83","v":""},{"$f":"'EK DERS VERİ GİRİŞİ'!C83","v":""},{"$f":"'BİLGİ GİRİŞİ'!D83","v":0},{"$f":"'EK DERS VERİ GİRİŞİ'!E83","v":0},{"$f":"ROUND(E84*KATSAYILAR!$C$3*KATSAYILAR!$B$37,2)","v":0},{"$f":"'EK DERS VERİ GİRİŞİ'!F83","v":0},{"$f":"ROUND(G84*KATSAYILAR!$C$3*KATSAYILAR!$B$38,2)","v":0},{"$f":"'EK DERS VERİ GİRİŞİ'!G83","v":0},{"$f":"ROUND(I84*KATSAYILAR!$C$3*KATSAYILAR!$B$39,2)","v":0},{"$f":"'EK DERS VERİ GİRİŞİ'!H83","v":0},{"$f":"ROUND(K84*KATSAYILAR!$C$3*KATSAYILAR!$B$40,2)","v":0},0,0,0,{"$f":"IF(O84=0,0,IF(O84<KATSAYILAR!$C$9*N84,KATSAYILAR!$C$9*N84,O84))","v":0},{"$f":"ROUND(IF('BİLGİ GİRİŞİ'!D83=\"Ücretli Öğretmen\",P84*KATSAYILAR!$C$22,0),2)","v":0},{"$f":"ROUND(IF('BİLGİ GİRİŞİ'!D83=\"Ücretli Öğretmen (Emekli çalışan)\",P84*KATSAYILAR!$C$24,0),2)","v":0},0,{"$f":"'BİLGİ GİRİŞİ'!F83","v":0},{"$f":"\nIF('BİLGİ GİRİŞİ'!G83=KATSAYILAR!$B$16,KATSAYILAR!$C$16,\nIF('BİLGİ GİRİŞİ'!G83=KATSAYILAR!$B$17,KATSAYILAR!$C$17,\nIF('BİLGİ GİRİŞİ'!G83=KATSAYILAR!$B$18,KATSAYILAR!$C$18,0)))","v":0},{"$f":"'BİLGİ GİRİŞİ'!H83","v":0},0,{"$f":"hesaplamalar!J81","v":0},{"$f":"hesaplamalar!M81","v":0},{"$f":"hesaplamalar!N81","v":0},{"$f":"hesaplamalar!P81","v":0},{"$f":"hesaplamalar!Q81","v":0},{"$f":"hesaplamalar!T81","v":0},{"$f":"hesaplamalar!U81","v":0},0,{"$f":"ROUND(IF('BİLGİ GİRİŞİ'!D83=\"Ücretli Öğretmen\",P84*KATSAYILAR!$C$23,0),2)","v":0},0,{"$f":"ROUND(IF('BİLGİ GİRİŞİ'!D83=\"Ücretli Öğretmen (Emekli çalışan)\",P84*KATSAYILAR!$C$34,0),2)","v":0},{"$f":"'BİLGİ GİRİŞİ'!I83","v":0},0,0,null,0,null,{"$f":"'BİLGİ GİRİŞİ'!E83","v":0}]
[{"$f":"'EK DERS VERİ GİRİŞİ'!A84","v":80},{"$f":"'EK DERS VERİ GİRİŞİ'!B84","v":""},{"$f":"'EK DERS VERİ GİRİŞİ'!C84","v":""},{"$f":"'BİLGİ GİRİŞİ'!D84","v":0},{"$f":"'EK DERS VERİ GİRİŞİ'!E84","v":0},{"$f":"ROUND(E85*KATSAYILAR!$C$3*KATSAYILAR!$B$37,2)","v":0},{"$f":"'EK DERS VERİ GİRİŞİ'!F84","v":0},{"$f":"ROUND(G85*KATSAYILAR!$C$3*KATSAYILAR!$B$38,2)","v":0},{"$f":"'EK DERS VERİ GİRİŞİ'!G84","v":0},{"$f":"ROUND(I85*KATSAYILAR!$C$3*KATSAYILAR!$B$39,2)","v":0},{"$f":"'EK DERS VERİ GİRİŞİ'!H84","v":0},{"$f":"ROUND(K85*KATSAYILAR!$C$3*KATSAYILAR!$B$40,2)","v":0},0,0,0,{"$f":"IF(O85=0,0,IF(O85<KATSAYILAR!$C$9*N85,KATSAYILAR!$C$9*N85,O85))","v":0},{"$f":"ROUND(IF('BİLGİ GİRİŞİ'!D84=\"Ücretli Öğretmen\",P85*KATSAYILAR!$C$22,0),2)","v":0},{"$f":"ROUND(IF('BİLGİ GİRİŞİ'!D84=\"Ücretli Öğretmen (Emekli çalışan)\",P85*KATSAYILAR!$C$24,0),2)","v":0},0,{"$f":"'BİLGİ GİRİŞİ'!F84","v":0},{"$f":"\nIF('BİLGİ GİRİŞİ'!G84=KATSAYILAR!$B$16,KATSAYILAR!$C$16,\nIF('BİLGİ GİRİŞİ'!G84=KATSAYILAR!$B$17,KATSAYILAR!$C$17,\nIF('BİLGİ GİRİŞİ'!G84=KATSAYILAR!$B$18,KATSAYILAR!$C$18,0)))","v":0},{"$f":"'BİLGİ GİRİŞİ'!H84","v":0},0,{"$f":"hesaplamalar!J82","v":0},{"$f":"hesaplamalar!M82","v":0},{"$f":"hesaplamalar!N82","v":0},{"$f":"hesaplamalar!P82","v":0},{"$f":"hesaplamalar!Q82","v":0},{"$f":"hesaplamalar!T82","v":0},{"$f":"hesaplamalar!U82","v":0},0,{"$f":"ROUND(IF('BİLGİ GİRİŞİ'!D84=\"Ücretli Öğretmen\",P85*KATSAYILAR!$C$23,0),2)","v":0},0,{"$f":"ROUND(IF('BİLGİ GİRİŞİ'!D84=\"Ücretli Öğretmen (Emekli çalışan)\",P85*KATSAYILAR!$C$34,0),2)","v":0},{"$f":"'BİLGİ GİRİŞİ'!I84","v":0},0,0,null,0,null,{"$f":"'BİLGİ GİRİŞİ'!E84","v":0}]
[{"$f":"'EK DERS VERİ GİRİŞİ'!A85","v":81},{"$f":"'EK DERS VERİ GİRİŞİ'!B85","v":""},{"$f":"'EK DERS VERİ GİRİŞİ'!C85","v":""},{"$f":"'BİLGİ GİRİŞİ'!D85","v":0},{"$f":"'EK DERS VERİ GİRİŞİ'!E85","v":0},{"$f":"ROUND(E86*KATSAYILAR!$C$3*KATSAYILAR!$B$37,2)","v":0},{"$f":"'EK DERS VERİ GİRİŞİ'!F85","v":0},{"$f":"ROUND(G86*KATSAYILAR!$C$3*KATSAYILAR!$B$38,2)","v":0},{"$f":"'EK DERS VERİ GİRİŞİ'!G85","v":0},{"$f":"ROUND(I86*KATSAYILAR!$C$3*KATSAYILAR!$B$39,2)","v":0},{"$f":"'EK DERS VERİ GİRİŞİ'!H85","v":0},{"$f":"ROUND(K86*KATSAYILAR!$C$3*KATSAYILAR!$B$40,2)","v":0},0,0,0,{"$f":"IF(O86=0,0,IF(O86<KATSAYILAR!$C$9*N86,KATSAYILAR!$C$9*N86,O86))","v":0},{"$f":"ROUND(IF('BİLGİ GİRİŞİ'!D85=\"Ücretli Öğretmen\",P86*KATSAYILAR!$C$22,0),2)","v":0},{"$f":"ROUND(IF('BİLGİ GİRİŞİ'!D85=\"Ücretli Öğretmen (Emekli çalışan)\",P86*KATSAYILAR!$C$24,0),2)","v":0},0,{"$f":"'BİLGİ GİRİŞİ'!F85","v":0},{"$f":"\nIF('BİLGİ GİRİŞİ'!G85=KATSAYILAR!$B$16,KATSAYILAR!$C$16,\nIF('BİLGİ GİRİŞİ'!G85=KATSAYILAR!$B$17,KATSAYILAR!$C$17,\nIF('BİLGİ GİRİŞİ'!G85=KATSAYILAR!$B$18,KATSAYILAR!$C$18,0)))","v":0},{"$f":"'BİLGİ GİRİŞİ'!H85","v":0},0,{"$f":"hesaplamalar!J83","v":0},{"$f":"hesaplamalar!M83","v":0},{"$f":"hesaplamalar!N83","v":0},{"$f":"hesaplamalar!P83","v":0},{"$f":"hesaplamalar!Q83","v":0},{"$f":"hesaplamalar!T83","v":0},{"$f":"hesaplamalar!U83","v":0},0,{"$f":"ROUND(IF('BİLGİ GİRİŞİ'!D85=\"Ücretli Öğretmen\",P86*KATSAYILAR!$C$23,0),2)","v":0},0,{"$f":"ROUND(IF('BİLGİ GİRİŞİ'!D85=\"Ücretli Öğretmen (Emekli çalışan)\",P86*KATSAYILAR!$C$34,0),2)","v":0},{"$f":"'BİLGİ GİRİŞİ'!I85","v":0},0,0,null,0,null,{"$f":"'BİLGİ GİRİŞİ'!E85","v":0}]
[{"$f":"'EK DERS VERİ GİRİŞİ'!A86","v":82},{"$f":"'EK DERS VERİ GİRİŞİ'!B86","v":""},{"$f":"'EK DERS VERİ GİRİŞİ'!C86","v":""},{"$f":"'BİLGİ GİRİŞİ'!D86","v":0},{"$f":"'EK DERS VERİ GİRİŞİ'!E86","v":0},{"$f":"ROUND(E87*KATSAYILAR!$C$3*KATSAYILAR!$B$37,2)","v":0},{"$f":"'EK DERS VERİ GİRİŞİ'!F86","v":0},{"$f":"ROUND(G87*KATSAYILAR!$C$3*KATSAYILAR!$B$38,2)","v":0},{"$f":"'EK DERS VERİ GİRİŞİ'!G86","v":0},{"$f":"ROUND(I87*KATSAYILAR!$C$3*KATSAYILAR!$B$39,2)","v":0},{"$f":"'EK DERS VERİ GİRİŞİ'!H86","v":0},{"$f":"ROUND(K87*KATSAYILAR!$C$3*KATSAYILAR!$B$40,2)","v":0},0,0,0,{"$f":"IF(O87=0,0,IF(O87<KATSAYILAR!$C$9*N87,KATSAYILAR!$C$9*N87,O87))","v":0},{"$f":"ROUND(IF('BİLGİ GİRİŞİ'!D86=\"Ücretli Öğretmen\",P87*KATSAYILAR!$C$22,0),2)","v":0},{"$f":"ROUND(IF('BİLGİ GİRİŞİ'!D86=\"Ücretli Öğretmen (Emekli çalışan)\",P87*KATSAYILAR!$C$24,0),2)","v":0},0,{"$f":"'BİLGİ GİRİŞİ'!F86","v":0},{"$f":"\nIF('BİLGİ GİRİŞİ'!G86=KATSAYILAR!$B$16,KATSAYILAR!$C$16,\nIF('BİLGİ GİRİŞİ'!G86=KATSAYILAR!$B$17,KATSAYILAR!$C$17,\nIF('BİLGİ GİRİŞİ'!G86=KATSAYILAR!$B$18,KATSAYILAR!$C$18,0)))","v":0},{"$f":"'BİLGİ GİRİŞİ'!H86","v":0},0,{"$f":"hesaplamalar!J84","v":0},{"$f":"hesaplamalar!M84","v":0},{"$f":"hesaplamalar!N84","v":0},{"$f":"hesaplamalar!P84","v":0},{"$f":"hesaplamalar!Q84","v":0},{"$f":"hesaplamalar!T84","v":0},{"$f":"hesaplamalar!U84","v":0},0,{"$f":"ROUND(IF('BİLGİ GİRİŞİ'!D86=\"Ücretli Öğretmen\",P87*KATSAYILAR!$C$23,0),2)","v":0},0,{"$f":"ROUND(IF('BİLGİ GİRİŞİ'!D86=\"Ücretli Öğretmen (Emekli çalışan)\",P87*KATSAYILAR!$C$34,0),2)","v":0},{"$f":"'BİLGİ GİRİŞİ'!I86","v":0},0,0,null,0,null,{"$f":"'BİLGİ GİRİŞİ'!E86","v":0}]
[{"$f":"'EK DERS VERİ GİRİŞİ'!A87","v":83},{"$f":"'EK DERS VERİ GİRİŞİ'!B87","v":""},{"$f":"'EK DERS VERİ GİRİŞİ'!C87","v":""},{"$f":"'BİLGİ GİRİŞİ'!D87","v":0},{"$f":"'EK DERS VERİ GİRİŞİ'!E87","v":0},{"$f":"ROUND(E88*KATSAYILAR!$C$3*KATSAYILAR!$B$37,2)","v":0},{"$f":"'EK DERS VERİ GİRİŞİ'!F87","v":0},{"$f":"ROUND(G88*KATSAYILAR!$C$3*KATSAYILAR!$B$38,2)","v":0},{"$f":"'EK DERS VERİ GİRİŞİ'!G87","v":0},{"$f":"ROUND(I88*KATSAYILAR!$C$3*KATSAYILAR!$B$39,2)","v":0},{"$f":"'EK DERS VERİ GİRİŞİ'!H87","v":0},{"$f":"ROUND(K88*KATSAYILAR!$C$3*KATSAYILAR!$B$40,2)","v":0},0,0,0,{"$f":"IF(O88=0,0,IF(O88<KATSAYILAR!$C$9*N88,KATSAYILAR!$C$9*N88,O88))","v":0},{"$f":"ROUND(IF('BİLGİ GİRİŞİ'!D87=\"Ücretli Öğretmen\",P88*KATSAYILAR!$C$22,0),2)","v":0},{"$f":"ROUND(IF('BİLGİ GİRİŞİ'!D87=\"Ücretli Öğretmen (Emekli çalışan)\",P88*KATSAYILAR!$C$24,0),2)","v":0},0,{"$f":"'BİLGİ GİRİŞİ'!F87","v":0},{"$f":"\nIF('BİLGİ GİRİŞİ'!G87=KATSAYILAR!$B$16,KATSAYILAR!$C$16,\nIF('BİLGİ GİRİŞİ'!G87=KATSAYILAR!$B$17,KATSAYILAR!$C$17,\nIF('BİLGİ GİRİŞİ'!G87=KATSAYILAR!$B$18,KATSAYILAR!$C$18,0)))","v":0},{"$f":"'BİLGİ GİRİŞİ'!H87","v":0},0,{"$f":"hesaplamalar!J85","v":0},{"$f":"hesaplamalar!M85","v":0},{"$f":"hesaplamalar!N85","v":0},{"$f":"hesaplamalar!P85","v":0},{"$f":"hesaplamalar!Q85","v":0},{"$f":"hesaplamalar!T85","v":0},{"$f":"hesaplamalar!U85","v":0},0,{"$f":"ROUND(IF('BİLGİ GİRİŞİ'!D87=\"Ücretli Öğretmen\",P88*KATSAYILAR!$C$23,0),2)","v":0},0,{"$f":"ROUND(IF('BİLGİ GİRİŞİ'!D87=\"Ücretli Öğretmen (Emekli çalışan)\",P88*KATSAYILAR!$C$34,0),2)","v":0},{"$f":"'BİLGİ GİRİŞİ'!I87","v":0},0,0,null,0,null,{"$f":"'BİLGİ GİRİŞİ'!E87","v":0}]
[{"$f":"'EK DERS VERİ GİRİŞİ'!A88","v":84},{"$f":"'EK DERS VERİ GİRİŞİ'!B88","v":""},{"$f":"'EK DERS VERİ GİRİŞİ'!C88","v":""},{"$f":"'BİLGİ GİRİŞİ'!D88","v":0},{"$f":"'EK DERS VERİ GİRİŞİ'!E88","v":0},{"$f":"ROUND(E89*KATSAYILAR!$C$3*KATSAYILAR!$B$37,2)","v":0},{"$f":"'EK DERS VERİ GİRİŞİ'!F88","v":0},{"$f":"ROUND(G89*KATSAYILAR!$C$3*KATSAYILAR!$B$38,2)","v":0},{"$f":"'EK DERS VERİ GİRİŞİ'!G88","v":0},{"$f":"ROUND(I89*KATSAYILAR!$C$3*KATSAYILAR!$B$39,2)","v":0},{"$f":"'EK DERS VERİ GİRİŞİ'!H88","v":0},{"$f":"ROUND(K89*KATSAYILAR!$C$3*KATSAYILAR!$B$40,2)","v":0},0,0,0,{"$f":"IF(O89=0,0,IF(O89<KATSAYILAR!$C$9*N89,KATSAYILAR!$C$9*N89,O89))","v":0},{"$f":"ROUND(IF('BİLGİ GİRİŞİ'!D88=\"Ücretli Öğretmen\",P89*KATSAYILAR!$C$22,0),2)","v":0},{"$f":"ROUND(IF('BİLGİ GİRİŞİ'!D88=\"Ücretli Öğretmen (Emekli çalışan)\",P89*KATSAYILAR!$C$24,0),2)","v":0},0,{"$f":"'BİLGİ GİRİŞİ'!F88","v":0},{"$f":"\nIF('BİLGİ GİRİŞİ'!G88=KATSAYILAR!$B$16,KATSAYILAR!$C$16,\nIF('BİLGİ GİRİŞİ'!G88=KATSAYILAR!$B$17,KATSAYILAR!$C$17,\nIF('BİLGİ GİRİŞİ'!G88=KATSAYILAR!$B$18,KATSAYILAR!$C$18,0)))","v":0},{"$f":"'BİLGİ GİRİŞİ'!H88","v":0},0,{"$f":"hesaplamalar!J86","v":0},{"$f":"hesaplamalar!M86","v":0},{"$f":"hesaplamalar!N86","v":0},{"$f":"hesaplamalar!P86","v":0},{"$f":"hesaplamalar!Q86","v":0},{"$f":"hesaplamalar!T86","v":0},{"$f":"hesaplamalar!U86","v":0},0,{"$f":"ROUND(IF('BİLGİ GİRİŞİ'!D88=\"Ücretli Öğretmen\",P89*KATSAYILAR!$C$23,0),2)","v":0},0,{"$f":"ROUND(IF('BİLGİ GİRİŞİ'!D88=\"Ücretli Öğretmen (Emekli çalışan)\",P89*KATSAYILAR!$C$34,0),2)","v":0},{"$f":"'BİLGİ GİRİŞİ'!I88","v":0},0,0,null,0,null,{"$f":"'BİLGİ GİRİŞİ'!E88","v":0}]
[{"$f":"'EK DERS VERİ GİRİŞİ'!A89","v":85},{"$f":"'EK DERS VERİ GİRİŞİ'!B89","v":""},{"$f":"'EK DERS VERİ GİRİŞİ'!C89","v":""},{"$f":"'BİLGİ GİRİŞİ'!D89","v":0},{"$f":"'EK DERS VERİ GİRİŞİ'!E89","v":0},{"$f":"ROUND(E90*KATSAYILAR!$C$3*KATSAYILAR!$B$37,2)","v":0},{"$f":"'EK DERS VERİ GİRİŞİ'!F89","v":0},{"$f":"ROUND(G90*KATSAYILAR!$C$3*KATSAYILAR!$B$38,2)","v":0},{"$f":"'EK DERS VERİ GİRİŞİ'!G89","v":0},{"$f":"ROUND(I90*KATSAYILAR!$C$3*KATSAYILAR!$B$39,2)","v":0},{"$f":"'EK DERS VERİ GİRİŞİ'!H89","v":0},{"$f":"ROUND(K90*KATSAYILAR!$C$3*KATSAYILAR!$B$40,2)","v":0},0,0,0,{"$f":"IF(O90=0,0,IF(O90<KATSAYILAR!$C$9*N90,KATSAYILAR!$C$9*N90,O90))","v":0},{"$f":"ROUND(IF('BİLGİ GİRİŞİ'!D89=\"Ücretli Öğretmen\",P90*KATSAYILAR!$C$22,0),2)","v":0},{"$f":"ROUND(IF('BİLGİ GİRİŞİ'!D89=\"Ücretli Öğretmen (Emekli çalışan)\",P90*KATSAYILAR!$C$24,0),2)","v":0},0,{"$f":"'BİLGİ GİRİŞİ'!F89","v":0},{"$f":"\nIF('BİLGİ GİRİŞİ'!G89=KATSAYILAR!$B$16,KATSAYILAR!$C$16,\nIF('BİLGİ GİRİŞİ'!G89=KATSAYILAR!$B$17,KATSAYILAR!$C$17,\nIF('BİLGİ GİRİŞİ'!G89=KATSAYILAR!$B$18,KATSAYILAR!$C$18,0)))","v":0},{"$f":"'BİLGİ GİRİŞİ'!H89","v":0},0,{"$f":"hesaplamalar!J87","v":0},{"$f":"hesaplamalar!M87","v":0},{"$f":"hesaplamalar!N87","v":0},{"$f":"hesaplamalar!P87","v":0},{"$f":"hesaplamalar!Q87","v":0},{"$f":"hesaplamalar!T87","v":0},{"$f":"hesaplamalar!U87","v":0},0,{"$f":"ROUND(IF('BİLGİ GİRİŞİ'!D89=\"Ücretli Öğretmen\",P90*KATSAYILAR!$C$23,0),2)","v":0},0,{"$f":"ROUND(IF('BİLGİ GİRİŞİ'!D89=\"Ücretli Öğretmen (Emekli çalışan)\",P90*KATSAYILAR!$C$34,0),2)","v":0},{"$f":"'BİLGİ GİRİŞİ'!I89","v":0},0,0,null,0,null,{"$f":"'BİLGİ GİRİŞİ'!E89","v":0}]
[{"$f":"'EK DERS VERİ GİRİŞİ'!A90","v":86},{"$f":"'EK DERS VERİ GİRİŞİ'!B90","v":""},{"$f":"'EK DERS VERİ GİRİŞİ'!C90","v":""},{"$f":"'BİLGİ GİRİŞİ'!D90","v":0},{"$f":"'EK DERS VERİ GİRİŞİ'!E90","v":0},{"$f":"ROUND(E91*KATSAYILAR!$C$3*KATSAYILAR!$B$37,2)","v":0},{"$f":"'EK DERS VERİ GİRİŞİ'!F90","v":0},{"$f":"ROUND(G91*KATSAYILAR!$C$3*KATSAYILAR!$B$38,2)","v":0},{"$f":"'EK DERS VERİ GİRİŞİ'!G90","v":0},{"$f":"ROUND(I91*KATSAYILAR!$C$3*KATSAYILAR!$B$39,2)","v":0},{"$f":"'EK DERS VERİ GİRİŞİ'!H90","v":0},{"$f":"ROUND(K91*KATSAYILAR!$C$3*KATSAYILAR!$B$40,2)","v":0},0,0,0,{"$f":"IF(O91=0,0,IF(O91<KATSAYILAR!$C$9*N91,KATSAYILAR!$C$9*N91,O91))","v":0},{"$f":"ROUND(IF('BİLGİ GİRİŞİ'!D90=\"Ücretli Öğretmen\",P91*KATSAYILAR!$C$22,0),2)","v":0},{"$f":"ROUND(IF('BİLGİ GİRİŞİ'!D90=\"Ücretli Öğretmen (Emekli çalışan)\",P91*KATSAYILAR!$C$24,0),2)","v":0},0,{"$f":"'BİLGİ GİRİŞİ'!F90","v":0},{"$f":"\nIF('BİLGİ GİRİŞİ'!G90=KATSAYILAR!$B$16,KATSAYILAR!$C$16,\nIF('BİLGİ GİRİŞİ'!G90=KATSAYILAR!$B$17,KATSAYILAR!$C$17,\nIF('BİLGİ GİRİŞİ'!G90=KATSAYILAR!$B$18,KATSAYILAR!$C$18,0)))","v":0},{"$f":"'BİLGİ GİRİŞİ'!H90","v":0},0,{"$f":"hesaplamalar!J88","v":0},{"$f":"hesaplamalar!M88","v":0},{"$f":"hesaplamalar!N88","v":0},{"$f":"hesaplamalar!P88","v":0},{"$f":"hesaplamalar!Q88","v":0},{"$f":"hesaplamalar!T88","v":0},{"$f":"hesaplamalar!U88","v":0},0,{"$f":"ROUND(IF('BİLGİ GİRİŞİ'!D90=\"Ücretli Öğretmen\",P91*KATSAYILAR!$C$23,0),2)","v":0},0,{"$f":"ROUND(IF('BİLGİ GİRİŞİ'!D90=\"Ücretli Öğretmen (Emekli çalışan)\",P91*KATSAYILAR!$C$34,0),2)","v":0},{"$f":"'BİLGİ GİRİŞİ'!I90","v":0},0,0,null,0,null,{"$f":"'BİLGİ GİRİŞİ'!E90","v":0}]
[{"$f":"'EK DERS VERİ GİRİŞİ'!A91","v":87},{"$f":"'EK DERS VERİ GİRİŞİ'!B91","v":""},{"$f":"'EK DERS VERİ GİRİŞİ'!C91","v":""},{"$f":"'BİLGİ GİRİŞİ'!D91","v":0},{"$f":"'EK DERS VERİ GİRİŞİ'!E91","v":0},{"$f":"ROUND(E92*KATSAYILAR!$C$3*KATSAYILAR!$B$37,2)","v":0},{"$f":"'EK DERS VERİ GİRİŞİ'!F91","v":0},{"$f":"ROUND(G92*KATSAYILAR!$C$3*KATSAYILAR!$B$38,2)","v":0},{"$f":"'EK DERS VERİ GİRİŞİ'!G91","v":0},{"$f":"ROUND(I92*KATSAYILAR!$C$3*KATSAYILAR!$B$39,2)","v":0},{"$f":"'EK DERS VERİ GİRİŞİ'!H91","v":0},{"$f":"ROUND(K92*KATSAYILAR!$C$3*KATSAYILAR!$B$40,2)","v":0},0,0,0,{"$f":"IF(O92=0,0,IF(O92<KATSAYILAR!$C$9*N92,KATSAYILAR!$C$9*N92,O92))","v":0},{"$f":"ROUND(IF('BİLGİ GİRİŞİ'!D91=\"Ücretli Öğretmen\",P92*KATSAYILAR!$C$22,0),2)","v":0},{"$f":"ROUND(IF('BİLGİ GİRİŞİ'!D91=\"Ücretli Öğretmen (Emekli çalışan)\",P92*KATSAYILAR!$C$24,0),2)","v":0},0,{"$f":"'BİLGİ GİRİŞİ'!F91","v":0},{"$f":"\nIF('BİLGİ GİRİŞİ'!G91=KATSAYILAR!$B$16,KATSAYILAR!$C$16,\nIF('BİLGİ GİRİŞİ'!G91=KATSAYILAR!$B$17,KATSAYILAR!$C$17,\nIF('BİLGİ GİRİŞİ'!G91=KATSAYILAR!$B$18,KATSAYILAR!$C$18,0)))","v":0},{"$f":"'BİLGİ GİRİŞİ'!H91","v":0},0,{"$f":"hesaplamalar!J89","v":0},{"$f":"hesaplamalar!M89","v":0},{"$f":"hesaplamalar!N89","v":0},{"$f":"hesaplamalar!P89","v":0},{"$f":"hesaplamalar!Q89","v":0},{"$f":"hesaplamalar!T89","v":0},{"$f":"hesaplamalar!U89","v":0},0,{"$f":"ROUND(IF('BİLGİ GİRİŞİ'!D91=\"Ücretli Öğretmen\",P92*KATSAYILAR!$C$23,0),2)","v":0},0,{"$f":"ROUND(IF('BİLGİ GİRİŞİ'!D91=\"Ücretli Öğretmen (Emekli çalışan)\",P92*KATSAYILAR!$C$34,0),2)","v":0},{"$f":"'BİLGİ GİRİŞİ'!I91","v":0},0,0,null,0,null,{"$f":"'BİLGİ GİRİŞİ'!E91","v":0}]
[{"$f":"'EK DERS VERİ GİRİŞİ'!A92","v":88},{"$f":"'EK DERS VERİ GİRİŞİ'!B92","v":""},{"$f":"'EK DERS VERİ GİRİŞİ'!C92","v":""},{"$f":"'BİLGİ GİRİŞİ'!D92","v":0},{"$f":"'EK DERS VERİ GİRİŞİ'!E92","v":0},{"$f":"ROUND(E93*KATSAYILAR!$C$3*KATSAYILAR!$B$37,2)","v":0},{"$f":"'EK DERS VERİ GİRİŞİ'!F92","v":0},{"$f":"ROUND(G93*KATSAYILAR!$C$3*KATSAYILAR!$B$38,2)","v":0},{"$f":"'EK DERS VERİ GİRİŞİ'!G92","v":0},{"$f":"ROUND(I93*KATSAYILAR!$C$3*KATSAYILAR!$B$39,2)","v":0},{"$f":"'EK DERS VERİ GİRİŞİ'!H92","v":0},{"$f":"ROUND(K93*KATSAYILAR!$C$3*KATSAYILAR!$B$40,2)","v":0},0,0,0,{"$f":"IF(O93=0,0,IF(O93<KATSAYILAR!$C$9*N93,KATSAYILAR!$C$9*N93,O93))","v":0},{"$f":"ROUND(IF('BİLGİ GİRİŞİ'!D92=\"Ücretli Öğretmen\",P93*KATSAYILAR!$C$22,0),2)","v":0},{"$f":"ROUND(IF('BİLGİ GİRİŞİ'!D92=\"Ücretli Öğretmen (Emekli çalışan)\",P93*KATSAYILAR!$C$24,0),2)","v":0},0,{"$f":"'BİLGİ GİRİŞİ'!F92","v":0},{"$f":"\nIF('BİLGİ GİRİŞİ'!G92=KATSAYILAR!$B$16,KATSAYILAR!$C$16,\nIF('BİLGİ GİRİŞİ'!G92=KATSAYILAR!$B$17,KATSAYILAR!$C$17,\nIF('BİLGİ GİRİŞİ'!G92=KATSAYILAR!$B$18,KATSAYILAR!$C$18,0)))","v":0},{"$f":"'BİLGİ GİRİŞİ'!H92","v":0},0,{"$f":"hesaplamalar!J90","v":0},{"$f":"hesaplamalar!M90","v":0},{"$f":"hesaplamalar!N90","v":0},{"$f":"hesaplamalar!P90","v":0},{"$f":"hesaplamalar!Q90","v":0},{"$f":"hesaplamalar!T90","v":0},{"$f":"hesaplamalar!U90","v":0},0,{"$f":"ROUND(IF('BİLGİ GİRİŞİ'!D92=\"Ücretli Öğretmen\",P93*KATSAYILAR!$C$23,0),2)","v":0},0,{"$f":"ROUND(IF('BİLGİ GİRİŞİ'!D92=\"Ücretli Öğretmen (Emekli çalışan)\",P93*KATSAYILAR!$C$34,0),2)","v":0},{"$f":"'BİLGİ GİRİŞİ'!I92","v":0},0,0,null,0,null,{"$f":"'BİLGİ GİRİŞİ'!E92","v":0}]
[{"$f":"'EK DERS VERİ GİRİŞİ'!A93","v":89},{"$f":"'EK DERS VERİ GİRİŞİ'!B93","v":""},{"$f":"'EK DERS VERİ GİRİŞİ'!C93","v":""},{"$f":"'BİLGİ GİRİŞİ'!D93","v":0},{"$f":"'EK DERS VERİ GİRİŞİ'!E93","v":0},{"$f":"ROUND(E94*KATSAYILAR!$C$3*KATSAYILAR!$B$37,2)","v":0},{"$f":"'EK DERS VERİ GİRİŞİ'!F93","v":0},{"$f":"ROUND(G94*KATSAYILAR!$C$3*KATSAYILAR!$B$38,2)","v":0},{"$f":"'EK DERS VERİ GİRİŞİ'!G93","v":0},{"$f":"ROUND(I94*KATSAYILAR!$C$3*KATSAYILAR!$B$39,2)","v":0},{"$f":"'EK DERS VERİ GİRİŞİ'!H93","v":0},{"$f":"ROUND(K94*KATSAYILAR!$C$3*KATSAYILAR!$B$40,2)","v":0},0,0,0,{"$f":"IF(O94=0,0,IF(O94<KATSAYILAR!$C$9*N94,KATSAYILAR!$C$9*N94,O94))","v":0},{"$f":"ROUND(IF('BİLGİ GİRİŞİ'!D93=\"Ücretli Öğretmen\",P94*KATSAYILAR!$C$22,0),2)","v":0},{"$f":"ROUND(IF('BİLGİ GİRİŞİ'!D93=\"Ücretli Öğretmen (Emekli çalışan)\",P94*KATSAYILAR!$C$24,0),2)","v":0},0,{"$f":"'BİLGİ GİRİŞİ'!F93","v":0},{"$f":"\nIF('BİLGİ GİRİŞİ'!G93=KATSAYILAR!$B$16,KATSAYILAR!$C$16,\nIF('BİLGİ GİRİŞİ'!G93=KATSAYILAR!$B$17,KATSAYILAR!$C$17,\nIF('BİLGİ GİRİŞİ'!G93=KATSAYILAR!$B$18,KATSAYILAR!$C$18,0)))","v":0},{"$f":"'BİLGİ GİRİŞİ'!H93","v":0},0,{"$f":"hesaplamalar!J91","v":0},{"$f":"hesaplamalar!M91","v":0},{"$f":"hesaplamalar!N91","v":0},{"$f":"hesaplamalar!P91","v":0},{"$f":"hesaplamalar!Q91","v":0},{"$f":"hesaplamalar!T91","v":0},{"$f":"hesaplamalar!U91","v":0},0,{"$f":"ROUND(IF('BİLGİ GİRİŞİ'!D93=\"Ücretli Öğretmen\",P94*KATSAYILAR!$C$23,0),2)","v":0},0,{"$f":"ROUND(IF('BİLGİ GİRİŞİ'!D93=\"Ücretli Öğretmen (Emekli çalışan)\",P94*KATSAYILAR!$C$34,0),2)","v":0},{"$f":"'BİLGİ GİRİŞİ'!I93","v":0},0,0,null,0,null,{"$f":"'BİLGİ GİRİŞİ'!E93","v":0}]
[{"$f":"'EK DERS VERİ GİRİŞİ'!A94","v":90},{"$f":"'EK DERS VERİ GİRİŞİ'!B94","v":""},{"$f":"'EK DERS VERİ GİRİŞİ'!C94","v":""},{"$f":"'BİLGİ GİRİŞİ'!D94","v":0},{"$f":"'EK DERS VERİ GİRİŞİ'!E94","v":0},{"$f":"ROUND(E95*KATSAYILAR!$C$3*KATSAYILAR!$B$37,2)","v":0},{"$f":"'EK DERS VERİ GİRİŞİ'!F94","v":0},{"$f":"ROUND(G95*KATSAYILAR!$C$3*KATSAYILAR!$B$38,2)","v":0},{"$f":"'EK DERS VERİ GİRİŞİ'!G94","v":0},{"$f":"ROUND(I95*KATSAYILAR!$C$3*KATSAYILAR!$B$39,2)","v":0},{"$f":"'EK DERS VERİ GİRİŞİ'!H94","v":0},{"$f":"ROUND(K95*KATSAYILAR!$C$3*KATSAYILAR!$B$40,2)","v":0},0,0,0,{"$f":"IF(O95=0,0,IF(O95<KATSAYILAR!$C$9*N95,KATSAYILAR!$C$9*N95,O95))","v":0},{"$f":"ROUND(IF('BİLGİ GİRİŞİ'!D94=\"Ücretli Öğretmen\",P95*KATSAYILAR!$C$22,0),2)","v":0},{"$f":"ROUND(IF('BİLGİ GİRİŞİ'!D94=\"Ücretli Öğretmen (Emekli çalışan)\",P95*KATSAYILAR!$C$24,0),2)","v":0},0,{"$f":"'BİLGİ GİRİŞİ'!F94","v":0},{"$f":"\nIF('BİLGİ GİRİŞİ'!G94=KATSAYILAR!$B$16,KATSAYILAR!$C$16,\nIF('BİLGİ GİRİŞİ'!G94=KATSAYILAR!$B$17,KATSAYILAR!$C$17,\nIF('BİLGİ GİRİŞİ'!G94=KATSAYILAR!$B$18,KATSAYILAR!$C$18,0)))","v":0},{"$f":"'BİLGİ GİRİŞİ'!H94","v":0},0,{"$f":"hesaplamalar!J92","v":0},{"$f":"hesaplamalar!M92","v":0},{"$f":"hesaplamalar!N92","v":0},{"$f":"hesaplamalar!P92","v":0},{"$f":"hesaplamalar!Q92","v":0},{"$f":"hesaplamalar!T92","v":0},{"$f":"hesaplamalar!U92","v":0},0,{"$f":"ROUND(IF('BİLGİ GİRİŞİ'!D94=\"Ücretli Öğretmen\",P95*KATSAYILAR!$C$23,0),2)","v":0},0,{"$f":"ROUND(IF('BİLGİ GİRİŞİ'!D94=\"Ücretli Öğretmen (Emekli çalışan)\",P95*KATSAYILAR!$C$34,0),2)","v":0},{"$f":"'BİLGİ GİRİŞİ'!I94","v":0},0,0,null,0,null,{"$f":"'BİLGİ GİRİŞİ'!E94","v":0}]
[{"$f":"'EK DERS VERİ GİRİŞİ'!A95","v":91},{"$f":"'EK DERS VERİ GİRİŞİ'!B95","v":""},{"$f":"'EK DERS VERİ GİRİŞİ'!C95","v":""},{"$f":"'BİLGİ GİRİŞİ'!D95","v":0},{"$f":"'EK DERS VERİ GİRİŞİ'!E95","v":0},{"$f":"ROUND(E96*KATSAYILAR!$C$3*KATSAYILAR!$B$37,2)","v":0},{"$f":"'EK DERS VERİ GİRİŞİ'!F95","v":0},{"$f":"ROUND(G96*KATSAYILAR!$C$3*KATSAYILAR!$B$38,2)","v":0},{"$f":"'EK DERS VERİ GİRİŞİ'!G95","v":0},{"$f":"ROUND(I96*KATSAYILAR!$C$3*KATSAYILAR!$B$39,2)","v":0},{"$f":"'EK DERS VERİ GİRİŞİ'!H95","v":0},{"$f":"ROUND(K96*KATSAYILAR!$C$3*KATSAYILAR!$B$40,2)","v":0},0,0,0,{"$f":"IF(O96=0,0,IF(O96<KATSAYILAR!$C$9*N96,KATSAYILAR!$C$9*N96,O96))","v":0},{"$f":"ROUND(IF('BİLGİ GİRİŞİ'!D95=\"Ücretli Öğretmen\",P96*KATSAYILAR!$C$22,0),2)","v":0},{"$f":"ROUND(IF('BİLGİ GİRİŞİ'!D95=\"Ücretli Öğretmen (Emekli çalışan)\",P96*KATSAYILAR!$C$24,0),2)","v":0},0,{"$f":"'BİLGİ GİRİŞİ'!F95","v":0},{"$f":"\nIF('BİLGİ GİRİŞİ'!G95=KATSAYILAR!$B$16,KATSAYILAR!$C$16,\nIF('BİLGİ GİRİŞİ'!G95=KATSAYILAR!$B$17,KATSAYILAR!$C$17,\nIF('BİLGİ GİRİŞİ'!G95=KATSAYILAR!$B$18,KATSAYILAR!$C$18,0)))","v":0},{"$f":"'BİLGİ GİRİŞİ'!H95","v":0},0,{"$f":"hesaplamalar!J93","v":0},{"$f":"hesaplamalar!M93","v":0},{"$f":"hesaplamalar!N93","v":0},{"$f":"hesaplamalar!P93","v":0},{"$f":"hesaplamalar!Q93","v":0},{"$f":"hesaplamalar!T93","v":0},{"$f":"hesaplamalar!U93","v":0},0,{"$f":"ROUND(IF('BİLGİ GİRİŞİ'!D95=\"Ücretli Öğretmen\",P96*KATSAYILAR!$C$23,0),2)","v":0},0,{"$f":"ROUND(IF('BİLGİ GİRİŞİ'!D95=\"Ücretli Öğretmen (Emekli çalışan)\",P96*KATSAYILAR!$C$34,0),2)","v":0},{"$f":"'BİLGİ GİRİŞİ'!I95","v":0},0,0,null,0,null,{"$f":"'BİLGİ GİRİŞİ'!E95","v":0}]
[{"$f":"'EK DERS VERİ GİRİŞİ'!A96","v":92},{"$f":"'EK DERS VERİ GİRİŞİ'!B96","v":""},{"$f":"'EK DERS VERİ GİRİŞİ'!C96","v":""},{"$f":"'BİLGİ GİRİŞİ'!D96","v":0},{"$f":"'EK DERS VERİ GİRİŞİ'!E96","v":0},{"$f":"ROUND(E97*KATSAYILAR!$C$3*KATSAYILAR!$B$37,2)","v":0},{"$f":"'EK DERS VERİ GİRİŞİ'!F96","v":0},{"$f":"ROUND(G97*KATSAYILAR!$C$3*KATSAYILAR!$B$38,2)","v":0},{"$f":"'EK DERS VERİ GİRİŞİ'!G96","v":0},{"$f":"ROUND(I97*KATSAYILAR!$C$3*KATSAYILAR!$B$39,2)","v":0},{"$f":"'EK DERS VERİ GİRİŞİ'!H96","v":0},{"$f":"ROUND(K97*KATSAYILAR!$C$3*KATSAYILAR!$B$40,2)","v":0},0,0,0,{"$f":"IF(O97=0,0,IF(O97<KATSAYILAR!$C$9*N97,KATSAYILAR!$C$9*N97,O97))","v":0},{"$f":"ROUND(IF('BİLGİ GİRİŞİ'!D96=\"Ücretli Öğretmen\",P97*KATSAYILAR!$C$22,0),2)","v":0},{"$f":"ROUND(IF('BİLGİ GİRİŞİ'!D96=\"Ücretli Öğretmen (Emekli çalışan)\",P97*KATSAYILAR!$C$24,0),2)","v":0},0,{"$f":"'BİLGİ GİRİŞİ'!F96","v":0},{"$f":"\nIF('BİLGİ GİRİŞİ'!G96=KATSAYILAR!$B$16,KATSAYILAR!$C$16,\nIF('BİLGİ GİRİŞİ'!G96=KATSAYILAR!$B$17,KATSAYILAR!$C$17,\nIF('BİLGİ GİRİŞİ'!G96=KATSAYILAR!$B$18,KATSAYILAR!$C$18,0)))","v":0},{"$f":"'BİLGİ GİRİŞİ'!H96","v":0},0,{"$f":"hesaplamalar!J94","v":0},{"$f":"hesaplamalar!M94","v":0},{"$f":"hesaplamalar!N94","v":0},{"$f":"hesaplamalar!P94","v":0},{"$f":"hesaplamalar!Q94","v":0},{"$f":"hesaplamalar!T94","v":0},{"$f":"hesaplamalar!U94","v":0},0,{"$f":"ROUND(IF('BİLGİ GİRİŞİ'!D96=\"Ücretli Öğretmen\",P97*KATSAYILAR!$C$23,0),2)","v":0},0,{"$f":"ROUND(IF('BİLGİ GİRİŞİ'!D96=\"Ücretli Öğretmen (Emekli çalışan)\",P97*KATSAYILAR!$C$34,0),2)","v":0},{"$f":"'BİLGİ GİRİŞİ'!I96","v":0},0,0,null,0,null,{"$f":"'BİLGİ GİRİŞİ'!E96","v":0}]
[{"$f":"'EK DERS VERİ GİRİŞİ'!A97","v":93},{"$f":"'EK DERS VERİ GİRİŞİ'!B97","v":""},{"$f":"'EK DERS VERİ GİRİŞİ'!C97","v":""},{"$f":"'BİLGİ GİRİŞİ'!D97","v":0},{"$f":"'EK DERS VERİ GİRİŞİ'!E97","v":0},{"$f":"ROUND(E98*KATSAYILAR!$C$3*KATSAYILAR!$B$37,2)","v":0},{"$f":"'EK DERS VERİ GİRİŞİ'!F97","v":0},{"$f":"ROUND(G98*KATSAYILAR!$C$3*KATSAYILAR!$B$38,2)","v":0},{"$f":"'EK DERS VERİ GİRİŞİ'!G97","v":0},{"$f":"ROUND(I98*KATSAYILAR!$C$3*KATSAYILAR!$B$39,2)","v":0},{"$f":"'EK DERS VERİ GİRİŞİ'!H97","v":0},{"$f":"ROUND(K98*KATSAYILAR!$C$3*KATSAYILAR!$B$40,2)","v":0},0,0,0,{"$f":"IF(O98=0,0,IF(O98<KATSAYILAR!$C$9*N98,KATSAYILAR!$C$9*N98,O98))","v":0},{"$f":"ROUND(IF('BİLGİ GİRİŞİ'!D97=\"Ücretli Öğretmen\",P98*KATSAYILAR!$C$22,0),2)","v":0},{"$f":"ROUND(IF('BİLGİ GİRİŞİ'!D97=\"Ücretli Öğretmen (Emekli çalışan)\",P98*KATSAYILAR!$C$24,0),2)","v":0},0,{"$f":"'BİLGİ GİRİŞİ'!F97","v":0},{"$f":"\nIF('BİLGİ GİRİŞİ'!G97=KATSAYILAR!$B$16,KATSAYILAR!$C$16,\nIF('BİLGİ GİRİŞİ'!G97=KATSAYILAR!$B$17,KATSAYILAR!$C$17,\nIF('BİLGİ GİRİŞİ'!G97=KATSAYILAR!$B$18,KATSAYILAR!$C$18,0)))","v":0},{"$f":"'BİLGİ GİRİŞİ'!H97","v":0},0,{"$f":"hesaplamalar!J95","v":0},{"$f":"hesaplamalar!M95","v":0},{"$f":"hesaplamalar!N95","v":0},{"$f":"hesaplamalar!P95","v":0},{"$f":"hesaplamalar!Q95","v":0},{"$f":"hesaplamalar!T95","v":0},{"$f":"hesaplamalar!U95","v":0},0,{"$f":"ROUND(IF('BİLGİ GİRİŞİ'!D97=\"Ücretli Öğretmen\",P98*KATSAYILAR!$C$23,0),2)","v":0},0,{"$f":"ROUND(IF('BİLGİ GİRİŞİ'!D97=\"Ücretli Öğretmen (Emekli çalışan)\",P98*KATSAYILAR!$C$34,0),2)","v":0},{"$f":"'BİLGİ GİRİŞİ'!I97","v":0},0,0,null,0,null,{"$f":"'BİLGİ GİRİŞİ'!E97","v":0}]
[{"$f":"'EK DERS VERİ GİRİŞİ'!A98","v":94},{"$f":"'EK DERS VERİ GİRİŞİ'!B98","v":""},{"$f":"'EK DERS VERİ GİRİŞİ'!C98","v":""},{"$f":"'BİLGİ GİRİŞİ'!D98","v":0},{"$f":"'EK DERS VERİ GİRİŞİ'!E98","v":0},{"$f":"ROUND(E99*KATSAYILAR!$C$3*KATSAYILAR!$B$37,2)","v":0},{"$f":"'EK DERS VERİ GİRİŞİ'!F98","v":0},{"$f":"ROUND(G99*KATSAYILAR!$C$3*KATSAYILAR!$B$38,2)","v":0},{"$f":"'EK DERS VERİ GİRİŞİ'!G98","v":0},{"$f":"ROUND(I99*KATSAYILAR!$C$3*KATSAYILAR!$B$39,2)","v":0},{"$f":"'EK DERS VERİ GİRİŞİ'!H98","v":0},{"$f":"ROUND(K99*KATSAYILAR!$C$3*KATSAYILAR!$B$40,2)","v":0},0,0,0,{"$f":"IF(O99=0,0,IF(O99<KATSAYILAR!$C$9*N99,KATSAYILAR!$C$9*N99,O99))","v":0},{"$f":"ROUND(IF('BİLGİ GİRİŞİ'!D98=\"Ücretli Öğretmen\",P99*KATSAYILAR!$C$22,0),2)","v":0},{"$f":"ROUND(IF('BİLGİ GİRİŞİ'!D98=\"Ücretli Öğretmen (Emekli çalışan)\",P99*KATSAYILAR!$C$24,0),2)","v":0},0,{"$f":"'BİLGİ GİRİŞİ'!F98","v":0},{"$f":"\nIF('BİLGİ GİRİŞİ'!G98=KATSAYILAR!$B$16,KATSAYILAR!$C$16,\nIF('BİLGİ GİRİŞİ'!G98=KATSAYILAR!$B$17,KATSAYILAR!$C$17,\nIF('BİLGİ GİRİŞİ'!G98=KATSAYILAR!$B$18,KATSAYILAR!$C$18,0)))","v":0},{"$f":"'BİLGİ GİRİŞİ'!H98","v":0},0,{"$f":"hesaplamalar!J96","v":0},{"$f":"hesaplamalar!M96","v":0},{"$f":"hesaplamalar!N96","v":0},{"$f":"hesaplamalar!P96","v":0},{"$f":"hesaplamalar!Q96","v":0},{"$f":"hesaplamalar!T96","v":0},{"$f":"hesaplamalar!U96","v":0},0,{"$f":"ROUND(IF('BİLGİ GİRİŞİ'!D98=\"Ücretli Öğretmen\",P99*KATSAYILAR!$C$23,0),2)","v":0},0,{"$f":"ROUND(IF('BİLGİ GİRİŞİ'!D98=\"Ücretli Öğretmen (Emekli çalışan)\",P99*KATSAYILAR!$C$34,0),2)","v":0},{"$f":"'BİLGİ GİRİŞİ'!I98","v":0},0,0,null,0,null,{"$f":"'BİLGİ GİRİŞİ'!E98","v":0}]
[{"$f":"'EK DERS VERİ GİRİŞİ'!A99","v":95},{"$f":"'EK DERS VERİ GİRİŞİ'!B99","v":""},{"$f":"'EK DERS VERİ GİRİŞİ'!C99","v":""},{"$f":"'BİLGİ GİRİŞİ'!D99","v":0},{"$f":"'EK DERS VERİ GİRİŞİ'!E99","v":0},{"$f":"ROUND(E100*KATSAYILAR!$C$3*KATSAYILAR!$B$37,2)","v":0},{"$f":"'EK DERS VERİ GİRİŞİ'!F99","v":0},{"$f":"ROUND(G100*KATSAYILAR!$C$3*KATSAYILAR!$B$38,2)","v":0},{"$f":"'EK DERS VERİ GİRİŞİ'!G99","v":0},{"$f":"ROUND(I100*KATSAYILAR!$C$3*KATSAYILAR!$B$39,2)","v":0},{"$f":"'EK DERS VERİ GİRİŞİ'!H99","v":0},{"$f":"ROUND(K100*KATSAYILAR!$C$3*KATSAYILAR!$B$40,2)","v":0},0,0,0,{"$f":"IF(O100=0,0,IF(O100<KATSAYILAR!$C$9*N100,KATSAYILAR!$C$9*N100,O100))","v":0},{"$f":"ROUND(IF('BİLGİ GİRİŞİ'!D99=\"Ücretli Öğretmen\",P100*KATSAYILAR!$C$22,0),2)","v":0},{"$f":"ROUND(IF('BİLGİ GİRİŞİ'!D99=\"Ücretli Öğretmen (Emekli çalışan)\",P100*KATSAYILAR!$C$24,0),2)","v":0},0,{"$f":"'BİLGİ GİRİŞİ'!F99","v":0},{"$f":"\nIF('BİLGİ GİRİŞİ'!G99=KATSAYILAR!$B$16,KATSAYILAR!$C$16,\nIF('BİLGİ GİRİŞİ'!G99=KATSAYILAR!$B$17,KATSAYILAR!$C$17,\nIF('BİLGİ GİRİŞİ'!G99=KATSAYILAR!$B$18,KATSAYILAR!$C$18,0)))","v":0},{"$f":"'BİLGİ GİRİŞİ'!H99","v":0},0,{"$f":"hesaplamalar!J97","v":0},{"$f":"hesaplamalar!M97","v":0},{"$f":"hesaplamalar!N97","v":0},{"$f":"hesaplamalar!P97","v":0},{"$f":"hesaplamalar!Q97","v":0},{"$f":"hesaplamalar!T97","v":0},{"$f":"hesaplamalar!U97","v":0},0,{"$f":"ROUND(IF('BİLGİ GİRİŞİ'!D99=\"Ücretli Öğretmen\",P100*KATSAYILAR!$C$23,0),2)","v":0},0,{"$f":"ROUND(IF('BİLGİ GİRİŞİ'!D99=\"Ücretli Öğretmen (Emekli çalışan)\",P100*KATSAYILAR!$C$34,0),2)","v":0},{"$f":"'BİLGİ GİRİŞİ'!I99","v":0},0,0,null,0,null,{"$f":"'BİLGİ GİRİŞİ'!E99","v":0}]
[{"$f":"'EK DERS VERİ GİRİŞİ'!A100","v":96},{"$f":"'EK DERS VERİ GİRİŞİ'!B100","v":""},{"$f":"'EK DERS VERİ GİRİŞİ'!C100","v":""},{"$f":"'BİLGİ GİRİŞİ'!D100","v":0},{"$f":"'EK DERS VERİ GİRİŞİ'!E100","v":0},{"$f":"ROUND(E101*KATSAYILAR!$C$3*KATSAYILAR!$B$37,2)","v":0},{"$f":"'EK DERS VERİ GİRİŞİ'!F100","v":0},{"$f":"ROUND(G101*KATSAYILAR!$C$3*KATSAYILAR!$B$38,2)","v":0},{"$f":"'EK DERS VERİ GİRİŞİ'!G100","v":0},{"$f":"ROUND(I101*KATSAYILAR!$C$3*KATSAYILAR!$B$39,2)","v":0},{"$f":"'EK DERS VERİ GİRİŞİ'!H100","v":0},{"$f":"ROUND(K101*KATSAYILAR!$C$3*KATSAYILAR!$B$40,2)","v":0},0,0,0,{"$f":"IF(O101=0,0,IF(O101<KATSAYILAR!$C$9*N101,KATSAYILAR!$C$9*N101,O101))","v":0},{"$f":"ROUND(IF('BİLGİ GİRİŞİ'!D100=\"Ücretli Öğretmen\",P101*KATSAYILAR!$C$22,0),2)","v":0},{"$f":"ROUND(IF('BİLGİ GİRİŞİ'!D100=\"Ücretli Öğretmen (Emekli çalışan)\",P101*KATSAYILAR!$C$24,0),2)","v":0},0,{"$f":"'BİLGİ GİRİŞİ'!F100","v":0},{"$f":"\nIF('BİLGİ GİRİŞİ'!G100=KATSAYILAR!$B$16,KATSAYILAR!$C$16,\nIF('BİLGİ GİRİŞİ'!G100=KATSAYILAR!$B$17,KATSAYILAR!$C$17,\nIF('BİLGİ GİRİŞİ'!G100=KATSAYILAR!$B$18,KATSAYILAR!$C$18,0)))","v":0},{"$f":"'BİLGİ GİRİŞİ'!H100","v":0},0,{"$f":"hesaplamalar!J98","v":0},{"$f":"hesaplamalar!M98","v":0},{"$f":"hesaplamalar!N98","v":0},{"$f":"hesaplamalar!P98","v":0},{"$f":"hesaplamalar!Q98","v":0},{"$f":"hesaplamalar!T98","v":0},{"$f":"hesaplamalar!U98","v":0},0,{"$f":"ROUND(IF('BİLGİ GİRİŞİ'!D100=\"Ücretli Öğretmen\",P101*KATSAYILAR!$C$23,0),2)","v":0},0,{"$f":"ROUND(IF('BİLGİ GİRİŞİ'!D100=\"Ücretli Öğretmen (Emekli çalışan)\",P101*KATSAYILAR!$C$34,0),2)","v":0},{"$f":"'BİLGİ GİRİŞİ'!I100","v":0},0,0,null,0,null,{"$f":"'BİLGİ GİRİŞİ'!E100","v":0}]
[{"$f":"'EK DERS VERİ GİRİŞİ'!A101","v":97},{"$f":"'EK DERS VERİ GİRİŞİ'!B101","v":""},{"$f":"'EK DERS VERİ GİRİŞİ'!C101","v":""},{"$f":"'BİLGİ GİRİŞİ'!D101","v":0},{"$f":"'EK DERS VERİ GİRİŞİ'!E101","v":0},{"$f":"ROUND(E102*KATSAYILAR!$C$3*KATSAYILAR!$B$37,2)","v":0},{"$f":"'EK DERS VERİ GİRİŞİ'!F101","v":0},{"$f":"ROUND(G102*KATSAYILAR!$C$3*KATSAYILAR!$B$38,2)","v":0},{"$f":"'EK DERS VERİ GİRİŞİ'!G101","v":0},{"$f":"ROUND(I102*KATSAYILAR!$C$3*KATSAYILAR!$B$39,2)","v":0},{"$f":"'EK DERS VERİ GİRİŞİ'!H101","v":0},{"$f":"ROUND(K102*KATSAYILAR!$C$3*KATSAYILAR!$B$40,2)","v":0},0,0,0,{"$f":"IF(O102=0,0,IF(O102<KATSAYILAR!$C$9*N102,KATSAYILAR!$C$9*N102,O102))","v":0},{"$f":"ROUND(IF('BİLGİ GİRİŞİ'!D101=\"Ücretli Öğretmen\",P102*KATSAYILAR!$C$22,0),2)","v":0},{"$f":"ROUND(IF('BİLGİ GİRİŞİ'!D101=\"Ücretli Öğretmen (Emekli çalışan)\",P102*KATSAYILAR!$C$24,0),2)","v":0},0,{"$f":"'BİLGİ GİRİŞİ'!F101","v":0},{"$f":"\nIF('BİLGİ GİRİŞİ'!G101=KATSAYILAR!$B$16,KATSAYILAR!$C$16,\nIF('BİLGİ GİRİŞİ'!G101=KATSAYILAR!$B$17,KATSAYILAR!$C$17,\nIF('BİLGİ GİRİŞİ'!G101=KATSAYILAR!$B$18,KATSAYILAR!$C$18,0)))","v":0},{"$f":"'BİLGİ GİRİŞİ'!H101","v":0},0,{"$f":"hesaplamalar!J99","v":0},{"$f":"hesaplamalar!M99","v":0},{"$f":"hesaplamalar!N99","v":0},{"$f":"hesaplamalar!P99","v":0},{"$f":"hesaplamalar!Q99","v":0},{"$f":"hesaplamalar!T99","v":0},{"$f":"hesaplamalar!U99","v":0},0,{"$f":"ROUND(IF('BİLGİ GİRİŞİ'!D101=\"Ücretli Öğretmen\",P102*KATSAYILAR!$C$23,0),2)","v":0},0,{"$f":"ROUND(IF('BİLGİ GİRİŞİ'!D101=\"Ücretli Öğretmen (Emekli çalışan)\",P102*KATSAYILAR!$C$34,0),2)","v":0},{"$f":"'BİLGİ GİRİŞİ'!I101","v":0},0,0,null,0,null,{"$f":"'BİLGİ GİRİŞİ'!E101","v":0}]
[{"$f":"'EK DERS VERİ GİRİŞİ'!A102","v":98},{"$f":"'EK DERS VERİ GİRİŞİ'!B102","v":""},{"$f":"'EK DERS VERİ GİRİŞİ'!C102","v":""},{"$f":"'BİLGİ GİRİŞİ'!D102","v":0},{"$f":"'EK DERS VERİ GİRİŞİ'!E102","v":0},{"$f":"ROUND(E103*KATSAYILAR!$C$3*KATSAYILAR!$B$37,2)","v":0},{"$f":"'EK DERS VERİ GİRİŞİ'!F102","v":0},{"$f":"ROUND(G103*KATSAYILAR!$C$3*KATSAYILAR!$B$38,2)","v":0},{"$f":"'EK DERS VERİ GİRİŞİ'!G102","v":0},{"$f":"ROUND(I103*KATSAYILAR!$C$3*KATSAYILAR!$B$39,2)","v":0},{"$f":"'EK DERS VERİ GİRİŞİ'!H102","v":0},{"$f":"ROUND(K103*KATSAYILAR!$C$3*KATSAYILAR!$B$40,2)","v":0},0,0,0,{"$f":"IF(O103=0,0,IF(O103<KATSAYILAR!$C$9*N103,KATSAYILAR!$C$9*N103,O103))","v":0},{"$f":"ROUND(IF('BİLGİ GİRİŞİ'!D102=\"Ücretli Öğretmen\",P103*KATSAYILAR!$C$22,0),2)","v":0},{"$f":"ROUND(IF('BİLGİ GİRİŞİ'!D102=\"Ücretli Öğretmen (Emekli çalışan)\",P103*KATSAYILAR!$C$24,0),2)","v":0},0,{"$f":"'BİLGİ GİRİŞİ'!F102","v":0},{"$f":"\nIF('BİLGİ GİRİŞİ'!G102=KATSAYILAR!$B$16,KATSAYILAR!$C$16,\nIF('BİLGİ GİRİŞİ'!G102=KATSAYILAR!$B$17,KATSAYILAR!$C$17,\nIF('BİLGİ GİRİŞİ'!G102=KATSAYILAR!$B$18,KATSAYILAR!$C$18,0)))","v":0},{"$f":"'BİLGİ GİRİŞİ'!H102","v":0},0,{"$f":"hesaplamalar!J100","v":0},{"$f":"hesaplamalar!M100","v":0},{"$f":"hesaplamalar!N100","v":0},{"$f":"hesaplamalar!P100","v":0},{"$f":"hesaplamalar!Q100","v":0},{"$f":"hesaplamalar!T100","v":0},{"$f":"hesaplamalar!U100","v":0},0,{"$f":"ROUND(IF('BİLGİ GİRİŞİ'!D102=\"Ücretli Öğretmen\",P103*KATSAYILAR!$C$23,0),2)","v":0},0,{"$f":"ROUND(IF('BİLGİ GİRİŞİ'!D102=\"Ücretli Öğretmen (Emekli çalışan)\",P103*KATSAYILAR!$C$34,0),2)","v":0},{"$f":"'BİLGİ GİRİŞİ'!I102","v":0},0,0,null,0,null,{"$f":"'BİLGİ GİRİŞİ'!E102","v":0}]
[{"$f":"'EK DERS VERİ GİRİŞİ'!A103","v":99},{"$f":"'EK DERS VERİ GİRİŞİ'!B103","v":""},{"$f":"'EK DERS VERİ GİRİŞİ'!C103","v":""},{"$f":"'BİLGİ GİRİŞİ'!D103","v":0},{"$f":"'EK DERS VERİ GİRİŞİ'!E103","v":0},{"$f":"ROUND(E104*KATSAYILAR!$C$3*KATSAYILAR!$B$37,2)","v":0},{"$f":"'EK DERS VERİ GİRİŞİ'!F103","v":0},{"$f":"ROUND(G104*KATSAYILAR!$C$3*KATSAYILAR!$B$38,2)","v":0},{"$f":"'EK DERS VERİ GİRİŞİ'!G103","v":0},{"$f":"ROUND(I104*KATSAYILAR!$C$3*KATSAYILAR!$B$39,2)","v":0},{"$f":"'EK DERS VERİ GİRİŞİ'!H103","v":0},{"$f":"ROUND(K104*KATSAYILAR!$C$3*KATSAYILAR!$B$40,2)","v":0},0,0,0,{"$f":"IF(O104=0,0,IF(O104<KATSAYILAR!$C$9*N104,KATSAYILAR!$C$9*N104,O104))","v":0},{"$f":"ROUND(IF('BİLGİ GİRİŞİ'!D103=\"Ücretli Öğretmen\",P104*KATSAYILAR!$C$22,0),2)","v":0},{"$f":"ROUND(IF('BİLGİ GİRİŞİ'!D103=\"Ücretli Öğretmen (Emekli çalışan)\",P104*KATSAYILAR!$C$24,0),2)","v":0},0,{"$f":"'BİLGİ GİRİŞİ'!F103","v":0},{"$f":"\nIF('BİLGİ GİRİŞİ'!G103=KATSAYILAR!$B$16,KATSAYILAR!$C$16,\nIF('BİLGİ GİRİŞİ'!G103=KATSAYILAR!$B$17,KATSAYILAR!$C$17,\nIF('BİLGİ GİRİŞİ'!G103=KATSAYILAR!$B$18,KATSAYILAR!$C$18,0)))","v":0},{"$f":"'BİLGİ GİRİŞİ'!H103","v":0},0,{"$f":"hesaplamalar!J101","v":0},{"$f":"hesaplamalar!M101","v":0},{"$f":"hesaplamalar!N101","v":0},{"$f":"hesaplamalar!P101","v":0},{"$f":"hesaplamalar!Q101","v":0},{"$f":"hesaplamalar!T101","v":0},{"$f":"hesaplamalar!U101","v":0},0,{"$f":"ROUND(IF('BİLGİ GİRİŞİ'!D103=\"Ücretli Öğretmen\",P104*KATSAYILAR!$C$23,0),2)","v":0},0,{"$f":"ROUND(IF('BİLGİ GİRİŞİ'!D103=\"Ücretli Öğretmen (Emekli çalışan)\",P104*KATSAYILAR!$C$34,0),2)","v":0},{"$f":"'BİLGİ GİRİŞİ'!I103","v":0},0,0,null,0,null,{"$f":"'BİLGİ GİRİŞİ'!E103","v":0}]
[{"$f":"'EK DERS VERİ GİRİŞİ'!A104","v":100},{"$f":"'EK DERS VERİ GİRİŞİ'!B104","v":""},{"$f":"'EK DERS VERİ GİRİŞİ'!C104","v":""},{"$f":"'BİLGİ GİRİŞİ'!D104","v":0},{"$f":"'EK DERS VERİ GİRİŞİ'!E104","v":0},{"$f":"ROUND(E105*KATSAYILAR!$C$3*KATSAYILAR!$B$37,2)","v":0},{"$f":"'EK DERS VERİ GİRİŞİ'!F104","v":0},{"$f":"ROUND(G105*KATSAYILAR!$C$3*KATSAYILAR!$B$38,2)","v":0},{"$f":"'EK DERS VERİ GİRİŞİ'!G104","v":0},{"$f":"ROUND(I105*KATSAYILAR!$C$3*KATSAYILAR!$B$39,2)","v":0},{"$f":"'EK DERS VERİ GİRİŞİ'!H104","v":0},{"$f":"ROUND(K105*KATSAYILAR!$C$3*KATSAYILAR!$B$40,2)","v":0},0,0,0,{"$f":"IF(O105=0,0,IF(O105<KATSAYILAR!$C$9*N105,KATSAYILAR!$C$9*N105,O105))","v":0},{"$f":"ROUND(IF('BİLGİ GİRİŞİ'!D104=\"Ücretli Öğretmen\",P105*KATSAYILAR!$C$22,0),2)","v":0},{"$f":"ROUND(IF('BİLGİ GİRİŞİ'!D104=\"Ücretli Öğretmen (Emekli çalışan)\",P105*KATSAYILAR!$C$24,0),2)","v":0},0,{"$f":"'BİLGİ GİRİŞİ'!F104","v":0},{"$f":"\nIF('BİLGİ GİRİŞİ'!G104=KATSAYILAR!$B$16,KATSAYILAR!$C$16,\nIF('BİLGİ GİRİŞİ'!G104=KATSAYILAR!$B$17,KATSAYILAR!$C$17,\nIF('BİLGİ GİRİŞİ'!G104=KATSAYILAR!$B$18,KATSAYILAR!$C$18,0)))","v":0},{"$f":"'BİLGİ GİRİŞİ'!H104","v":0},0,{"$f":"hesaplamalar!J102","v":0},{"$f":"hesaplamalar!M102","v":0},{"$f":"hesaplamalar!N102","v":0},{"$f":"hesaplamalar!P102","v":0},{"$f":"hesaplamalar!Q102","v":0},{"$f":"hesaplamalar!T102","v":0},{"$f":"hesaplamalar!U102","v":0},0,{"$f":"ROUND(IF('BİLGİ GİRİŞİ'!D104=\"Ücretli Öğretmen\",P105*KATSAYILAR!$C$23,0),2)","v":0},0,{"$f":"ROUND(IF('BİLGİ GİRİŞİ'!D104=\"Ücretli Öğretmen (Emekli çalışan)\",P105*KATSAYILAR!$C$34,0),2)","v":0},{"$f":"'BİLGİ GİRİŞİ'!I104","v":0},0,0,null,0,null,{"$f":"'BİLGİ GİRİŞİ'!E104","v":0}]
[null,null,null,null,null,null,null,null,null,null,null,null,{"$f":"SUM(M6:M105)","v":615},83,65510.990000000005,65510.990000000005,13429.75,0,78940.740000000005,{"$f":"SUM(T6:T105)","v":0},0,0,56339.450000000012,8450.92,8450.92,0,65510.990000000005,497.23,497.23,0,13429.75,9171.5399999999991,0,0,0,22601.289999999997,{"$f":"SUM(AK6:AK105)","v":56339.45}]

{"sheet":"EK DERS BORDROSU","index":3,"n_rows":108,"n_cols":38,"rows_kept":108,"cut":false,"hidden":false,"merged":[[4,35,6,35],[5,0,6,0],[5,1,6,1],[5,2,6,2],[5,3,6,3],[5,14,6,14],[5,15,6,15],[5,16,5,17],[5,18,6,18],[5,4,6,4],[5,5,6,5],[5,6,5,7],[5,8,5,9],[5,10,5,11],[0,0,0,33],[5,12,5,13],[4,19,4,26],[4,27,4,34],[5,33,6,33],[5,34,6,34],[5,19,5,23],[5,24,5,26],[5,27,6,27],[5,28,6,28],[5,29,5,30],[5,31,5,32],[4,0,4,5],[4,6,4,18]]}
[{"$f":"CONCATENATE(KATSAYILAR!F3,\"   -   \",\"ÜCRETLİ ÖĞRETMENLERİN EK DERS ÜCRET BORDROSU\")","v":"OKUL KURUM ADI GİRİNİZ!!!   -   ÜCRETLİ ÖĞRETMENLERİN EK DERS ÜCRET BORDROSU"},null,null,null,null,null,null,null,null,null,null,null,null,null,null,null,null,null,null,null,null,null,null,null,null,null,null,null,null,null,null,null,null,null,"YIL / AY :",{"$f":"CONCATENATE('EK DERS VERİ GİRİŞİ'!I2,\" \",\"/\",\" \",'EK DERS VERİ GİRİŞİ'!I1)","v":"2024 / 1"}]
["Muhasebe Birimi :",null,{"$f":"KATSAYILAR!F10","v":"KARABAĞLAR MAL MÜDÜRLÜĞÜ"},null,null,null,null,null,null,null,null,null,null,null,null,null,null,null,null,null,null,null,null,null,null,null,null,null,null,null,null,null,null,null,"Aylık Katsayı :",{"$f":"KATSAYILAR!C3","v":0.76087099999999996}]
["Kurum Kodu/Adı :",null,{"$f":"KATSAYILAR!F3","v":"OKUL KURUM ADI GİRİNİZ!!!"},null,null,null,null,null,null,null,null,null,null,null,null,null,null,null,null,null,null,null,null,null,null,null,null,null,null,null,null,null,null,null,"Asgari Ücret :",{"$f":"KATSAYILAR!C4","v":20002.5}]
[null,null,null,null,null,null,null,null,null,null,null,null,null,null,null,null,null,null,null,null,null,null,null,null,null,null,null,null,null,null,null,null,null,null,"1 Günlük Asgari Ücret :",{"$f":"KATSAYILAR!C9","v":666.75}]
["Ç A L I Ş A N I N     B İ L G İ L E R İ",null,null,null,null,null,"G E L İ R    K A L E M L E R İ",null,null,null,null,null,null,null,null,null,null,null,null,"VERGİ MATRAHLARI VE İSTİSNALARI",null,null,null,null,null,null,null,"K E S İ N T İ     K A L E M L E R İ",null,null,null,null,null,null,null,"Net Ödenecek Ücret        (TL)"]
["Sıra No","T.C. Kimlik No","Adı Soyadı","Görevi","Toplam Çalışma Saati","Sigortalı Gün Saysı","GÜNDÜZ",null,"GECE / H.S.",null,"DYK (Gündüz)",null,"DYK (Gece/H.S.)",null,"Gelir Toplamı","SGK Matrahı","Devlet Katkısı",null,"TAHAKKUK TOPLAMI","Gelir Vergisi Matrah-İstisna",null,null,null,null,"Damga Vergisi Matrah-İstisna",null,null,"Gelir Vergisi","Damga Vergisi","Devlet Katkısı",null,"Çalışan Katkısı",null,"İcra + Nafaka Kesintisi","Kesinti Toplamı"]
[null,null,null,null,null,null,"Çalışılan Saat","Tutar","Çalışılan Saat","Tutar","Çalışılan Saat","Tutar","Çalışılan Saat","Tutar",null,null,"SGK Keseneği\n% 20.5","Sosyal Destek Primi\n%24.5",null,"Geçen Aylar Gelir Vergisi Matrahı Toplamı","Gelir Vergisi Matrahı İndirimi\n(Engellilik - Özel Sigorta)","Bu Ay Toplam Vergi Matrahı\n(varsa indirim sonrası)","İstisna Öncesi Gelir Vergisi",{"$f":"CONCATENATE(\"Ek Dersteki Gelir Vergisi İstisnası\n(üst sınır \",\" \",hesaplamalar!L3,\" \",\"TL.\")","v":"Ek Dersteki Gelir Vergisi İstisnası\n(üst sınır  2550,32 TL."},"Damga Vergisi Matrahı","İstisna Öncesi Damga Vergisi",{"$f":"CONCATENATE(\"Ek Dersteki Damga Vergisi İstisnası\n(üst sınır \",\" \",hesaplamalar!S3,\" \",\"TL.\")","v":"Ek Dersteki Damga Vergisi İstisnası\n(üst sınır  151,82 TL."},null,null,"SGK Keseneği\n% 20.5","Sosyal Destek Primi\n%24.5","SGK Keseneği\n% 14","Sosyal Destek Primi\n% 7.5",null,null,null,null,"A"]
[{"$f":"IF(AJ8=\"\",\"\",SUBTOTAL(103,$AJ$8:AJ8))","v":1},{"$f":"IF('EK DERS Ücret Hesaplama'!$AM6=1,'EK DERS Ücret Hesaplama'!B6,\"\")","v":12345678910},{"$f":"IF('EK DERS Ücret Hesaplama'!$AM6=1,'EK DERS Ücret Hesaplama'!C6,\"\")","v":"İBRAHİM KUTLUDAĞ"},{"$f":"IF('EK DERS Ücret Hesaplama'!$AM6=1,IF('EK DERS Ücret Hesaplama'!D6=\"Ücretli Öğretmen\",\"Ücretli Öğr.\",\"Ücr.Öğr. (Emekli)\"),\"\")","v":"Ücretli Öğr."},{"$f":"IF('EK DERS Ücret Hesaplama'!$AM6=1,'EK DERS Ücret Hesaplama'!M6,\"\")","v":180},{"$f":"IF('EK DERS Ücret Hesaplama'!$AM6=1,'EK DERS Ücret Hesaplama'!N6,\"\")","v":24},{"$f":"IF('EK DERS Ücret Hesaplama'!$AM6=1,'EK DERS Ücret Hesaplama'!E6,\"\")","v":180},{"$f":"IF('EK DERS Ücret Hesaplama'!$AM6=1,'EK DERS Ücret Hesaplama'!F6,\"\")","v":19173.95},{"$f":"IF('EK DERS Ücret Hesaplama'!$AM6=1,'EK DERS Ücret Hesaplama'!G6,\"\")","v":0},{"$f":"IF('EK DERS Ücret Hesaplama'!$AM6=1,'EK DERS Ücret Hesaplama'!H6,\"\")","v":0},{"$f":"IF('EK DERS Ücret Hesaplama'!$AM6=1,'EK DERS Ücret Hesaplama'!I6,\"\")","v":0},{"$f":"IF('EK DERS Ücret Hesaplama'!$AM6=1,'EK DERS Ücret Hesaplama'!J6,\"\")","v":0},{"$f":"IF('EK DERS Ücret Hesaplama'!$AM6=1,'EK DERS Ücret Hesaplama'!K6,\"\")","v":0},{"$f":"IF('EK DERS Ücret Hesaplama'!$AM6=1,'EK DERS Ücret Hesaplama'!L6,\"\")","v":0},{"$f":"IF('EK DERS Ücret Hesaplama'!$AM6=1,'EK DERS Ücret Hesaplama'!O6,\"\")","v":19173.95},{"$f":"IF('EK DERS Ücret Hesaplama'!$AM6=1,'EK DERS Ücret Hesaplama'!P6,\"\")","v":19173.95},{"$f":"IF('EK DERS Ücret Hesaplama'!$AM6=1,'EK DERS Ücret Hesaplama'!Q6,\"\")","v":3930.66},{"$f":"IF('EK DERS Ücret Hesaplama'!$AM6=1,'EK DERS Ücret Hesaplama'!R6,\"\")","v":0},{"$f":"IF('EK DERS Ücret Hesaplama'!$AM6=1,'EK DERS Ücret Hesaplama'!S6,\"\")","v":23104.61},{"$f":"IF('EK DERS Ücret Hesaplama'!$AM6=1,hesaplamalar!X3,\"\")","v":0},{"$f":"IF('EK DERS Ücret Hesaplama'!$AM6=1,hesaplamalar!Y3,\"\")","v":0},{"$f":"IF('EK DERS Ücret Hesaplama'!$AM6=1,hesaplamalar!Z3,\"\")","v":16489.600000000002},{"$f":"IF('EK DERS Ücret Hesaplama'!$AM6=1,hesaplamalar!AA3,\"\")","v":2473.44},{"$f":"IF('EK DERS Ücret Hesaplama'!$AM6=1,hesaplamalar!AB3,\"\")","v":2473.44},{"$f":"IF('EK DERS Ücret Hesaplama'!$AM6=1,hesaplamalar!AC3,\"\")","v":19173.95},{"$f":"IF('EK DERS Ücret Hesaplama'!$AM6=1,hesaplamalar!AD3,\"\")","v":145.53},{"$f":"IF('EK DERS Ücret Hesaplama'!$AM6=1,hesaplamalar!AE3,\"\")","v":145.53},{"$f":"IF('EK DERS Ücret Hesaplama'!$AM6=1,hesaplamalar!AG3,\"\")","v":0},{"$f":"IF('EK DERS Ücret Hesaplama'!$AM6=1,hesaplamalar!AH3,\"\")","v":0},{"$f":"IF('EK DERS Ücret Hesaplama'!$AM6=1,'EK DERS Ücret Hesaplama'!AE6,\"\")","v":3930.66},{"$f":"IF('EK DERS Ücret Hesaplama'!$AM6=1,'EK DERS Ücret Hesaplama'!AG6,\"\")","v":0},{"$f":"IF('EK DERS Ücret Hesaplama'!$AM6=1,'EK DERS Ücret Hesaplama'!AF6,\"\")","v":2684.35},{"$f":"IF('EK DERS Ücret Hesaplama'!$AM6=1,'EK DERS Ücret Hesaplama'!AH6,\"\")","v":0},{"$f":"IF('EK DERS Ücret Hesaplama'!$AM6=1,'EK DERS Ücret Hesaplama'!AI6,\"\")","v":0},{"$f":"IF('EK DERS Ücret Hesaplama'!$AM6=1,'EK DERS Ücret Hesaplama'!AJ6,\"\")","v":6615.01},{"$f":"IF('EK DERS Ücret Hesaplama'!$AM6=1,'EK DERS Ücret Hesaplama'!AK6,\"\")","v":16489.599999999999},null,{"$f":"IF(AJ8=\"\",0,1)","v":1}]
[{"$f":"IF(AJ9=\"\",\"\",SUBTOTAL(103,$AJ$8:AJ9))","v":2},{"$f":"IF('EK DERS Ücret Hesaplama'!$AM7=1,'EK DERS Ücret Hesaplama'!B7,\"\")","v":12345678910},{"$f":"IF('EK DERS Ücret Hesaplama'!$AM7=1,'EK DERS Ücret Hesaplama'!C7,\"\")","v":"SAMET YAĞMUR"},{"$f":"IF('EK DERS Ücret Hesaplama'!$AM7=1,IF('EK DERS Ücret Hesaplama'!D7=\"Ücretli Öğretmen\",\"Ücretli Öğr.\",\"Ücr.Öğr. (Emekli)\"),\"\")","v":"Ücretli Öğr."},{"$f":"IF('EK DERS Ücret Hesaplama'!$AM7=1,'EK DERS Ücret Hesaplama'!M7,\"\")","v":180},{"$f":"IF('EK DERS Ücret Hesaplama'!$AM7=1,'EK DERS Ücret Hesaplama'!N7,\"\")","v":24},{"$f":"IF('EK DERS Ücret Hesaplama'!$AM7=1,'EK DERS Ücret Hesaplama'!E7,\"\")","v":180},{"$f":"IF('EK DERS Ücret Hesaplama'!$AM7=1,'EK DERS Ücret Hesaplama'!F7,\"\")","v":19173.95},{"$f":"IF('EK DERS Ücret Hesaplama'!$AM7=1,'EK DERS Ücret Hesaplama'!G7,\"\")","v":0},{"$f":"IF('EK DERS Ücret Hesaplama'!$AM7=1,'EK DERS Ücret Hesaplama'!H7,\"\")","v":0},{"$f":"IF('EK DERS Ücret Hesaplama'!$AM7=1,'EK DERS Ücret Hesaplama'!I7,\"\")","v":0},{"$f":"IF('EK DERS Ücret Hesaplama'!$AM7=1,'EK DERS Ücret Hesaplama'!J7,\"\")","v":0},{"$f":"IF('EK DERS Ücret Hesaplama'!$AM7=1,'EK DERS Ücret Hesaplama'!K7,\"\")","v":0},{"$f":"IF('EK DERS Ücret Hesaplama'!$AM7=1,'EK DERS Ücret Hesaplama'!L7,\"\")","v":0},{"$f":"IF('EK DERS Ücret Hesaplama'!$AM7=1,'EK DERS Ücret Hesaplama'!O7,\"\")","v":19173.95},{"$f":"IF('EK DERS Ücret Hesaplama'!$AM7=1,'EK DERS Ücret Hesaplama'!P7,\"\")","v":19173.95},{"$f":"IF('EK DERS Ücret Hesaplama'!$AM7=1,'EK DERS Ücret Hesaplama'!Q7,\"\")","v":3930.66},{"$f":"IF('EK DERS Ücret Hesaplama'!$AM7=1,'EK DERS Ücret Hesaplama'!R7,\"\")","v":0},{"$f":"IF('EK DERS Ücret Hesaplama'!$AM7=1,'EK DERS Ücret Hesaplama'!S7,\"\")","v":23104.61},{"$f":"IF('EK DERS Ücret Hesaplama'!$AM7=1,hesaplamalar!X4,\"\")","v":0},{"$f":"IF('EK DERS Ücret Hesaplama'!$AM7=1,hesaplamalar!Y4,\"\")","v":0},{"$f":"IF('EK DERS Ücret Hesaplama'!$AM7=1,hesaplamalar!Z4,\"\")","v":16489.600000000002},{"$f":"IF('EK DERS Ücret Hesaplama'!$AM7=1,hesaplamalar!AA4,\"\")","v":2473.44},{"$f":"IF('EK DERS Ücret Hesaplama'!$AM7=1,hesaplamalar!AB4,\"\")","v":2473.44},{"$f":"IF('EK DERS Ücret Hesaplama'!$AM7=1,hesaplamalar!AC4,\"\")","v":19173.95},{"$f":"IF('EK DERS Ücret Hesaplama'!$AM7=1,hesaplamalar!AD4,\"\")","v":145.53},{"$f":"IF('EK DERS Ücret Hesaplama'!$AM7=1,hesaplamalar!AE4,\"\")","v":145.53},{"$f":"IF('EK DERS Ücret Hesaplama'!$AM7=1,hesaplamalar!AG4,\"\")","v":0},{"$f":"IF('EK DERS Ücret Hesaplama'!$AM7=1,hesaplamalar!AH4,\"\")","v":0},{"$f":"IF('EK DERS Ücret Hesaplama'!$AM7=1,'EK DERS Ücret Hesaplama'!AE7,\"\")","v":3930.66},{"$f":"IF('EK DERS Ücret Hesaplama'!$AM7=1,'EK DERS Ücret Hesaplama'!AG7,\"\")","v":0},{"$f":"IF('EK DERS Ücret Hesaplama'!$AM7=1,'EK DERS Ücret Hesaplama'!AF7,\"\")","v":2684.35},{"$f":"IF('EK DERS Ücret Hesaplama'!$AM7=1,'EK DERS Ücret Hesaplama'!AH7,\"\")","v":0},{"$f":"IF('EK DERS Ücret Hesaplama'!$AM7=1,'EK DERS Ücret Hesaplama'!AI7,\"\")","v":0},{"$f":"IF('EK DERS Ücret Hesaplama'!$AM7=1,'EK DERS Ücret Hesaplama'!AJ7,\"\")","v":6615.01},{"$f":"IF('EK DERS Ücret Hesaplama'!$AM7=1,'EK DERS Ücret Hesaplama'!AK7,\"\")","v":16489.599999999999},null,{"$f":"IF(AJ9=\"\",0,1)","v":1}]
[{"$f":"IF(AJ10=\"\",\"\",SUBTOTAL(103,$AJ$8:AJ10))","v":3},{"$f":"IF('EK DERS Ücret Hesaplama'!$AM8=1,'EK DERS Ücret Hesaplama'!B8,\"\")","v":12345678910},{"$f":"IF('EK DERS Ücret Hesaplama'!$AM8=1,'EK DERS Ücret Hesaplama'!C8,\"\")","v":"SAMET YAĞMUR"},{"$f":"IF('EK DERS Ücret Hesaplama'!$AM8=1,IF('EK DERS Ücret Hesaplama'!D8=\"Ücretli Öğretmen\",\"Ücretli Öğr.\",\"Ücr.Öğr. (Emekli)\"),\"\")","v":"Ücretli Öğr."},{"$f":"IF('EK DERS Ücret Hesaplama'!$AM8=1,'EK DERS Ücret Hesaplama'!M8,\"\")","v":155},{"$f":"IF('EK DERS Ücret Hesaplama'!$AM8=1,'EK DERS Ücret Hesaplama'!N8,\"\")","v":21},{"$f":"IF('EK DERS Ücret Hesaplama'!$AM8=1,'EK DERS Ücret Hesaplama'!E8,\"\")","v":155},{"$f":"IF('EK DERS Ücret Hesaplama'!$AM8=1,'EK DERS Ücret Hesaplama'!F8,\"\")","v":16510.900000000001},{"$f":"IF('EK DERS Ücret Hesaplama'!$AM8=1,'EK DERS Ücret Hesaplama'!G8,\"\")","v":0},{"$f":"IF('EK DERS Ücret Hesaplama'!$AM8=1,'EK DERS Ücret Hesaplama'!H8,\"\")","v":0},{"$f":"IF('EK DERS Ücret Hesaplama'!$AM8=1,'EK DERS Ücret Hesaplama'!I8,\"\")","v":0},{"$f":"IF('EK DERS Ücret Hesaplama'!$AM8=1,'EK DERS Ücret Hesaplama'!J8,\"\")","v":0},{"$f":"IF('EK DERS Ücret Hesaplama'!$AM8=1,'EK DERS Ücret Hesaplama'!K8,\"\")","v":0},{"$f":"IF('EK DERS Ücret Hesaplama'!$AM8=1,'EK DERS Ücret Hesaplama'!L8,\"\")","v":0},{"$f":"IF('EK DERS Ücret Hesaplama'!$AM8=1,'EK DERS Ücret Hesaplama'!O8,\"\")","v":16510.900000000001},{"$f":"IF('EK DERS Ücret Hesaplama'!$AM8=1,'EK DERS Ücret Hesaplama'!P8,\"\")","v":16510.900000000001},{"$f":"IF('EK DERS Ücret Hesaplama'!$AM8=1,'EK DERS Ücret Hesaplama'!Q8,\"\")","v":3384.73},{"$f":"IF('EK DERS Ücret Hesaplama'!$AM8=1,'EK DERS Ücret Hesaplama'!R8,\"\")","v":0},{"$f":"IF('EK DERS Ücret Hesaplama'!$AM8=1,'EK DERS Ücret Hesaplama'!S8,\"\")","v":19895.63},{"$f":"IF('EK DERS Ücret Hesaplama'!$AM8=1,hesaplamalar!X5,\"\")","v":0},{"$f":"IF('EK DERS Ücret Hesaplama'!$AM8=1,hesaplamalar!Y5,\"\")","v":0},{"$f":"IF('EK DERS Ücret Hesaplama'!$AM8=1,hesaplamalar!Z5,\"\")","v":14199.37},{"$f":"IF('EK DERS Ücret Hesaplama'!$AM8=1,hesaplamalar!AA5,\"\")","v":2129.91},{"$f":"IF('EK DERS Ücret Hesaplama'!$AM8=1,hesaplamalar!AB5,\"\")","v":2129.91},{"$f":"IF('EK DERS Ücret Hesaplama'!$AM8=1,hesaplamalar!AC5,\"\")","v":16510.900000000001},{"$f":"IF('EK DERS Ücret Hesaplama'!$AM8=1,hesaplamalar!AD5,\"\")","v":125.32},{"$f":"IF('EK DERS Ücret Hesaplama'!$AM8=1,hesaplamalar!AE5,\"\")","v":125.32},{"$f":"IF('EK DERS Ücret Hesaplama'!$AM8=1,hesaplamalar!AG5,\"\")","v":0},{"$f":"IF('EK DERS Ücret Hesaplama'!$AM8=1,hesaplamalar!AH5,\"\")","v":0},{"$f":"IF('EK DERS Ücret Hesaplama'!$AM8=1,'EK DERS Ücret Hesaplama'!AE8,\"\")","v":3384.73},{"$f":"IF('EK DERS Ücret Hesaplama'!$AM8=1,'EK DERS Ücret Hesaplama'!AG8,\"\")","v":0},{"$f":"IF('EK DERS Ücret Hesaplama'!$AM8=1,'EK DERS Ücret Hesaplama'!AF8,\"\")","v":2311.5300000000002},{"$f":"IF('EK DERS Ücret Hesaplama'!$AM8=1,'EK DERS Ücret Hesaplama'!AH8,\"\")","v":0},{"$f":"IF('EK DERS Ücret Hesaplama'!$AM8=1,'EK DERS Ücret Hesaplama'!AI8,\"\")","v":0},{"$f":"IF('EK DERS Ücret Hesaplama'!$AM8=1,'EK DERS Ücret Hesaplama'!AJ8,\"\")","v":5696.26},{"$f":"IF('EK DERS Ücret Hesaplama'!$AM8=1,'EK DERS Ücret Hesaplama'!AK8,\"\")","v":14199.37},null,1]
[{"$f":"IF(AJ11=\"\",\"\",SUBTOTAL(103,$AJ$8:AJ11))","v":4},{"$f":"IF('EK DERS Ücret Hesaplama'!$AM9=1,'EK DERS Ücret Hesaplama'!B9,\"\")","v":12345678910},{"$f":"IF('EK DERS Ücret Hesaplama'!$AM9=1,'EK DERS Ücret Hesaplama'!C9,\"\")","v":"SAMET YAĞMUR"},{"$f":"IF('EK DERS Ücret Hesaplama'!$AM9=1,IF('EK DERS Ücret Hesaplama'!D9=\"Ücretli Öğretmen\",\"Ücretli Öğr.\",\"Ücr.Öğr. (Emekli)\"),\"\")","v":"Ücretli Öğr."},{"$f":"IF('EK DERS Ücret Hesaplama'!$AM9=1,'EK DERS Ücret Hesaplama'!M9,\"\")","v":100},{"$f":"IF('EK DERS Ücret Hesaplama'!$AM9=1,'EK DERS Ücret Hesaplama'!N9,\"\")","v":14},{"$f":"IF('EK DERS Ücret Hesaplama'!$AM9=1,'EK DERS Ücret Hesaplama'!E9,\"\")","v":100},{"$f":"IF('EK DERS Ücret Hesaplama'!$AM9=1,'EK DERS Ücret Hesaplama'!F9,\"\")","v":10652.19},{"$f":"IF('EK DERS Ücret Hesaplama'!$AM9=1,'EK DERS Ücret Hesaplama'!G9,\"\")","v":0},{"$f":"IF('EK DERS Ücret Hesaplama'!$AM9=1,'EK DERS Ücret Hesaplama'!H9,\"\")","v":0},{"$f":"IF('EK DERS Ücret Hesaplama'!$AM9=1,'EK DERS Ücret Hesaplama'!I9,\"\")","v":0},{"$f":"IF('EK DERS Ücret Hesaplama'!$AM9=1,'EK DERS Ücret Hesaplama'!J9,\"\")","v":0},{"$f":"IF('EK DERS Ücret Hesaplama'!$AM9=1,'EK DERS Ücret Hesaplama'!K9,\"\")","v":0},{"$f":"IF('EK DERS Ücret Hesaplama'!$AM9=1,'EK DERS Ücret Hesaplama'!L9,\"\")","v":0},{"$f":"IF('EK DERS Ücret Hesaplama'!$AM9=1,'EK DERS Ücret Hesaplama'!O9,\"\")","v":10652.19},{"$f":"IF('EK DERS Ücret Hesaplama'!$AM9=1,'EK DERS Ücret Hesaplama'!P9,\"\")","v":10652.19},{"$f":"IF('EK DERS Ücret Hesaplama'!$AM9=1,'EK DERS Ücret Hesaplama'!Q9,\"\")","v":2183.6999999999998},{"$f":"IF('EK DERS Ücret Hesaplama'!$AM9=1,'EK DERS Ücret Hesaplama'!R9,\"\")","v":0},{"$f":"IF('EK DERS Ücret Hesaplama'!$AM9=1,'EK DERS Ücret Hesaplama'!S9,\"\")","v":12835.89},{"$f":"IF('EK DERS Ücret Hesaplama'!$AM9=1,hesaplamalar!X6,\"\")","v":0},{"$f":"IF('EK DERS Ücret Hesaplama'!$AM9=1,hesaplamalar!Y6,\"\")","v":0},{"$f":"IF('EK DERS Ücret Hesaplama'!$AM9=1,hesaplamalar!Z6,\"\")","v":9160.880000000001},{"$f":"IF('EK DERS Ücret Hesaplama'!$AM9=1,hesaplamalar!AA6,\"\")","v":1374.13},{"$f":"IF('EK DERS Ücret Hesaplama'!$AM9=1,hesaplamalar!AB6,\"\")","v":1374.13},{"$f":"IF('EK DERS Ücret Hesaplama'!$AM9=1,hesaplamalar!AC6,\"\")","v":10652.19},{"$f":"IF('EK DERS Ücret Hesaplama'!$AM9=1,hesaplamalar!AD6,\"\")","v":80.849999999999994},{"$f":"IF('EK DERS Ücret Hesaplama'!$AM9=1,hesaplamalar!AE6,\"\")","v":80.849999999999994},{"$f":"IF('EK DERS Ücret Hesaplama'!$AM9=1,hesaplamalar!AG6,\"\")","v":0},{"$f":"IF('EK DERS Ücret Hesaplama'!$AM9=1,hesaplamalar!AH6,\"\")","v":0},{"$f":"IF('EK DERS Ücret Hesaplama'!$AM9=1,'EK DERS Ücret Hesaplama'!AE9,\"\")","v":2183.6999999999998},{"$f":"IF('EK DERS Ücret Hesaplama'!$AM9=1,'EK DERS Ücret Hesaplama'!AG9,\"\")","v":0},{"$f":"IF('EK DERS Ücret Hesaplama'!$AM9=1,'EK DERS Ücret Hesaplama'!AF9,\"\")","v":1491.31},{"$f":"IF('EK DERS Ücret Hesaplama'!$AM9=1,'EK DERS Ücret Hesaplama'!AH9,\"\")","v":0},{"$f":"IF('EK DERS Ücret Hesaplama'!$AM9=1,'EK DERS Ücret Hesaplama'!AI9,\"\")","v":0},{"$f":"IF('EK DERS Ücret Hesaplama'!$AM9=1,'EK DERS Ücret Hesaplama'!AJ9,\"\")","v":3675.0099999999998},{"$f":"IF('EK DERS Ücret Hesaplama'!$AM9=1,'EK DERS Ücret Hesaplama'!AK9,\"\")","v":9160.8799999999992},null,1]
[{"$f":"IF(AJ12=\"\",\"\",SUBTOTAL(103,$AJ$8:AJ12))","v":""},{"$f":"IF('EK DERS Ücret Hesaplama'!$AM10=1,'EK DERS Ücret Hesaplama'!B10,\"\")","v":""},{"$f":"IF('EK DERS Ücret Hesaplama'!$AM10=1,'EK DERS Ücret Hesaplama'!C10,\"\")","v":""},{"$f":"IF('EK DERS Ücret Hesaplama'!$AM10=1,IF('EK DERS Ücret Hesaplama'!D10=\"Ücretli Öğretmen\",\"Ücretli Öğr.\",\"Ücr.Öğr. (Emekli)\"),\"\")","v":""},{"$f":"IF('EK DERS Ücret Hesaplama'!$AM10=1,'EK DERS Ücret Hesaplama'!M10,\"\")","v":""},{"$f":"IF('EK DERS Ücret Hesaplama'!$AM10=1,'EK DERS Ücret Hesaplama'!N10,\"\")","v":""},{"$f":"IF('EK DERS Ücret Hesaplama'!$AM10=1,'EK DERS Ücret Hesaplama'!E10,\"\")","v":""},{"$f":"IF('EK DERS Ücret Hesaplama'!$AM10=1,'EK DERS Ücret Hesaplama'!F10,\"\")","v":""},{"$f":"IF('EK DERS Ücret Hesaplama'!$AM10=1,'EK DERS Ücret Hesaplama'!G10,\"\")","v":""},{"$f":"IF('EK DERS Ücret Hesaplama'!$AM10=1,'EK DERS Ücret Hesaplama'!H10,\"\")","v":""},{"$f":"IF('EK DERS Ücret Hesaplama'!$AM10=1,'EK DERS Ücret Hesaplama'!I10,\"\")","v":""},{"$f":"IF('EK DERS Ücret Hesaplama'!$AM10=1,'EK DERS Ücret Hesaplama'!J10,\"\")","v":""},{"$f":"IF('EK DERS Ücret Hesaplama'!$AM10=1,'EK DERS Ücret Hesaplama'!K10,\"\")","v":""},{"$f":"IF('EK DERS Ücret Hesaplama'!$AM10=1,'EK DERS Ücret Hesaplama'!L10,\"\")","v":""},{"$f":"IF('EK DERS Ücret Hesaplama'!$AM10=1,'EK DERS Ücret Hesaplama'!O10,\"\")","v":""},{"$f":"IF('EK DERS Ücret Hesaplama'!$AM10=1,'EK DERS Ücret Hesaplama'!P10,\"\")","v":""},{"$f":"IF('EK DERS Ücret Hesaplama'!$AM10=1,'EK DERS Ücret Hesaplama'!Q10,\"\")","v":""},{"$f":"IF('EK DERS Ücret Hesaplama'!$AM10=1,'EK DERS Ücret Hesaplama'!R10,\"\")","v":""},{"$f":"IF('EK DERS Ücret Hesaplama'!$AM10=1,'EK DERS Ücret Hesaplama'!S10,\"\")","v":""},{"$f":"IF('EK DERS Ücret Hesaplama'!$AM10=1,hesaplamalar!X7,\"\")","v":""},{"$f":"IF('EK DERS Ücret Hesaplama'!$AM10=1,hesaplamalar!Y7,\"\")","v":""},{"$f":"IF('EK DERS Ücret Hesaplama'!$AM10=1,hesaplamalar!Z7,\"\")","v":""},{"$f":"IF('EK DERS Ücret Hesaplama'!$AM10=1,hesaplamalar!AA7,\"\")","v":""},{"$f":"IF('EK DERS Ücret Hesaplama'!$AM10=1,hesaplamalar!AB7,\"\")","v":""},{"$f":"IF('EK DERS Ücret Hesaplama'!$AM10=1,hesaplamalar!AC7,\"\")","v":""},{"$f":"IF('EK DERS Ücret Hesaplama'!$AM10=1,hesaplamalar!AD7,\"\")","v":""},{"$f":"IF('EK DERS Ücret Hesaplama'!$AM10=1,hesaplamalar!AE7,\"\")","v":""},{"$f":"IF('EK DERS Ücret Hesaplama'!$AM10=1,hesaplamalar!AG7,\"\")","v":""},{"$f":"IF('EK DERS Ücret Hesaplama'!$AM10=1,hesaplamalar!AH7,\"\")","v":""},{"$f":"IF('EK DERS Ücret Hesaplama'!$AM10=1,'EK DERS Ücret Hesaplama'!AE10,\"\")","v":""},{"$f":"IF('EK DERS Ücret Hesaplama'!$AM10=1,'EK DERS Ücret Hesaplama'!AG10,\"\")","v":""},{"$f":"IF('EK DERS Ücret Hesaplama'!$AM10=1,'EK DERS Ücret Hesaplama'!AF10,\"\")","v":""},{"$f":"IF('EK DERS Ücret Hesaplama'!$AM10=1,'EK DERS Ücret Hesaplama'!AH10,\"\")","v":""},{"$f":"IF('EK DERS Ücret Hesaplama'!$AM10=1,'EK DERS Ücret Hesaplama'!AI10,\"\")","v":""},{"$f":"IF('EK DERS Ücret Hesaplama'!$AM10=1,'EK DERS Ücret Hesaplama'!AJ10,\"\")","v":""},{"$f":"IF('EK DERS Ücret Hesaplama'!$AM10=1,'EK DERS Ücret Hesaplama'!AK10,\"\")","v":""},null,0]
[{"$f":"IF(AJ13=\"\",\"\",SUBTOTAL(103,$AJ$8:AJ13))","v":""},{"$f":"IF('EK DERS Ücret Hesaplama'!$AM11=1,'EK DERS Ücret Hesaplama'!B11,\"\")","v":""},{"$f":"IF('EK DERS Ücret Hesaplama'!$AM11=1,'EK DERS Ücret Hesaplama'!C11,\"\")","v":""},{"$f":"IF('EK DERS Ücret Hesaplama'!$AM11=1,IF('EK DERS Ücret Hesaplama'!D11=\"Ücretli Öğretmen\",\"Ücretli Öğr.\",\"Ücr.Öğr. (Emekli)\"),\"\")","v":""},{"$f":"IF('EK DERS Ücret Hesaplama'!$AM11=1,'EK DERS Ücret Hesaplama'!M11,\"\")","v":""},{"$f":"IF('EK DERS Ücret Hesaplama'!$AM11=1,'EK DERS Ücret Hesaplama'!N11,\"\")","v":""},{"$f":"IF('EK DERS Ücret Hesaplama'!$AM11=1,'EK DERS Ücret Hesaplama'!E11,\"\")","v":""},{"$f":"IF('EK DERS Ücret Hesaplama'!$AM11=1,'EK DERS Ücret Hesaplama'!F11,\"\")","v":""},{"$f":"IF('EK DERS Ücret Hesaplama'!$AM11=1,'EK DERS Ücret Hesaplama'!G11,\"\")","v":""},{"$f":"IF('EK DERS Ücret Hesaplama'!$AM11=1,'EK DERS Ücret Hesaplama'!H11,\"\")","v":""},{"$f":"IF('EK DERS Ücret Hesaplama'!$AM11=1,'EK DERS Ücret Hesaplama'!I11,\"\")","v":""},{"$f":"IF('EK DERS Ücret Hesaplama'!$AM11=1,'EK DERS Ücret Hesaplama'!J11,\"\")","v":""},{"$f":"IF('EK DERS Ücret Hesaplama'!$AM11=1,'EK DERS Ücret Hesaplama'!K11,\"\")","v":""},{"$f":"IF('EK DERS Ücret Hesaplama'!$AM11=1,'EK DERS Ücret Hesaplama'!L11,\"\")","v":""},{"$f":"IF('EK DERS Ücret Hesaplama'!$AM11=1,'EK DERS Ücret Hesaplama'!O11,\"\")","v":""},{"$f":"IF('EK DERS Ücret Hesaplama'!$AM11=1,'EK DERS Ücret Hesaplama'!P11,\"\")","v":""},{"$f":"IF('EK DERS Ücret Hesaplama'!$AM11=1,'EK DERS Ücret Hesaplama'!Q11,\"\")","v":""},{"$f":"IF('EK DERS Ücret Hesaplama'!$AM11=1,'EK DERS Ücret Hesaplama'!R11,\"\")","v":""},{"$f":"IF('EK DERS Ücret Hesaplama'!$AM11=1,'EK DERS Ücret Hesaplama'!S11,\"\")","v":""},{"$f":"IF('EK DERS Ücret Hesaplama'!$AM11=1,hesaplamalar!X8,\"\")","v":""},{"$f":"IF('EK DERS Ücret Hesaplama'!$AM11=1,hesaplamalar!Y8,\"\")","v":""},{"$f":"IF('EK DERS Ücret Hesaplama'!$AM11=1,hesaplamalar!Z8,\"\")","v":""},{"$f":"IF('EK DERS Ücret Hesaplama'!$AM11=1,hesaplamalar!AA8,\"\")","v":""},{"$f":"IF('EK DERS Ücret Hesaplama'!$AM11=1,hesaplamalar!AB8,\"\")","v":""},{"$f":"IF('EK DERS Ücret Hesaplama'!$AM11=1,hesaplamalar!AC8,\"\")","v":""},{"$f":"IF('EK DERS Ücret Hesaplama'!$AM11=1,hesaplamalar!AD8,\"\")","v":""},{"$f":"IF('EK DERS Ücret Hesaplama'!$AM11=1,hesaplamalar!AE8,\"\")","v":""},{"$f":"IF('EK DERS Ücret Hesaplama'!$AM11=1,hesaplamalar!AG8,\"\")","v":""},{"$f":"IF('EK DERS Ücret Hesaplama'!$AM11=1,hesaplamalar!AH8,\"\")","v":""},{"$f":"IF('EK DERS Ücret Hesaplama'!$AM11=1,'EK DERS Ücret Hesaplama'!AE11,\"\")","v":""},{"$f":"IF('EK DERS Ücret Hesaplama'!$AM11=1,'EK DERS Ücret Hesaplama'!AG11,\"\")","v":""},{"$f":"IF('EK DERS Ücret Hesaplama'!$AM11=1,'EK DERS Ücret Hesaplama'!AF11,\"\")","v":""},{"$f":"IF('EK DERS Ücret Hesaplama'!$AM11=1,'EK DERS Ücret Hesaplama'!AH11,\"\")","v":""},{"$f":"IF('EK DERS Ücret Hesaplama'!$AM11=1,'EK DERS Ücret Hesaplama'!AI11,\"\")","v":""},{"$f":"IF('EK DERS Ücret Hesaplama'!$AM11=1,'EK DERS Ücret Hesaplama'!AJ11,\"\")","v":""},{"$f":"IF('EK DERS Ücret Hesaplama'!$AM11=1,'EK DERS Ücret Hesaplama'!AK11,\"\")","v":""},null,0]
[{"$f":"IF(AJ14=\"\",\"\",SUBTOTAL(103,$AJ$8:AJ14))","v":""},{"$f":"IF('EK DERS Ücret Hesaplama'!$AM12=1,'EK DERS Ücret Hesaplama'!B12,\"\")","v":""},{"$f":"IF('EK DERS Ücret Hesaplama'!$AM12=1,'EK DERS Ücret Hesaplama'!C12,\"\")","v":""},{"$f":"IF('EK DERS Ücret Hesaplama'!$AM12=1,IF('EK DERS Ücret Hesaplama'!D12=\"Ücretli Öğretmen\",\"Ücretli Öğr.\",\"Ücr.Öğr. (Emekli)\"),\"\")","v":""},{"$f":"IF('EK DERS Ücret Hesaplama'!$AM12=1,'EK DERS Ücret Hesaplama'!M12,\"\")","v":""},{"$f":"IF('EK DERS Ücret Hesaplama'!$AM12=1,'EK DERS Ücret Hesaplama'!N12,\"\")","v":""},{"$f":"IF('EK DERS Ücret Hesaplama'!$AM12=1,'EK DERS Ücret Hesaplama'!E12,\"\")","v":""},{"$f":"IF('EK DERS Ücret Hesaplama'!$AM12=1,'EK DERS Ücret Hesaplama'!F12,\"\")","v":""},{"$f":"IF('EK DERS Ücret Hesaplama'!$AM12=1,'EK DERS Ücret Hesaplama'!G12,\"\")","v":""},{"$f":"IF('EK DERS Ücret Hesaplama'!$AM12=1,'EK DERS Ücret Hesaplama'!H12,\"\")","v":""},{"$f":"IF('EK DERS Ücret Hesaplama'!$AM12=1,'EK DERS Ücret Hesaplama'!I12,\"\")","v":""},{"$f":"IF('EK DERS Ücret Hesaplama'!$AM12=1,'EK DERS Ücret Hesaplama'!J12,\"\")","v":""},{"$f":"IF('EK DERS Ücret Hesaplama'!$AM12=1,'EK DERS Ücret Hesaplama'!K12,\"\")","v":""},{"$f":"IF('EK DERS Ücret Hesaplama'!$AM12=1,'EK DERS Ücret Hesaplama'!L12,\"\")","v":""},{"$f":"IF('EK DERS Ücret Hesaplama'!$AM12=1,'EK DERS Ücret Hesaplama'!O12,\"\")","v":""},{"$f":"IF('EK DERS Ücret Hesaplama'!$AM12=1,'EK DERS Ücret Hesaplama'!P12,\"\")","v":""},{"$f":"IF('EK DERS Ücret Hesaplama'!$AM12=1,'EK DERS Ücret Hesaplama'!Q12,\"\")","v":""},{"$f":"IF('EK DERS Ücret Hesaplama'!$AM12=1,'EK DERS Ücret Hesaplama'!R12,\"\")","v":""},{"$f":"IF('EK DERS Ücret Hesaplama'!$AM12=1,'EK DERS Ücret Hesaplama'!S12,\"\")","v":""},{"$f":"IF('EK DERS Ücret Hesaplama'!$AM12=1,hesaplamalar!X9,\"\")","v":""},{"$f":"IF('EK DERS Ücret Hesaplama'!$AM12=1,hesaplamalar!Y9,\"\")","v":""},{"$f":"IF('EK DERS Ücret Hesaplama'!$AM12=1,hesaplamalar!Z9,\"\")","v":""},{"$f":"IF('EK DERS Ücret Hesaplama'!$AM12=1,hesaplamalar!AA9,\"\")","v":""},{"$f":"IF('EK DERS Ücret Hesaplama'!$AM12=1,hesaplamalar!AB9,\"\")","v":""},{"$f":"IF('EK DERS Ücret Hesaplama'!$AM12=1,hesaplamalar!AC9,\"\")","v":""},{"$f":"IF('EK DERS Ücret Hesaplama'!$AM12=1,hesaplamalar!AD9,\"\")","v":""},{"$f":"IF('EK DERS Ücret Hesaplama'!$AM12=1,hesaplamalar!AE9,\"\")","v":""},{"$f":"IF('EK DERS Ücret Hesaplama'!$AM12=1,hesaplamalar!AG9,\"\")","v":""},{"$f":"IF('EK DERS Ücret Hesaplama'!$AM12=1,hesaplamalar!AH9,\"\")","v":""},{"$f":"IF('EK DERS Ücret Hesaplama'!$AM12=1,'EK DERS Ücret Hesaplama'!AE12,\"\")","v":""},{"$f":"IF('EK DERS Ücret Hesaplama'!$AM12=1,'EK DERS Ücret Hesaplama'!AG12,\"\")","v":""},{"$f":"IF('EK DERS Ücret Hesaplama'!$AM12=1,'EK DERS Ücret Hesaplama'!AF12,\"\")","v":""},{"$f":"IF('EK DERS Ücret Hesaplama'!$AM12=1,'EK DERS Ücret Hesaplama'!AH12,\"\")","v":""},{"$f":"IF('EK DERS Ücret Hesaplama'!$AM12=1,'EK DERS Ücret Hesaplama'!AI12,\"\")","v":""},{"$f":"IF('EK DERS Ücret Hesaplama'!$AM12=1,'EK DERS Ücret Hesaplama'!AJ12,\"\")","v":""},{"$f":"IF('EK DERS Ücret Hesaplama'!$AM12=1,'EK DERS Ücret Hesaplama'!AK12,\"\")","v":""},null,0]
[{"$f":"IF(AJ15=\"\",\"\",SUBTOTAL(103,$AJ$8:AJ15))","v":""},{"$f":"IF('EK DERS Ücret Hesaplama'!$AM13=1,'EK DERS Ücret Hesaplama'!B13,\"\")","v":""},{"$f":"IF('EK DERS Ücret Hesaplama'!$AM13=1,'EK DERS Ücret Hesaplama'!C13,\"\")","v":""},{"$f":"IF('EK DERS Ücret Hesaplama'!$AM13=1,IF('EK DERS Ücret Hesaplama'!D13=\"Ücretli Öğretmen\",\"Ücretli Öğr.\",\"Ücr.Öğr. (Emekli)\"),\"\")","v":""},{"$f":"IF('EK DERS Ücret Hesaplama'!$AM13=1,'EK DERS Ücret Hesaplama'!M13,\"\")","v":""},{"$f":"IF('EK DERS Ücret Hesaplama'!$AM13=1,'EK DERS Ücret Hesaplama'!N13,\"\")","v":""},{"$f":"IF('EK DERS Ücret Hesaplama'!$AM13=1,'EK DERS Ücret Hesaplama'!E13,\"\")","v":""},{"$f":"IF('EK DERS Ücret Hesaplama'!$AM13=1,'EK DERS Ücret Hesaplama'!F13,\"\")","v":""},{"$f":"IF('EK DERS Ücret Hesaplama'!$AM13=1,'EK DERS Ücret Hesaplama'!G13,\"\")","v":""},{"$f":"IF('EK DERS Ücret Hesaplama'!$AM13=1,'EK DERS Ücret Hesaplama'!H13,\"\")","v":""},{"$f":"IF('EK DERS Ücret Hesaplama'!$AM13=1,'EK DERS Ücret Hesaplama'!I13,\"\")","v":""},{"$f":"IF('EK DERS Ücret Hesaplama'!$AM13=1,'EK DERS Ücret Hesaplama'!J13,\"\")","v":""},{"$f":"IF('EK DERS Ücret Hesaplama'!$AM13=1,'EK DERS Ücret Hesaplama'!K13,\"\")","v":""},{"$f":"IF('EK DERS Ücret Hesaplama'!$AM13=1,'EK DERS Ücret Hesaplama'!L13,\"\")","v":""},{"$f":"IF('EK DERS Ücret Hesaplama'!$AM13=1,'EK DERS Ücret Hesaplama'!O13,\"\")","v":""},{"$f":"IF('EK DERS Ücret Hesaplama'!$AM13=1,'EK DERS Ücret Hesaplama'!P13,\"\")","v":""},{"$f":"IF('EK DERS Ücret Hesaplama'!$AM13=1,'EK DERS Ücret Hesaplama'!Q13,\"\")","v":""},{"$f":"IF('EK DERS Ücret Hesaplama'!$AM13=1,'EK DERS Ücret Hesaplama'!R13,\"\")","v":""},{"$f":"IF('EK DERS Ücret Hesaplama'!$AM13=1,'EK DERS Ücret Hesaplama'!S13,\"\")","v":""},{"$f":"IF('EK DERS Ücret Hesaplama'!$AM13=1,hesaplamalar!X10,\"\")","v":""},{"$f":"IF('EK DERS Ücret Hesaplama'!$AM13=1,hesaplamalar!Y10,\"\")","v":""},{"$f":"IF('EK DERS Ücret Hesaplama'!$AM13=1,hesaplamalar!Z10,\"\")","v":""},{"$f":"IF('EK DERS Ücret Hesaplama'!$AM13=1,hesaplamalar!AA10,\"\")","v":""},{"$f":"IF('EK DERS Ücret Hesaplama'!$AM13=1,hesaplamalar!AB10,\"\")","v":""},{"$f":"IF('EK DERS Ücret Hesaplama'!$AM13=1,hesaplamalar!AC10,\"\")","v":""},{"$f":"IF('EK DERS Ücret Hesaplama'!$AM13=1,hesaplamalar!AD10,\"\")","v":""},{"$f":"IF('EK DERS Ücret Hesaplama'!$AM13=1,hesaplamalar!AE10,\"\")","v":""},{"$f":"IF('EK DERS Ücret Hesaplama'!$AM13=1,hesaplamalar!AG10,\"\")","v":""},{"$f":"IF('EK DERS Ücret Hesaplama'!$AM13=1,hesaplamalar!AH10,\"\")","v":""},{"$f":"IF('EK DERS Ücret Hesaplama'!$AM13=1,'EK DERS Ücret Hesaplama'!AE13,\"\")","v":""},{"$f":"IF('EK DERS Ücret Hesaplama'!$AM13=1,'EK DERS Ücret Hesaplama'!AG13,\"\")","v":""},{"$f":"IF('EK DERS Ücret Hesaplama'!$AM13=1,'EK DERS Ücret Hesaplama'!AF13,\"\")","v":""},{"$f":"IF('EK DERS Ücret Hesaplama'!$AM13=1,'EK DERS Ücret Hesaplama'!AH13,\"\")","v":""},{"$f":"IF('EK DERS Ücret Hesaplama'!$AM13=1,'EK DERS Ücret Hesaplama'!AI13,\"\")","v":""},{"$f":"IF('EK DERS Ücret Hesaplama'!$AM13=1,'EK DERS Ücret Hesaplama'!AJ13,\"\")","v":""},{"$f":"IF('EK DERS Ücret Hesaplama'!$AM13=1,'EK DERS Ücret Hesaplama'!AK13,\"\")","v":""},null,0]
[{"$f":"IF(AJ16=\"\",\"\",SUBTOTAL(103,$AJ$8:AJ16))","v":""},{"$f":"IF('EK DERS Ücret Hesaplama'!$AM14=1,'EK DERS Ücret Hesaplama'!B14,\"\")","v":""},{"$f":"IF('EK DERS Ücret Hesaplama'!$AM14=1,'EK DERS Ücret Hesaplama'!C14,\"\")","v":""},{"$f":"IF('EK DERS Ücret Hesaplama'!$AM14=1,IF('EK DERS Ücret Hesaplama'!D14=\"Ücretli Öğretmen\",\"Ücretli Öğr.\",\"Ücr.Öğr. (Emekli)\"),\"\")","v":""},{"$f":"IF('EK DERS Ücret Hesaplama'!$AM14=1,'EK DERS Ücret Hesaplama'!M14,\"\")","v":""},{"$f":"IF('EK DERS Ücret Hesaplama'!$AM14=1,'EK DERS Ücret Hesaplama'!N14,\"\")","v":""},{"$f":"IF('EK DERS Ücret Hesaplama'!$AM14=1,'EK DERS Ücret Hesaplama'!E14,\"\")","v":""},{"$f":"IF('EK DERS Ücret Hesaplama'!$AM14=1,'EK DERS Ücret Hesaplama'!F14,\"\")","v":""},{"$f":"IF('EK DERS Ücret Hesaplama'!$AM14=1,'EK DERS Ücret Hesaplama'!G14,\"\")","v":""},{"$f":"IF('EK DERS Ücret Hesaplama'!$AM14=1,'EK DERS Ücret Hesaplama'!H14,\"\")","v":""},{"$f":"IF('EK DERS Ücret Hesaplama'!$AM14=1,'EK DERS Ücret Hesaplama'!I14,\"\")","v":""},{"$f":"IF('EK DERS Ücret Hesaplama'!$AM14=1,'EK DERS Ücret Hesaplama'!J14,\"\")","v":""},{"$f":"IF('EK DERS Ücret Hesaplama'!$AM14=1,'EK DERS Ücret Hesaplama'!K14,\"\")","v":""},{"$f":"IF('EK DERS Ücret Hesaplama'!$AM14=1,'EK DERS Ücret Hesaplama'!L14,\"\")","v":""},{"$f":"IF('EK DERS Ücret Hesaplama'!$AM14=1,'EK DERS Ücret Hesaplama'!O14,\"\")","v":""},{"$f":"IF('EK DERS Ücret Hesaplama'!$AM14=1,'EK DERS Ücret Hesaplama'!P14,\"\")","v":""},{"$f":"IF('EK DERS Ücret Hesaplama'!$AM14=1,'EK DERS Ücret Hesaplama'!Q14,\"\")","v":""},{"$f":"IF('EK DERS Ücret Hesaplama'!$AM14=1,'EK DERS Ücret Hesaplama'!R14,\"\")","v":""},{"$f":"IF('EK DERS Ücret Hesaplama'!$AM14=1,'EK DERS Ücret Hesaplama'!S14,\"\")","v":""},{"$f":"IF('EK DERS Ücret Hesaplama'!$AM14=1,hesaplamalar!X11,\"\")","v":""},{"$f":"IF('EK DERS Ücret Hesaplama'!$AM14=1,hesaplamalar!Y11,\"\")","v":""},{"$f":"IF('EK DERS Ücret Hesaplama'!$AM14=1,hesaplamalar!Z11,\"\")","v":""},{"$f":"IF('EK DERS Ücret Hesaplama'!$AM14=1,hesaplamalar!AA11,\"\")","v":""},{"$f":"IF('EK DERS Ücret Hesaplama'!$AM14=1,hesaplamalar!AB11,\"\")","v":""},{"$f":"IF('EK DERS Ücret Hesaplama'!$AM14=1,hesaplamalar!AC11,\"\")","v":""},{"$f":"IF('EK DERS Ücret Hesaplama'!$AM14=1,hesaplamalar!AD11,\"\")","v":""},{"$f":"IF('EK DERS Ücret Hesaplama'!$AM14=1,hesaplamalar!AE11,\"\")","v":""},{"$f":"IF('EK DERS Ücret Hesaplama'!$AM14=1,hesaplamalar!AG11,\"\")","v":""},{"$f":"IF('EK DERS Ücret Hesaplama'!$AM14=1,hesaplamalar!AH11,\"\")","v":""},{"$f":"IF('EK DERS Ücret Hesaplama'!$AM14=1,'EK DERS Ücret Hesaplama'!AE14,\"\")","v":""},{"$f":"IF('EK DERS Ücret Hesaplama'!$AM14=1,'EK DERS Ücret Hesaplama'!AG14,\"\")","v":""},{"$f":"IF('EK DERS Ücret Hesaplama'!$AM14=1,'EK DERS Ücret Hesaplama'!AF14,\"\")","v":""},{"$f":"IF('EK DERS Ücret Hesaplama'!$AM14=1,'EK DERS Ücret Hesaplama'!AH14,\"\")","v":""},{"$f":"IF('EK DERS Ücret Hesaplama'!$AM14=1,'EK DERS Ücret Hesaplama'!AI14,\"\")","v":""},{"$f":"IF('EK DERS Ücret Hesaplama'!$AM14=1,'EK DERS Ücret Hesaplama'!AJ14,\"\")","v":""},{"$f":"IF('EK DERS Ücret Hesaplama'!$AM14=1,'EK DERS Ücret Hesaplama'!AK14,\"\")","v":""},null,0]
[{"$f":"IF(AJ17=\"\",\"\",SUBTOTAL(103,$AJ$8:AJ17))","v":""},{"$f":"IF('EK DERS Ücret Hesaplama'!$AM15=1,'EK DERS Ücret Hesaplama'!B15,\"\")","v":""},{"$f":"IF('EK DERS Ücret Hesaplama'!$AM15=1,'EK DERS Ücret Hesaplama'!C15,\"\")","v":""},{"$f":"IF('EK DERS Ücret Hesaplama'!$AM15=1,IF('EK DERS Ücret Hesaplama'!D15=\"Ücretli Öğretmen\",\"Ücretli Öğr.\",\"Ücr.Öğr. (Emekli)\"),\"\")","v":""},{"$f":"IF('EK DERS Ücret Hesaplama'!$AM15=1,'EK DERS Ücret Hesaplama'!M15,\"\")","v":""},{"$f":"IF('EK DERS Ücret Hesaplama'!$AM15=1,'EK DERS Ücret Hesaplama'!N15,\"\")","v":""},{"$f":"IF('EK DERS Ücret Hesaplama'!$AM15=1,'EK DERS Ücret Hesaplama'!E15,\"\")","v":""},{"$f":"IF('EK DERS Ücret Hesaplama'!$AM15=1,'EK DERS Ücret Hesaplama'!F15,\"\")","v":""},{"$f":"IF('EK DERS Ücret Hesaplama'!$AM15=1,'EK DERS Ücret Hesaplama'!G15,\"\")","v":""},{"$f":"IF('EK DERS Ücret Hesaplama'!$AM15=1,'EK DERS Ücret Hesaplama'!H15,\"\")","v":""},{"$f":"IF('EK DERS Ücret Hesaplama'!$AM15=1,'EK DERS Ücret Hesaplama'!I15,\"\")","v":""},{"$f":"IF('EK DERS Ücret Hesaplama'!$AM15=1,'EK DERS Ücret Hesaplama'!J15,\"\")","v":""},{"$f":"IF('EK DERS Ücret Hesaplama'!$AM15=1,'EK DERS Ücret Hesaplama'!K15,\"\")","v":""},{"$f":"IF('EK DERS Ücret Hesaplama'!$AM15=1,'EK DERS Ücret Hesaplama'!L15,\"\")","v":""},{"$f":"IF('EK DERS Ücret Hesaplama'!$AM15=1,'EK DERS Ücret Hesaplama'!O15,\"\")","v":""},{"$f":"IF('EK DERS Ücret Hesaplama'!$AM15=1,'EK DERS Ücret Hesaplama'!P15,\"\")","v":""},{"$f":"IF('EK DERS Ücret Hesaplama'!$AM15=1,'EK DERS Ücret Hesaplama'!Q15,\"\")","v":""},{"$f":"IF('EK DERS Ücret Hesaplama'!$AM15=1,'EK DERS Ücret Hesaplama'!R15,\"\")","v":""},{"$f":"IF('EK DERS Ücret Hesaplama'!$AM15=1,'EK DERS Ücret Hesaplama'!S15,\"\")","v":""},{"$f":"IF('EK DERS Ücret Hesaplama'!$AM15=1,hesaplamalar!X12,\"\")","v":""},{"$f":"IF('EK DERS Ücret Hesaplama'!$AM15=1,hesaplamalar!Y12,\"\")","v":""},{"$f":"IF('EK DERS Ücret Hesaplama'!$AM15=1,hesaplamalar!Z12,\"\")","v":""},{"$f":"IF('EK DERS Ücret Hesaplama'!$AM15=1,hesaplamalar!AA12,\"\")","v":""},{"$f":"IF('EK DERS Ücret Hesaplama'!$AM15=1,hesaplamalar!AB12,\"\")","v":""},{"$f":"IF('EK DERS Ücret Hesaplama'!$AM15=1,hesaplamalar!AC12,\"\")","v":""},{"$f":"IF('EK DERS Ücret Hesaplama'!$AM15=1,hesaplamalar!AD12,\"\")","v":""},{"$f":"IF('EK DERS Ücret Hesaplama'!$AM15=1,hesaplamalar!AE12,\"\")","v":""},{"$f":"IF('EK DERS Ücret Hesaplama'!$AM15=1,hesaplamalar!AG12,\"\")","v":""},{"$f":"IF('EK DERS Ücret Hesaplama'!$AM15=1,hesaplamalar!AH12,\"\")","v":""},{"$f":"IF('EK DERS Ücret Hesaplama'!$AM15=1,'EK DERS Ücret Hesaplama'!AE15,\"\")","v":""},{"$f":"IF('EK DERS Ücret Hesaplama'!$AM15=1,'EK DERS Ücret Hesaplama'!AG15,\"\")","v":""},{"$f":"IF('EK DERS Ücret Hesaplama'!$AM15=1,'EK DERS Ücret Hesaplama'!AF15,\"\")","v":""},{"$f":"IF('EK DERS Ücret Hesaplama'!$AM15=1,'EK DERS Ücret Hesaplama'!AH15,\"\")","v":""},{"$f":"IF('EK DERS Ücret Hesaplama'!$AM15=1,'EK DERS Ücret Hesaplama'!AI15,\"\")","v":""},{"$f":"IF('EK DERS Ücret Hesaplama'!$AM15=1,'EK DERS Ücret Hesaplama'!AJ15,\"\")","v":""},{"$f":"IF('EK DERS Ücret Hesaplama'!$AM15=1,'EK DERS Ücret Hesaplama'!AK15,\"\")","v":""},null,0]
[{"$f":"IF(AJ18=\"\",\"\",SUBTOTAL(103,$AJ$8:AJ18))","v":""},{"$f":"IF('EK DERS Ücret Hesaplama'!$AM16=1,'EK DERS Ücret Hesaplama'!B16,\"\")","v":""},{"$f":"IF('EK DERS Ücret Hesaplama'!$AM16=1,'EK DERS Ücret Hesaplama'!C16,\"\")","v":""},{"$f":"IF('EK DERS Ücret Hesaplama'!$AM16=1,IF('EK DERS Ücret Hesaplama'!D16=\"Ücretli Öğretmen\",\"Ücretli Öğr.\",\"Ücr.Öğr. (Emekli)\"),\"\")","v":""},{"$f":"IF('EK DERS Ücret Hesaplama'!$AM16=1,'EK DERS Ücret Hesaplama'!M16,\"\")","v":""},{"$f":"IF('EK DERS Ücret Hesaplama'!$AM16=1,'EK DERS Ücret Hesaplama'!N16,\"\")","v":""},{"$f":"IF('EK DERS Ücret Hesaplama'!$AM16=1,'EK DERS Ücret Hesaplama'!E16,\"\")","v":""},{"$f":"IF('EK DERS Ücret Hesaplama'!$AM16=1,'EK DERS Ücret Hesaplama'!F16,\"\")","v":""},{"$f":"IF('EK DERS Ücret Hesaplama'!$AM16=1,'EK DERS Ücret Hesaplama'!G16,\"\")","v":""},{"$f":"IF('EK DERS Ücret Hesaplama'!$AM16=1,'EK DERS Ücret Hesaplama'!H16,\"\")","v":""},{"$f":"IF('EK DERS Ücret Hesaplama'!$AM16=1,'EK DERS Ücret Hesaplama'!I16,\"\")","v":""},{"$f":"IF('EK DERS Ücret Hesaplama'!$AM16=1,'EK DERS Ücret Hesaplama'!J16,\"\")","v":""},{"$f":"IF('EK DERS Ücret Hesaplama'!$AM16=1,'EK DERS Ücret Hesaplama'!K16,\"\")","v":""},{"$f":"IF('EK DERS Ücret Hesaplama'!$AM16=1,'EK DERS Ücret Hesaplama'!L16,\"\")","v":""},{"$f":"IF('EK DERS Ücret Hesaplama'!$AM16=1,'EK DERS Ücret Hesaplama'!O16,\"\")","v":""},{"$f":"IF('EK DERS Ücret Hesaplama'!$AM16=1,'EK DERS Ücret Hesaplama'!P16,\"\")","v":""},{"$f":"IF('EK DERS Ücret Hesaplama'!$AM16=1,'EK DERS Ücret Hesaplama'!Q16,\"\")","v":""},{"$f":"IF('EK DERS Ücret Hesaplama'!$AM16=1,'EK DERS Ücret Hesaplama'!R16,\"\")","v":""},{"$f":"IF('EK DERS Ücret Hesaplama'!$AM16=1,'EK DERS Ücret Hesaplama'!S16,\"\")","v":""},{"$f":"IF('EK DERS Ücret Hesaplama'!$AM16=1,hesaplamalar!X13,\"\")","v":""},{"$f":"IF('EK DERS Ücret Hesaplama'!$AM16=1,hesaplamalar!Y13,\"\")","v":""},{"$f":"IF('EK DERS Ücret Hesaplama'!$AM16=1,hesaplamalar!Z13,\"\")","v":""},{"$f":"IF('EK DERS Ücret Hesaplama'!$AM16=1,hesaplamalar!AA13,\"\")","v":""},{"$f":"IF('EK DERS Ücret Hesaplama'!$AM16=1,hesaplamalar!AB13,\"\")","v":""},{"$f":"IF('EK DERS Ücret Hesaplama'!$AM16=1,hesaplamalar!AC13,\"\")","v":""},{"$f":"IF('EK DERS Ücret Hesaplama'!$AM16=1,hesaplamalar!AD13,\"\")","v":""},{"$f":"IF('EK DERS Ücret Hesaplama'!$AM16=1,hesaplamalar!AE13,\"\")","v":""},{"$f":"IF('EK DERS Ücret Hesaplama'!$AM16=1,hesaplamalar!AG13,\"\")","v":""},{"$f":"IF('EK DERS Ücret Hesaplama'!$AM16=1,hesaplamalar!AH13,\"\")","v":""},{"$f":"IF('EK DERS Ücret Hesaplama'!$AM16=1,'EK DERS Ücret Hesaplama'!AE16,\"\")","v":""},{"$f":"IF('EK DERS Ücret Hesaplama'!$AM16=1,'EK DERS Ücret Hesaplama'!AG16,\"\")","v":""},{"$f":"IF('EK DERS Ücret Hesaplama'!$AM16=1,'EK DERS Ücret Hesaplama'!AF16,\"\")","v":""},{"$f":"IF('EK DERS Ücret Hesaplama'!$AM16=1,'EK DERS Ücret Hesaplama'!AH16,\"\")","v":""},{"$f":"IF('EK DERS Ücret Hesaplama'!$AM16=1,'EK DERS Ücret Hesaplama'!AI16,\"\")","v":""},{"$f":"IF('EK DERS Ücret Hesaplama'!$AM16=1,'EK DERS Ücret Hesaplama'!AJ16,\"\")","v":""},{"$f":"IF('EK DERS Ücret Hesaplama'!$AM16=1,'EK DERS Ücret Hesaplama'!AK16,\"\")","v":""},null,0]
[{"$f":"IF(AJ19=\"\",\"\",SUBTOTAL(103,$AJ$8:AJ19))","v":""},{"$f":"IF('EK DERS Ücret Hesaplama'!$AM17=1,'EK DERS Ücret Hesaplama'!B17,\"\")","v":""},{"$f":"IF('EK DERS Ücret Hesaplama'!$AM17=1,'EK DERS Ücret Hesaplama'!C17,\"\")","v":""},{"$f":"IF('EK DERS Ücret Hesaplama'!$AM17=1,IF('EK DERS Ücret Hesaplama'!D17=\"Ücretli Öğretmen\",\"Ücretli Öğr.\",\"Ücr.Öğr. (Emekli)\"),\"\")","v":""},{"$f":"IF('EK DERS Ücret Hesaplama'!$AM17=1,'EK DERS Ücret Hesaplama'!M17,\"\")","v":""},{"$f":"IF('EK DERS Ücret Hesaplama'!$AM17=1,'EK DERS Ücret Hesaplama'!N17,\"\")","v":""},{"$f":"IF('EK DERS Ücret Hesaplama'!$AM17=1,'EK DERS Ücret Hesaplama'!E17,\"\")","v":""},{"$f":"IF('EK DERS Ücret Hesaplama'!$AM17=1,'EK DERS Ücret Hesaplama'!F17,\"\")","v":""},{"$f":"IF('EK DERS Ücret Hesaplama'!$AM17=1,'EK DERS Ücret Hesaplama'!G17,\"\")","v":""},{"$f":"IF('EK DERS Ücret Hesaplama'!$AM17=1,'EK DERS Ücret Hesaplama'!H17,\"\")","v":""},{"$f":"IF('EK DERS Ücret Hesaplama'!$AM17=1,'EK DERS Ücret Hesaplama'!I17,\"\")","v":""},{"$f":"IF('EK DERS Ücret Hesaplama'!$AM17=1,'EK DERS Ücret Hesaplama'!J17,\"\")","v":""},{"$f":"IF('EK DERS Ücret Hesaplama'!$AM17=1,'EK DERS Ücret Hesaplama'!K17,\"\")","v":""},{"$f":"IF('EK DERS Ücret Hesaplama'!$AM17=1,'EK DERS Ücret Hesaplama'!L17,\"\")","v":""},{"$f":"IF('EK DERS Ücret Hesaplama'!$AM17=1,'EK DERS Ücret Hesaplama'!O17,\"\")","v":""},{"$f":"IF('EK DERS Ücret Hesaplama'!$AM17=1,'EK DERS Ücret Hesaplama'!P17,\"\")","v":""},{"$f":"IF('EK DERS Ücret Hesaplama'!$AM17=1,'EK DERS Ücret Hesaplama'!Q17,\"\")","v":""},{"$f":"IF('EK DERS Ücret Hesaplama'!$AM17=1,'EK DERS Ücret Hesaplama'!R17,\"\")","v":""},{"$f":"IF('EK DERS Ücret Hesaplama'!$AM17=1,'EK DERS Ücret Hesaplama'!S17,\"\")","v":""},{"$f":"IF('EK DERS Ücret Hesaplama'!$AM17=1,hesaplamalar!X14,\"\")","v":""},{"$f":"IF('EK DERS Ücret Hesaplama'!$AM17=1,hesaplamalar!Y14,\"\")","v":""},{"$f":"IF('EK DERS Ücret Hesaplama'!$AM17=1,hesaplamalar!Z14,\"\")","v":""},{"$f":"IF('EK DERS Ücret Hesaplama'!$AM17=1,hesaplamalar!AA14,\"\")","v":""},{"$f":"IF('EK DERS Ücret Hesaplama'!$AM17=1,hesaplamalar!AB14,\"\")","v":""},{"$f":"IF('EK DERS Ücret Hesaplama'!$AM17=1,hesaplamalar!AC14,\"\")","v":""},{"$f":"IF('EK DERS Ücret Hesaplama'!$AM17=1,hesaplamalar!AD14,\"\")","v":""},{"$f":"IF('EK DERS Ücret Hesaplama'!$AM17=1,hesaplamalar!AE14,\"\")","v":""},{"$f":"IF('EK DERS Ücret Hesaplama'!$AM17=1,hesaplamalar!AG14,\"\")","v":""},{"$f":"IF('EK DERS Ücret Hesaplama'!$AM17=1,hesaplamalar!AH14,\"\")","v":""},{"$f":"IF('EK DERS Ücret Hesaplama'!$AM17=1,'EK DERS Ücret Hesaplama'!AE17,\"\")","v":""},{"$f":"IF('EK DERS Ücret Hesaplama'!$AM17=1,'EK DERS Ücret Hesaplama'!AG17,\"\")","v":""},{"$f":"IF('EK DERS Ücret Hesaplama'!$AM17=1,'EK DERS Ücret Hesaplama'!AF17,\"\")","v":""},{"$f":"IF('EK DERS Ücret Hesaplama'!$AM17=1,'EK DERS Ücret Hesaplama'!AH17,\"\")","v":""},{"$f":"IF('EK DERS Ücret Hesaplama'!$AM17=1,'EK DERS Ücret Hesaplama'!AI17,\"\")","v":""},{"$f":"IF('EK DERS Ücret Hesaplama'!$AM17=1,'EK DERS Ücret Hesaplama'!AJ17,\"\")","v":""},{"$f":"IF('EK DERS Ücret Hesaplama'!$AM17=1,'EK DERS Ücret Hesaplama'!AK17,\"\")","v":""},null,0]
[{"$f":"IF(AJ20=\"\",\"\",SUBTOTAL(103,$AJ$8:AJ20))","v":""},{"$f":"IF('EK DERS Ücret Hesaplama'!$AM18=1,'EK DERS Ücret Hesaplama'!B18,\"\")","v":""},{"$f":"IF('EK DERS Ücret Hesaplama'!$AM18=1,'EK DERS Ücret Hesaplama'!C18,\"\")","v":""},{"$f":"IF('EK DERS Ücret Hesaplama'!$AM18=1,IF('EK DERS Ücret Hesaplama'!D18=\"Ücretli Öğretmen\",\"Ücretli Öğr.\",\"Ücr.Öğr. (Emekli)\"),\"\")","v":""},{"$f":"IF('EK DERS Ücret Hesaplama'!$AM18=1,'EK DERS Ücret Hesaplama'!M18,\"\")","v":""},{"$f":"IF('EK DERS Ücret Hesaplama'!$AM18=1,'EK DERS Ücret Hesaplama'!N18,\"\")","v":""},{"$f":"IF('EK DERS Ücret Hesaplama'!$AM18=1,'EK DERS Ücret Hesaplama'!E18,\"\")","v":""},{"$f":"IF('EK DERS Ücret Hesaplama'!$AM18=1,'EK DERS Ücret Hesaplama'!F18,\"\")","v":""},{"$f":"IF('EK DERS Ücret Hesaplama'!$AM18=1,'EK DERS Ücret Hesaplama'!G18,\"\")","v":""},{"$f":"IF('EK DERS Ücret Hesaplama'!$AM18=1,'EK DERS Ücret Hesaplama'!H18,\"\")","v":""},{"$f":"IF('EK DERS Ücret Hesaplama'!$AM18=1,'EK DERS Ücret Hesaplama'!I18,\"\")","v":""},{"$f":"IF('EK DERS Ücret Hesaplama'!$AM18=1,'EK DERS Ücret Hesaplama'!J18,\"\")","v":""},{"$f":"IF('EK DERS Ücret Hesaplama'!$AM18=1,'EK DERS Ücret Hesaplama'!K18,\"\")","v":""},{"$f":"IF('EK DERS Ücret Hesaplama'!$AM18=1,'EK DERS Ücret Hesaplama'!L18,\"\")","v":""},{"$f":"IF('EK DERS Ücret Hesaplama'!$AM18=1,'EK DERS Ücret Hesaplama'!O18,\"\")","v":""},{"$f":"IF('EK DERS Ücret Hesaplama'!$AM18=1,'EK DERS Ücret Hesaplama'!P18,\"\")","v":""},{"$f":"IF('EK DERS Ücret Hesaplama'!$AM18=1,'EK DERS Ücret Hesaplama'!Q18,\"\")","v":""},{"$f":"IF('EK DERS Ücret Hesaplama'!$AM18=1,'EK DERS Ücret Hesaplama'!R18,\"\")","v":""},{"$f":"IF('EK DERS Ücret Hesaplama'!$AM18=1,'EK DERS Ücret Hesaplama'!S18,\"\")","v":""},{"$f":"IF('EK DERS Ücret Hesaplama'!$AM18=1,hesaplamalar!X15,\"\")","v":""},{"$f":"IF('EK DERS Ücret Hesaplama'!$AM18=1,hesaplamalar!Y15,\"\")","v":""},{"$f":"IF('EK DERS Ücret Hesaplama'!$AM18=1,hesaplamalar!Z15,\"\")","v":""},{"$f":"IF('EK DERS Ücret Hesaplama'!$AM18=1,hesaplamalar!AA15,\"\")","v":""},{"$f":"IF('EK DERS Ücret Hesaplama'!$AM18=1,hesaplamalar!AB15,\"\")","v":""},{"$f":"IF('EK DERS Ücret Hesaplama'!$AM18=1,hesaplamalar!AC15,\"\")","v":""},{"$f":"IF('EK DERS Ücret Hesaplama'!$AM18=1,hesaplamalar!AD15,\"\")","v":""},{"$f":"IF('EK DERS Ücret Hesaplama'!$AM18=1,hesaplamalar!AE15,\"\")","v":""},{"$f":"IF('EK DERS Ücret Hesaplama'!$AM18=1,hesaplamalar!AG15,\"\")","v":""},{"$f":"IF('EK DERS Ücret Hesaplama'!$AM18=1,hesaplamalar!AH15,\"\")","v":""},{"$f":"IF('EK DERS Ücret Hesaplama'!$AM18=1,'EK DERS Ücret Hesaplama'!AE18,\"\")","v":""},{"$f":"IF('EK DERS Ücret Hesaplama'!$AM18=1,'EK DERS Ücret Hesaplama'!AG18,\"\")","v":""},{"$f":"IF('EK DERS Ücret Hesaplama'!$AM18=1,'EK DERS Ücret Hesaplama'!AF18,\"\")","v":""},{"$f":"IF('EK DERS Ücret Hesaplama'!$AM18=1,'EK DERS Ücret Hesaplama'!AH18,\"\")","v":""},{"$f":"IF('EK DERS Ücret Hesaplama'!$AM18=1,'EK DERS Ücret Hesaplama'!AI18,\"\")","v":""},{"$f":"IF('EK DERS Ücret Hesaplama'!$AM18=1,'EK DERS Ücret Hesaplama'!AJ18,\"\")","v":""},{"$f":"IF('EK DERS Ücret Hesaplama'!$AM18=1,'EK DERS Ücret Hesaplama'!AK18,\"\")","v":""},null,0]
[{"$f":"IF(AJ21=\"\",\"\",SUBTOTAL(103,$AJ$8:AJ21))","v":""},{"$f":"IF('EK DERS Ücret Hesaplama'!$AM19=1,'EK DERS Ücret Hesaplama'!B19,\"\")","v":""},{"$f":"IF('EK DERS Ücret Hesaplama'!$AM19=1,'EK DERS Ücret Hesaplama'!C19,\"\")","v":""},{"$f":"IF('EK DERS Ücret Hesaplama'!$AM19=1,IF('EK DERS Ücret Hesaplama'!D19=\"Ücretli Öğretmen\",\"Ücretli Öğr.\",\"Ücr.Öğr. (Emekli)\"),\"\")","v":""},{"$f":"IF('EK DERS Ücret Hesaplama'!$AM19=1,'EK DERS Ücret Hesaplama'!M19,\"\")","v":""},{"$f":"IF('EK DERS Ücret Hesaplama'!$AM19=1,'EK DERS Ücret Hesaplama'!N19,\"\")","v":""},{"$f":"IF('EK DERS Ücret Hesaplama'!$AM19=1,'EK DERS Ücret Hesaplama'!E19,\"\")","v":""},{"$f":"IF('EK DERS Ücret Hesaplama'!$AM19=1,'EK DERS Ücret Hesaplama'!F19,\"\")","v":""},{"$f":"IF('EK DERS Ücret Hesaplama'!$AM19=1,'EK DERS Ücret Hesaplama'!G19,\"\")","v":""},{"$f":"IF('EK DERS Ücret Hesaplama'!$AM19=1,'EK DERS Ücret Hesaplama'!H19,\"\")","v":""},{"$f":"IF('EK DERS Ücret Hesaplama'!$AM19=1,'EK DERS Ücret Hesaplama'!I19,\"\")","v":""},{"$f":"IF('EK DERS Ücret Hesaplama'!$AM19=1,'EK DERS Ücret Hesaplama'!J19,\"\")","v":""},{"$f":"IF('EK DERS Ücret Hesaplama'!$AM19=1,'EK DERS Ücret Hesaplama'!K19,\"\")","v":""},{"$f":"IF('EK DERS Ücret Hesaplama'!$AM19=1,'EK DERS Ücret Hesaplama'!L19,\"\")","v":""},{"$f":"IF('EK DERS Ücret Hesaplama'!$AM19=1,'EK DERS Ücret Hesaplama'!O19,\"\")","v":""},{"$f":"IF('EK DERS Ücret Hesaplama'!$AM19=1,'EK DERS Ücret Hesaplama'!P19,\"\")","v":""},{"$f":"IF('EK DERS Ücret Hesaplama'!$AM19=1,'EK DERS Ücret Hesaplama'!Q19,\"\")","v":""},{"$f":"IF('EK DERS Ücret Hesaplama'!$AM19=1,'EK DERS Ücret Hesaplama'!R19,\"\")","v":""},{"$f":"IF('EK DERS Ücret Hesaplama'!$AM19=1,'EK DERS Ücret Hesaplama'!S19,\"\")","v":""},{"$f":"IF('EK DERS Ücret Hesaplama'!$AM19=1,hesaplamalar!X16,\"\")","v":""},{"$f":"IF('EK DERS Ücret Hesaplama'!$AM19=1,hesaplamalar!Y16,\"\")","v":""},{"$f":"IF('EK DERS Ücret Hesaplama'!$AM19=1,hesaplamalar!Z16,\"\")","v":""},{"$f":"IF('EK DERS Ücret Hesaplama'!$AM19=1,hesaplamalar!AA16,\"\")","v":""},{"$f":"IF('EK DERS Ücret Hesaplama'!$AM19=1,hesaplamalar!AB16,\"\")","v":""},{"$f":"IF('EK DERS Ücret Hesaplama'!$AM19=1,hesaplamalar!AC16,\"\")","v":""},{"$f":"IF('EK DERS Ücret Hesaplama'!$AM19=1,hesaplamalar!AD16,\"\")","v":""},{"$f":"IF('EK DERS Ücret Hesaplama'!$AM19=1,hesaplamalar!AE16,\"\")","v":""},{"$f":"IF('EK DERS Ücret Hesaplama'!$AM19=1,hesaplamalar!AG16,\"\")","v":""},{"$f":"IF('EK DERS Ücret Hesaplama'!$AM19=1,hesaplamalar!AH16,\"\")","v":""},{"$f":"IF('EK DERS Ücret Hesaplama'!$AM19=1,'EK DERS Ücret Hesaplama'!AE19,\"\")","v":""},{"$f":"IF('EK DERS Ücret Hesaplama'!$AM19=1,'EK DERS Ücret Hesaplama'!AG19,\"\")","v":""},{"$f":"IF('EK DERS Ücret Hesaplama'!$AM19=1,'EK DERS Ücret Hesaplama'!AF19,\"\")","v":""},{"$f":"IF('EK DERS Ücret Hesaplama'!$AM19=1,'EK DERS Ücret Hesaplama'!AH19,\"\")","v":""},{"$f":"IF('EK DERS Ücret Hesaplama'!$AM19=1,'EK DERS Ücret Hesaplama'!AI19,\"\")","v":""},{"$f":"IF('EK DERS Ücret Hesaplama'!$AM19=1,'EK DERS Ücret Hesaplama'!AJ19,\"\")","v":""},{"$f":"IF('EK DERS Ücret Hesaplama'!$AM19=1,'EK DERS Ücret Hesaplama'!AK19,\"\")","v":""},null,0]
[{"$f":"IF(AJ22=\"\",\"\",SUBTOTAL(103,$AJ$8:AJ22))","v":""},{"$f":"IF('EK DERS Ücret Hesaplama'!$AM20=1,'EK DERS Ücret Hesaplama'!B20,\"\")","v":""},{"$f":"IF('EK DERS Ücret Hesaplama'!$AM20=1,'EK DERS Ücret Hesaplama'!C20,\"\")","v":""},{"$f":"IF('EK DERS Ücret Hesaplama'!$AM20=1,IF('EK DERS Ücret Hesaplama'!D20=\"Ücretli Öğretmen\",\"Ücretli Öğr.\",\"Ücr.Öğr. (Emekli)\"),\"\")","v":""},{"$f":"IF('EK DERS Ücret Hesaplama'!$AM20=1,'EK DERS Ücret Hesaplama'!M20,\"\")","v":""},{"$f":"IF('EK DERS Ücret Hesaplama'!$AM20=1,'EK DERS Ücret Hesaplama'!N20,\"\")","v":""},{"$f":"IF('EK DERS Ücret Hesaplama'!$AM20=1,'EK DERS Ücret Hesaplama'!E20,\"\")","v":""},{"$f":"IF('EK DERS Ücret Hesaplama'!$AM20=1,'EK DERS Ücret Hesaplama'!F20,\"\")","v":""},{"$f":"IF('EK DERS Ücret Hesaplama'!$AM20=1,'EK DERS Ücret Hesaplama'!G20,\"\")","v":""},{"$f":"IF('EK DERS Ücret Hesaplama'!$AM20=1,'EK DERS Ücret Hesaplama'!H20,\"\")","v":""},{"$f":"IF('EK DERS Ücret Hesaplama'!$AM20=1,'EK DERS Ücret Hesaplama'!I20,\"\")","v":""},{"$f":"IF('EK DERS Ücret Hesaplama'!$AM20=1,'EK DERS Ücret Hesaplama'!J20,\"\")","v":""},{"$f":"IF('EK DERS Ücret Hesaplama'!$AM20=1,'EK DERS Ücret Hesaplama'!K20,\"\")","v":""},{"$f":"IF('EK DERS Ücret Hesaplama'!$AM20=1,'EK DERS Ücret Hesaplama'!L20,\"\")","v":""},{"$f":"IF('EK DERS Ücret Hesaplama'!$AM20=1,'EK DERS Ücret Hesaplama'!O20,\"\")","v":""},{"$f":"IF('EK DERS Ücret Hesaplama'!$AM20=1,'EK DERS Ücret Hesaplama'!P20,\"\")","v":""},{"$f":"IF('EK DERS Ücret Hesaplama'!$AM20=1,'EK DERS Ücret Hesaplama'!Q20,\"\")","v":""},{"$f":"IF('EK DERS Ücret Hesaplama'!$AM20=1,'EK DERS Ücret Hesaplama'!R20,\"\")","v":""},{"$f":"IF('EK DERS Ücret Hesaplama'!$AM20=1,'EK DERS Ücret Hesaplama'!S20,\"\")","v":""},{"$f":"IF('EK DERS Ücret Hesaplama'!$AM20=1,hesaplamalar!X17,\"\")","v":""},{"$f":"IF('EK DERS Ücret Hesaplama'!$AM20=1,hesaplamalar!Y17,\"\")","v":""},{"$f":"IF('EK DERS Ücret Hesaplama'!$AM20=1,hesaplamalar!Z17,\"\")","v":""},{"$f":"IF('EK DERS Ücret Hesaplama'!$AM20=1,hesaplamalar!AA17,\"\")","v":""},{"$f":"IF('EK DERS Ücret Hesaplama'!$AM20=1,hesaplamalar!AB17,\"\")","v":""},{"$f":"IF('EK DERS Ücret Hesaplama'!$AM20=1,hesaplamalar!AC17,\"\")","v":""},{"$f":"IF('EK DERS Ücret Hesaplama'!$AM20=1,hesaplamalar!AD17,\"\")","v":""},{"$f":"IF('EK DERS Ücret Hesaplama'!$AM20=1,hesaplamalar!AE17,\"\")","v":""},{"$f":"IF('EK DERS Ücret Hesaplama'!$AM20=1,hesaplamalar!AG17,\"\")","v":""},{"$f":"IF('EK DERS Ücret Hesaplama'!$AM20=1,hesaplamalar!AH17,\"\")","v":""},{"$f":"IF('EK DERS Ücret Hesaplama'!$AM20=1,'EK DERS Ücret Hesaplama'!AE20,\"\")","v":""},{"$f":"IF('EK DERS Ücret Hesaplama'!$AM20=1,'EK DERS Ücret Hesaplama'!AG20,\"\")","v":""},{"$f":"IF('EK DERS Ücret Hesaplama'!$AM20=1,'EK DERS Ücret Hesaplama'!AF20,\"\")","v":""},{"$f":"IF('EK DERS Ücret Hesaplama'!$AM20=1,'EK DERS Ücret Hesaplama'!AH20,\"\")","v":""},{"$f":"IF('EK DERS Ücret Hesaplama'!$AM20=1,'EK DERS Ücret Hesaplama'!AI20,\"\")","v":""},{"$f":"IF('EK DERS Ücret Hesaplama'!$AM20=1,'EK DERS Ücret Hesaplama'!AJ20,\"\")","v":""},{"$f":"IF('EK DERS Ücret Hesaplama'!$AM20=1,'EK DERS Ücret Hesaplama'!AK20,\"\")","v":""},null,0]
[{"$f":"IF(AJ23=\"\",\"\",SUBTOTAL(103,$AJ$8:AJ23))","v":""},{"$f":"IF('EK DERS Ücret Hesaplama'!$AM21=1,'EK DERS Ücret Hesaplama'!B21,\"\")","v":""},{"$f":"IF('EK DERS Ücret Hesaplama'!$AM21=1,'EK DERS Ücret Hesaplama'!C21,\"\")","v":""},{"$f":"IF('EK DERS Ücret Hesaplama'!$AM21=1,IF('EK DERS Ücret Hesaplama'!D21=\"Ücretli Öğretmen\",\"Ücretli Öğr.\",\"Ücr.Öğr. (Emekli)\"),\"\")","v":""},{"$f":"IF('EK DERS Ücret Hesaplama'!$AM21=1,'EK DERS Ücret Hesaplama'!M21,\"\")","v":""},{"$f":"IF('EK DERS Ücret Hesaplama'!$AM21=1,'EK DERS Ücret Hesaplama'!N21,\"\")","v":""},{"$f":"IF('EK DERS Ücret Hesaplama'!$AM21=1,'EK DERS Ücret Hesaplama'!E21,\"\")","v":""},{"$f":"IF('EK DERS Ücret Hesaplama'!$AM21=1,'EK DERS Ücret Hesaplama'!F21,\"\")","v":""},{"$f":"IF('EK DERS Ücret Hesaplama'!$AM21=1,'EK DERS Ücret Hesaplama'!G21,\"\")","v":""},{"$f":"IF('EK DERS Ücret Hesaplama'!$AM21=1,'EK DERS Ücret Hesaplama'!H21,\"\")","v":""},{"$f":"IF('EK DERS Ücret Hesaplama'!$AM21=1,'EK DERS Ücret Hesaplama'!I21,\"\")","v":""},{"$f":"IF('EK DERS Ücret Hesaplama'!$AM21=1,'EK DERS Ücret Hesaplama'!J21,\"\")","v":""},{"$f":"IF('EK DERS Ücret Hesaplama'!$AM21=1,'EK DERS Ücret Hesaplama'!K21,\"\")","v":""},{"$f":"IF('EK DERS Ücret Hesaplama'!$AM21=1,'EK DERS Ücret Hesaplama'!L21,\"\")","v":""},{"$f":"IF('EK DERS Ücret Hesaplama'!$AM21=1,'EK DERS Ücret Hesaplama'!O21,\"\")","v":""},{"$f":"IF('EK DERS Ücret Hesaplama'!$AM21=1,'EK DERS Ücret Hesaplama'!P21,\"\")","v":""},{"$f":"IF('EK DERS Ücret Hesaplama'!$AM21=1,'EK DERS Ücret Hesaplama'!Q21,\"\")","v":""},{"$f":"IF('EK DERS Ücret Hesaplama'!$AM21=1,'EK DERS Ücret Hesaplama'!R21,\"\")","v":""},{"$f":"IF('EK DERS Ücret Hesaplama'!$AM21=1,'EK DERS Ücret Hesaplama'!S21,\"\")","v":""},{"$f":"IF('EK DERS Ücret Hesaplama'!$AM21=1,hesaplamalar!X18,\"\")","v":""},{"$f":"IF('EK DERS Ücret Hesaplama'!$AM21=1,hesaplamalar!Y18,\"\")","v":""},{"$f":"IF('EK DERS Ücret Hesaplama'!$AM21=1,hesaplamalar!Z18,\"\")","v":""},{"$f":"IF('EK DERS Ücret Hesaplama'!$AM21=1,hesaplamalar!AA18,\"\")","v":""},{"$f":"IF('EK DERS Ücret Hesaplama'!$AM21=1,hesaplamalar!AB18,\"\")","v":""},{"$f":"IF('EK DERS Ücret Hesaplama'!$AM21=1,hesaplamalar!AC18,\"\")","v":""},{"$f":"IF('EK DERS Ücret Hesaplama'!$AM21=1,hesaplamalar!AD18,\"\")","v":""},{"$f":"IF('EK DERS Ücret Hesaplama'!$AM21=1,hesaplamalar!AE18,\"\")","v":""},{"$f":"IF('EK DERS Ücret Hesaplama'!$AM21=1,hesaplamalar!AG18,\"\")","v":""},{"$f":"IF('EK DERS Ücret Hesaplama'!$AM21=1,hesaplamalar!AH18,\"\")","v":""},{"$f":"IF('EK DERS Ücret Hesaplama'!$AM21=1,'EK DERS Ücret Hesaplama'!AE21,\"\")","v":""},{"$f":"IF('EK DERS Ücret Hesaplama'!$AM21=1,'EK DERS Ücret Hesaplama'!AG21,\"\")","v":""},{"$f":"IF('EK DERS Ücret Hesaplama'!$AM21=1,'EK DERS Ücret Hesaplama'!AF21,\"\")","v":""},{"$f":"IF('EK DERS Ücret Hesaplama'!$AM21=1,'EK DERS Ücret Hesaplama'!AH21,\"\")","v":""},{"$f":"IF('EK DERS Ücret Hesaplama'!$AM21=1,'EK DERS Ücret Hesaplama'!AI21,\"\")","v":""},{"$f":"IF('EK DERS Ücret Hesaplama'!$AM21=1,'EK DERS Ücret Hesaplama'!AJ21,\"\")","v":""},{"$f":"IF('EK DERS Ücret Hesaplama'!$AM21=1,'EK DERS Ücret Hesaplama'!AK21,\"\")","v":""},null,0]
[{"$f":"IF(AJ24=\"\",\"\",SUBTOTAL(103,$AJ$8:AJ24))","v":""},{"$f":"IF('EK DERS Ücret Hesaplama'!$AM22=1,'EK DERS Ücret Hesaplama'!B22,\"\")","v":""},{"$f":"IF('EK DERS Ücret Hesaplama'!$AM22=1,'EK DERS Ücret Hesaplama'!C22,\"\")","v":""},{"$f":"IF('EK DERS Ücret Hesaplama'!$AM22=1,IF('EK DERS Ücret Hesaplama'!D22=\"Ücretli Öğretmen\",\"Ücretli Öğr.\",\"Ücr.Öğr. (Emekli)\"),\"\")","v":""},{"$f":"IF('EK DERS Ücret Hesaplama'!$AM22=1,'EK DERS Ücret Hesaplama'!M22,\"\")","v":""},{"$f":"IF('EK DERS Ücret Hesaplama'!$AM22=1,'EK DERS Ücret Hesaplama'!N22,\"\")","v":""},{"$f":"IF('EK DERS Ücret Hesaplama'!$AM22=1,'EK DERS Ücret Hesaplama'!E22,\"\")","v":""},{"$f":"IF('EK DERS Ücret Hesaplama'!$AM22=1,'EK DERS Ücret Hesaplama'!F22,\"\")","v":""},{"$f":"IF('EK DERS Ücret Hesaplama'!$AM22=1,'EK DERS Ücret Hesaplama'!G22,\"\")","v":""},{"$f":"IF('EK DERS Ücret Hesaplama'!$AM22=1,'EK DERS Ücret Hesaplama'!H22,\"\")","v":""},{"$f":"IF('EK DERS Ücret Hesaplama'!$AM22=1,'EK DERS Ücret Hesaplama'!I22,\"\")","v":""},{"$f":"IF('EK DERS Ücret Hesaplama'!$AM22=1,'EK DERS Ücret Hesaplama'!J22,\"\")","v":""},{"$f":"IF('EK DERS Ücret Hesaplama'!$AM22=1,'EK DERS Ücret Hesaplama'!K22,\"\")","v":""},{"$f":"IF('EK DERS Ücret Hesaplama'!$AM22=1,'EK DERS Ücret Hesaplama'!L22,\"\")","v":""},{"$f":"IF('EK DERS Ücret Hesaplama'!$AM22=1,'EK DERS Ücret Hesaplama'!O22,\"\")","v":""},{"$f":"IF('EK DERS Ücret Hesaplama'!$AM22=1,'EK DERS Ücret Hesaplama'!P22,\"\")","v":""},{"$f":"IF('EK DERS Ücret Hesaplama'!$AM22=1,'EK DERS Ücret Hesaplama'!Q22,\"\")","v":""},{"$f":"IF('EK DERS Ücret Hesaplama'!$AM22=1,'EK DERS Ücret Hesaplama'!R22,\"\")","v":""},{"$f":"IF('EK DERS Ücret Hesaplama'!$AM22=1,'EK DERS Ücret Hesaplama'!S22,\"\")","v":""},{"$f":"IF('EK DERS Ücret Hesaplama'!$AM22=1,hesaplamalar!X19,\"\")","v":""},{"$f":"IF('EK DERS Ücret Hesaplama'!$AM22=1,hesaplamalar!Y19,\"\")","v":""},{"$f":"IF('EK DERS Ücret Hesaplama'!$AM22=1,hesaplamalar!Z19,\"\")","v":""},{"$f":"IF('EK DERS Ücret Hesaplama'!$AM22=1,hesaplamalar!AA19,\"\")","v":""},{"$f":"IF('EK DERS Ücret Hesaplama'!$AM22=1,hesaplamalar!AB19,\"\")","v":""},{"$f":"IF('EK DERS Ücret Hesaplama'!$AM22=1,hesaplamalar!AC19,\"\")","v":""},{"$f":"IF('EK DERS Ücret Hesaplama'!$AM22=1,hesaplamalar!AD19,\"\")","v":""},{"$f":"IF('EK DERS Ücret Hesaplama'!$AM22=1,hesaplamalar!AE19,\"\")","v":""},{"$f":"IF('EK DERS Ücret Hesaplama'!$AM22=1,hesaplamalar!AG19,\"\")","v":""},{"$f":"IF('EK DERS Ücret Hesaplama'!$AM22=1,hesaplamalar!AH19,\"\")","v":""},{"$f":"IF('EK DERS Ücret Hesaplama'!$AM22=1,'EK DERS Ücret Hesaplama'!AE22,\"\")","v":""},{"$f":"IF('EK DERS Ücret Hesaplama'!$AM22=1,'EK DERS Ücret Hesaplama'!AG22,\"\")","v":""},{"$f":"IF('EK DERS Ücret Hesaplama'!$AM22=1,'EK DERS Ücret Hesaplama'!AF22,\"\")","v":""},{"$f":"IF('EK DERS Ücret Hesaplama'!$AM22=1,'EK DERS Ücret Hesaplama'!AH22,\"\")","v":""},{"$f":"IF('EK DERS Ücret Hesaplama'!$AM22=1,'EK DERS Ücret Hesaplama'!AI22,\"\")","v":""},{"$f":"IF('EK DERS Ücret Hesaplama'!$AM22=1,'EK DERS Ücret Hesaplama'!AJ22,\"\")","v":""},{"$f":"IF('EK DERS Ücret Hesaplama'!$AM22=1,'EK DERS Ücret Hesaplama'!AK22,\"\")","v":""},null,0]
[{"$f":"IF(AJ25=\"\",\"\",SUBTOTAL(103,$AJ$8:AJ25))","v":""},{"$f":"IF('EK DERS Ücret Hesaplama'!$AM23=1,'EK DERS Ücret Hesaplama'!B23,\"\")","v":""},{"$f":"IF('EK DERS Ücret Hesaplama'!$AM23=1,'EK DERS Ücret Hesaplama'!C23,\"\")","v":""},{"$f":"IF('EK DERS Ücret Hesaplama'!$AM23=1,IF('EK DERS Ücret Hesaplama'!D23=\"Ücretli Öğretmen\",\"Ücretli Öğr.\",\"Ücr.Öğr. (Emekli)\"),\"\")","v":""},{"$f":"IF('EK DERS Ücret Hesaplama'!$AM23=1,'EK DERS Ücret Hesaplama'!M23,\"\")","v":""},{"$f":"IF('EK DERS Ücret Hesaplama'!$AM23=1,'EK DERS Ücret Hesaplama'!N23,\"\")","v":""},{"$f":"IF('EK DERS Ücret Hesaplama'!$AM23=1,'EK DERS Ücret Hesaplama'!E23,\"\")","v":""},{"$f":"IF('EK DERS Ücret Hesaplama'!$AM23=1,'EK DERS Ücret Hesaplama'!F23,\"\")","v":""},{"$f":"IF('EK DERS Ücret Hesaplama'!$AM23=1,'EK DERS Ücret Hesaplama'!G23,\"\")","v":""},{"$f":"IF('EK DERS Ücret Hesaplama'!$AM23=1,'EK DERS Ücret Hesaplama'!H23,\"\")","v":""},{"$f":"IF('EK DERS Ücret Hesaplama'!$AM23=1,'EK DERS Ücret Hesaplama'!I23,\"\")","v":""},{"$f":"IF('EK DERS Ücret Hesaplama'!$AM23=1,'EK DERS Ücret Hesaplama'!J23,\"\")","v":""},{"$f":"IF('EK DERS Ücret Hesaplama'!$AM23=1,'EK DERS Ücret Hesaplama'!K23,\"\")","v":""},{"$f":"IF('EK DERS Ücret Hesaplama'!$AM23=1,'EK DERS Ücret Hesaplama'!L23,\"\")","v":""},{"$f":"IF('EK DERS Ücret Hesaplama'!$AM23=1,'EK DERS Ücret Hesaplama'!O23,\"\")","v":""},{"$f":"IF('EK DERS Ücret Hesaplama'!$AM23=1,'EK DERS Ücret Hesaplama'!P23,\"\")","v":""},{"$f":"IF('EK DERS Ücret Hesaplama'!$AM23=1,'EK DERS Ücret Hesaplama'!Q23,\"\")","v":""},{"$f":"IF('EK DERS Ücret Hesaplama'!$AM23=1,'EK DERS Ücret Hesaplama'!R23,\"\")","v":""},{"$f":"IF('EK DERS Ücret Hesaplama'!$AM23=1,'EK DERS Ücret Hesaplama'!S23,\"\")","v":""},{"$f":"IF('EK DERS Ücret Hesaplama'!$AM23=1,hesaplamalar!X20,\"\")","v":""},{"$f":"IF('EK DERS Ücret Hesaplama'!$AM23=1,hesaplamalar!Y20,\"\")","v":""},{"$f":"IF('EK DERS Ücret Hesaplama'!$AM23=1,hesaplamalar!Z20,\"\")","v":""},{"$f":"IF('EK DERS Ücret Hesaplama'!$AM23=1,hesaplamalar!AA20,\"\")","v":""},{"$f":"IF('EK DERS Ücret Hesaplama'!$AM23=1,hesaplamalar!AB20,\"\")","v":""},{"$f":"IF('EK DERS Ücret Hesaplama'!$AM23=1,hesaplamalar!AC20,\"\")","v":""},{"$f":"IF('EK DERS Ücret Hesaplama'!$AM23=1,hesaplamalar!AD20,\"\")","v":""},{"$f":"IF('EK DERS Ücret Hesaplama'!$AM23=1,hesaplamalar!AE20,\"\")","v":""},{"$f":"IF('EK DERS Ücret Hesaplama'!$AM23=1,hesaplamalar!AG20,\"\")","v":""},{"$f":"IF('EK DERS Ücret Hesaplama'!$AM23=1,hesaplamalar!AH20,\"\")","v":""},{"$f":"IF('EK DERS Ücret Hesaplama'!$AM23=1,'EK DERS Ücret Hesaplama'!AE23,\"\")","v":""},{"$f":"IF('EK DERS Ücret Hesaplama'!$AM23=1,'EK DERS Ücret Hesaplama'!AG23,\"\")","v":""},{"$f":"IF('EK DERS Ücret Hesaplama'!$AM23=1,'EK DERS Ücret Hesaplama'!AF23,\"\")","v":""},{"$f":"IF('EK DERS Ücret Hesaplama'!$AM23=1,'EK DERS Ücret Hesaplama'!AH23,\"\")","v":""},{"$f":"IF('EK DERS Ücret Hesaplama'!$AM23=1,'EK DERS Ücret Hesaplama'!AI23,\"\")","v":""},{"$f":"IF('EK DERS Ücret Hesaplama'!$AM23=1,'EK DERS Ücret Hesaplama'!AJ23,\"\")","v":""},{"$f":"IF('EK DERS Ücret Hesaplama'!$AM23=1,'EK DERS Ücret Hesaplama'!AK23,\"\")","v":""},null,0]
[{"$f":"IF(AJ26=\"\",\"\",SUBTOTAL(103,$AJ$8:AJ26))","v":""},{"$f":"IF('EK DERS Ücret Hesaplama'!$AM24=1,'EK DERS Ücret Hesaplama'!B24,\"\")","v":""},{"$f":"IF('EK DERS Ücret Hesaplama'!$AM24=1,'EK DERS Ücret Hesaplama'!C24,\"\")","v":""},{"$f":"IF('EK DERS Ücret Hesaplama'!$AM24=1,IF('EK DERS Ücret Hesaplama'!D24=\"Ücretli Öğretmen\",\"Ücretli Öğr.\",\"Ücr.Öğr. (Emekli)\"),\"\")","v":""},{"$f":"IF('EK DERS Ücret Hesaplama'!$AM24=1,'EK DERS Ücret Hesaplama'!M24,\"\")","v":""},{"$f":"IF('EK DERS Ücret Hesaplama'!$AM24=1,'EK DERS Ücret Hesaplama'!N24,\"\")","v":""},{"$f":"IF('EK DERS Ücret Hesaplama'!$AM24=1,'EK DERS Ücret Hesaplama'!E24,\"\")","v":""},{"$f":"IF('EK DERS Ücret Hesaplama'!$AM24=1,'EK DERS Ücret Hesaplama'!F24,\"\")","v":""},{"$f":"IF('EK DERS Ücret Hesaplama'!$AM24=1,'EK DERS Ücret Hesaplama'!G24,\"\")","v":""},{"$f":"IF('EK DERS Ücret Hesaplama'!$AM24=1,'EK DERS Ücret Hesaplama'!H24,\"\")","v":""},{"$f":"IF('EK DERS Ücret Hesaplama'!$AM24=1,'EK DERS Ücret Hesaplama'!I24,\"\")","v":""},{"$f":"IF('EK DERS Ücret Hesaplama'!$AM24=1,'EK DERS Ücret Hesaplama'!J24,\"\")","v":""},{"$f":"IF('EK DERS Ücret Hesaplama'!$AM24=1,'EK DERS Ücret Hesaplama'!K24,\"\")","v":""},{"$f":"IF('EK DERS Ücret Hesaplama'!$AM24=1,'EK DERS Ücret Hesaplama'!L24,\"\")","v":""},{"$f":"IF('EK DERS Ücret Hesaplama'!$AM24=1,'EK DERS Ücret Hesaplama'!O24,\"\")","v":""},{"$f":"IF('EK DERS Ücret Hesaplama'!$AM24=1,'EK DERS Ücret Hesaplama'!P24,\"\")","v":""},{"$f":"IF('EK DERS Ücret Hesaplama'!$AM24=1,'EK DERS Ücret Hesaplama'!Q24,\"\")","v":""},{"$f":"IF('EK DERS Ücret Hesaplama'!$AM24=1,'EK DERS Ücret Hesaplama'!R24,\"\")","v":""},{"$f":"IF('EK DERS Ücret Hesaplama'!$AM24=1,'EK DERS Ücret Hesaplama'!S24,\"\")","v":""},{"$f":"IF('EK DERS Ücret Hesaplama'!$AM24=1,hesaplamalar!X21,\"\")","v":""},{"$f":"IF('EK DERS Ücret Hesaplama'!$AM24=1,hesaplamalar!Y21,\"\")","v":""},{"$f":"IF('EK DERS Ücret Hesaplama'!$AM24=1,hesaplamalar!Z21,\"\")","v":""},{"$f":"IF('EK DERS Ücret Hesaplama'!$AM24=1,hesaplamalar!AA21,\"\")","v":""},{"$f":"IF('EK DERS Ücret Hesaplama'!$AM24=1,hesaplamalar!AB21,\"\")","v":""},{"$f":"IF('EK DERS Ücret Hesaplama'!$AM24=1,hesaplamalar!AC21,\"\")","v":""},{"$f":"IF('EK DERS Ücret Hesaplama'!$AM24=1,hesaplamalar!AD21,\"\")","v":""},{"$f":"IF('EK DERS Ücret Hesaplama'!$AM24=1,hesaplamalar!AE21,\"\")","v":""},{"$f":"IF('EK DERS Ücret Hesaplama'!$AM24=1,hesaplamalar!AG21,\"\")","v":""},{"$f":"IF('EK DERS Ücret Hesaplama'!$AM24=1,hesaplamalar!AH21,\"\")","v":""},{"$f":"IF('EK DERS Ücret Hesaplama'!$AM24=1,'EK DERS Ücret Hesaplama'!AE24,\"\")","v":""},{"$f":"IF('EK DERS Ücret Hesaplama'!$AM24=1,'EK DERS Ücret Hesaplama'!AG24,\"\")","v":""},{"$f":"IF('EK DERS Ücret Hesaplama'!$AM24=1,'EK DERS Ücret Hesaplama'!AF24,\"\")","v":""},{"$f":"IF('EK DERS Ücret Hesaplama'!$AM24=1,'EK DERS Ücret Hesaplama'!AH24,\"\")","v":""},{"$f":"IF('EK DERS Ücret Hesaplama'!$AM24=1,'EK DERS Ücret Hesaplama'!AI24,\"\")","v":""},{"$f":"IF('EK DERS Ücret Hesaplama'!$AM24=1,'EK DERS Ücret Hesaplama'!AJ24,\"\")","v":""},{"$f":"IF('EK DERS Ücret Hesaplama'!$AM24=1,'EK DERS Ücret Hesaplama'!AK24,\"\")","v":""},null,0]
[{"$f":"IF(AJ27=\"\",\"\",SUBTOTAL(103,$AJ$8:AJ27))","v":""},{"$f":"IF('EK DERS Ücret Hesaplama'!$AM25=1,'EK DERS Ücret Hesaplama'!B25,\"\")","v":""},{"$f":"IF('EK DERS Ücret Hesaplama'!$AM25=1,'EK DERS Ücret Hesaplama'!C25,\"\")","v":""},{"$f":"IF('EK DERS Ücret Hesaplama'!$AM25=1,IF('EK DERS Ücret Hesaplama'!D25=\"Ücretli Öğretmen\",\"Ücretli Öğr.\",\"Ücr.Öğr. (Emekli)\"),\"\")","v":""},{"$f":"IF('EK DERS Ücret Hesaplama'!$AM25=1,'EK DERS Ücret Hesaplama'!M25,\"\")","v":""},{"$f":"IF('EK DERS Ücret Hesaplama'!$AM25=1,'EK DERS Ücret Hesaplama'!N25,\"\")","v":""},{"$f":"IF('EK DERS Ücret Hesaplama'!$AM25=1,'EK DERS Ücret Hesaplama'!E25,\"\")","v":""},{"$f":"IF('EK DERS Ücret Hesaplama'!$AM25=1,'EK DERS Ücret Hesaplama'!F25,\"\")","v":""},{"$f":"IF('EK DERS Ücret Hesaplama'!$AM25=1,'EK DERS Ücret Hesaplama'!G25,\"\")","v":""},{"$f":"IF('EK DERS Ücret Hesaplama'!$AM25=1,'EK DERS Ücret Hesaplama'!H25,\"\")","v":""},{"$f":"IF('EK DERS Ücret Hesaplama'!$AM25=1,'EK DERS Ücret Hesaplama'!I25,\"\")","v":""},{"$f":"IF('EK DERS Ücret Hesaplama'!$AM25=1,'EK DERS Ücret Hesaplama'!J25,\"\")","v":""},{"$f":"IF('EK DERS Ücret Hesaplama'!$AM25=1,'EK DERS Ücret Hesaplama'!K25,\"\")","v":""},{"$f":"IF('EK DERS Ücret Hesaplama'!$AM25=1,'EK DERS Ücret Hesaplama'!L25,\"\")","v":""},{"$f":"IF('EK DERS Ücret Hesaplama'!$AM25=1,'EK DERS Ücret Hesaplama'!O25,\"\")","v":""},{"$f":"IF('EK DERS Ücret Hesaplama'!$AM25=1,'EK DERS Ücret Hesaplama'!P25,\"\")","v":""},{"$f":"IF('EK DERS Ücret Hesaplama'!$AM25=1,'EK DERS Ücret Hesaplama'!Q25,\"\")","v":""},{"$f":"IF('EK DERS Ücret Hesaplama'!$AM25=1,'EK DERS Ücret Hesaplama'!R25,\"\")","v":""},{"$f":"IF('EK DERS Ücret Hesaplama'!$AM25=1,'EK DERS Ücret Hesaplama'!S25,\"\")","v":""},{"$f":"IF('EK DERS Ücret Hesaplama'!$AM25=1,hesaplamalar!X22,\"\")","v":""},{"$f":"IF('EK DERS Ücret Hesaplama'!$AM25=1,hesaplamalar!Y22,\"\")","v":""},{"$f":"IF('EK DERS Ücret Hesaplama'!$AM25=1,hesaplamalar!Z22,\"\")","v":""},{"$f":"IF('EK DERS Ücret Hesaplama'!$AM25=1,hesaplamalar!AA22,\"\")","v":""},{"$f":"IF('EK DERS Ücret Hesaplama'!$AM25=1,hesaplamalar!AB22,\"\")","v":""},{"$f":"IF('EK DERS Ücret Hesaplama'!$AM25=1,hesaplamalar!AC22,\"\")","v":""},{"$f":"IF('EK DERS Ücret Hesaplama'!$AM25=1,hesaplamalar!AD22,\"\")","v":""},{"$f":"IF('EK DERS Ücret Hesaplama'!$AM25=1,hesaplamalar!AE22,\"\")","v":""},{"$f":"IF('EK DERS Ücret Hesaplama'!$AM25=1,hesaplamalar!AG22,\"\")","v":""},{"$f":"IF('EK DERS Ücret Hesaplama'!$AM25=1,hesaplamalar!AH22,\"\")","v":""},{"$f":"IF('EK DERS Ücret Hesaplama'!$AM25=1,'EK DERS Ücret Hesaplama'!AE25,\"\")","v":""},{"$f":"IF('EK DERS Ücret Hesaplama'!$AM25=1,'EK DERS Ücret Hesaplama'!AG25,\"\")","v":""},{"$f":"IF('EK DERS Ücret Hesaplama'!$AM25=1,'EK DERS Ücret Hesaplama'!AF25,\"\")","v":""},{"$f":"IF('EK DERS Ücret Hesaplama'!$AM25=1,'EK DERS Ücret Hesaplama'!AH25,\"\")","v":""},{"$f":"IF('EK DERS Ücret Hesaplama'!$AM25=1,'EK DERS Ücret Hesaplama'!AI25,\"\")","v":""},{"$f":"IF('EK DERS Ücret Hesaplama'!$AM25=1,'EK DERS Ücret Hesaplama'!AJ25,\"\")","v":""},{"$f":"IF('EK DERS Ücret Hesaplama'!$AM25=1,'EK DERS Ücret Hesaplama'!AK25,\"\")","v":""},null,0]
[{"$f":"IF(AJ28=\"\",\"\",SUBTOTAL(103,$AJ$8:AJ28))","v":""},{"$f":"IF('EK DERS Ücret Hesaplama'!$AM26=1,'EK DERS Ücret Hesaplama'!B26,\"\")","v":""},{"$f":"IF('EK DERS Ücret Hesaplama'!$AM26=1,'EK DERS Ücret Hesaplama'!C26,\"\")","v":""},{"$f":"IF('EK DERS Ücret Hesaplama'!$AM26=1,IF('EK DERS Ücret Hesaplama'!D26=\"Ücretli Öğretmen\",\"Ücretli Öğr.\",\"Ücr.Öğr. (Emekli)\"),\"\")","v":""},{"$f":"IF('EK DERS Ücret Hesaplama'!$AM26=1,'EK DERS Ücret Hesaplama'!M26,\"\")","v":""},{"$f":"IF('EK DERS Ücret Hesaplama'!$AM26=1,'EK DERS Ücret Hesaplama'!N26,\"\")","v":""},{"$f":"IF('EK DERS Ücret Hesaplama'!$AM26=1,'EK DERS Ücret Hesaplama'!E26,\"\")","v":""},{"$f":"IF('EK DERS Ücret Hesaplama'!$AM26=1,'EK DERS Ücret Hesaplama'!F26,\"\")","v":""},{"$f":"IF('EK DERS Ücret Hesaplama'!$AM26=1,'EK DERS Ücret Hesaplama'!G26,\"\")","v":""},{"$f":"IF('EK DERS Ücret Hesaplama'!$AM26=1,'EK DERS Ücret Hesaplama'!H26,\"\")","v":""},{"$f":"IF('EK DERS Ücret Hesaplama'!$AM26=1,'EK DERS Ücret Hesaplama'!I26,\"\")","v":""},{"$f":"IF('EK DERS Ücret Hesaplama'!$AM26=1,'EK DERS Ücret Hesaplama'!J26,\"\")","v":""},{"$f":"IF('EK DERS Ücret Hesaplama'!$AM26=1,'EK DERS Ücret Hesaplama'!K26,\"\")","v":""},{"$f":"IF('EK DERS Ücret Hesaplama'!$AM26=1,'EK DERS Ücret Hesaplama'!L26,\"\")","v":""},{"$f":"IF('EK DERS Ücret Hesaplama'!$AM26=1,'EK DERS Ücret Hesaplama'!O26,\"\")","v":""},{"$f":"IF('EK DERS Ücret Hesaplama'!$AM26=1,'EK DERS Ücret Hesaplama'!P26,\"\")","v":""},{"$f":"IF('EK DERS Ücret Hesaplama'!$AM26=1,'EK DERS Ücret Hesaplama'!Q26,\"\")","v":""},{"$f":"IF('EK DERS Ücret Hesaplama'!$AM26=1,'EK DERS Ücret Hesaplama'!R26,\"\")","v":""},{"$f":"IF('EK DERS Ücret Hesaplama'!$AM26=1,'EK DERS Ücret Hesaplama'!S26,\"\")","v":""},{"$f":"IF('EK DERS Ücret Hesaplama'!$AM26=1,hesaplamalar!X23,\"\")","v":""},{"$f":"IF('EK DERS Ücret Hesaplama'!$AM26=1,hesaplamalar!Y23,\"\")","v":""},{"$f":"IF('EK DERS Ücret Hesaplama'!$AM26=1,hesaplamalar!Z23,\"\")","v":""},{"$f":"IF('EK DERS Ücret Hesaplama'!$AM26=1,hesaplamalar!AA23,\"\")","v":""},{"$f":"IF('EK DERS Ücret Hesaplama'!$AM26=1,hesaplamalar!AB23,\"\")","v":""},{"$f":"IF('EK DERS Ücret Hesaplama'!$AM26=1,hesaplamalar!AC23,\"\")","v":""},{"$f":"IF('EK DERS Ücret Hesaplama'!$AM26=1,hesaplamalar!AD23,\"\")","v":""},{"$f":"IF('EK DERS Ücret Hesaplama'!$AM26=1,hesaplamalar!AE23,\"\")","v":""},{"$f":"IF('EK DERS Ücret Hesaplama'!$AM26=1,hesaplamalar!AG23,\"\")","v":""},{"$f":"IF('EK DERS Ücret Hesaplama'!$AM26=1,hesaplamalar!AH23,\"\")","v":""},{"$f":"IF('EK DERS Ücret Hesaplama'!$AM26=1,'EK DERS Ücret Hesaplama'!AE26,\"\")","v":""},{"$f":"IF('EK DERS Ücret Hesaplama'!$AM26=1,'EK DERS Ücret Hesaplama'!AG26,\"\")","v":""},{"$f":"IF('EK DERS Ücret Hesaplama'!$AM26=1,'EK DERS Ücret Hesaplama'!AF26,\"\")","v":""},{"$f":"IF('EK DERS Ücret Hesaplama'!$AM26=1,'EK DERS Ücret Hesaplama'!AH26,\"\")","v":""},{"$f":"IF('EK DERS Ücret Hesaplama'!$AM26=1,'EK DERS Ücret Hesaplama'!AI26,\"\")","v":""},{"$f":"IF('EK DERS Ücret Hesaplama'!$AM26=1,'EK DERS Ücret Hesaplama'!AJ26,\"\")","v":""},{"$f":"IF('EK DERS Ücret Hesaplama'!$AM26=1,'EK DERS Ücret Hesaplama'!AK26,\"\")","v":""},null,0]
[{"$f":"IF(AJ29=\"\",\"\",SUBTOTAL(103,$AJ$8:AJ29))","v":""},{"$f":"IF('EK DERS Ücret Hesaplama'!$AM27=1,'EK DERS Ücret Hesaplama'!B27,\"\")","v":""},{"$f":"IF('EK DERS Ücret Hesaplama'!$AM27=1,'EK DERS Ücret Hesaplama'!C27,\"\")","v":""},{"$f":"IF('EK DERS Ücret Hesaplama'!$AM27=1,IF('EK DERS Ücret Hesaplama'!D27=\"Ücretli Öğretmen\",\"Ücretli Öğr.\",\"Ücr.Öğr. (Emekli)\"),\"\")","v":""},{"$f":"IF('EK DERS Ücret Hesaplama'!$AM27=1,'EK DERS Ücret Hesaplama'!M27,\"\")","v":""},{"$f":"IF('EK DERS Ücret Hesaplama'!$AM27=1,'EK DERS Ücret Hesaplama'!N27,\"\")","v":""},{"$f":"IF('EK DERS Ücret Hesaplama'!$AM27=1,'EK DERS Ücret Hesaplama'!E27,\"\")","v":""},{"$f":"IF('EK DERS Ücret Hesaplama'!$AM27=1,'EK DERS Ücret Hesaplama'!F27,\"\")","v":""},{"$f":"IF('EK DERS Ücret Hesaplama'!$AM27=1,'EK DERS Ücret Hesaplama'!G27,\"\")","v":""},{"$f":"IF('EK DERS Ücret Hesaplama'!$AM27=1,'EK DERS Ücret Hesaplama'!H27,\"\")","v":""},{"$f":"IF('EK DERS Ücret Hesaplama'!$AM27=1,'EK DERS Ücret Hesaplama'!I27,\"\")","v":""},{"$f":"IF('EK DERS Ücret Hesaplama'!$AM27=1,'EK DERS Ücret Hesaplama'!J27,\"\")","v":""},{"$f":"IF('EK DERS Ücret Hesaplama'!$AM27=1,'EK DERS Ücret Hesaplama'!K27,\"\")","v":""},{"$f":"IF('EK DERS Ücret Hesaplama'!$AM27=1,'EK DERS Ücret Hesaplama'!L27,\"\")","v":""},{"$f":"IF('EK DERS Ücret Hesaplama'!$AM27=1,'EK DERS Ücret Hesaplama'!O27,\"\")","v":""},{"$f":"IF('EK DERS Ücret Hesaplama'!$AM27=1,'EK DERS Ücret Hesaplama'!P27,\"\")","v":""},{"$f":"IF('EK DERS Ücret Hesaplama'!$AM27=1,'EK DERS Ücret Hesaplama'!Q27,\"\")","v":""},{"$f":"IF('EK DERS Ücret Hesaplama'!$AM27=1,'EK DERS Ücret Hesaplama'!R27,\"\")","v":""},{"$f":"IF('EK DERS Ücret Hesaplama'!$AM27=1,'EK DERS Ücret Hesaplama'!S27,\"\")","v":""},{"$f":"IF('EK DERS Ücret Hesaplama'!$AM27=1,hesaplamalar!X24,\"\")","v":""},{"$f":"IF('EK DERS Ücret Hesaplama'!$AM27=1,hesaplamalar!Y24,\"\")","v":""},{"$f":"IF('EK DERS Ücret Hesaplama'!$AM27=1,hesaplamalar!Z24,\"\")","v":""},{"$f":"IF('EK DERS Ücret Hesaplama'!$AM27=1,hesaplamalar!AA24,\"\")","v":""},{"$f":"IF('EK DERS Ücret Hesaplama'!$AM27=1,hesaplamalar!AB24,\"\")","v":""},{"$f":"IF('EK DERS Ücret Hesaplama'!$AM27=1,hesaplamalar!AC24,\"\")","v":""},{"$f":"IF('EK DERS Ücret Hesaplama'!$AM27=1,hesaplamalar!AD24,\"\")","v":""},{"$f":"IF('EK DERS Ücret Hesaplama'!$AM27=1,hesaplamalar!AE24,\"\")","v":""},{"$f":"IF('EK DERS Ücret Hesaplama'!$AM27=1,hesaplamalar!AG24,\"\")","v":""},{"$f":"IF('EK DERS Ücret Hesaplama'!$AM27=1,hesaplamalar!AH24,\"\")","v":""},{"$f":"IF('EK DERS Ücret Hesaplama'!$AM27=1,'EK DERS Ücret Hesaplama'!AE27,\"\")","v":""},{"$f":"IF('EK DERS Ücret Hesaplama'!$AM27=1,'EK DERS Ücret Hesaplama'!AG27,\"\")","v":""},{"$f":"IF('EK DERS Ücret Hesaplama'!$AM27=1,'EK DERS Ücret Hesaplama'!AF27,\"\")","v":""},{"$f":"IF('EK DERS Ücret Hesaplama'!$AM27=1,'EK DERS Ücret Hesaplama'!AH27,\"\")","v":""},{"$f":"IF('EK DERS Ücret Hesaplama'!$AM27=1,'EK DERS Ücret Hesaplama'!AI27,\"\")","v":""},{"$f":"IF('EK DERS Ücret Hesaplama'!$AM27=1,'EK DERS Ücret Hesaplama'!AJ27,\"\")","v":""},{"$f":"IF('EK DERS Ücret Hesaplama'!$AM27=1,'EK DERS Ücret Hesaplama'!AK27,\"\")","v":""},null,0]
[{"$f":"IF(AJ30=\"\",\"\",SUBTOTAL(103,$AJ$8:AJ30))","v":""},{"$f":"IF('EK DERS Ücret Hesaplama'!$AM28=1,'EK DERS Ücret Hesaplama'!B28,\"\")","v":""},{"$f":"IF('EK DERS Ücret Hesaplama'!$AM28=1,'EK DERS Ücret Hesaplama'!C28,\"\")","v":""},{"$f":"IF('EK DERS Ücret Hesaplama'!$AM28=1,IF('EK DERS Ücret Hesaplama'!D28=\"Ücretli Öğretmen\",\"Ücretli Öğr.\",\"Ücr.Öğr. (Emekli)\"),\"\")","v":""},{"$f":"IF('EK DERS Ücret Hesaplama'!$AM28=1,'EK DERS Ücret Hesaplama'!M28,\"\")","v":""},{"$f":"IF('EK DERS Ücret Hesaplama'!$AM28=1,'EK DERS Ücret Hesaplama'!N28,\"\")","v":""},{"$f":"IF('EK DERS Ücret Hesaplama'!$AM28=1,'EK DERS Ücret Hesaplama'!E28,\"\")","v":""},{"$f":"IF('EK DERS Ücret Hesaplama'!$AM28=1,'EK DERS Ücret Hesaplama'!F28,\"\")","v":""},{"$f":"IF('EK DERS Ücret Hesaplama'!$AM28=1,'EK DERS Ücret Hesaplama'!G28,\"\")","v":""},{"$f":"IF('EK DERS Ücret Hesaplama'!$AM28=1,'EK DERS Ücret Hesaplama'!H28,\"\")","v":""},{"$f":"IF('EK DERS Ücret Hesaplama'!$AM28=1,'EK DERS Ücret Hesaplama'!I28,\"\")","v":""},{"$f":"IF('EK DERS Ücret Hesaplama'!$AM28=1,'EK DERS Ücret Hesaplama'!J28,\"\")","v":""},{"$f":"IF('EK DERS Ücret Hesaplama'!$AM28=1,'EK DERS Ücret Hesaplama'!K28,\"\")","v":""},{"$f":"IF('EK DERS Ücret Hesaplama'!$AM28=1,'EK DERS Ücret Hesaplama'!L28,\"\")","v":""},{"$f":"IF('EK DERS Ücret Hesaplama'!$AM28=1,'EK DERS Ücret Hesaplama'!O28,\"\")","v":""},{"$f":"IF('EK DERS Ücret Hesaplama'!$AM28=1,'EK DERS Ücret Hesaplama'!P28,\"\")","v":""},{"$f":"IF('EK DERS Ücret Hesaplama'!$AM28=1,'EK DERS Ücret Hesaplama'!Q28,\"\")","v":""},{"$f":"IF('EK DERS Ücret Hesaplama'!$AM28=1,'EK DERS Ücret Hesaplama'!R28,\"\")","v":""},{"$f":"IF('EK DERS Ücret Hesaplama'!$AM28=1,'EK DERS Ücret Hesaplama'!S28,\"\")","v":""},{"$f":"IF('EK DERS Ücret Hesaplama'!$AM28=1,hesaplamalar!X25,\"\")","v":""},{"$f":"IF('EK DERS Ücret Hesaplama'!$AM28=1,hesaplamalar!Y25,\"\")","v":""},{"$f":"IF('EK DERS Ücret Hesaplama'!$AM28=1,hesaplamalar!Z25,\"\")","v":""},{"$f":"IF('EK DERS Ücret Hesaplama'!$AM28=1,hesaplamalar!AA25,\"\")","v":""},{"$f":"IF('EK DERS Ücret Hesaplama'!$AM28=1,hesaplamalar!AB25,\"\")","v":""},{"$f":"IF('EK DERS Ücret Hesaplama'!$AM28=1,hesaplamalar!AC25,\"\")","v":""},{"$f":"IF('EK DERS Ücret Hesaplama'!$AM28=1,hesaplamalar!AD25,\"\")","v":""},{"$f":"IF('EK DERS Ücret Hesaplama'!$AM28=1,hesaplamalar!AE25,\"\")","v":""},{"$f":"IF('EK DERS Ücret Hesaplama'!$AM28=1,hesaplamalar!AG25,\"\")","v":""},{"$f":"IF('EK DERS Ücret Hesaplama'!$AM28=1,hesaplamalar!AH25,\"\")","v":""},{"$f":"IF('EK DERS Ücret Hesaplama'!$AM28=1,'EK DERS Ücret Hesaplama'!AE28,\"\")","v":""},{"$f":"IF('EK DERS Ücret Hesaplama'!$AM28=1,'EK DERS Ücret Hesaplama'!AG28,\"\")","v":""},{"$f":"IF('EK DERS Ücret Hesaplama'!$AM28=1,'EK DERS Ücret Hesaplama'!AF28,\"\")","v":""},{"$f":"IF('EK DERS Ücret Hesaplama'!$AM28=1,'EK DERS Ücret Hesaplama'!AH28,\"\")","v":""},{"$f":"IF('EK DERS Ücret Hesaplama'!$AM28=1,'EK DERS Ücret Hesaplama'!AI28,\"\")","v":""},{"$f":"IF('EK DERS Ücret Hesaplama'!$AM28=1,'EK DERS Ücret Hesaplama'!AJ28,\"\")","v":""},{"$f":"IF('EK DERS Ücret Hesaplama'!$AM28=1,'EK DERS Ücret Hesaplama'!AK28,\"\")","v":""},null,0]
[{"$f":"IF(AJ31=\"\",\"\",SUBTOTAL(103,$AJ$8:AJ31))","v":""},{"$f":"IF('EK DERS Ücret Hesaplama'!$AM29=1,'EK DERS Ücret Hesaplama'!B29,\"\")","v":""},{"$f":"IF('EK DERS Ücret Hesaplama'!$AM29=1,'EK DERS Ücret Hesaplama'!C29,\"\")","v":""},{"$f":"IF('EK DERS Ücret Hesaplama'!$AM29=1,IF('EK DERS Ücret Hesaplama'!D29=\"Ücretli Öğretmen\",\"Ücretli Öğr.\",\"Ücr.Öğr. (Emekli)\"),\"\")","v":""},{"$f":"IF('EK DERS Ücret Hesaplama'!$AM29=1,'EK DERS Ücret Hesaplama'!M29,\"\")","v":""},{"$f":"IF('EK DERS Ücret Hesaplama'!$AM29=1,'EK DERS Ücret Hesaplama'!N29,\"\")","v":""},{"$f":"IF('EK DERS Ücret Hesaplama'!$AM29=1,'EK DERS Ücret Hesaplama'!E29,\"\")","v":""},{"$f":"IF('EK DERS Ücret Hesaplama'!$AM29=1,'EK DERS Ücret Hesaplama'!F29,\"\")","v":""},{"$f":"IF('EK DERS Ücret Hesaplama'!$AM29=1,'EK DERS Ücret Hesaplama'!G29,\"\")","v":""},{"$f":"IF('EK DERS Ücret Hesaplama'!$AM29=1,'EK DERS Ücret Hesaplama'!H29,\"\")","v":""},{"$f":"IF('EK DERS Ücret Hesaplama'!$AM29=1,'EK DERS Ücret Hesaplama'!I29,\"\")","v":""},{"$f":"IF('EK DERS Ücret Hesaplama'!$AM29=1,'EK DERS Ücret Hesaplama'!J29,\"\")","v":""},{"$f":"IF('EK DERS Ücret Hesaplama'!$AM29=1,'EK DERS Ücret Hesaplama'!K29,\"\")","v":""},{"$f":"IF('EK DERS Ücret Hesaplama'!$AM29=1,'EK DERS Ücret Hesaplama'!L29,\"\")","v":""},{"$f":"IF('EK DERS Ücret Hesaplama'!$AM29=1,'EK DERS Ücret Hesaplama'!O29,\"\")","v":""},{"$f":"IF('EK DERS Ücret Hesaplama'!$AM29=1,'EK DERS Ücret Hesaplama'!P29,\"\")","v":""},{"$f":"IF('EK DERS Ücret Hesaplama'!$AM29=1,'EK DERS Ücret Hesaplama'!Q29,\"\")","v":""},{"$f":"IF('EK DERS Ücret Hesaplama'!$AM29=1,'EK DERS Ücret Hesaplama'!R29,\"\")","v":""},{"$f":"IF('EK DERS Ücret Hesaplama'!$AM29=1,'EK DERS Ücret Hesaplama'!S29,\"\")","v":""},{"$f":"IF('EK DERS Ücret Hesaplama'!$AM29=1,hesaplamalar!X26,\"\")","v":""},{"$f":"IF('EK DERS Ücret Hesaplama'!$AM29=1,hesaplamalar!Y26,\"\")","v":""},{"$f":"IF('EK DERS Ücret Hesaplama'!$AM29=1,hesaplamalar!Z26,\"\")","v":""},{"$f":"IF('EK DERS Ücret Hesaplama'!$AM29=1,hesaplamalar!AA26,\"\")","v":""},{"$f":"IF('EK DERS Ücret Hesaplama'!$AM29=1,hesaplamalar!AB26,\"\")","v":""},{"$f":"IF('EK DERS Ücret Hesaplama'!$AM29=1,hesaplamalar!AC26,\"\")","v":""},{"$f":"IF('EK DERS Ücret Hesaplama'!$AM29=1,hesaplamalar!AD26,\"\")","v":""},{"$f":"IF('EK DERS Ücret Hesaplama'!$AM29=1,hesaplamalar!AE26,\"\")","v":""},{"$f":"IF('EK DERS Ücret Hesaplama'!$AM29=1,hesaplamalar!AG26,\"\")","v":""},{"$f":"IF('EK DERS Ücret Hesaplama'!$AM29=1,hesaplamalar!AH26,\"\")","v":""},{"$f":"IF('EK DERS Ücret Hesaplama'!$AM29=1,'EK DERS Ücret Hesaplama'!AE29,\"\")","v":""},{"$f":"IF('EK DERS Ücret Hesaplama'!$AM29=1,'EK DERS Ücret Hesaplama'!AG29,\"\")","v":""},{"$f":"IF('EK DERS Ücret Hesaplama'!$AM29=1,'EK DERS Ücret Hesaplama'!AF29,\"\")","v":""},{"$f":"IF('EK DERS Ücret Hesaplama'!$AM29=1,'EK DERS Ücret Hesaplama'!AH29,\"\")","v":""},{"$f":"IF('EK DERS Ücret Hesaplama'!$AM29=1,'EK DERS Ücret Hesaplama'!AI29,\"\")","v":""},{"$f":"IF('EK DERS Ücret Hesaplama'!$AM29=1,'EK DERS Ücret Hesaplama'!AJ29,\"\")","v":""},{"$f":"IF('EK DERS Ücret Hesaplama'!$AM29=1,'EK DERS Ücret Hesaplama'!AK29,\"\")","v":""},null,0]
[{"$f":"IF(AJ32=\"\",\"\",SUBTOTAL(103,$AJ$8:AJ32))","v":""},{"$f":"IF('EK DERS Ücret Hesaplama'!$AM30=1,'EK DERS Ücret Hesaplama'!B30,\"\")","v":""},{"$f":"IF('EK DERS Ücret Hesaplama'!$AM30=1,'EK DERS Ücret Hesaplama'!C30,\"\")","v":""},{"$f":"IF('EK DERS Ücret Hesaplama'!$AM30=1,IF('EK DERS Ücret Hesaplama'!D30=\"Ücretli Öğretmen\",\"Ücretli Öğr.\",\"Ücr.Öğr. (Emekli)\"),\"\")","v":""},{"$f":"IF('EK DERS Ücret Hesaplama'!$AM30=1,'EK DERS Ücret Hesaplama'!M30,\"\")","v":""},{"$f":"IF('EK DERS Ücret Hesaplama'!$AM30=1,'EK DERS Ücret Hesaplama'!N30,\"\")","v":""},{"$f":"IF('EK DERS Ücret Hesaplama'!$AM30=1,'EK DERS Ücret Hesaplama'!E30,\"\")","v":""},{"$f":"IF('EK DERS Ücret Hesaplama'!$AM30=1,'EK DERS Ücret Hesaplama'!F30,\"\")","v":""},{"$f":"IF('EK DERS Ücret Hesaplama'!$AM30=1,'EK DERS Ücret Hesaplama'!G30,\"\")","v":""},{"$f":"IF('EK DERS Ücret Hesaplama'!$AM30=1,'EK DERS Ücret Hesaplama'!H30,\"\")","v":""},{"$f":"IF('EK DERS Ücret Hesaplama'!$AM30=1,'EK DERS Ücret Hesaplama'!I30,\"\")","v":""},{"$f":"IF('EK DERS Ücret Hesaplama'!$AM30=1,'EK DERS Ücret Hesaplama'!J30,\"\")","v":""},{"$f":"IF('EK DERS Ücret Hesaplama'!$AM30=1,'EK DERS Ücret Hesaplama'!K30,\"\")","v":""},{"$f":"IF('EK DERS Ücret Hesaplama'!$AM30=1,'EK DERS Ücret Hesaplama'!L30,\"\")","v":""},{"$f":"IF('EK DERS Ücret Hesaplama'!$AM30=1,'EK DERS Ücret Hesaplama'!O30,\"\")","v":""},{"$f":"IF('EK DERS Ücret Hesaplama'!$AM30=1,'EK DERS Ücret Hesaplama'!P30,\"\")","v":""},{"$f":"IF('EK DERS Ücret Hesaplama'!$AM30=1,'EK DERS Ücret Hesaplama'!Q30,\"\")","v":""},{"$f":"IF('EK DERS Ücret Hesaplama'!$AM30=1,'EK DERS Ücret Hesaplama'!R30,\"\")","v":""},{"$f":"IF('EK DERS Ücret Hesaplama'!$AM30=1,'EK DERS Ücret Hesaplama'!S30,\"\")","v":""},{"$f":"IF('EK DERS Ücret Hesaplama'!$AM30=1,hesaplamalar!X27,\"\")","v":""},{"$f":"IF('EK DERS Ücret Hesaplama'!$AM30=1,hesaplamalar!Y27,\"\")","v":""},{"$f":"IF('EK DERS Ücret Hesaplama'!$AM30=1,hesaplamalar!Z27,\"\")","v":""},{"$f":"IF('EK DERS Ücret Hesaplama'!$AM30=1,hesaplamalar!AA27,\"\")","v":""},{"$f":"IF('EK DERS Ücret Hesaplama'!$AM30=1,hesaplamalar!AB27,\"\")","v":""},{"$f":"IF('EK DERS Ücret Hesaplama'!$AM30=1,hesaplamalar!AC27,\"\")","v":""},{"$f":"IF('EK DERS Ücret Hesaplama'!$AM30=1,hesaplamalar!AD27,\"\")","v":""},{"$f":"IF('EK DERS Ücret Hesaplama'!$AM30=1,hesaplamalar!AE27,\"\")","v":""},{"$f":"IF('EK DERS Ücret Hesaplama'!$AM30=1,hesaplamalar!AG27,\"\")","v":""},{"$f":"IF('EK DERS Ücret Hesaplama'!$AM30=1,hesaplamalar!AH27,\"\")","v":""},{"$f":"IF('EK DERS Ücret Hesaplama'!$AM30=1,'EK DERS Ücret Hesaplama'!AE30,\"\")","v":""},{"$f":"IF('EK DERS Ücret Hesaplama'!$AM30=1,'EK DERS Ücret Hesaplama'!AG30,\"\")","v":""},{"$f":"IF('EK DERS Ücret Hesaplama'!$AM30=1,'EK DERS Ücret Hesaplama'!AF30,\"\")","v":""},{"$f":"IF('EK DERS Ücret Hesaplama'!$AM30=1,'EK DERS Ücret Hesaplama'!AH30,\"\")","v":""},{"$f":"IF('EK DERS Ücret Hesaplama'!$AM30=1,'EK DERS Ücret Hesaplama'!AI30,\"\")","v":""},{"$f":"IF('EK DERS Ücret Hesaplama'!$AM30=1,'EK DERS Ücret Hesaplama'!AJ30,\"\")","v":""},{"$f":"IF('EK DERS Ücret Hesaplama'!$AM30=1,'EK DERS Ücret Hesaplama'!AK30,\"\")","v":""},null,0]
[{"$f":"IF(AJ33=\"\",\"\",SUBTOTAL(103,$AJ$8:AJ33))","v":""},{"$f":"IF('EK DERS Ücret Hesaplama'!$AM31=1,'EK DERS Ücret Hesaplama'!B31,\"\")","v":""},{"$f":"IF('EK DERS Ücret Hesaplama'!$AM31=1,'EK DERS Ücret Hesaplama'!C31,\"\")","v":""},{"$f":"IF('EK DERS Ücret Hesaplama'!$AM31=1,IF('EK DERS Ücret Hesaplama'!D31=\"Ücretli Öğretmen\",\"Ücretli Öğr.\",\"Ücr.Öğr. (Emekli)\"),\"\")","v":""},{"$f":"IF('EK DERS Ücret Hesaplama'!$AM31=1,'EK DERS Ücret Hesaplama'!M31,\"\")","v":""},{"$f":"IF('EK DERS Ücret Hesaplama'!$AM31=1,'EK DERS Ücret Hesaplama'!N31,\"\")","v":""},{"$f":"IF('EK DERS Ücret Hesaplama'!$AM31=1,'EK DERS Ücret Hesaplama'!E31,\"\")","v":""},{"$f":"IF('EK DERS Ücret Hesaplama'!$AM31=1,'EK DERS Ücret Hesaplama'!F31,\"\")","v":""},{"$f":"IF('EK DERS Ücret Hesaplama'!$AM31=1,'EK DERS Ücret Hesaplama'!G31,\"\")","v":""},{"$f":"IF('EK DERS Ücret Hesaplama'!$AM31=1,'EK DERS Ücret Hesaplama'!H31,\"\")","v":""},{"$f":"IF('EK DERS Ücret Hesaplama'!$AM31=1,'EK DERS Ücret Hesaplama'!I31,\"\")","v":""},{"$f":"IF('EK DERS Ücret Hesaplama'!$AM31=1,'EK DERS Ücret Hesaplama'!J31,\"\")","v":""},{"$f":"IF('EK DERS Ücret Hesaplama'!$AM31=1,'EK DERS Ücret Hesaplama'!K31,\"\")","v":""},{"$f":"IF('EK DERS Ücret Hesaplama'!$AM31=1,'EK DERS Ücret Hesaplama'!L31,\"\")","v":""},{"$f":"IF('EK DERS Ücret Hesaplama'!$AM31=1,'EK DERS Ücret Hesaplama'!O31,\"\")","v":""},{"$f":"IF('EK DERS Ücret Hesaplama'!$AM31=1,'EK DERS Ücret Hesaplama'!P31,\"\")","v":""},{"$f":"IF('EK DERS Ücret Hesaplama'!$AM31=1,'EK DERS Ücret Hesaplama'!Q31,\"\")","v":""},{"$f":"IF('EK DERS Ücret Hesaplama'!$AM31=1,'EK DERS Ücret Hesaplama'!R31,\"\")","v":""},{"$f":"IF('EK DERS Ücret Hesaplama'!$AM31=1,'EK DERS Ücret Hesaplama'!S31,\"\")","v":""},{"$f":"IF('EK DERS Ücret Hesaplama'!$AM31=1,hesaplamalar!X28,\"\")","v":""},{"$f":"IF('EK DERS Ücret Hesaplama'!$AM31=1,hesaplamalar!Y28,\"\")","v":""},{"$f":"IF('EK DERS Ücret Hesaplama'!$AM31=1,hesaplamalar!Z28,\"\")","v":""},{"$f":"IF('EK DERS Ücret Hesaplama'!$AM31=1,hesaplamalar!AA28,\"\")","v":""},{"$f":"IF('EK DERS Ücret Hesaplama'!$AM31=1,hesaplamalar!AB28,\"\")","v":""},{"$f":"IF('EK DERS Ücret Hesaplama'!$AM31=1,hesaplamalar!AC28,\"\")","v":""},{"$f":"IF('EK DERS Ücret Hesaplama'!$AM31=1,hesaplamalar!AD28,\"\")","v":""},{"$f":"IF('EK DERS Ücret Hesaplama'!$AM31=1,hesaplamalar!AE28,\"\")","v":""},{"$f":"IF('EK DERS Ücret Hesaplama'!$AM31=1,hesaplamalar!AG28,\"\")","v":""},{"$f":"IF('EK DERS Ücret Hesaplama'!$AM31=1,hesaplamalar!AH28,\"\")","v":""},{"$f":"IF('EK DERS Ücret Hesaplama'!$AM31=1,'EK DERS Ücret Hesaplama'!AE31,\"\")","v":""},{"$f":"IF('EK DERS Ücret Hesaplama'!$AM31=1,'EK DERS Ücret Hesaplama'!AG31,\"\")","v":""},{"$f":"IF('EK DERS Ücret Hesaplama'!$AM31=1,'EK DERS Ücret Hesaplama'!AF31,\"\")","v":""},{"$f":"IF('EK DERS Ücret Hesaplama'!$AM31=1,'EK DERS Ücret Hesaplama'!AH31,\"\")","v":""},{"$f":"IF('EK DERS Ücret Hesaplama'!$AM31=1,'EK DERS Ücret Hesaplama'!AI31,\"\")","v":""},{"$f":"IF('EK DERS Ücret Hesaplama'!$AM31=1,'EK DERS Ücret Hesaplama'!AJ31,\"\")","v":""},{"$f":"IF('EK DERS Ücret Hesaplama'!$AM31=1,'EK DERS Ücret Hesaplama'!AK31,\"\")","v":""},null,0]
[{"$f":"IF(AJ34=\"\",\"\",SUBTOTAL(103,$AJ$8:AJ34))","v":""},{"$f":"IF('EK DERS Ücret Hesaplama'!$AM32=1,'EK DERS Ücret Hesaplama'!B32,\"\")","v":""},{"$f":"IF('EK DERS Ücret Hesaplama'!$AM32=1,'EK DERS Ücret Hesaplama'!C32,\"\")","v":""},{"$f":"IF('EK DERS Ücret Hesaplama'!$AM32=1,IF('EK DERS Ücret Hesaplama'!D32=\"Ücretli Öğretmen\",\"Ücretli Öğr.\",\"Ücr.Öğr. (Emekli)\"),\"\")","v":""},{"$f":"IF('EK DERS Ücret Hesaplama'!$AM32=1,'EK DERS Ücret Hesaplama'!M32,\"\")","v":""},{"$f":"IF('EK DERS Ücret Hesaplama'!$AM32=1,'EK DERS Ücret Hesaplama'!N32,\"\")","v":""},{"$f":"IF('EK DERS Ücret Hesaplama'!$AM32=1,'EK DERS Ücret Hesaplama'!E32,\"\")","v":""},{"$f":"IF('EK DERS Ücret Hesaplama'!$AM32=1,'EK DERS Ücret Hesaplama'!F32,\"\")","v":""},{"$f":"IF('EK DERS Ücret Hesaplama'!$AM32=1,'EK DERS Ücret Hesaplama'!G32,\"\")","v":""},{"$f":"IF('EK DERS Ücret Hesaplama'!$AM32=1,'EK DERS Ücret Hesaplama'!H32,\"\")","v":""},{"$f":"IF('EK DERS Ücret Hesaplama'!$AM32=1,'EK DERS Ücret Hesaplama'!I32,\"\")","v":""},{"$f":"IF('EK DERS Ücret Hesaplama'!$AM32=1,'EK DERS Ücret Hesaplama'!J32,\"\")","v":""},{"$f":"IF('EK DERS Ücret Hesaplama'!$AM32=1,'EK DERS Ücret Hesaplama'!K32,\"\")","v":""},{"$f":"IF('EK DERS Ücret Hesaplama'!$AM32=1,'EK DERS Ücret Hesaplama'!L32,\"\")","v":""},{"$f":"IF('EK DERS Ücret Hesaplama'!$AM32=1,'EK DERS Ücret Hesaplama'!O32,\"\")","v":""},{"$f":"IF('EK DERS Ücret Hesaplama'!$AM32=1,'EK DERS Ücret Hesaplama'!P32,\"\")","v":""},{"$f":"IF('EK DERS Ücret Hesaplama'!$AM32=1,'EK DERS Ücret Hesaplama'!Q32,\"\")","v":""},{"$f":"IF('EK DERS Ücret Hesaplama'!$AM32=1,'EK DERS Ücret Hesaplama'!R32,\"\")","v":""},{"$f":"IF('EK DERS Ücret Hesaplama'!$AM32=1,'EK DERS Ücret Hesaplama'!S32,\"\")","v":""},{"$f":"IF('EK DERS Ücret Hesaplama'!$AM32=1,hesaplamalar!X29,\"\")","v":""},{"$f":"IF('EK DERS Ücret Hesaplama'!$AM32=1,hesaplamalar!Y29,\"\")","v":""},{"$f":"IF('EK DERS Ücret Hesaplama'!$AM32=1,hesaplamalar!Z29,\"\")","v":""},{"$f":"IF('EK DERS Ücret Hesaplama'!$AM32=1,hesaplamalar!AA29,\"\")","v":""},{"$f":"IF('EK DERS Ücret Hesaplama'!$AM32=1,hesaplamalar!AB29,\"\")","v":""},{"$f":"IF('EK DERS Ücret Hesaplama'!$AM32=1,hesaplamalar!AC29,\"\")","v":""},{"$f":"IF('EK DERS Ücret Hesaplama'!$AM32=1,hesaplamalar!AD29,\"\")","v":""},{"$f":"IF('EK DERS Ücret Hesaplama'!$AM32=1,hesaplamalar!AE29,\"\")","v":""},{"$f":"IF('EK DERS Ücret Hesaplama'!$AM32=1,hesaplamalar!AG29,\"\")","v":""},{"$f":"IF('EK DERS Ücret Hesaplama'!$AM32=1,hesaplamalar!AH29,\"\")","v":""},{"$f":"IF('EK DERS Ücret Hesaplama'!$AM32=1,'EK DERS Ücret Hesaplama'!AE32,\"\")","v":""},{"$f":"IF('EK DERS Ücret Hesaplama'!$AM32=1,'EK DERS Ücret Hesaplama'!AG32,\"\")","v":""},{"$f":"IF('EK DERS Ücret Hesaplama'!$AM32=1,'EK DERS Ücret Hesaplama'!AF32,\"\")","v":""},{"$f":"IF('EK DERS Ücret Hesaplama'!$AM32=1,'EK DERS Ücret Hesaplama'!AH32,\"\")","v":""},{"$f":"IF('EK DERS Ücret Hesaplama'!$AM32=1,'EK DERS Ücret Hesaplama'!AI32,\"\")","v":""},{"$f":"IF('EK DERS Ücret Hesaplama'!$AM32=1,'EK DERS Ücret Hesaplama'!AJ32,\"\")","v":""},{"$f":"IF('EK DERS Ücret Hesaplama'!$AM32=1,'EK DERS Ücret Hesaplama'!AK32,\"\")","v":""},null,0]
[{"$f":"IF(AJ35=\"\",\"\",SUBTOTAL(103,$AJ$8:AJ35))","v":""},{"$f":"IF('EK DERS Ücret Hesaplama'!$AM33=1,'EK DERS Ücret Hesaplama'!B33,\"\")","v":""},{"$f":"IF('EK DERS Ücret Hesaplama'!$AM33=1,'EK DERS Ücret Hesaplama'!C33,\"\")","v":""},{"$f":"IF('EK DERS Ücret Hesaplama'!$AM33=1,IF('EK DERS Ücret Hesaplama'!D33=\"Ücretli Öğretmen\",\"Ücretli Öğr.\",\"Ücr.Öğr. (Emekli)\"),\"\")","v":""},{"$f":"IF('EK DERS Ücret Hesaplama'!$AM33=1,'EK DERS Ücret Hesaplama'!M33,\"\")","v":""},{"$f":"IF('EK DERS Ücret Hesaplama'!$AM33=1,'EK DERS Ücret Hesaplama'!N33,\"\")","v":""},{"$f":"IF('EK DERS Ücret Hesaplama'!$AM33=1,'EK DERS Ücret Hesaplama'!E33,\"\")","v":""},{"$f":"IF('EK DERS Ücret Hesaplama'!$AM33=1,'EK DERS Ücret Hesaplama'!F33,\"\")","v":""},{"$f":"IF('EK DERS Ücret Hesaplama'!$AM33=1,'EK DERS Ücret Hesaplama'!G33,\"\")","v":""},{"$f":"IF('EK DERS Ücret Hesaplama'!$AM33=1,'EK DERS Ücret Hesaplama'!H33,\"\")","v":""},{"$f":"IF('EK DERS Ücret Hesaplama'!$AM33=1,'EK DERS Ücret Hesaplama'!I33,\"\")","v":""},{"$f":"IF('EK DERS Ücret Hesaplama'!$AM33=1,'EK DERS Ücret Hesaplama'!J33,\"\")","v":""},{"$f":"IF('EK DERS Ücret Hesaplama'!$AM33=1,'EK DERS Ücret Hesaplama'!K33,\"\")","v":""},{"$f":"IF('EK DERS Ücret Hesaplama'!$AM33=1,'EK DERS Ücret Hesaplama'!L33,\"\")","v":""},{"$f":"IF('EK DERS Ücret Hesaplama'!$AM33=1,'EK DERS Ücret Hesaplama'!O33,\"\")","v":""},{"$f":"IF('EK DERS Ücret Hesaplama'!$AM33=1,'EK DERS Ücret Hesaplama'!P33,\"\")","v":""},{"$f":"IF('EK DERS Ücret Hesaplama'!$AM33=1,'EK DERS Ücret Hesaplama'!Q33,\"\")","v":""},{"$f":"IF('EK DERS Ücret Hesaplama'!$AM33=1,'EK DERS Ücret Hesaplama'!R33,\"\")","v":""},{"$f":"IF('EK DERS Ücret Hesaplama'!$AM33=1,'EK DERS Ücret Hesaplama'!S33,\"\")","v":""},{"$f":"IF('EK DERS Ücret Hesaplama'!$AM33=1,hesaplamalar!X30,\"\")","v":""},{"$f":"IF('EK DERS Ücret Hesaplama'!$AM33=1,hesaplamalar!Y30,\"\")","v":""},{"$f":"IF('EK DERS Ücret Hesaplama'!$AM33=1,hesaplamalar!Z30,\"\")","v":""},{"$f":"IF('EK DERS Ücret Hesaplama'!$AM33=1,hesaplamalar!AA30,\"\")","v":""},{"$f":"IF('EK DERS Ücret Hesaplama'!$AM33=1,hesaplamalar!AB30,\"\")","v":""},{"$f":"IF('EK DERS Ücret Hesaplama'!$AM33=1,hesaplamalar!AC30,\"\")","v":""},{"$f":"IF('EK DERS Ücret Hesaplama'!$AM33=1,hesaplamalar!AD30,\"\")","v":""},{"$f":"IF('EK DERS Ücret Hesaplama'!$AM33=1,hesaplamalar!AE30,\"\")","v":""},{"$f":"IF('EK DERS Ücret Hesaplama'!$AM33=1,hesaplamalar!AG30,\"\")","v":""},{"$f":"IF('EK DERS Ücret Hesaplama'!$AM33=1,hesaplamalar!AH30,\"\")","v":""},{"$f":"IF('EK DERS Ücret Hesaplama'!$AM33=1,'EK DERS Ücret Hesaplama'!AE33,\"\")","v":""},{"$f":"IF('EK DERS Ücret Hesaplama'!$AM33=1,'EK DERS Ücret Hesaplama'!AG33,\"\")","v":""},{"$f":"IF('EK DERS Ücret Hesaplama'!$AM33=1,'EK DERS Ücret Hesaplama'!AF33,\"\")","v":""},{"$f":"IF('EK DERS Ücret Hesaplama'!$AM33=1,'EK DERS Ücret Hesaplama'!AH33,\"\")","v":""},{"$f":"IF('EK DERS Ücret Hesaplama'!$AM33=1,'EK DERS Ücret Hesaplama'!AI33,\"\")","v":""},{"$f":"IF('EK DERS Ücret Hesaplama'!$AM33=1,'EK DERS Ücret Hesaplama'!AJ33,\"\")","v":""},{"$f":"IF('EK DERS Ücret Hesaplama'!$AM33=1,'EK DERS Ücret Hesaplama'!AK33,\"\")","v":""},null,0]
[{"$f":"IF(AJ36=\"\",\"\",SUBTOTAL(103,$AJ$8:AJ36))","v":""},{"$f":"IF('EK DERS Ücret Hesaplama'!$AM34=1,'EK DERS Ücret Hesaplama'!B34,\"\")","v":""},{"$f":"IF('EK DERS Ücret Hesaplama'!$AM34=1,'EK DERS Ücret Hesaplama'!C34,\"\")","v":""},{"$f":"IF('EK DERS Ücret Hesaplama'!$AM34=1,IF('EK DERS Ücret Hesaplama'!D34=\"Ücretli Öğretmen\",\"Ücretli Öğr.\",\"Ücr.Öğr. (Emekli)\"),\"\")","v":""},{"$f":"IF('EK DERS Ücret Hesaplama'!$AM34=1,'EK DERS Ücret Hesaplama'!M34,\"\")","v":""},{"$f":"IF('EK DERS Ücret Hesaplama'!$AM34=1,'EK DERS Ücret Hesaplama'!N34,\"\")","v":""},{"$f":"IF('EK DERS Ücret Hesaplama'!$AM34=1,'EK DERS Ücret Hesaplama'!E34,\"\")","v":""},{"$f":"IF('EK DERS Ücret Hesaplama'!$AM34=1,'EK DERS Ücret Hesaplama'!F34,\"\")","v":""},{"$f":"IF('EK DERS Ücret Hesaplama'!$AM34=1,'EK DERS Ücret Hesaplama'!G34,\"\")","v":""},{"$f":"IF('EK DERS Ücret Hesaplama'!$AM34=1,'EK DERS Ücret Hesaplama'!H34,\"\")","v":""},{"$f":"IF('EK DERS Ücret Hesaplama'!$AM34=1,'EK DERS Ücret Hesaplama'!I34,\"\")","v":""},{"$f":"IF('EK DERS Ücret Hesaplama'!$AM34=1,'EK DERS Ücret Hesaplama'!J34,\"\")","v":""},{"$f":"IF('EK DERS Ücret Hesaplama'!$AM34=1,'EK DERS Ücret Hesaplama'!K34,\"\")","v":""},{"$f":"IF('EK DERS Ücret Hesaplama'!$AM34=1,'EK DERS Ücret Hesaplama'!L34,\"\")","v":""},{"$f":"IF('EK DERS Ücret Hesaplama'!$AM34=1,'EK DERS Ücret Hesaplama'!O34,\"\")","v":""},{"$f":"IF('EK DERS Ücret Hesaplama'!$AM34=1,'EK DERS Ücret Hesaplama'!P34,\"\")","v":""},{"$f":"IF('EK DERS Ücret Hesaplama'!$AM34=1,'EK DERS Ücret Hesaplama'!Q34,\"\")","v":""},{"$f":"IF('EK DERS Ücret Hesaplama'!$AM34=1,'EK DERS Ücret Hesaplama'!R34,\"\")","v":""},{"$f":"IF('EK DERS Ücret Hesaplama'!$AM34=1,'EK DERS Ücret Hesaplama'!S34,\"\")","v":""},{"$f":"IF('EK DERS Ücret Hesaplama'!$AM34=1,hesaplamalar!X31,\"\")","v":""},{"$f":"IF('EK DERS Ücret Hesaplama'!$AM34=1,hesaplamalar!Y31,\"\")","v":""},{"$f":"IF('EK DERS Ücret Hesaplama'!$AM34=1,hesaplamalar!Z31,\"\")","v":""},{"$f":"IF('EK DERS Ücret Hesaplama'!$AM34=1,hesaplamalar!AA31,\"\")","v":""},{"$f":"IF('EK DERS Ücret Hesaplama'!$AM34=1,hesaplamalar!AB31,\"\")","v":""},{"$f":"IF('EK DERS Ücret Hesaplama'!$AM34=1,hesaplamalar!AC31,\"\")","v":""},{"$f":"IF('EK DERS Ücret Hesaplama'!$AM34=1,hesaplamalar!AD31,\"\")","v":""},{"$f":"IF('EK DERS Ücret Hesaplama'!$AM34=1,hesaplamalar!AE31,\"\")","v":""},{"$f":"IF('EK DERS Ücret Hesaplama'!$AM34=1,hesaplamalar!AG31,\"\")","v":""},{"$f":"IF('EK DERS Ücret Hesaplama'!$AM34=1,hesaplamalar!AH31,\"\")","v":""},{"$f":"IF('EK DERS Ücret Hesaplama'!$AM34=1,'EK DERS Ücret Hesaplama'!AE34,\"\")","v":""},{"$f":"IF('EK DERS Ücret Hesaplama'!$AM34=1,'EK DERS Ücret Hesaplama'!AG34,\"\")","v":""},{"$f":"IF('EK DERS Ücret Hesaplama'!$AM34=1,'EK DERS Ücret Hesaplama'!AF34,\"\")","v":""},{"$f":"IF('EK DERS Ücret Hesaplama'!$AM34=1,'EK DERS Ücret Hesaplama'!AH34,\"\")","v":""},{"$f":"IF('EK DERS Ücret Hesaplama'!$AM34=1,'EK DERS Ücret Hesaplama'!AI34,\"\")","v":""},{"$f":"IF('EK DERS Ücret Hesaplama'!$AM34=1,'EK DERS Ücret Hesaplama'!AJ34,\"\")","v":""},{"$f":"IF('EK DERS Ücret Hesaplama'!$AM34=1,'EK DERS Ücret Hesaplama'!AK34,\"\")","v":""},null,0]
[{"$f":"IF(AJ37=\"\",\"\",SUBTOTAL(103,$AJ$8:AJ37))","v":""},{"$f":"IF('EK DERS Ücret Hesaplama'!$AM35=1,'EK DERS Ücret Hesaplama'!B35,\"\")","v":""},{"$f":"IF('EK DERS Ücret Hesaplama'!$AM35=1,'EK DERS Ücret Hesaplama'!C35,\"\")","v":""},{"$f":"IF('EK DERS Ücret Hesaplama'!$AM35=1,IF('EK DERS Ücret Hesaplama'!D35=\"Ücretli Öğretmen\",\"Ücretli Öğr.\",\"Ücr.Öğr. (Emekli)\"),\"\")","v":""},{"$f":"IF('EK DERS Ücret Hesaplama'!$AM35=1,'EK DERS Ücret Hesaplama'!M35,\"\")","v":""},{"$f":"IF('EK DERS Ücret Hesaplama'!$AM35=1,'EK DERS Ücret Hesaplama'!N35,\"\")","v":""},{"$f":"IF('EK DERS Ücret Hesaplama'!$AM35=1,'EK DERS Ücret Hesaplama'!E35,\"\")","v":""},{"$f":"IF('EK DERS Ücret Hesaplama'!$AM35=1,'EK DERS Ücret Hesaplama'!F35,\"\")","v":""},{"$f":"IF('EK DERS Ücret Hesaplama'!$AM35=1,'EK DERS Ücret Hesaplama'!G35,\"\")","v":""},{"$f":"IF('EK DERS Ücret Hesaplama'!$AM35=1,'EK DERS Ücret Hesaplama'!H35,\"\")","v":""},{"$f":"IF('EK DERS Ücret Hesaplama'!$AM35=1,'EK DERS Ücret Hesaplama'!I35,\"\")","v":""},{"$f":"IF('EK DERS Ücret Hesaplama'!$AM35=1,'EK DERS Ücret Hesaplama'!J35,\"\")","v":""},{"$f":"IF('EK DERS Ücret Hesaplama'!$AM35=1,'EK DERS Ücret Hesaplama'!K35,\"\")","v":""},{"$f":"IF('EK DERS Ücret Hesaplama'!$AM35=1,'EK DERS Ücret Hesaplama'!L35,\"\")","v":""},{"$f":"IF('EK DERS Ücret Hesaplama'!$AM35=1,'EK DERS Ücret Hesaplama'!O35,\"\")","v":""},{"$f":"IF('EK DERS Ücret Hesaplama'!$AM35=1,'EK DERS Ücret Hesaplama'!P35,\"\")","v":""},{"$f":"IF('EK DERS Ücret Hesaplama'!$AM35=1,'EK DERS Ücret Hesaplama'!Q35,\"\")","v":""},{"$f":"IF('EK DERS Ücret Hesaplama'!$AM35=1,'EK DERS Ücret Hesaplama'!R35,\"\")","v":""},{"$f":"IF('EK DERS Ücret Hesaplama'!$AM35=1,'EK DERS Ücret Hesaplama'!S35,\"\")","v":""},{"$f":"IF('EK DERS Ücret Hesaplama'!$AM35=1,hesaplamalar!X32,\"\")","v":""},{"$f":"IF('EK DERS Ücret Hesaplama'!$AM35=1,hesaplamalar!Y32,\"\")","v":""},{"$f":"IF('EK DERS Ücret Hesaplama'!$AM35=1,hesaplamalar!Z32,\"\")","v":""},{"$f":"IF('EK DERS Ücret Hesaplama'!$AM35=1,hesaplamalar!AA32,\"\")","v":""},{"$f":"IF('EK DERS Ücret Hesaplama'!$AM35=1,hesaplamalar!AB32,\"\")","v":""},{"$f":"IF('EK DERS Ücret Hesaplama'!$AM35=1,hesaplamalar!AC32,\"\")","v":""},{"$f":"IF('EK DERS Ücret Hesaplama'!$AM35=1,hesaplamalar!AD32,\"\")","v":""},{"$f":"IF('EK DERS Ücret Hesaplama'!$AM35=1,hesaplamalar!AE32,\"\")","v":""},{"$f":"IF('EK DERS Ücret Hesaplama'!$AM35=1,hesaplamalar!AG32,\"\")","v":""},{"$f":"IF('EK DERS Ücret Hesaplama'!$AM35=1,hesaplamalar!AH32,\"\")","v":""},{"$f":"IF('EK DERS Ücret Hesaplama'!$AM35=1,'EK DERS Ücret Hesaplama'!AE35,\"\")","v":""},{"$f":"IF('EK DERS Ücret Hesaplama'!$AM35=1,'EK DERS Ücret Hesaplama'!AG35,\"\")","v":""},{"$f":"IF('EK DERS Ücret Hesaplama'!$AM35=1,'EK DERS Ücret Hesaplama'!AF35,\"\")","v":""},{"$f":"IF('EK DERS Ücret Hesaplama'!$AM35=1,'EK DERS Ücret Hesaplama'!AH35,\"\")","v":""},{"$f":"IF('EK DERS Ücret Hesaplama'!$AM35=1,'EK DERS Ücret Hesaplama'!AI35,\"\")","v":""},{"$f":"IF('EK DERS Ücret Hesaplama'!$AM35=1,'EK DERS Ücret Hesaplama'!AJ35,\"\")","v":""},{"$f":"IF('EK DERS Ücret Hesaplama'!$AM35=1,'EK DERS Ücret Hesaplama'!AK35,\"\")","v":""},null,0]
[{"$f":"IF(AJ38=\"\",\"\",SUBTOTAL(103,$AJ$8:AJ38))","v":""},{"$f":"IF('EK DERS Ücret Hesaplama'!$AM36=1,'EK DERS Ücret Hesaplama'!B36,\"\")","v":""},{"$f":"IF('EK DERS Ücret Hesaplama'!$AM36=1,'EK DERS Ücret Hesaplama'!C36,\"\")","v":""},{"$f":"IF('EK DERS Ücret Hesaplama'!$AM36=1,IF('EK DERS Ücret Hesaplama'!D36=\"Ücretli Öğretmen\",\"Ücretli Öğr.\",\"Ücr.Öğr. (Emekli)\"),\"\")","v":""},{"$f":"IF('EK DERS Ücret Hesaplama'!$AM36=1,'EK DERS Ücret Hesaplama'!M36,\"\")","v":""},{"$f":"IF('EK DERS Ücret Hesaplama'!$AM36=1,'EK DERS Ücret Hesaplama'!N36,\"\")","v":""},{"$f":"IF('EK DERS Ücret Hesaplama'!$AM36=1,'EK DERS Ücret Hesaplama'!E36,\"\")","v":""},{"$f":"IF('EK DERS Ücret Hesaplama'!$AM36=1,'EK DERS Ücret Hesaplama'!F36,\"\")","v":""},{"$f":"IF('EK DERS Ücret Hesaplama'!$AM36=1,'EK DERS Ücret Hesaplama'!G36,\"\")","v":""},{"$f":"IF('EK DERS Ücret Hesaplama'!$AM36=1,'EK DERS Ücret Hesaplama'!H36,\"\")","v":""},{"$f":"IF('EK DERS Ücret Hesaplama'!$AM36=1,'EK DERS Ücret Hesaplama'!I36,\"\")","v":""},{"$f":"IF('EK DERS Ücret Hesaplama'!$AM36=1,'EK DERS Ücret Hesaplama'!J36,\"\")","v":""},{"$f":"IF('EK DERS Ücret Hesaplama'!$AM36=1,'EK DERS Ücret Hesaplama'!K36,\"\")","v":""},{"$f":"IF('EK DERS Ücret Hesaplama'!$AM36=1,'EK DERS Ücret Hesaplama'!L36,\"\")","v":""},{"$f":"IF('EK DERS Ücret Hesaplama'!$AM36=1,'EK DERS Ücret Hesaplama'!O36,\"\")","v":""},{"$f":"IF('EK DERS Ücret Hesaplama'!$AM36=1,'EK DERS Ücret Hesaplama'!P36,\"\")","v":""},{"$f":"IF('EK DERS Ücret Hesaplama'!$AM36=1,'EK DERS Ücret Hesaplama'!Q36,\"\")","v":""},{"$f":"IF('EK DERS Ücret Hesaplama'!$AM36=1,'EK DERS Ücret Hesaplama'!R36,\"\")","v":""},{"$f":"IF('EK DERS Ücret Hesaplama'!$AM36=1,'EK DERS Ücret Hesaplama'!S36,\"\")","v":""},{"$f":"IF('EK DERS Ücret Hesaplama'!$AM36=1,hesaplamalar!X33,\"\")","v":""},{"$f":"IF('EK DERS Ücret Hesaplama'!$AM36=1,hesaplamalar!Y33,\"\")","v":""},{"$f":"IF('EK DERS Ücret Hesaplama'!$AM36=1,hesaplamalar!Z33,\"\")","v":""},{"$f":"IF('EK DERS Ücret Hesaplama'!$AM36=1,hesaplamalar!AA33,\"\")","v":""},{"$f":"IF('EK DERS Ücret Hesaplama'!$AM36=1,hesaplamalar!AB33,\"\")","v":""},{"$f":"IF('EK DERS Ücret Hesaplama'!$AM36=1,hesaplamalar!AC33,\"\")","v":""},{"$f":"IF('EK DERS Ücret Hesaplama'!$AM36=1,hesaplamalar!AD33,\"\")","v":""},{"$f":"IF('EK DERS Ücret Hesaplama'!$AM36=1,hesaplamalar!AE33,\"\")","v":""},{"$f":"IF('EK DERS Ücret Hesaplama'!$AM36=1,hesaplamalar!AG33,\"\")","v":""},{"$f":"IF('EK DERS Ücret Hesaplama'!$AM36=1,hesaplamalar!AH33,\"\")","v":""},{"$f":"IF('EK DERS Ücret Hesaplama'!$AM36=1,'EK DERS Ücret Hesaplama'!AE36,\"\")","v":""},{"$f":"IF('EK DERS Ücret Hesaplama'!$AM36=1,'EK DERS Ücret Hesaplama'!AG36,\"\")","v":""},{"$f":"IF('EK DERS Ücret Hesaplama'!$AM36=1,'EK DERS Ücret Hesaplama'!AF36,\"\")","v":""},{"$f":"IF('EK DERS Ücret Hesaplama'!$AM36=1,'EK DERS Ücret Hesaplama'!AH36,\"\")","v":""},{"$f":"IF('EK DERS Ücret Hesaplama'!$AM36=1,'EK DERS Ücret Hesaplama'!AI36,\"\")","v":""},{"$f":"IF('EK DERS Ücret Hesaplama'!$AM36=1,'EK DERS Ücret Hesaplama'!AJ36,\"\")","v":""},{"$f":"IF('EK DERS Ücret Hesaplama'!$AM36=1,'EK DERS Ücret Hesaplama'!AK36,\"\")","v":""},null,0]
[{"$f":"IF(AJ39=\"\",\"\",SUBTOTAL(103,$AJ$8:AJ39))","v":""},{"$f":"IF('EK DERS Ücret Hesaplama'!$AM37=1,'EK DERS Ücret Hesaplama'!B37,\"\")","v":""},{"$f":"IF('EK DERS Ücret Hesaplama'!$AM37=1,'EK DERS Ücret Hesaplama'!C37,\"\")","v":""},{"$f":"IF('EK DERS Ücret Hesaplama'!$AM37=1,IF('EK DERS Ücret Hesaplama'!D37=\"Ücretli Öğretmen\",\"Ücretli Öğr.\",\"Ücr.Öğr. (Emekli)\"),\"\")","v":""},{"$f":"IF('EK DERS Ücret Hesaplama'!$AM37=1,'EK DERS Ücret Hesaplama'!M37,\"\")","v":""},{"$f":"IF('EK DERS Ücret Hesaplama'!$AM37=1,'EK DERS Ücret Hesaplama'!N37,\"\")","v":""},{"$f":"IF('EK DERS Ücret Hesaplama'!$AM37=1,'EK DERS Ücret Hesaplama'!E37,\"\")","v":""},{"$f":"IF('EK DERS Ücret Hesaplama'!$AM37=1,'EK DERS Ücret Hesaplama'!F37,\"\")","v":""},{"$f":"IF('EK DERS Ücret Hesaplama'!$AM37=1,'EK DERS Ücret Hesaplama'!G37,\"\")","v":""},{"$f":"IF('EK DERS Ücret Hesaplama'!$AM37=1,'EK DERS Ücret Hesaplama'!H37,\"\")","v":""},{"$f":"IF('EK DERS Ücret Hesaplama'!$AM37=1,'EK DERS Ücret Hesaplama'!I37,\"\")","v":""},{"$f":"IF('EK DERS Ücret Hesaplama'!$AM37=1,'EK DERS Ücret Hesaplama'!J37,\"\")","v":""},{"$f":"IF('EK DERS Ücret Hesaplama'!$AM37=1,'EK DERS Ücret Hesaplama'!K37,\"\")","v":""},{"$f":"IF('EK DERS Ücret Hesaplama'!$AM37=1,'EK DERS Ücret Hesaplama'!L37,\"\")","v":""},{"$f":"IF('EK DERS Ücret Hesaplama'!$AM37=1,'EK DERS Ücret Hesaplama'!O37,\"\")","v":""},{"$f":"IF('EK DERS Ücret Hesaplama'!$AM37=1,'EK DERS Ücret Hesaplama'!P37,\"\")","v":""},{"$f":"IF('EK DERS Ücret Hesaplama'!$AM37=1,'EK DERS Ücret Hesaplama'!Q37,\"\")","v":""},{"$f":"IF('EK DERS Ücret Hesaplama'!$AM37=1,'EK DERS Ücret Hesaplama'!R37,\"\")","v":""},{"$f":"IF('EK DERS Ücret Hesaplama'!$AM37=1,'EK DERS Ücret Hesaplama'!S37,\"\")","v":""},{"$f":"IF('EK DERS Ücret Hesaplama'!$AM37=1,hesaplamalar!X34,\"\")","v":""},{"$f":"IF('EK DERS Ücret Hesaplama'!$AM37=1,hesaplamalar!Y34,\"\")","v":""},{"$f":"IF('EK DERS Ücret Hesaplama'!$AM37=1,hesaplamalar!Z34,\"\")","v":""},{"$f":"IF('EK DERS Ücret Hesaplama'!$AM37=1,hesaplamalar!AA34,\"\")","v":""},{"$f":"IF('EK DERS Ücret Hesaplama'!$AM37=1,hesaplamalar!AB34,\"\")","v":""},{"$f":"IF('EK DERS Ücret Hesaplama'!$AM37=1,hesaplamalar!AC34,\"\")","v":""},{"$f":"IF('EK DERS Ücret Hesaplama'!$AM37=1,hesaplamalar!AD34,\"\")","v":""},{"$f":"IF('EK DERS Ücret Hesaplama'!$AM37=1,hesaplamalar!AE34,\"\")","v":""},{"$f":"IF('EK DERS Ücret Hesaplama'!$AM37=1,hesaplamalar!AG34,\"\")","v":""},{"$f":"IF('EK DERS Ücret Hesaplama'!$AM37=1,hesaplamalar!AH34,\"\")","v":""},{"$f":"IF('EK DERS Ücret Hesaplama'!$AM37=1,'EK DERS Ücret Hesaplama'!AE37,\"\")","v":""},{"$f":"IF('EK DERS Ücret Hesaplama'!$AM37=1,'EK DERS Ücret Hesaplama'!AG37,\"\")","v":""},{"$f":"IF('EK DERS Ücret Hesaplama'!$AM37=1,'EK DERS Ücret Hesaplama'!AF37,\"\")","v":""},{"$f":"IF('EK DERS Ücret Hesaplama'!$AM37=1,'EK DERS Ücret Hesaplama'!AH37,\"\")","v":""},{"$f":"IF('EK DERS Ücret Hesaplama'!$AM37=1,'EK DERS Ücret Hesaplama'!AI37,\"\")","v":""},{"$f":"IF('EK DERS Ücret Hesaplama'!$AM37=1,'EK DERS Ücret Hesaplama'!AJ37,\"\")","v":""},{"$f":"IF('EK DERS Ücret Hesaplama'!$AM37=1,'EK DERS Ücret Hesaplama'!AK37,\"\")","v":""},null,0]
[{"$f":"IF(AJ40=\"\",\"\",SUBTOTAL(103,$AJ$8:AJ40))","v":""},{"$f":"IF('EK DERS Ücret Hesaplama'!$AM38=1,'EK DERS Ücret Hesaplama'!B38,\"\")","v":""},{"$f":"IF('EK DERS Ücret Hesaplama'!$AM38=1,'EK DERS Ücret Hesaplama'!C38,\"\")","v":""},{"$f":"IF('EK DERS Ücret Hesaplama'!$AM38=1,IF('EK DERS Ücret Hesaplama'!D38=\"Ücretli Öğretmen\",\"Ücretli Öğr.\",\"Ücr.Öğr. (Emekli)\"),\"\")","v":""},{"$f":"IF('EK DERS Ücret Hesaplama'!$AM38=1,'EK DERS Ücret Hesaplama'!M38,\"\")","v":""},{"$f":"IF('EK DERS Ücret Hesaplama'!$AM38=1,'EK DERS Ücret Hesaplama'!N38,\"\")","v":""},{"$f":"IF('EK DERS Ücret Hesaplama'!$AM38=1,'EK DERS Ücret Hesaplama'!E38,\"\")","v":""},{"$f":"IF('EK DERS Ücret Hesaplama'!$AM38=1,'EK DERS Ücret Hesaplama'!F38,\"\")","v":""},{"$f":"IF('EK DERS Ücret Hesaplama'!$AM38=1,'EK DERS Ücret Hesaplama'!G38,\"\")","v":""},{"$f":"IF('EK DERS Ücret Hesaplama'!$AM38=1,'EK DERS Ücret Hesaplama'!H38,\"\")","v":""},{"$f":"IF('EK DERS Ücret Hesaplama'!$AM38=1,'EK DERS Ücret Hesaplama'!I38,\"\")","v":""},{"$f":"IF('EK DERS Ücret Hesaplama'!$AM38=1,'EK DERS Ücret Hesaplama'!J38,\"\")","v":""},{"$f":"IF('EK DERS Ücret Hesaplama'!$AM38=1,'EK DERS Ücret Hesaplama'!K38,\"\")","v":""},{"$f":"IF('EK DERS Ücret Hesaplama'!$AM38=1,'EK DERS Ücret Hesaplama'!L38,\"\")","v":""},{"$f":"IF('EK DERS Ücret Hesaplama'!$AM38=1,'EK DERS Ücret Hesaplama'!O38,\"\")","v":""},{"$f":"IF('EK DERS Ücret Hesaplama'!$AM38=1,'EK DERS Ücret Hesaplama'!P38,\"\")","v":""},{"$f":"IF('EK DERS Ücret Hesaplama'!$AM38=1,'EK DERS Ücret Hesaplama'!Q38,\"\")","v":""},{"$f":"IF('EK DERS Ücret Hesaplama'!$AM38=1,'EK DERS Ücret Hesaplama'!R38,\"\")","v":""},{"$f":"IF('EK DERS Ücret Hesaplama'!$AM38=1,'EK DERS Ücret Hesaplama'!S38,\"\")","v":""},{"$f":"IF('EK DERS Ücret Hesaplama'!$AM38=1,hesaplamalar!X35,\"\")","v":""},{"$f":"IF('EK DERS Ücret Hesaplama'!$AM38=1,hesaplamalar!Y35,\"\")","v":""},{"$f":"IF('EK DERS Ücret Hesaplama'!$AM38=1,hesaplamalar!Z35,\"\")","v":""},{"$f":"IF('EK DERS Ücret Hesaplama'!$AM38=1,hesaplamalar!AA35,\"\")","v":""},{"$f":"IF('EK DERS Ücret Hesaplama'!$AM38=1,hesaplamalar!AB35,\"\")","v":""},{"$f":"IF('EK DERS Ücret Hesaplama'!$AM38=1,hesaplamalar!AC35,\"\")","v":""},{"$f":"IF('EK DERS Ücret Hesaplama'!$AM38=1,hesaplamalar!AD35,\"\")","v":""},{"$f":"IF('EK DERS Ücret Hesaplama'!$AM38=1,hesaplamalar!AE35,\"\")","v":""},{"$f":"IF('EK DERS Ücret Hesaplama'!$AM38=1,hesaplamalar!AG35,\"\")","v":""},{"$f":"IF('EK DERS Ücret Hesaplama'!$AM38=1,hesaplamalar!AH35,\"\")","v":""},{"$f":"IF('EK DERS Ücret Hesaplama'!$AM38=1,'EK DERS Ücret Hesaplama'!AE38,\"\")","v":""},{"$f":"IF('EK DERS Ücret Hesaplama'!$AM38=1,'EK DERS Ücret Hesaplama'!AG38,\"\")","v":""},{"$f":"IF('EK DERS Ücret Hesaplama'!$AM38=1,'EK DERS Ücret Hesaplama'!AF38,\"\")","v":""},{"$f":"IF('EK DERS Ücret Hesaplama'!$AM38=1,'EK DERS Ücret Hesaplama'!AH38,\"\")","v":""},{"$f":"IF('EK DERS Ücret Hesaplama'!$AM38=1,'EK DERS Ücret Hesaplama'!AI38,\"\")","v":""},{"$f":"IF('EK DERS Ücret Hesaplama'!$AM38=1,'EK DERS Ücret Hesaplama'!AJ38,\"\")","v":""},{"$f":"IF('EK DERS Ücret Hesaplama'!$AM38=1,'EK DERS Ücret Hesaplama'!AK38,\"\")","v":""},null,0]
[{"$f":"IF(AJ41=\"\",\"\",SUBTOTAL(103,$AJ$8:AJ41))","v":""},{"$f":"IF('EK DERS Ücret Hesaplama'!$AM39=1,'EK DERS Ücret Hesaplama'!B39,\"\")","v":""},{"$f":"IF('EK DERS Ücret Hesaplama'!$AM39=1,'EK DERS Ücret Hesaplama'!C39,\"\")","v":""},{"$f":"IF('EK DERS Ücret Hesaplama'!$AM39=1,IF('EK DERS Ücret Hesaplama'!D39=\"Ücretli Öğretmen\",\"Ücretli Öğr.\",\"Ücr.Öğr. (Emekli)\"),\"\")","v":""},{"$f":"IF('EK DERS Ücret Hesaplama'!$AM39=1,'EK DERS Ücret Hesaplama'!M39,\"\")","v":""},{"$f":"IF('EK DERS Ücret Hesaplama'!$AM39=1,'EK DERS Ücret Hesaplama'!N39,\"\")","v":""},{"$f":"IF('EK DERS Ücret Hesaplama'!$AM39=1,'EK DERS Ücret Hesaplama'!E39,\"\")","v":""},{"$f":"IF('EK DERS Ücret Hesaplama'!$AM39=1,'EK DERS Ücret Hesaplama'!F39,\"\")","v":""},{"$f":"IF('EK DERS Ücret Hesaplama'!$AM39=1,'EK DERS Ücret Hesaplama'!G39,\"\")","v":""},{"$f":"IF('EK DERS Ücret Hesaplama'!$AM39=1,'EK DERS Ücret Hesaplama'!H39,\"\")","v":""},{"$f":"IF('EK DERS Ücret Hesaplama'!$AM39=1,'EK DERS Ücret Hesaplama'!I39,\"\")","v":""},{"$f":"IF('EK DERS Ücret Hesaplama'!$AM39=1,'EK DERS Ücret Hesaplama'!J39,\"\")","v":""},{"$f":"IF('EK DERS Ücret Hesaplama'!$AM39=1,'EK DERS Ücret Hesaplama'!K39,\"\")","v":""},{"$f":"IF('EK DERS Ücret Hesaplama'!$AM39=1,'EK DERS Ücret Hesaplama'!L39,\"\")","v":""},{"$f":"IF('EK DERS Ücret Hesaplama'!$AM39=1,'EK DERS Ücret Hesaplama'!O39,\"\")","v":""},{"$f":"IF('EK DERS Ücret Hesaplama'!$AM39=1,'EK DERS Ücret Hesaplama'!P39,\"\")","v":""},{"$f":"IF('EK DERS Ücret Hesaplama'!$AM39=1,'EK DERS Ücret Hesaplama'!Q39,\"\")","v":""},{"$f":"IF('EK DERS Ücret Hesaplama'!$AM39=1,'EK DERS Ücret Hesaplama'!R39,\"\")","v":""},{"$f":"IF('EK DERS Ücret Hesaplama'!$AM39=1,'EK DERS Ücret Hesaplama'!S39,\"\")","v":""},{"$f":"IF('EK DERS Ücret Hesaplama'!$AM39=1,hesaplamalar!X36,\"\")","v":""},{"$f":"IF('EK DERS Ücret Hesaplama'!$AM39=1,hesaplamalar!Y36,\"\")","v":""},{"$f":"IF('EK DERS Ücret Hesaplama'!$AM39=1,hesaplamalar!Z36,\"\")","v":""},{"$f":"IF('EK DERS Ücret Hesaplama'!$AM39=1,hesaplamalar!AA36,\"\")","v":""},{"$f":"IF('EK DERS Ücret Hesaplama'!$AM39=1,hesaplamalar!AB36,\"\")","v":""},{"$f":"IF('EK DERS Ücret Hesaplama'!$AM39=1,hesaplamalar!AC36,\"\")","v":""},{"$f":"IF('EK DERS Ücret Hesaplama'!$AM39=1,hesaplamalar!AD36,\"\")","v":""},{"$f":"IF('EK DERS Ücret Hesaplama'!$AM39=1,hesaplamalar!AE36,\"\")","v":""},{"$f":"IF('EK DERS Ücret Hesaplama'!$AM39=1,hesaplamalar!AG36,\"\")","v":""},{"$f":"IF('EK DERS Ücret Hesaplama'!$AM39=1,hesaplamalar!AH36,\"\")","v":""},{"$f":"IF('EK DERS Ücret Hesaplama'!$AM39=1,'EK DERS Ücret Hesaplama'!AE39,\"\")","v":""},{"$f":"IF('EK DERS Ücret Hesaplama'!$AM39=1,'EK DERS Ücret Hesaplama'!AG39,\"\")","v":""},{"$f":"IF('EK DERS Ücret Hesaplama'!$AM39=1,'EK DERS Ücret Hesaplama'!AF39,\"\")","v":""},{"$f":"IF('EK DERS Ücret Hesaplama'!$AM39=1,'EK DERS Ücret Hesaplama'!AH39,\"\")","v":""},{"$f":"IF('EK DERS Ücret Hesaplama'!$AM39=1,'EK DERS Ücret Hesaplama'!AI39,\"\")","v":""},{"$f":"IF('EK DERS Ücret Hesaplama'!$AM39=1,'EK DERS Ücret Hesaplama'!AJ39,\"\")","v":""},{"$f":"IF('EK DERS Ücret Hesaplama'!$AM39=1,'EK DERS Ücret Hesaplama'!AK39,\"\")","v":""},null,0]
[{"$f":"IF(AJ42=\"\",\"\",SUBTOTAL(103,$AJ$8:AJ42))","v":""},{"$f":"IF('EK DERS Ücret Hesaplama'!$AM40=1,'EK DERS Ücret Hesaplama'!B40,\"\")","v":""},{"$f":"IF('EK DERS Ücret Hesaplama'!$AM40=1,'EK DERS Ücret Hesaplama'!C40,\"\")","v":""},{"$f":"IF('EK DERS Ücret Hesaplama'!$AM40=1,IF('EK DERS Ücret Hesaplama'!D40=\"Ücretli Öğretmen\",\"Ücretli Öğr.\",\"Ücr.Öğr. (Emekli)\"),\"\")","v":""},{"$f":"IF('EK DERS Ücret Hesaplama'!$AM40=1,'EK DERS Ücret Hesaplama'!M40,\"\")","v":""},{"$f":"IF('EK DERS Ücret Hesaplama'!$AM40=1,'EK DERS Ücret Hesaplama'!N40,\"\")","v":""},{"$f":"IF('EK DERS Ücret Hesaplama'!$AM40=1,'EK DERS Ücret Hesaplama'!E40,\"\")","v":""},{"$f":"IF('EK DERS Ücret Hesaplama'!$AM40=1,'EK DERS Ücret Hesaplama'!F40,\"\")","v":""},{"$f":"IF('EK DERS Ücret Hesaplama'!$AM40=1,'EK DERS Ücret Hesaplama'!G40,\"\")","v":""},{"$f":"IF('EK DERS Ücret Hesaplama'!$AM40=1,'EK DERS Ücret Hesaplama'!H40,\"\")","v":""},{"$f":"IF('EK DERS Ücret Hesaplama'!$AM40=1,'EK DERS Ücret Hesaplama'!I40,\"\")","v":""},{"$f":"IF('EK DERS Ücret Hesaplama'!$AM40=1,'EK DERS Ücret Hesaplama'!J40,\"\")","v":""},{"$f":"IF('EK DERS Ücret Hesaplama'!$AM40=1,'EK DERS Ücret Hesaplama'!K40,\"\")","v":""},{"$f":"IF('EK DERS Ücret Hesaplama'!$AM40=1,'EK DERS Ücret Hesaplama'!L40,\"\")","v":""},{"$f":"IF('EK DERS Ücret Hesaplama'!$AM40=1,'EK DERS Ücret Hesaplama'!O40,\"\")","v":""},{"$f":"IF('EK DERS Ücret Hesaplama'!$AM40=1,'EK DERS Ücret Hesaplama'!P40,\"\")","v":""},{"$f":"IF('EK DERS Ücret Hesaplama'!$AM40=1,'EK DERS Ücret Hesaplama'!Q40,\"\")","v":""},{"$f":"IF('EK DERS Ücret Hesaplama'!$AM40=1,'EK DERS Ücret Hesaplama'!R40,\"\")","v":""},{"$f":"IF('EK DERS Ücret Hesaplama'!$AM40=1,'EK DERS Ücret Hesaplama'!S40,\"\")","v":""},{"$f":"IF('EK DERS Ücret Hesaplama'!$AM40=1,hesaplamalar!X37,\"\")","v":""},{"$f":"IF('EK DERS Ücret Hesaplama'!$AM40=1,hesaplamalar!Y37,\"\")","v":""},{"$f":"IF('EK DERS Ücret Hesaplama'!$AM40=1,hesaplamalar!Z37,\"\")","v":""},{"$f":"IF('EK DERS Ücret Hesaplama'!$AM40=1,hesaplamalar!AA37,\"\")","v":""},{"$f":"IF('EK DERS Ücret Hesaplama'!$AM40=1,hesaplamalar!AB37,\"\")","v":""},{"$f":"IF('EK DERS Ücret Hesaplama'!$AM40=1,hesaplamalar!AC37,\"\")","v":""},{"$f":"IF('EK DERS Ücret Hesaplama'!$AM40=1,hesaplamalar!AD37,\"\")","v":""},{"$f":"IF('EK DERS Ücret Hesaplama'!$AM40=1,hesaplamalar!AE37,\"\")","v":""},{"$f":"IF('EK DERS Ücret Hesaplama'!$AM40=1,hesaplamalar!AG37,\"\")","v":""},{"$f":"IF('EK DERS Ücret Hesaplama'!$AM40=1,hesaplamalar!AH37,\"\")","v":""},{"$f":"IF('EK DERS Ücret Hesaplama'!$AM40=1,'EK DERS Ücret Hesaplama'!AE40,\"\")","v":""},{"$f":"IF('EK DERS Ücret Hesaplama'!$AM40=1,'EK DERS Ücret Hesaplama'!AG40,\"\")","v":""},{"$f":"IF('EK DERS Ücret Hesaplama'!$AM40=1,'EK DERS Ücret Hesaplama'!AF40,\"\")","v":""},{"$f":"IF('EK DERS Ücret Hesaplama'!$AM40=1,'EK DERS Ücret Hesaplama'!AH40,\"\")","v":""},{"$f":"IF('EK DERS Ücret Hesaplama'!$AM40=1,'EK DERS Ücret Hesaplama'!AI40,\"\")","v":""},{"$f":"IF('EK DERS Ücret Hesaplama'!$AM40=1,'EK DERS Ücret Hesaplama'!AJ40,\"\")","v":""},{"$f":"IF('EK DERS Ücret Hesaplama'!$AM40=1,'EK DERS Ücret Hesaplama'!AK40,\"\")","v":""},null,0]
[{"$f":"IF(AJ43=\"\",\"\",SUBTOTAL(103,$AJ$8:AJ43))","v":""},{"$f":"IF('EK DERS Ücret Hesaplama'!$AM41=1,'EK DERS Ücret Hesaplama'!B41,\"\")","v":""},{"$f":"IF('EK DERS Ücret Hesaplama'!$AM41=1,'EK DERS Ücret Hesaplama'!C41,\"\")","v":""},{"$f":"IF('EK DERS Ücret Hesaplama'!$AM41=1,IF('EK DERS Ücret Hesaplama'!D41=\"Ücretli Öğretmen\",\"Ücretli Öğr.\",\"Ücr.Öğr. (Emekli)\"),\"\")","v":""},{"$f":"IF('EK DERS Ücret Hesaplama'!$AM41=1,'EK DERS Ücret Hesaplama'!M41,\"\")","v":""},{"$f":"IF('EK DERS Ücret Hesaplama'!$AM41=1,'EK DERS Ücret Hesaplama'!N41,\"\")","v":""},{"$f":"IF('EK DERS Ücret Hesaplama'!$AM41=1,'EK DERS Ücret Hesaplama'!E41,\"\")","v":""},{"$f":"IF('EK DERS Ücret Hesaplama'!$AM41=1,'EK DERS Ücret Hesaplama'!F41,\"\")","v":""},{"$f":"IF('EK DERS Ücret Hesaplama'!$AM41=1,'EK DERS Ücret Hesaplama'!G41,\"\")","v":""},{"$f":"IF('EK DERS Ücret Hesaplama'!$AM41=1,'EK DERS Ücret Hesaplama'!H41,\"\")","v":""},{"$f":"IF('EK DERS Ücret Hesaplama'!$AM41=1,'EK DERS Ücret Hesaplama'!I41,\"\")","v":""},{"$f":"IF('EK DERS Ücret Hesaplama'!$AM41=1,'EK DERS Ücret Hesaplama'!J41,\"\")","v":""},{"$f":"IF('EK DERS Ücret Hesaplama'!$AM41=1,'EK DERS Ücret Hesaplama'!K41,\"\")","v":""},{"$f":"IF('EK DERS Ücret Hesaplama'!$AM41=1,'EK DERS Ücret Hesaplama'!L41,\"\")","v":""},{"$f":"IF('EK DERS Ücret Hesaplama'!$AM41=1,'EK DERS Ücret Hesaplama'!O41,\"\")","v":""},{"$f":"IF('EK DERS Ücret Hesaplama'!$AM41=1,'EK DERS Ücret Hesaplama'!P41,\"\")","v":""},{"$f":"IF('EK DERS Ücret Hesaplama'!$AM41=1,'EK DERS Ücret Hesaplama'!Q41,\"\")","v":""},{"$f":"IF('EK DERS Ücret Hesaplama'!$AM41=1,'EK DERS Ücret Hesaplama'!R41,\"\")","v":""},{"$f":"IF('EK DERS Ücret Hesaplama'!$AM41=1,'EK DERS Ücret Hesaplama'!S41,\"\")","v":""},{"$f":"IF('EK DERS Ücret Hesaplama'!$AM41=1,hesaplamalar!X38,\"\")","v":""},{"$f":"IF('EK DERS Ücret Hesaplama'!$AM41=1,hesaplamalar!Y38,\"\")","v":""},{"$f":"IF('EK DERS Ücret Hesaplama'!$AM41=1,hesaplamalar!Z38,\"\")","v":""},{"$f":"IF('EK DERS Ücret Hesaplama'!$AM41=1,hesaplamalar!AA38,\"\")","v":""},{"$f":"IF('EK DERS Ücret Hesaplama'!$AM41=1,hesaplamalar!AB38,\"\")","v":""},{"$f":"IF('EK DERS Ücret Hesaplama'!$AM41=1,hesaplamalar!AC38,\"\")","v":""},{"$f":"IF('EK DERS Ücret Hesaplama'!$AM41=1,hesaplamalar!AD38,\"\")","v":""},{"$f":"IF('EK DERS Ücret Hesaplama'!$AM41=1,hesaplamalar!AE38,\"\")","v":""},{"$f":"IF('EK DERS Ücret Hesaplama'!$AM41=1,hesaplamalar!AG38,\"\")","v":""},{"$f":"IF('EK DERS Ücret Hesaplama'!$AM41=1,hesaplamalar!AH38,\"\")","v":""},{"$f":"IF('EK DERS Ücret Hesaplama'!$AM41=1,'EK DERS Ücret Hesaplama'!AE41,\"\")","v":""},{"$f":"IF('EK DERS Ücret Hesaplama'!$AM41=1,'EK DERS Ücret Hesaplama'!AG41,\"\")","v":""},{"$f":"IF('EK DERS Ücret Hesaplama'!$AM41=1,'EK DERS Ücret Hesaplama'!AF41,\"\")","v":""},{"$f":"IF('EK DERS Ücret Hesaplama'!$AM41=1,'EK DERS Ücret Hesaplama'!AH41,\"\")","v":""},{"$f":"IF('EK DERS Ücret Hesaplama'!$AM41=1,'EK DERS Ücret Hesaplama'!AI41,\"\")","v":""},{"$f":"IF('EK DERS Ücret Hesaplama'!$AM41=1,'EK DERS Ücret Hesaplama'!AJ41,\"\")","v":""},{"$f":"IF('EK DERS Ücret Hesaplama'!$AM41=1,'EK DERS Ücret Hesaplama'!AK41,\"\")","v":""},null,0]
[{"$f":"IF(AJ44=\"\",\"\",SUBTOTAL(103,$AJ$8:AJ44))","v":""},{"$f":"IF('EK DERS Ücret Hesaplama'!$AM42=1,'EK DERS Ücret Hesaplama'!B42,\"\")","v":""},{"$f":"IF('EK DERS Ücret Hesaplama'!$AM42=1,'EK DERS Ücret Hesaplama'!C42,\"\")","v":""},{"$f":"IF('EK DERS Ücret Hesaplama'!$AM42=1,IF('EK DERS Ücret Hesaplama'!D42=\"Ücretli Öğretmen\",\"Ücretli Öğr.\",\"Ücr.Öğr. (Emekli)\"),\"\")","v":""},{"$f":"IF('EK DERS Ücret Hesaplama'!$AM42=1,'EK DERS Ücret Hesaplama'!M42,\"\")","v":""},{"$f":"IF('EK DERS Ücret Hesaplama'!$AM42=1,'EK DERS Ücret Hesaplama'!N42,\"\")","v":""},{"$f":"IF('EK DERS Ücret Hesaplama'!$AM42=1,'EK DERS Ücret Hesaplama'!E42,\"\")","v":""},{"$f":"IF('EK DERS Ücret Hesaplama'!$AM42=1,'EK DERS Ücret Hesaplama'!F42,\"\")","v":""},{"$f":"IF('EK DERS Ücret Hesaplama'!$AM42=1,'EK DERS Ücret Hesaplama'!G42,\"\")","v":""},{"$f":"IF('EK DERS Ücret Hesaplama'!$AM42=1,'EK DERS Ücret Hesaplama'!H42,\"\")","v":""},{"$f":"IF('EK DERS Ücret Hesaplama'!$AM42=1,'EK DERS Ücret Hesaplama'!I42,\"\")","v":""},{"$f":"IF('EK DERS Ücret Hesaplama'!$AM42=1,'EK DERS Ücret Hesaplama'!J42,\"\")","v":""},{"$f":"IF('EK DERS Ücret Hesaplama'!$AM42=1,'EK DERS Ücret Hesaplama'!K42,\"\")","v":""},{"$f":"IF('EK DERS Ücret Hesaplama'!$AM42=1,'EK DERS Ücret Hesaplama'!L42,\"\")","v":""},{"$f":"IF('EK DERS Ücret Hesaplama'!$AM42=1,'EK DERS Ücret Hesaplama'!O42,\"\")","v":""},{"$f":"IF('EK DERS Ücret Hesaplama'!$AM42=1,'EK DERS Ücret Hesaplama'!P42,\"\")","v":""},{"$f":"IF('EK DERS Ücret Hesaplama'!$AM42=1,'EK DERS Ücret Hesaplama'!Q42,\"\")","v":""},{"$f":"IF('EK DERS Ücret Hesaplama'!$AM42=1,'EK DERS Ücret Hesaplama'!R42,\"\")","v":""},{"$f":"IF('EK DERS Ücret Hesaplama'!$AM42=1,'EK DERS Ücret Hesaplama'!S42,\"\")","v":""},{"$f":"IF('EK DERS Ücret Hesaplama'!$AM42=1,hesaplamalar!X39,\"\")","v":""},{"$f":"IF('EK DERS Ücret Hesaplama'!$AM42=1,hesaplamalar!Y39,\"\")","v":""},{"$f":"IF('EK DERS Ücret Hesaplama'!$AM42=1,hesaplamalar!Z39,\"\")","v":""},{"$f":"IF('EK DERS Ücret Hesaplama'!$AM42=1,hesaplamalar!AA39,\"\")","v":""},{"$f":"IF('EK DERS Ücret Hesaplama'!$AM42=1,hesaplamalar!AB39,\"\")","v":""},{"$f":"IF('EK DERS Ücret Hesaplama'!$AM42=1,hesaplamalar!AC39,\"\")","v":""},{"$f":"IF('EK DERS Ücret Hesaplama'!$AM42=1,hesaplamalar!AD39,\"\")","v":""},{"$f":"IF('EK DERS Ücret Hesaplama'!$AM42=1,hesaplamalar!AE39,\"\")","v":""},{"$f":"IF('EK DERS Ücret Hesaplama'!$AM42=1,hesaplamalar!AG39,\"\")","v":""},{"$f":"IF('EK DERS Ücret Hesaplama'!$AM42=1,hesaplamalar!AH39,\"\")","v":""},{"$f":"IF('EK DERS Ücret Hesaplama'!$AM42=1,'EK DERS Ücret Hesaplama'!AE42,\"\")","v":""},{"$f":"IF('EK DERS Ücret Hesaplama'!$AM42=1,'EK DERS Ücret Hesaplama'!AG42,\"\")","v":""},{"$f":"IF('EK DERS Ücret Hesaplama'!$AM42=1,'EK DERS Ücret Hesaplama'!AF42,\"\")","v":""},{"$f":"IF('EK DERS Ücret Hesaplama'!$AM42=1,'EK DERS Ücret Hesaplama'!AH42,\"\")","v":""},{"$f":"IF('EK DERS Ücret Hesaplama'!$AM42=1,'EK DERS Ücret Hesaplama'!AI42,\"\")","v":""},{"$f":"IF('EK DERS Ücret Hesaplama'!$AM42=1,'EK DERS Ücret Hesaplama'!AJ42,\"\")","v":""},{"$f":"IF('EK DERS Ücret Hesaplama'!$AM42=1,'EK DERS Ücret Hesaplama'!AK42,\"\")","v":""},null,0]
[{"$f":"IF(AJ45=\"\",\"\",SUBTOTAL(103,$AJ$8:AJ45))","v":""},{"$f":"IF('EK DERS Ücret Hesaplama'!$AM43=1,'EK DERS Ücret Hesaplama'!B43,\"\")","v":""},{"$f":"IF('EK DERS Ücret Hesaplama'!$AM43=1,'EK DERS Ücret Hesaplama'!C43,\"\")","v":""},{"$f":"IF('EK DERS Ücret Hesaplama'!$AM43=1,IF('EK DERS Ücret Hesaplama'!D43=\"Ücretli Öğretmen\",\"Ücretli Öğr.\",\"Ücr.Öğr. (Emekli)\"),\"\")","v":""},{"$f":"IF('EK DERS Ücret Hesaplama'!$AM43=1,'EK DERS Ücret Hesaplama'!M43,\"\")","v":""},{"$f":"IF('EK DERS Ücret Hesaplama'!$AM43=1,'EK DERS Ücret Hesaplama'!N43,\"\")","v":""},{"$f":"IF('EK DERS Ücret Hesaplama'!$AM43=1,'EK DERS Ücret Hesaplama'!E43,\"\")","v":""},{"$f":"IF('EK DERS Ücret Hesaplama'!$AM43=1,'EK DERS Ücret Hesaplama'!F43,\"\")","v":""},{"$f":"IF('EK DERS Ücret Hesaplama'!$AM43=1,'EK DERS Ücret Hesaplama'!G43,\"\")","v":""},{"$f":"IF('EK DERS Ücret Hesaplama'!$AM43=1,'EK DERS Ücret Hesaplama'!H43,\"\")","v":""},{"$f":"IF('EK DERS Ücret Hesaplama'!$AM43=1,'EK DERS Ücret Hesaplama'!I43,\"\")","v":""},{"$f":"IF('EK DERS Ücret Hesaplama'!$AM43=1,'EK DERS Ücret Hesaplama'!J43,\"\")","v":""},{"$f":"IF('EK DERS Ücret Hesaplama'!$AM43=1,'EK DERS Ücret Hesaplama'!K43,\"\")","v":""},{"$f":"IF('EK DERS Ücret Hesaplama'!$AM43=1,'EK DERS Ücret Hesaplama'!L43,\"\")","v":""},{"$f":"IF('EK DERS Ücret Hesaplama'!$AM43=1,'EK DERS Ücret Hesaplama'!O43,\"\")","v":""},{"$f":"IF('EK DERS Ücret Hesaplama'!$AM43=1,'EK DERS Ücret Hesaplama'!P43,\"\")","v":""},{"$f":"IF('EK DERS Ücret Hesaplama'!$AM43=1,'EK DERS Ücret Hesaplama'!Q43,\"\")","v":""},{"$f":"IF('EK DERS Ücret Hesaplama'!$AM43=1,'EK DERS Ücret Hesaplama'!R43,\"\")","v":""},{"$f":"IF('EK DERS Ücret Hesaplama'!$AM43=1,'EK DERS Ücret Hesaplama'!S43,\"\")","v":""},{"$f":"IF('EK DERS Ücret Hesaplama'!$AM43=1,hesaplamalar!X40,\"\")","v":""},{"$f":"IF('EK DERS Ücret Hesaplama'!$AM43=1,hesaplamalar!Y40,\"\")","v":""},{"$f":"IF('EK DERS Ücret Hesaplama'!$AM43=1,hesaplamalar!Z40,\"\")","v":""},{"$f":"IF('EK DERS Ücret Hesaplama'!$AM43=1,hesaplamalar!AA40,\"\")","v":""},{"$f":"IF('EK DERS Ücret Hesaplama'!$AM43=1,hesaplamalar!AB40,\"\")","v":""},{"$f":"IF('EK DERS Ücret Hesaplama'!$AM43=1,hesaplamalar!AC40,\"\")","v":""},{"$f":"IF('EK DERS Ücret Hesaplama'!$AM43=1,hesaplamalar!AD40,\"\")","v":""},{"$f":"IF('EK DERS Ücret Hesaplama'!$AM43=1,hesaplamalar!AE40,\"\")","v":""},{"$f":"IF('EK DERS Ücret Hesaplama'!$AM43=1,hesaplamalar!AG40,\"\")","v":""},{"$f":"IF('EK DERS Ücret Hesaplama'!$AM43=1,hesaplamalar!AH40,\"\")","v":""},{"$f":"IF('EK DERS Ücret Hesaplama'!$AM43=1,'EK DERS Ücret Hesaplama'!AE43,\"\")","v":""},{"$f":"IF('EK DERS Ücret Hesaplama'!$AM43=1,'EK DERS Ücret Hesaplama'!AG43,\"\")","v":""},{"$f":"IF('EK DERS Ücret Hesaplama'!$AM43=1,'EK DERS Ücret Hesaplama'!AF43,\"\")","v":""},{"$f":"IF('EK DERS Ücret Hesaplama'!$AM43=1,'EK DERS Ücret Hesaplama'!AH43,\"\")","v":""},{"$f":"IF('EK DERS Ücret Hesaplama'!$AM43=1,'EK DERS Ücret Hesaplama'!AI43,\"\")","v":""},{"$f":"IF('EK DERS Ücret Hesaplama'!$AM43=1,'EK DERS Ücret Hesaplama'!AJ43,\"\")","v":""},{"$f":"IF('EK DERS Ücret Hesaplama'!$AM43=1,'EK DERS Ücret Hesaplama'!AK43,\"\")","v":""},null,0]
[{"$f":"IF(AJ46=\"\",\"\",SUBTOTAL(103,$AJ$8:AJ46))","v":""},{"$f":"IF('EK DERS Ücret Hesaplama'!$AM44=1,'EK DERS Ücret Hesaplama'!B44,\"\")","v":""},{"$f":"IF('EK DERS Ücret Hesaplama'!$AM44=1,'EK DERS Ücret Hesaplama'!C44,\"\")","v":""},{"$f":"IF('EK DERS Ücret Hesaplama'!$AM44=1,IF('EK DERS Ücret Hesaplama'!D44=\"Ücretli Öğretmen\",\"Ücretli Öğr.\",\"Ücr.Öğr. (Emekli)\"),\"\")","v":""},{"$f":"IF('EK DERS Ücret Hesaplama'!$AM44=1,'EK DERS Ücret Hesaplama'!M44,\"\")","v":""},{"$f":"IF('EK DERS Ücret Hesaplama'!$AM44=1,'EK DERS Ücret Hesaplama'!N44,\"\")","v":""},{"$f":"IF('EK DERS Ücret Hesaplama'!$AM44=1,'EK DERS Ücret Hesaplama'!E44,\"\")","v":""},{"$f":"IF('EK DERS Ücret Hesaplama'!$AM44=1,'EK DERS Ücret Hesaplama'!F44,\"\")","v":""},{"$f":"IF('EK DERS Ücret Hesaplama'!$AM44=1,'EK DERS Ücret Hesaplama'!G44,\"\")","v":""},{"$f":"IF('EK DERS Ücret Hesaplama'!$AM44=1,'EK DERS Ücret Hesaplama'!H44,\"\")","v":""},{"$f":"IF('EK DERS Ücret Hesaplama'!$AM44=1,'EK DERS Ücret Hesaplama'!I44,\"\")","v":""},{"$f":"IF('EK DERS Ücret Hesaplama'!$AM44=1,'EK DERS Ücret Hesaplama'!J44,\"\")","v":""},{"$f":"IF('EK DERS Ücret Hesaplama'!$AM44=1,'EK DERS Ücret Hesaplama'!K44,\"\")","v":""},{"$f":"IF('EK DERS Ücret Hesaplama'!$AM44=1,'EK DERS Ücret Hesaplama'!L44,\"\")","v":""},{"$f":"IF('EK DERS Ücret Hesaplama'!$AM44=1,'EK DERS Ücret Hesaplama'!O44,\"\")","v":""},{"$f":"IF('EK DERS Ücret Hesaplama'!$AM44=1,'EK DERS Ücret Hesaplama'!P44,\"\")","v":""},{"$f":"IF('EK DERS Ücret Hesaplama'!$AM44=1,'EK DERS Ücret Hesaplama'!Q44,\"\")","v":""},{"$f":"IF('EK DERS Ücret Hesaplama'!$AM44=1,'EK DERS Ücret Hesaplama'!R44,\"\")","v":""},{"$f":"IF('EK DERS Ücret Hesaplama'!$AM44=1,'EK DERS Ücret Hesaplama'!S44,\"\")","v":""},{"$f":"IF('EK DERS Ücret Hesaplama'!$AM44=1,hesaplamalar!X41,\"\")","v":""},{"$f":"IF('EK DERS Ücret Hesaplama'!$AM44=1,hesaplamalar!Y41,\"\")","v":""},{"$f":"IF('EK DERS Ücret Hesaplama'!$AM44=1,hesaplamalar!Z41,\"\")","v":""},{"$f":"IF('EK DERS Ücret Hesaplama'!$AM44=1,hesaplamalar!AA41,\"\")","v":""},{"$f":"IF('EK DERS Ücret Hesaplama'!$AM44=1,hesaplamalar!AB41,\"\")","v":""},{"$f":"IF('EK DERS Ücret Hesaplama'!$AM44=1,hesaplamalar!AC41,\"\")","v":""},{"$f":"IF('EK DERS Ücret Hesaplama'!$AM44=1,hesaplamalar!AD41,\"\")","v":""},{"$f":"IF('EK DERS Ücret Hesaplama'!$AM44=1,hesaplamalar!AE41,\"\")","v":""},{"$f":"IF('EK DERS Ücret Hesaplama'!$AM44=1,hesaplamalar!AG41,\"\")","v":""},{"$f":"IF('EK DERS Ücret Hesaplama'!$AM44=1,hesaplamalar!AH41,\"\")","v":""},{"$f":"IF('EK DERS Ücret Hesaplama'!$AM44=1,'EK DERS Ücret Hesaplama'!AE44,\"\")","v":""},{"$f":"IF('EK DERS Ücret Hesaplama'!$AM44=1,'EK DERS Ücret Hesaplama'!AG44,\"\")","v":""},{"$f":"IF('EK DERS Ücret Hesaplama'!$AM44=1,'EK DERS Ücret Hesaplama'!AF44,\"\")","v":""},{"$f":"IF('EK DERS Ücret Hesaplama'!$AM44=1,'EK DERS Ücret Hesaplama'!AH44,\"\")","v":""},{"$f":"IF('EK DERS Ücret Hesaplama'!$AM44=1,'EK DERS Ücret Hesaplama'!AI44,\"\")","v":""},{"$f":"IF('EK DERS Ücret Hesaplama'!$AM44=1,'EK DERS Ücret Hesaplama'!AJ44,\"\")","v":""},{"$f":"IF('EK DERS Ücret Hesaplama'!$AM44=1,'EK DERS Ücret Hesaplama'!AK44,\"\")","v":""},null,0]
[{"$f":"IF(AJ47=\"\",\"\",SUBTOTAL(103,$AJ$8:AJ47))","v":""},{"$f":"IF('EK DERS Ücret Hesaplama'!$AM45=1,'EK DERS Ücret Hesaplama'!B45,\"\")","v":""},{"$f":"IF('EK DERS Ücret Hesaplama'!$AM45=1,'EK DERS Ücret Hesaplama'!C45,\"\")","v":""},{"$f":"IF('EK DERS Ücret Hesaplama'!$AM45=1,IF('EK DERS Ücret Hesaplama'!D45=\"Ücretli Öğretmen\",\"Ücretli Öğr.\",\"Ücr.Öğr. (Emekli)\"),\"\")","v":""},{"$f":"IF('EK DERS Ücret Hesaplama'!$AM45=1,'EK DERS Ücret Hesaplama'!M45,\"\")","v":""},{"$f":"IF('EK DERS Ücret Hesaplama'!$AM45=1,'EK DERS Ücret Hesaplama'!N45,\"\")","v":""},{"$f":"IF('EK DERS Ücret Hesaplama'!$AM45=1,'EK DERS Ücret Hesaplama'!E45,\"\")","v":""},{"$f":"IF('EK DERS Ücret Hesaplama'!$AM45=1,'EK DERS Ücret Hesaplama'!F45,\"\")","v":""},{"$f":"IF('EK DERS Ücret Hesaplama'!$AM45=1,'EK DERS Ücret Hesaplama'!G45,\"\")","v":""},{"$f":"IF('EK DERS Ücret Hesaplama'!$AM45=1,'EK DERS Ücret Hesaplama'!H45,\"\")","v":""},{"$f":"IF('EK DERS Ücret Hesaplama'!$AM45=1,'EK DERS Ücret Hesaplama'!I45,\"\")","v":""},{"$f":"IF('EK DERS Ücret Hesaplama'!$AM45=1,'EK DERS Ücret Hesaplama'!J45,\"\")","v":""},{"$f":"IF('EK DERS Ücret Hesaplama'!$AM45=1,'EK DERS Ücret Hesaplama'!K45,\"\")","v":""},{"$f":"IF('EK DERS Ücret Hesaplama'!$AM45=1,'EK DERS Ücret Hesaplama'!L45,\"\")","v":""},{"$f":"IF('EK DERS Ücret Hesaplama'!$AM45=1,'EK DERS Ücret Hesaplama'!O45,\"\")","v":""},{"$f":"IF('EK DERS Ücret Hesaplama'!$AM45=1,'EK DERS Ücret Hesaplama'!P45,\"\")","v":""},{"$f":"IF('EK DERS Ücret Hesaplama'!$AM45=1,'EK DERS Ücret Hesaplama'!Q45,\"\")","v":""},{"$f":"IF('EK DERS Ücret Hesaplama'!$AM45=1,'EK DERS Ücret Hesaplama'!R45,\"\")","v":""},{"$f":"IF('EK DERS Ücret Hesaplama'!$AM45=1,'EK DERS Ücret Hesaplama'!S45,\"\")","v":""},{"$f":"IF('EK DERS Ücret Hesaplama'!$AM45=1,hesaplamalar!X42,\"\")","v":""},{"$f":"IF('EK DERS Ücret Hesaplama'!$AM45=1,hesaplamalar!Y42,\"\")","v":""},{"$f":"IF('EK DERS Ücret Hesaplama'!$AM45=1,hesaplamalar!Z42,\"\")","v":""},{"$f":"IF('EK DERS Ücret Hesaplama'!$AM45=1,hesaplamalar!AA42,\"\")","v":""},{"$f":"IF('EK DERS Ücret Hesaplama'!$AM45=1,hesaplamalar!AB42,\"\")","v":""},{"$f":"IF('EK DERS Ücret Hesaplama'!$AM45=1,hesaplamalar!AC42,\"\")","v":""},{"$f":"IF('EK DERS Ücret Hesaplama'!$AM45=1,hesaplamalar!AD42,\"\")","v":""},{"$f":"IF('EK DERS Ücret Hesaplama'!$AM45=1,hesaplamalar!AE42,\"\")","v":""},{"$f":"IF('EK DERS Ücret Hesaplama'!$AM45=1,hesaplamalar!AG42,\"\")","v":""},{"$f":"IF('EK DERS Ücret Hesaplama'!$AM45=1,hesaplamalar!AH42,\"\")","v":""},{"$f":"IF('EK DERS Ücret Hesaplama'!$AM45=1,'EK DERS Ücret Hesaplama'!AE45,\"\")","v":""},{"$f":"IF('EK DERS Ücret Hesaplama'!$AM45=1,'EK DERS Ücret Hesaplama'!AG45,\"\")","v":""},{"$f":"IF('EK DERS Ücret Hesaplama'!$AM45=1,'EK DERS Ücret Hesaplama'!AF45,\"\")","v":""},{"$f":"IF('EK DERS Ücret Hesaplama'!$AM45=1,'EK DERS Ücret Hesaplama'!AH45,\"\")","v":""},{"$f":"IF('EK DERS Ücret Hesaplama'!$AM45=1,'EK DERS Ücret Hesaplama'!AI45,\"\")","v":""},{"$f":"IF('EK DERS Ücret Hesaplama'!$AM45=1,'EK DERS Ücret Hesaplama'!AJ45,\"\")","v":""},{"$f":"IF('EK DERS Ücret Hesaplama'!$AM45=1,'EK DERS Ücret Hesaplama'!AK45,\"\")","v":""},null,0]
[{"$f":"IF(AJ48=\"\",\"\",SUBTOTAL(103,$AJ$8:AJ48))","v":""},{"$f":"IF('EK DERS Ücret Hesaplama'!$AM46=1,'EK DERS Ücret Hesaplama'!B46,\"\")","v":""},{"$f":"IF('EK DERS Ücret Hesaplama'!$AM46=1,'EK DERS Ücret Hesaplama'!C46,\"\")","v":""},{"$f":"IF('EK DERS Ücret Hesaplama'!$AM46=1,IF('EK DERS Ücret Hesaplama'!D46=\"Ücretli Öğretmen\",\"Ücretli Öğr.\",\"Ücr.Öğr. (Emekli)\"),\"\")","v":""},{"$f":"IF('EK DERS Ücret Hesaplama'!$AM46=1,'EK DERS Ücret Hesaplama'!M46,\"\")","v":""},{"$f":"IF('EK DERS Ücret Hesaplama'!$AM46=1,'EK DERS Ücret Hesaplama'!N46,\"\")","v":""},{"$f":"IF('EK DERS Ücret Hesaplama'!$AM46=1,'EK DERS Ücret Hesaplama'!E46,\"\")","v":""},{"$f":"IF('EK DERS Ücret Hesaplama'!$AM46=1,'EK DERS Ücret Hesaplama'!F46,\"\")","v":""},{"$f":"IF('EK DERS Ücret Hesaplama'!$AM46=1,'EK DERS Ücret Hesaplama'!G46,\"\")","v":""},{"$f":"IF('EK DERS Ücret Hesaplama'!$AM46=1,'EK DERS Ücret Hesaplama'!H46,\"\")","v":""},{"$f":"IF('EK DERS Ücret Hesaplama'!$AM46=1,'EK DERS Ücret Hesaplama'!I46,\"\")","v":""},{"$f":"IF('EK DERS Ücret Hesaplama'!$AM46=1,'EK DERS Ücret Hesaplama'!J46,\"\")","v":""},{"$f":"IF('EK DERS Ücret Hesaplama'!$AM46=1,'EK DERS Ücret Hesaplama'!K46,\"\")","v":""},{"$f":"IF('EK DERS Ücret Hesaplama'!$AM46=1,'EK DERS Ücret Hesaplama'!L46,\"\")","v":""},{"$f":"IF('EK DERS Ücret Hesaplama'!$AM46=1,'EK DERS Ücret Hesaplama'!O46,\"\")","v":""},{"$f":"IF('EK DERS Ücret Hesaplama'!$AM46=1,'EK DERS Ücret Hesaplama'!P46,\"\")","v":""},{"$f":"IF('EK DERS Ücret Hesaplama'!$AM46=1,'EK DERS Ücret Hesaplama'!Q46,\"\")","v":""},{"$f":"IF('EK DERS Ücret Hesaplama'!$AM46=1,'EK DERS Ücret Hesaplama'!R46,\"\")","v":""},{"$f":"IF('EK DERS Ücret Hesaplama'!$AM46=1,'EK DERS Ücret Hesaplama'!S46,\"\")","v":""},{"$f":"IF('EK DERS Ücret Hesaplama'!$AM46=1,hesaplamalar!X43,\"\")","v":""},{"$f":"IF('EK DERS Ücret Hesaplama'!$AM46=1,hesaplamalar!Y43,\"\")","v":""},{"$f":"IF('EK DERS Ücret Hesaplama'!$AM46=1,hesaplamalar!Z43,\"\")","v":""},{"$f":"IF('EK DERS Ücret Hesaplama'!$AM46=1,hesaplamalar!AA43,\"\")","v":""},{"$f":"IF('EK DERS Ücret Hesaplama'!$AM46=1,hesaplamalar!AB43,\"\")","v":""},{"$f":"IF('EK DERS Ücret Hesaplama'!$AM46=1,hesaplamalar!AC43,\"\")","v":""},{"$f":"IF('EK DERS Ücret Hesaplama'!$AM46=1,hesaplamalar!AD43,\"\")","v":""},{"$f":"IF('EK DERS Ücret Hesaplama'!$AM46=1,hesaplamalar!AE43,\"\")","v":""},{"$f":"IF('EK DERS Ücret Hesaplama'!$AM46=1,hesaplamalar!AG43,\"\")","v":""},{"$f":"IF('EK DERS Ücret Hesaplama'!$AM46=1,hesaplamalar!AH43,\"\")","v":""},{"$f":"IF('EK DERS Ücret Hesaplama'!$AM46=1,'EK DERS Ücret Hesaplama'!AE46,\"\")","v":""},{"$f":"IF('EK DERS Ücret Hesaplama'!$AM46=1,'EK DERS Ücret Hesaplama'!AG46,\"\")","v":""},{"$f":"IF('EK DERS Ücret Hesaplama'!$AM46=1,'EK DERS Ücret Hesaplama'!AF46,\"\")","v":""},{"$f":"IF('EK DERS Ücret Hesaplama'!$AM46=1,'EK DERS Ücret Hesaplama'!AH46,\"\")","v":""},{"$f":"IF('EK DERS Ücret Hesaplama'!$AM46=1,'EK DERS Ücret Hesaplama'!AI46,\"\")","v":""},{"$f":"IF('EK DERS Ücret Hesaplama'!$AM46=1,'EK DERS Ücret Hesaplama'!AJ46,\"\")","v":""},{"$f":"IF('EK DERS Ücret Hesaplama'!$AM46=1,'EK DERS Ücret Hesaplama'!AK46,\"\")","v":""},null,0]
[{"$f":"IF(AJ49=\"\",\"\",SUBTOTAL(103,$AJ$8:AJ49))","v":""},{"$f":"IF('EK DERS Ücret Hesaplama'!$AM47=1,'EK DERS Ücret Hesaplama'!B47,\"\")","v":""},{"$f":"IF('EK DERS Ücret Hesaplama'!$AM47=1,'EK DERS Ücret Hesaplama'!C47,\"\")","v":""},{"$f":"IF('EK DERS Ücret Hesaplama'!$AM47=1,IF('EK DERS Ücret Hesaplama'!D47=\"Ücretli Öğretmen\",\"Ücretli Öğr.\",\"Ücr.Öğr. (Emekli)\"),\"\")","v":""},{"$f":"IF('EK DERS Ücret Hesaplama'!$AM47=1,'EK DERS Ücret Hesaplama'!M47,\"\")","v":""},{"$f":"IF('EK DERS Ücret Hesaplama'!$AM47=1,'EK DERS Ücret Hesaplama'!N47,\"\")","v":""},{"$f":"IF('EK DERS Ücret Hesaplama'!$AM47=1,'EK DERS Ücret Hesaplama'!E47,\"\")","v":""},{"$f":"IF('EK DERS Ücret Hesaplama'!$AM47=1,'EK DERS Ücret Hesaplama'!F47,\"\")","v":""},{"$f":"IF('EK DERS Ücret Hesaplama'!$AM47=1,'EK DERS Ücret Hesaplama'!G47,\"\")","v":""},{"$f":"IF('EK DERS Ücret Hesaplama'!$AM47=1,'EK DERS Ücret Hesaplama'!H47,\"\")","v":""},{"$f":"IF('EK DERS Ücret Hesaplama'!$AM47=1,'EK DERS Ücret Hesaplama'!I47,\"\")","v":""},{"$f":"IF('EK DERS Ücret Hesaplama'!$AM47=1,'EK DERS Ücret Hesaplama'!J47,\"\")","v":""},{"$f":"IF('EK DERS Ücret Hesaplama'!$AM47=1,'EK DERS Ücret Hesaplama'!K47,\"\")","v":""},{"$f":"IF('EK DERS Ücret Hesaplama'!$AM47=1,'EK DERS Ücret Hesaplama'!L47,\"\")","v":""},{"$f":"IF('EK DERS Ücret Hesaplama'!$AM47=1,'EK DERS Ücret Hesaplama'!O47,\"\")","v":""},{"$f":"IF('EK DERS Ücret Hesaplama'!$AM47=1,'EK DERS Ücret Hesaplama'!P47,\"\")","v":""},{"$f":"IF('EK DERS Ücret Hesaplama'!$AM47=1,'EK DERS Ücret Hesaplama'!Q47,\"\")","v":""},{"$f":"IF('EK DERS Ücret Hesaplama'!$AM47=1,'EK DERS Ücret Hesaplama'!R47,\"\")","v":""},{"$f":"IF('EK DERS Ücret Hesaplama'!$AM47=1,'EK DERS Ücret Hesaplama'!S47,\"\")","v":""},{"$f":"IF('EK DERS Ücret Hesaplama'!$AM47=1,hesaplamalar!X44,\"\")","v":""},{"$f":"IF('EK DERS Ücret Hesaplama'!$AM47=1,hesaplamalar!Y44,\"\")","v":""},{"$f":"IF('EK DERS Ücret Hesaplama'!$AM47=1,hesaplamalar!Z44,\"\")","v":""},{"$f":"IF('EK DERS Ücret Hesaplama'!$AM47=1,hesaplamalar!AA44,\"\")","v":""},{"$f":"IF('EK DERS Ücret Hesaplama'!$AM47=1,hesaplamalar!AB44,\"\")","v":""},{"$f":"IF('EK DERS Ücret Hesaplama'!$AM47=1,hesaplamalar!AC44,\"\")","v":""},{"$f":"IF('EK DERS Ücret Hesaplama'!$AM47=1,hesaplamalar!AD44,\"\")","v":""},{"$f":"IF('EK DERS Ücret Hesaplama'!$AM47=1,hesaplamalar!AE44,\"\")","v":""},{"$f":"IF('EK DERS Ücret Hesaplama'!$AM47=1,hesaplamalar!AG44,\"\")","v":""},{"$f":"IF('EK DERS Ücret Hesaplama'!$AM47=1,hesaplamalar!AH44,\"\")","v":""},{"$f":"IF('EK DERS Ücret Hesaplama'!$AM47=1,'EK DERS Ücret Hesaplama'!AE47,\"\")","v":""},{"$f":"IF('EK DERS Ücret Hesaplama'!$AM47=1,'EK DERS Ücret Hesaplama'!AG47,\"\")","v":""},{"$f":"IF('EK DERS Ücret Hesaplama'!$AM47=1,'EK DERS Ücret Hesaplama'!AF47,\"\")","v":""},{"$f":"IF('EK DERS Ücret Hesaplama'!$AM47=1,'EK DERS Ücret Hesaplama'!AH47,\"\")","v":""},{"$f":"IF('EK DERS Ücret Hesaplama'!$AM47=1,'EK DERS Ücret Hesaplama'!AI47,\"\")","v":""},{"$f":"IF('EK DERS Ücret Hesaplama'!$AM47=1,'EK DERS Ücret Hesaplama'!AJ47,\"\")","v":""},{"$f":"IF('EK DERS Ücret Hesaplama'!$AM47=1,'EK DERS Ücret Hesaplama'!AK47,\"\")","v":""},null,0]
[{"$f":"IF(AJ50=\"\",\"\",SUBTOTAL(103,$AJ$8:AJ50))","v":""},{"$f":"IF('EK DERS Ücret Hesaplama'!$AM48=1,'EK DERS Ücret Hesaplama'!B48,\"\")","v":""},{"$f":"IF('EK DERS Ücret Hesaplama'!$AM48=1,'EK DERS Ücret Hesaplama'!C48,\"\")","v":""},{"$f":"IF('EK DERS Ücret Hesaplama'!$AM48=1,IF('EK DERS Ücret Hesaplama'!D48=\"Ücretli Öğretmen\",\"Ücretli Öğr.\",\"Ücr.Öğr. (Emekli)\"),\"\")","v":""},{"$f":"IF('EK DERS Ücret Hesaplama'!$AM48=1,'EK DERS Ücret Hesaplama'!M48,\"\")","v":""},{"$f":"IF('EK DERS Ücret Hesaplama'!$AM48=1,'EK DERS Ücret Hesaplama'!N48,\"\")","v":""},{"$f":"IF('EK DERS Ücret Hesaplama'!$AM48=1,'EK DERS Ücret Hesaplama'!E48,\"\")","v":""},{"$f":"IF('EK DERS Ücret Hesaplama'!$AM48=1,'EK DERS Ücret Hesaplama'!F48,\"\")","v":""},{"$f":"IF('EK DERS Ücret Hesaplama'!$AM48=1,'EK DERS Ücret Hesaplama'!G48,\"\")","v":""},{"$f":"IF('EK DERS Ücret Hesaplama'!$AM48=1,'EK DERS Ücret Hesaplama'!H48,\"\")","v":""},{"$f":"IF('EK DERS Ücret Hesaplama'!$AM48=1,'EK DERS Ücret Hesaplama'!I48,\"\")","v":""},{"$f":"IF('EK DERS Ücret Hesaplama'!$AM48=1,'EK DERS Ücret Hesaplama'!J48,\"\")","v":""},{"$f":"IF('EK DERS Ücret Hesaplama'!$AM48=1,'EK DERS Ücret Hesaplama'!K48,\"\")","v":""},{"$f":"IF('EK DERS Ücret Hesaplama'!$AM48=1,'EK DERS Ücret Hesaplama'!L48,\"\")","v":""},{"$f":"IF('EK DERS Ücret Hesaplama'!$AM48=1,'EK DERS Ücret Hesaplama'!O48,\"\")","v":""},{"$f":"IF('EK DERS Ücret Hesaplama'!$AM48=1,'EK DERS Ücret Hesaplama'!P48,\"\")","v":""},{"$f":"IF('EK DERS Ücret Hesaplama'!$AM48=1,'EK DERS Ücret Hesaplama'!Q48,\"\")","v":""},{"$f":"IF('EK DERS Ücret Hesaplama'!$AM48=1,'EK DERS Ücret Hesaplama'!R48,\"\")","v":""},{"$f":"IF('EK DERS Ücret Hesaplama'!$AM48=1,'EK DERS Ücret Hesaplama'!S48,\"\")","v":""},{"$f":"IF('EK DERS Ücret Hesaplama'!$AM48=1,hesaplamalar!X45,\"\")","v":""},{"$f":"IF('EK DERS Ücret Hesaplama'!$AM48=1,hesaplamalar!Y45,\"\")","v":""},{"$f":"IF('EK DERS Ücret Hesaplama'!$AM48=1,hesaplamalar!Z45,\"\")","v":""},{"$f":"IF('EK DERS Ücret Hesaplama'!$AM48=1,hesaplamalar!AA45,\"\")","v":""},{"$f":"IF('EK DERS Ücret Hesaplama'!$AM48=1,hesaplamalar!AB45,\"\")","v":""},{"$f":"IF('EK DERS Ücret Hesaplama'!$AM48=1,hesaplamalar!AC45,\"\")","v":""},{"$f":"IF('EK DERS Ücret Hesaplama'!$AM48=1,hesaplamalar!AD45,\"\")","v":""},{"$f":"IF('EK DERS Ücret Hesaplama'!$AM48=1,hesaplamalar!AE45,\"\")","v":""},{"$f":"IF('EK DERS Ücret Hesaplama'!$AM48=1,hesaplamalar!AG45,\"\")","v":""},{"$f":"IF('EK DERS Ücret Hesaplama'!$AM48=1,hesaplamalar!AH45,\"\")","v":""},{"$f":"IF('EK DERS Ücret Hesaplama'!$AM48=1,'EK DERS Ücret Hesaplama'!AE48,\"\")","v":""},{"$f":"IF('EK DERS Ücret Hesaplama'!$AM48=1,'EK DERS Ücret Hesaplama'!AG48,\"\")","v":""},{"$f":"IF('EK DERS Ücret Hesaplama'!$AM48=1,'EK DERS Ücret Hesaplama'!AF48,\"\")","v":""},{"$f":"IF('EK DERS Ücret Hesaplama'!$AM48=1,'EK DERS Ücret Hesaplama'!AH48,\"\")","v":""},{"$f":"IF('EK DERS Ücret Hesaplama'!$AM48=1,'EK DERS Ücret Hesaplama'!AI48,\"\")","v":""},{"$f":"IF('EK DERS Ücret Hesaplama'!$AM48=1,'EK DERS Ücret Hesaplama'!AJ48,\"\")","v":""},{"$f":"IF('EK DERS Ücret Hesaplama'!$AM48=1,'EK DERS Ücret Hesaplama'!AK48,\"\")","v":""},null,0]
[{"$f":"IF(AJ51=\"\",\"\",SUBTOTAL(103,$AJ$8:AJ51))","v":""},{"$f":"IF('EK DERS Ücret Hesaplama'!$AM49=1,'EK DERS Ücret Hesaplama'!B49,\"\")","v":""},{"$f":"IF('EK DERS Ücret Hesaplama'!$AM49=1,'EK DERS Ücret Hesaplama'!C49,\"\")","v":""},{"$f":"IF('EK DERS Ücret Hesaplama'!$AM49=1,IF('EK DERS Ücret Hesaplama'!D49=\"Ücretli Öğretmen\",\"Ücretli Öğr.\",\"Ücr.Öğr. (Emekli)\"),\"\")","v":""},{"$f":"IF('EK DERS Ücret Hesaplama'!$AM49=1,'EK DERS Ücret Hesaplama'!M49,\"\")","v":""},{"$f":"IF('EK DERS Ücret Hesaplama'!$AM49=1,'EK DERS Ücret Hesaplama'!N49,\"\")","v":""},{"$f":"IF('EK DERS Ücret Hesaplama'!$AM49=1,'EK DERS Ücret Hesaplama'!E49,\"\")","v":""},{"$f":"IF('EK DERS Ücret Hesaplama'!$AM49=1,'EK DERS Ücret Hesaplama'!F49,\"\")","v":""},{"$f":"IF('EK DERS Ücret Hesaplama'!$AM49=1,'EK DERS Ücret Hesaplama'!G49,\"\")","v":""},{"$f":"IF('EK DERS Ücret Hesaplama'!$AM49=1,'EK DERS Ücret Hesaplama'!H49,\"\")","v":""},{"$f":"IF('EK DERS Ücret Hesaplama'!$AM49=1,'EK DERS Ücret Hesaplama'!I49,\"\")","v":""},{"$f":"IF('EK DERS Ücret Hesaplama'!$AM49=1,'EK DERS Ücret Hesaplama'!J49,\"\")","v":""},{"$f":"IF('EK DERS Ücret Hesaplama'!$AM49=1,'EK DERS Ücret Hesaplama'!K49,\"\")","v":""},{"$f":"IF('EK DERS Ücret Hesaplama'!$AM49=1,'EK DERS Ücret Hesaplama'!L49,\"\")","v":""},{"$f":"IF('EK DERS Ücret Hesaplama'!$AM49=1,'EK DERS Ücret Hesaplama'!O49,\"\")","v":""},{"$f":"IF('EK DERS Ücret Hesaplama'!$AM49=1,'EK DERS Ücret Hesaplama'!P49,\"\")","v":""},{"$f":"IF('EK DERS Ücret Hesaplama'!$AM49=1,'EK DERS Ücret Hesaplama'!Q49,\"\")","v":""},{"$f":"IF('EK DERS Ücret Hesaplama'!$AM49=1,'EK DERS Ücret Hesaplama'!R49,\"\")","v":""},{"$f":"IF('EK DERS Ücret Hesaplama'!$AM49=1,'EK DERS Ücret Hesaplama'!S49,\"\")","v":""},{"$f":"IF('EK DERS Ücret Hesaplama'!$AM49=1,hesaplamalar!X46,\"\")","v":""},{"$f":"IF('EK DERS Ücret Hesaplama'!$AM49=1,hesaplamalar!Y46,\"\")","v":""},{"$f":"IF('EK DERS Ücret Hesaplama'!$AM49=1,hesaplamalar!Z46,\"\")","v":""},{"$f":"IF('EK DERS Ücret Hesaplama'!$AM49=1,hesaplamalar!AA46,\"\")","v":""},{"$f":"IF('EK DERS Ücret Hesaplama'!$AM49=1,hesaplamalar!AB46,\"\")","v":""},{"$f":"IF('EK DERS Ücret Hesaplama'!$AM49=1,hesaplamalar!AC46,\"\")","v":""},{"$f":"IF('EK DERS Ücret Hesaplama'!$AM49=1,hesaplamalar!AD46,\"\")","v":""},{"$f":"IF('EK DERS Ücret Hesaplama'!$AM49=1,hesaplamalar!AE46,\"\")","v":""},{"$f":"IF('EK DERS Ücret Hesaplama'!$AM49=1,hesaplamalar!AG46,\"\")","v":""},{"$f":"IF('EK DERS Ücret Hesaplama'!$AM49=1,hesaplamalar!AH46,\"\")","v":""},{"$f":"IF('EK DERS Ücret Hesaplama'!$AM49=1,'EK DERS Ücret Hesaplama'!AE49,\"\")","v":""},{"$f":"IF('EK DERS Ücret Hesaplama'!$AM49=1,'EK DERS Ücret Hesaplama'!AG49,\"\")","v":""},{"$f":"IF('EK DERS Ücret Hesaplama'!$AM49=1,'EK DERS Ücret Hesaplama'!AF49,\"\")","v":""},{"$f":"IF('EK DERS Ücret Hesaplama'!$AM49=1,'EK DERS Ücret Hesaplama'!AH49,\"\")","v":""},{"$f":"IF('EK DERS Ücret Hesaplama'!$AM49=1,'EK DERS Ücret Hesaplama'!AI49,\"\")","v":""},{"$f":"IF('EK DERS Ücret Hesaplama'!$AM49=1,'EK DERS Ücret Hesaplama'!AJ49,\"\")","v":""},{"$f":"IF('EK DERS Ücret Hesaplama'!$AM49=1,'EK DERS Ücret Hesaplama'!AK49,\"\")","v":""},null,0]
[{"$f":"IF(AJ52=\"\",\"\",SUBTOTAL(103,$AJ$8:AJ52))","v":""},{"$f":"IF('EK DERS Ücret Hesaplama'!$AM50=1,'EK DERS Ücret Hesaplama'!B50,\"\")","v":""},{"$f":"IF('EK DERS Ücret Hesaplama'!$AM50=1,'EK DERS Ücret Hesaplama'!C50,\"\")","v":""},{"$f":"IF('EK DERS Ücret Hesaplama'!$AM50=1,IF('EK DERS Ücret Hesaplama'!D50=\"Ücretli Öğretmen\",\"Ücretli Öğr.\",\"Ücr.Öğr. (Emekli)\"),\"\")","v":""},{"$f":"IF('EK DERS Ücret Hesaplama'!$AM50=1,'EK DERS Ücret Hesaplama'!M50,\"\")","v":""},{"$f":"IF('EK DERS Ücret Hesaplama'!$AM50=1,'EK DERS Ücret Hesaplama'!N50,\"\")","v":""},{"$f":"IF('EK DERS Ücret Hesaplama'!$AM50=1,'EK DERS Ücret Hesaplama'!E50,\"\")","v":""},{"$f":"IF('EK DERS Ücret Hesaplama'!$AM50=1,'EK DERS Ücret Hesaplama'!F50,\"\")","v":""},{"$f":"IF('EK DERS Ücret Hesaplama'!$AM50=1,'EK DERS Ücret Hesaplama'!G50,\"\")","v":""},{"$f":"IF('EK DERS Ücret Hesaplama'!$AM50=1,'EK DERS Ücret Hesaplama'!H50,\"\")","v":""},{"$f":"IF('EK DERS Ücret Hesaplama'!$AM50=1,'EK DERS Ücret Hesaplama'!I50,\"\")","v":""},{"$f":"IF('EK DERS Ücret Hesaplama'!$AM50=1,'EK DERS Ücret Hesaplama'!J50,\"\")","v":""},{"$f":"IF('EK DERS Ücret Hesaplama'!$AM50=1,'EK DERS Ücret Hesaplama'!K50,\"\")","v":""},{"$f":"IF('EK DERS Ücret Hesaplama'!$AM50=1,'EK DERS Ücret Hesaplama'!L50,\"\")","v":""},{"$f":"IF('EK DERS Ücret Hesaplama'!$AM50=1,'EK DERS Ücret Hesaplama'!O50,\"\")","v":""},{"$f":"IF('EK DERS Ücret Hesaplama'!$AM50=1,'EK DERS Ücret Hesaplama'!P50,\"\")","v":""},{"$f":"IF('EK DERS Ücret Hesaplama'!$AM50=1,'EK DERS Ücret Hesaplama'!Q50,\"\")","v":""},{"$f":"IF('EK DERS Ücret Hesaplama'!$AM50=1,'EK DERS Ücret Hesaplama'!R50,\"\")","v":""},{"$f":"IF('EK DERS Ücret Hesaplama'!$AM50=1,'EK DERS Ücret Hesaplama'!S50,\"\")","v":""},{"$f":"IF('EK DERS Ücret Hesaplama'!$AM50=1,hesaplamalar!X47,\"\")","v":""},{"$f":"IF('EK DERS Ücret Hesaplama'!$AM50=1,hesaplamalar!Y47,\"\")","v":""},{"$f":"IF('EK DERS Ücret Hesaplama'!$AM50=1,hesaplamalar!Z47,\"\")","v":""},{"$f":"IF('EK DERS Ücret Hesaplama'!$AM50=1,hesaplamalar!AA47,\"\")","v":""},{"$f":"IF('EK DERS Ücret Hesaplama'!$AM50=1,hesaplamalar!AB47,\"\")","v":""},{"$f":"IF('EK DERS Ücret Hesaplama'!$AM50=1,hesaplamalar!AC47,\"\")","v":""},{"$f":"IF('EK DERS Ücret Hesaplama'!$AM50=1,hesaplamalar!AD47,\"\")","v":""},{"$f":"IF('EK DERS Ücret Hesaplama'!$AM50=1,hesaplamalar!AE47,\"\")","v":""},{"$f":"IF('EK DERS Ücret Hesaplama'!$AM50=1,hesaplamalar!AG47,\"\")","v":""},{"$f":"IF('EK DERS Ücret Hesaplama'!$AM50=1,hesaplamalar!AH47,\"\")","v":""},{"$f":"IF('EK DERS Ücret Hesaplama'!$AM50=1,'EK DERS Ücret Hesaplama'!AE50,\"\")","v":""},{"$f":"IF('EK DERS Ücret Hesaplama'!$AM50=1,'EK DERS Ücret Hesaplama'!AG50,\"\")","v":""},{"$f":"IF('EK DERS Ücret Hesaplama'!$AM50=1,'EK DERS Ücret Hesaplama'!AF50,\"\")","v":""},{"$f":"IF('EK DERS Ücret Hesaplama'!$AM50=1,'EK DERS Ücret Hesaplama'!AH50,\"\")","v":""},{"$f":"IF('EK DERS Ücret Hesaplama'!$AM50=1,'EK DERS Ücret Hesaplama'!AI50,\"\")","v":""},{"$f":"IF('EK DERS Ücret Hesaplama'!$AM50=1,'EK DERS Ücret Hesaplama'!AJ50,\"\")","v":""},{"$f":"IF('EK DERS Ücret Hesaplama'!$AM50=1,'EK DERS Ücret Hesaplama'!AK50,\"\")","v":""},null,0]
[{"$f":"IF(AJ53=\"\",\"\",SUBTOTAL(103,$AJ$8:AJ53))","v":""},{"$f":"IF('EK DERS Ücret Hesaplama'!$AM51=1,'EK DERS Ücret Hesaplama'!B51,\"\")","v":""},{"$f":"IF('EK DERS Ücret Hesaplama'!$AM51=1,'EK DERS Ücret Hesaplama'!C51,\"\")","v":""},{"$f":"IF('EK DERS Ücret Hesaplama'!$AM51=1,IF('EK DERS Ücret Hesaplama'!D51=\"Ücretli Öğretmen\",\"Ücretli Öğr.\",\"Ücr.Öğr. (Emekli)\"),\"\")","v":""},{"$f":"IF('EK DERS Ücret Hesaplama'!$AM51=1,'EK DERS Ücret Hesaplama'!M51,\"\")","v":""},{"$f":"IF('EK DERS Ücret Hesaplama'!$AM51=1,'EK DERS Ücret Hesaplama'!N51,\"\")","v":""},{"$f":"IF('EK DERS Ücret Hesaplama'!$AM51=1,'EK DERS Ücret Hesaplama'!E51,\"\")","v":""},{"$f":"IF('EK DERS Ücret Hesaplama'!$AM51=1,'EK DERS Ücret Hesaplama'!F51,\"\")","v":""},{"$f":"IF('EK DERS Ücret Hesaplama'!$AM51=1,'EK DERS Ücret Hesaplama'!G51,\"\")","v":""},{"$f":"IF('EK DERS Ücret Hesaplama'!$AM51=1,'EK DERS Ücret Hesaplama'!H51,\"\")","v":""},{"$f":"IF('EK DERS Ücret Hesaplama'!$AM51=1,'EK DERS Ücret Hesaplama'!I51,\"\")","v":""},{"$f":"IF('EK DERS Ücret Hesaplama'!$AM51=1,'EK DERS Ücret Hesaplama'!J51,\"\")","v":""},{"$f":"IF('EK DERS Ücret Hesaplama'!$AM51=1,'EK DERS Ücret Hesaplama'!K51,\"\")","v":""},{"$f":"IF('EK DERS Ücret Hesaplama'!$AM51=1,'EK DERS Ücret Hesaplama'!L51,\"\")","v":""},{"$f":"IF('EK DERS Ücret Hesaplama'!$AM51=1,'EK DERS Ücret Hesaplama'!O51,\"\")","v":""},{"$f":"IF('EK DERS Ücret Hesaplama'!$AM51=1,'EK DERS Ücret Hesaplama'!P51,\"\")","v":""},{"$f":"IF('EK DERS Ücret Hesaplama'!$AM51=1,'EK DERS Ücret Hesaplama'!Q51,\"\")","v":""},{"$f":"IF('EK DERS Ücret Hesaplama'!$AM51=1,'EK DERS Ücret Hesaplama'!R51,\"\")","v":""},{"$f":"IF('EK DERS Ücret Hesaplama'!$AM51=1,'EK DERS Ücret Hesaplama'!S51,\"\")","v":""},{"$f":"IF('EK DERS Ücret Hesaplama'!$AM51=1,hesaplamalar!X48,\"\")","v":""},{"$f":"IF('EK DERS Ücret Hesaplama'!$AM51=1,hesaplamalar!Y48,\"\")","v":""},{"$f":"IF('EK DERS Ücret Hesaplama'!$AM51=1,hesaplamalar!Z48,\"\")","v":""},{"$f":"IF('EK DERS Ücret Hesaplama'!$AM51=1,hesaplamalar!AA48,\"\")","v":""},{"$f":"IF('EK DERS Ücret Hesaplama'!$AM51=1,hesaplamalar!AB48,\"\")","v":""},{"$f":"IF('EK DERS Ücret Hesaplama'!$AM51=1,hesaplamalar!AC48,\"\")","v":""},{"$f":"IF('EK DERS Ücret Hesaplama'!$AM51=1,hesaplamalar!AD48,\"\")","v":""},{"$f":"IF('EK DERS Ücret Hesaplama'!$AM51=1,hesaplamalar!AE48,\"\")","v":""},{"$f":"IF('EK DERS Ücret Hesaplama'!$AM51=1,hesaplamalar!AG48,\"\")","v":""},{"$f":"IF('EK DERS Ücret Hesaplama'!$AM51=1,hesaplamalar!AH48,\"\")","v":""},{"$f":"IF('EK DERS Ücret Hesaplama'!$AM51=1,'EK DERS Ücret Hesaplama'!AE51,\"\")","v":""},{"$f":"IF('EK DERS Ücret Hesaplama'!$AM51=1,'EK DERS Ücret Hesaplama'!AG51,\"\")","v":""},{"$f":"IF('EK DERS Ücret Hesaplama'!$AM51=1,'EK DERS Ücret Hesaplama'!AF51,\"\")","v":""},{"$f":"IF('EK DERS Ücret Hesaplama'!$AM51=1,'EK DERS Ücret Hesaplama'!AH51,\"\")","v":""},{"$f":"IF('EK DERS Ücret Hesaplama'!$AM51=1,'EK DERS Ücret Hesaplama'!AI51,\"\")","v":""},{"$f":"IF('EK DERS Ücret Hesaplama'!$AM51=1,'EK DERS Ücret Hesaplama'!AJ51,\"\")","v":""},{"$f":"IF('EK DERS Ücret Hesaplama'!$AM51=1,'EK DERS Ücret Hesaplama'!AK51,\"\")","v":""},null,0]
[{"$f":"IF(AJ54=\"\",\"\",SUBTOTAL(103,$AJ$8:AJ54))","v":""},{"$f":"IF('EK DERS Ücret Hesaplama'!$AM52=1,'EK DERS Ücret Hesaplama'!B52,\"\")","v":""},{"$f":"IF('EK DERS Ücret Hesaplama'!$AM52=1,'EK DERS Ücret Hesaplama'!C52,\"\")","v":""},{"$f":"IF('EK DERS Ücret Hesaplama'!$AM52=1,IF('EK DERS Ücret Hesaplama'!D52=\"Ücretli Öğretmen\",\"Ücretli Öğr.\",\"Ücr.Öğr. (Emekli)\"),\"\")","v":""},{"$f":"IF('EK DERS Ücret Hesaplama'!$AM52=1,'EK DERS Ücret Hesaplama'!M52,\"\")","v":""},{"$f":"IF('EK DERS Ücret Hesaplama'!$AM52=1,'EK DERS Ücret Hesaplama'!N52,\"\")","v":""},{"$f":"IF('EK DERS Ücret Hesaplama'!$AM52=1,'EK DERS Ücret Hesaplama'!E52,\"\")","v":""},{"$f":"IF('EK DERS Ücret Hesaplama'!$AM52=1,'EK DERS Ücret Hesaplama'!F52,\"\")","v":""},{"$f":"IF('EK DERS Ücret Hesaplama'!$AM52=1,'EK DERS Ücret Hesaplama'!G52,\"\")","v":""},{"$f":"IF('EK DERS Ücret Hesaplama'!$AM52=1,'EK DERS Ücret Hesaplama'!H52,\"\")","v":""},{"$f":"IF('EK DERS Ücret Hesaplama'!$AM52=1,'EK DERS Ücret Hesaplama'!I52,\"\")","v":""},{"$f":"IF('EK DERS Ücret Hesaplama'!$AM52=1,'EK DERS Ücret Hesaplama'!J52,\"\")","v":""},{"$f":"IF('EK DERS Ücret Hesaplama'!$AM52=1,'EK DERS Ücret Hesaplama'!K52,\"\")","v":""},{"$f":"IF('EK DERS Ücret Hesaplama'!$AM52=1,'EK DERS Ücret Hesaplama'!L52,\"\")","v":""},{"$f":"IF('EK DERS Ücret Hesaplama'!$AM52=1,'EK DERS Ücret Hesaplama'!O52,\"\")","v":""},{"$f":"IF('EK DERS Ücret Hesaplama'!$AM52=1,'EK DERS Ücret Hesaplama'!P52,\"\")","v":""},{"$f":"IF('EK DERS Ücret Hesaplama'!$AM52=1,'EK DERS Ücret Hesaplama'!Q52,\"\")","v":""},{"$f":"IF('EK DERS Ücret Hesaplama'!$AM52=1,'EK DERS Ücret Hesaplama'!R52,\"\")","v":""},{"$f":"IF('EK DERS Ücret Hesaplama'!$AM52=1,'EK DERS Ücret Hesaplama'!S52,\"\")","v":""},{"$f":"IF('EK DERS Ücret Hesaplama'!$AM52=1,hesaplamalar!X49,\"\")","v":""},{"$f":"IF('EK DERS Ücret Hesaplama'!$AM52=1,hesaplamalar!Y49,\"\")","v":""},{"$f":"IF('EK DERS Ücret Hesaplama'!$AM52=1,hesaplamalar!Z49,\"\")","v":""},{"$f":"IF('EK DERS Ücret Hesaplama'!$AM52=1,hesaplamalar!AA49,\"\")","v":""},{"$f":"IF('EK DERS Ücret Hesaplama'!$AM52=1,hesaplamalar!AB49,\"\")","v":""},{"$f":"IF('EK DERS Ücret Hesaplama'!$AM52=1,hesaplamalar!AC49,\"\")","v":""},{"$f":"IF('EK DERS Ücret Hesaplama'!$AM52=1,hesaplamalar!AD49,\"\")","v":""},{"$f":"IF('EK DERS Ücret Hesaplama'!$AM52=1,hesaplamalar!AE49,\"\")","v":""},{"$f":"IF('EK DERS Ücret Hesaplama'!$AM52=1,hesaplamalar!AG49,\"\")","v":""},{"$f":"IF('EK DERS Ücret Hesaplama'!$AM52=1,hesaplamalar!AH49,\"\")","v":""},{"$f":"IF('EK DERS Ücret Hesaplama'!$AM52=1,'EK DERS Ücret Hesaplama'!AE52,\"\")","v":""},{"$f":"IF('EK DERS Ücret Hesaplama'!$AM52=1,'EK DERS Ücret Hesaplama'!AG52,\"\")","v":""},{"$f":"IF('EK DERS Ücret Hesaplama'!$AM52=1,'EK DERS Ücret Hesaplama'!AF52,\"\")","v":""},{"$f":"IF('EK DERS Ücret Hesaplama'!$AM52=1,'EK DERS Ücret Hesaplama'!AH52,\"\")","v":""},{"$f":"IF('EK DERS Ücret Hesaplama'!$AM52=1,'EK DERS Ücret Hesaplama'!AI52,\"\")","v":""},{"$f":"IF('EK DERS Ücret Hesaplama'!$AM52=1,'EK DERS Ücret Hesaplama'!AJ52,\"\")","v":""},{"$f":"IF('EK DERS Ücret Hesaplama'!$AM52=1,'EK DERS Ücret Hesaplama'!AK52,\"\")","v":""},null,0]
[{"$f":"IF(AJ55=\"\",\"\",SUBTOTAL(103,$AJ$8:AJ55))","v":""},{"$f":"IF('EK DERS Ücret Hesaplama'!$AM53=1,'EK DERS Ücret Hesaplama'!B53,\"\")","v":""},{"$f":"IF('EK DERS Ücret Hesaplama'!$AM53=1,'EK DERS Ücret Hesaplama'!C53,\"\")","v":""},{"$f":"IF('EK DERS Ücret Hesaplama'!$AM53=1,IF('EK DERS Ücret Hesaplama'!D53=\"Ücretli Öğretmen\",\"Ücretli Öğr.\",\"Ücr.Öğr. (Emekli)\"),\"\")","v":""},{"$f":"IF('EK DERS Ücret Hesaplama'!$AM53=1,'EK DERS Ücret Hesaplama'!M53,\"\")","v":""},{"$f":"IF('EK DERS Ücret Hesaplama'!$AM53=1,'EK DERS Ücret Hesaplama'!N53,\"\")","v":""},{"$f":"IF('EK DERS Ücret Hesaplama'!$AM53=1,'EK DERS Ücret Hesaplama'!E53,\"\")","v":""},{"$f":"IF('EK DERS Ücret Hesaplama'!$AM53=1,'EK DERS Ücret Hesaplama'!F53,\"\")","v":""},{"$f":"IF('EK DERS Ücret Hesaplama'!$AM53=1,'EK DERS Ücret Hesaplama'!G53,\"\")","v":""},{"$f":"IF('EK DERS Ücret Hesaplama'!$AM53=1,'EK DERS Ücret Hesaplama'!H53,\"\")","v":""},{"$f":"IF('EK DERS Ücret Hesaplama'!$AM53=1,'EK DERS Ücret Hesaplama'!I53,\"\")","v":""},{"$f":"IF('EK DERS Ücret Hesaplama'!$AM53=1,'EK DERS Ücret Hesaplama'!J53,\"\")","v":""},{"$f":"IF('EK DERS Ücret Hesaplama'!$AM53=1,'EK DERS Ücret Hesaplama'!K53,\"\")","v":""},{"$f":"IF('EK DERS Ücret Hesaplama'!$AM53=1,'EK DERS Ücret Hesaplama'!L53,\"\")","v":""},{"$f":"IF('EK DERS Ücret Hesaplama'!$AM53=1,'EK DERS Ücret Hesaplama'!O53,\"\")","v":""},{"$f":"IF('EK DERS Ücret Hesaplama'!$AM53=1,'EK DERS Ücret Hesaplama'!P53,\"\")","v":""},{"$f":"IF('EK DERS Ücret Hesaplama'!$AM53=1,'EK DERS Ücret Hesaplama'!Q53,\"\")","v":""},{"$f":"IF('EK DERS Ücret Hesaplama'!$AM53=1,'EK DERS Ücret Hesaplama'!R53,\"\")","v":""},{"$f":"IF('EK DERS Ücret Hesaplama'!$AM53=1,'EK DERS Ücret Hesaplama'!S53,\"\")","v":""},{"$f":"IF('EK DERS Ücret Hesaplama'!$AM53=1,hesaplamalar!X50,\"\")","v":""},{"$f":"IF('EK DERS Ücret Hesaplama'!$AM53=1,hesaplamalar!Y50,\"\")","v":""},{"$f":"IF('EK DERS Ücret Hesaplama'!$AM53=1,hesaplamalar!Z50,\"\")","v":""},{"$f":"IF('EK DERS Ücret Hesaplama'!$AM53=1,hesaplamalar!AA50,\"\")","v":""},{"$f":"IF('EK DERS Ücret Hesaplama'!$AM53=1,hesaplamalar!AB50,\"\")","v":""},{"$f":"IF('EK DERS Ücret Hesaplama'!$AM53=1,hesaplamalar!AC50,\"\")","v":""},{"$f":"IF('EK DERS Ücret Hesaplama'!$AM53=1,hesaplamalar!AD50,\"\")","v":""},{"$f":"IF('EK DERS Ücret Hesaplama'!$AM53=1,hesaplamalar!AE50,\"\")","v":""},{"$f":"IF('EK DERS Ücret Hesaplama'!$AM53=1,hesaplamalar!AG50,\"\")","v":""},{"$f":"IF('EK DERS Ücret Hesaplama'!$AM53=1,hesaplamalar!AH50,\"\")","v":""},{"$f":"IF('EK DERS Ücret Hesaplama'!$AM53=1,'EK DERS Ücret Hesaplama'!AE53,\"\")","v":""},{"$f":"IF('EK DERS Ücret Hesaplama'!$AM53=1,'EK DERS Ücret Hesaplama'!AG53,\"\")","v":""},{"$f":"IF('EK DERS Ücret Hesaplama'!$AM53=1,'EK DERS Ücret Hesaplama'!AF53,\"\")","v":""},{"$f":"IF('EK DERS Ücret Hesaplama'!$AM53=1,'EK DERS Ücret Hesaplama'!AH53,\"\")","v":""},{"$f":"IF('EK DERS Ücret Hesaplama'!$AM53=1,'EK DERS Ücret Hesaplama'!AI53,\"\")","v":""},{"$f":"IF('EK DERS Ücret Hesaplama'!$AM53=1,'EK DERS Ücret Hesaplama'!AJ53,\"\")","v":""},{"$f":"IF('EK DERS Ücret Hesaplama'!$AM53=1,'EK DERS Ücret Hesaplama'!AK53,\"\")","v":""},null,0]
[{"$f":"IF(AJ56=\"\",\"\",SUBTOTAL(103,$AJ$8:AJ56))","v":""},{"$f":"IF('EK DERS Ücret Hesaplama'!$AM54=1,'EK DERS Ücret Hesaplama'!B54,\"\")","v":""},{"$f":"IF('EK DERS Ücret Hesaplama'!$AM54=1,'EK DERS Ücret Hesaplama'!C54,\"\")","v":""},{"$f":"IF('EK DERS Ücret Hesaplama'!$AM54=1,IF('EK DERS Ücret Hesaplama'!D54=\"Ücretli Öğretmen\",\"Ücretli Öğr.\",\"Ücr.Öğr. (Emekli)\"),\"\")","v":""},{"$f":"IF('EK DERS Ücret Hesaplama'!$AM54=1,'EK DERS Ücret Hesaplama'!M54,\"\")","v":""},{"$f":"IF('EK DERS Ücret Hesaplama'!$AM54=1,'EK DERS Ücret Hesaplama'!N54,\"\")","v":""},{"$f":"IF('EK DERS Ücret Hesaplama'!$AM54=1,'EK DERS Ücret Hesaplama'!E54,\"\")","v":""},{"$f":"IF('EK DERS Ücret Hesaplama'!$AM54=1,'EK DERS Ücret Hesaplama'!F54,\"\")","v":""},{"$f":"IF('EK DERS Ücret Hesaplama'!$AM54=1,'EK DERS Ücret Hesaplama'!G54,\"\")","v":""},{"$f":"IF('EK DERS Ücret Hesaplama'!$AM54=1,'EK DERS Ücret Hesaplama'!H54,\"\")","v":""},{"$f":"IF('EK DERS Ücret Hesaplama'!$AM54=1,'EK DERS Ücret Hesaplama'!I54,\"\")","v":""},{"$f":"IF('EK DERS Ücret Hesaplama'!$AM54=1,'EK DERS Ücret Hesaplama'!J54,\"\")","v":""},{"$f":"IF('EK DERS Ücret Hesaplama'!$AM54=1,'EK DERS Ücret Hesaplama'!K54,\"\")","v":""},{"$f":"IF('EK DERS Ücret Hesaplama'!$AM54=1,'EK DERS Ücret Hesaplama'!L54,\"\")","v":""},{"$f":"IF('EK DERS Ücret Hesaplama'!$AM54=1,'EK DERS Ücret Hesaplama'!O54,\"\")","v":""},{"$f":"IF('EK DERS Ücret Hesaplama'!$AM54=1,'EK DERS Ücret Hesaplama'!P54,\"\")","v":""},{"$f":"IF('EK DERS Ücret Hesaplama'!$AM54=1,'EK DERS Ücret Hesaplama'!Q54,\"\")","v":""},{"$f":"IF('EK DERS Ücret Hesaplama'!$AM54=1,'EK DERS Ücret Hesaplama'!R54,\"\")","v":""},{"$f":"IF('EK DERS Ücret Hesaplama'!$AM54=1,'EK DERS Ücret Hesaplama'!S54,\"\")","v":""},{"$f":"IF('EK DERS Ücret Hesaplama'!$AM54=1,hesaplamalar!X51,\"\")","v":""},{"$f":"IF('EK DERS Ücret Hesaplama'!$AM54=1,hesaplamalar!Y51,\"\")","v":""},{"$f":"IF('EK DERS Ücret Hesaplama'!$AM54=1,hesaplamalar!Z51,\"\")","v":""},{"$f":"IF('EK DERS Ücret Hesaplama'!$AM54=1,hesaplamalar!AA51,\"\")","v":""},{"$f":"IF('EK DERS Ücret Hesaplama'!$AM54=1,hesaplamalar!AB51,\"\")","v":""},{"$f":"IF('EK DERS Ücret Hesaplama'!$AM54=1,hesaplamalar!AC51,\"\")","v":""},{"$f":"IF('EK DERS Ücret Hesaplama'!$AM54=1,hesaplamalar!AD51,\"\")","v":""},{"$f":"IF('EK DERS Ücret Hesaplama'!$AM54=1,hesaplamalar!AE51,\"\")","v":""},{"$f":"IF('EK DERS Ücret Hesaplama'!$AM54=1,hesaplamalar!AG51,\"\")","v":""},{"$f":"IF('EK DERS Ücret Hesaplama'!$AM54=1,hesaplamalar!AH51,\"\")","v":""},{"$f":"IF('EK DERS Ücret Hesaplama'!$AM54=1,'EK DERS Ücret Hesaplama'!AE54,\"\")","v":""},{"$f":"IF('EK DERS Ücret Hesaplama'!$AM54=1,'EK DERS Ücret Hesaplama'!AG54,\"\")","v":""},{"$f":"IF('EK DERS Ücret Hesaplama'!$AM54=1,'EK DERS Ücret Hesaplama'!AF54,\"\")","v":""},{"$f":"IF('EK DERS Ücret Hesaplama'!$AM54=1,'EK DERS Ücret Hesaplama'!AH54,\"\")","v":""},{"$f":"IF('EK DERS Ücret Hesaplama'!$AM54=1,'EK DERS Ücret Hesaplama'!AI54,\"\")","v":""},{"$f":"IF('EK DERS Ücret Hesaplama'!$AM54=1,'EK DERS Ücret Hesaplama'!AJ54,\"\")","v":""},{"$f":"IF('EK DERS Ücret Hesaplama'!$AM54=1,'EK DERS Ücret Hesaplama'!AK54,\"\")","v":""},null,0]
[{"$f":"IF(AJ57=\"\",\"\",SUBTOTAL(103,$AJ$8:AJ57))","v":""},{"$f":"IF('EK DERS Ücret Hesaplama'!$AM55=1,'EK DERS Ücret Hesaplama'!B55,\"\")","v":""},{"$f":"IF('EK DERS Ücret Hesaplama'!$AM55=1,'EK DERS Ücret Hesaplama'!C55,\"\")","v":""},{"$f":"IF('EK DERS Ücret Hesaplama'!$AM55=1,IF('EK DERS Ücret Hesaplama'!D55=\"Ücretli Öğretmen\",\"Ücretli Öğr.\",\"Ücr.Öğr. (Emekli)\"),\"\")","v":""},{"$f":"IF('EK DERS Ücret Hesaplama'!$AM55=1,'EK DERS Ücret Hesaplama'!M55,\"\")","v":""},{"$f":"IF('EK DERS Ücret Hesaplama'!$AM55=1,'EK DERS Ücret Hesaplama'!N55,\"\")","v":""},{"$f":"IF('EK DERS Ücret Hesaplama'!$AM55=1,'EK DERS Ücret Hesaplama'!E55,\"\")","v":""},{"$f":"IF('EK DERS Ücret Hesaplama'!$AM55=1,'EK DERS Ücret Hesaplama'!F55,\"\")","v":""},{"$f":"IF('EK DERS Ücret Hesaplama'!$AM55=1,'EK DERS Ücret Hesaplama'!G55,\"\")","v":""},{"$f":"IF('EK DERS Ücret Hesaplama'!$AM55=1,'EK DERS Ücret Hesaplama'!H55,\"\")","v":""},{"$f":"IF('EK DERS Ücret Hesaplama'!$AM55=1,'EK DERS Ücret Hesaplama'!I55,\"\")","v":""},{"$f":"IF('EK DERS Ücret Hesaplama'!$AM55=1,'EK DERS Ücret Hesaplama'!J55,\"\")","v":""},{"$f":"IF('EK DERS Ücret Hesaplama'!$AM55=1,'EK DERS Ücret Hesaplama'!K55,\"\")","v":""},{"$f":"IF('EK DERS Ücret Hesaplama'!$AM55=1,'EK DERS Ücret Hesaplama'!L55,\"\")","v":""},{"$f":"IF('EK DERS Ücret Hesaplama'!$AM55=1,'EK DERS Ücret Hesaplama'!O55,\"\")","v":""},{"$f":"IF('EK DERS Ücret Hesaplama'!$AM55=1,'EK DERS Ücret Hesaplama'!P55,\"\")","v":""},{"$f":"IF('EK DERS Ücret Hesaplama'!$AM55=1,'EK DERS Ücret Hesaplama'!Q55,\"\")","v":""},{"$f":"IF('EK DERS Ücret Hesaplama'!$AM55=1,'EK DERS Ücret Hesaplama'!R55,\"\")","v":""},{"$f":"IF('EK DERS Ücret Hesaplama'!$AM55=1,'EK DERS Ücret Hesaplama'!S55,\"\")","v":""},{"$f":"IF('EK DERS Ücret Hesaplama'!$AM55=1,hesaplamalar!X52,\"\")","v":""},{"$f":"IF('EK DERS Ücret Hesaplama'!$AM55=1,hesaplamalar!Y52,\"\")","v":""},{"$f":"IF('EK DERS Ücret Hesaplama'!$AM55=1,hesaplamalar!Z52,\"\")","v":""},{"$f":"IF('EK DERS Ücret Hesaplama'!$AM55=1,hesaplamalar!AA52,\"\")","v":""},{"$f":"IF('EK DERS Ücret Hesaplama'!$AM55=1,hesaplamalar!AB52,\"\")","v":""},{"$f":"IF('EK DERS Ücret Hesaplama'!$AM55=1,hesaplamalar!AC52,\"\")","v":""},{"$f":"IF('EK DERS Ücret Hesaplama'!$AM55=1,hesaplamalar!AD52,\"\")","v":""},{"$f":"IF('EK DERS Ücret Hesaplama'!$AM55=1,hesaplamalar!AE52,\"\")","v":""},{"$f":"IF('EK DERS Ücret Hesaplama'!$AM55=1,hesaplamalar!AG52,\"\")","v":""},{"$f":"IF('EK DERS Ücret Hesaplama'!$AM55=1,hesaplamalar!AH52,\"\")","v":""},{"$f":"IF('EK DERS Ücret Hesaplama'!$AM55=1,'EK DERS Ücret Hesaplama'!AE55,\"\")","v":""},{"$f":"IF('EK DERS Ücret Hesaplama'!$AM55=1,'EK DERS Ücret Hesaplama'!AG55,\"\")","v":""},{"$f":"IF('EK DERS Ücret Hesaplama'!$AM55=1,'EK DERS Ücret Hesaplama'!AF55,\"\")","v":""},{"$f":"IF('EK DERS Ücret Hesaplama'!$AM55=1,'EK DERS Ücret Hesaplama'!AH55,\"\")","v":""},{"$f":"IF('EK DERS Ücret Hesaplama'!$AM55=1,'EK DERS Ücret Hesaplama'!AI55,\"\")","v":""},{"$f":"IF('EK DERS Ücret Hesaplama'!$AM55=1,'EK DERS Ücret Hesaplama'!AJ55,\"\")","v":""},{"$f":"IF('EK DERS Ücret Hesaplama'!$AM55=1,'EK DERS Ücret Hesaplama'!AK55,\"\")","v":""},null,0]
[{"$f":"IF(AJ58=\"\",\"\",SUBTOTAL(103,$AJ$8:AJ58))","v":""},{"$f":"IF('EK DERS Ücret Hesaplama'!$AM56=1,'EK DERS Ücret Hesaplama'!B56,\"\")","v":""},{"$f":"IF('EK DERS Ücret Hesaplama'!$AM56=1,'EK DERS Ücret Hesaplama'!C56,\"\")","v":""},{"$f":"IF('EK DERS Ücret Hesaplama'!$AM56=1,IF('EK DERS Ücret Hesaplama'!D56=\"Ücretli Öğretmen\",\"Ücretli Öğr.\",\"Ücr.Öğr. (Emekli)\"),\"\")","v":""},{"$f":"IF('EK DERS Ücret Hesaplama'!$AM56=1,'EK DERS Ücret Hesaplama'!M56,\"\")","v":""},{"$f":"IF('EK DERS Ücret Hesaplama'!$AM56=1,'EK DERS Ücret Hesaplama'!N56,\"\")","v":""},{"$f":"IF('EK DERS Ücret Hesaplama'!$AM56=1,'EK DERS Ücret Hesaplama'!E56,\"\")","v":""},{"$f":"IF('EK DERS Ücret Hesaplama'!$AM56=1,'EK DERS Ücret Hesaplama'!F56,\"\")","v":""},{"$f":"IF('EK DERS Ücret Hesaplama'!$AM56=1,'EK DERS Ücret Hesaplama'!G56,\"\")","v":""},{"$f":"IF('EK DERS Ücret Hesaplama'!$AM56=1,'EK DERS Ücret Hesaplama'!H56,\"\")","v":""},{"$f":"IF('EK DERS Ücret Hesaplama'!$AM56=1,'EK DERS Ücret Hesaplama'!I56,\"\")","v":""},{"$f":"IF('EK DERS Ücret Hesaplama'!$AM56=1,'EK DERS Ücret Hesaplama'!J56,\"\")","v":""},{"$f":"IF('EK DERS Ücret Hesaplama'!$AM56=1,'EK DERS Ücret Hesaplama'!K56,\"\")","v":""},{"$f":"IF('EK DERS Ücret Hesaplama'!$AM56=1,'EK DERS Ücret Hesaplama'!L56,\"\")","v":""},{"$f":"IF('EK DERS Ücret Hesaplama'!$AM56=1,'EK DERS Ücret Hesaplama'!O56,\"\")","v":""},{"$f":"IF('EK DERS Ücret Hesaplama'!$AM56=1,'EK DERS Ücret Hesaplama'!P56,\"\")","v":""},{"$f":"IF('EK DERS Ücret Hesaplama'!$AM56=1,'EK DERS Ücret Hesaplama'!Q56,\"\")","v":""},{"$f":"IF('EK DERS Ücret Hesaplama'!$AM56=1,'EK DERS Ücret Hesaplama'!R56,\"\")","v":""},{"$f":"IF('EK DERS Ücret Hesaplama'!$AM56=1,'EK DERS Ücret Hesaplama'!S56,\"\")","v":""},{"$f":"IF('EK DERS Ücret Hesaplama'!$AM56=1,hesaplamalar!X53,\"\")","v":""},{"$f":"IF('EK DERS Ücret Hesaplama'!$AM56=1,hesaplamalar!Y53,\"\")","v":""},{"$f":"IF('EK DERS Ücret Hesaplama'!$AM56=1,hesaplamalar!Z53,\"\")","v":""},{"$f":"IF('EK DERS Ücret Hesaplama'!$AM56=1,hesaplamalar!AA53,\"\")","v":""},{"$f":"IF('EK DERS Ücret Hesaplama'!$AM56=1,hesaplamalar!AB53,\"\")","v":""},{"$f":"IF('EK DERS Ücret Hesaplama'!$AM56=1,hesaplamalar!AC53,\"\")","v":""},{"$f":"IF('EK DERS Ücret Hesaplama'!$AM56=1,hesaplamalar!AD53,\"\")","v":""},{"$f":"IF('EK DERS Ücret Hesaplama'!$AM56=1,hesaplamalar!AE53,\"\")","v":""},{"$f":"IF('EK DERS Ücret Hesaplama'!$AM56=1,hesaplamalar!AG53,\"\")","v":""},{"$f":"IF('EK DERS Ücret Hesaplama'!$AM56=1,hesaplamalar!AH53,\"\")","v":""},{"$f":"IF('EK DERS Ücret Hesaplama'!$AM56=1,'EK DERS Ücret Hesaplama'!AE56,\"\")","v":""},{"$f":"IF('EK DERS Ücret Hesaplama'!$AM56=1,'EK DERS Ücret Hesaplama'!AG56,\"\")","v":""},{"$f":"IF('EK DERS Ücret Hesaplama'!$AM56=1,'EK DERS Ücret Hesaplama'!AF56,\"\")","v":""},{"$f":"IF('EK DERS Ücret Hesaplama'!$AM56=1,'EK DERS Ücret Hesaplama'!AH56,\"\")","v":""},{"$f":"IF('EK DERS Ücret Hesaplama'!$AM56=1,'EK DERS Ücret Hesaplama'!AI56,\"\")","v":""},{"$f":"IF('EK DERS Ücret Hesaplama'!$AM56=1,'EK DERS Ücret Hesaplama'!AJ56,\"\")","v":""},{"$f":"IF('EK DERS Ücret Hesaplama'!$AM56=1,'EK DERS Ücret Hesaplama'!AK56,\"\")","v":""},null,0]
[{"$f":"IF(AJ59=\"\",\"\",SUBTOTAL(103,$AJ$8:AJ59))","v":""},{"$f":"IF('EK DERS Ücret Hesaplama'!$AM57=1,'EK DERS Ücret Hesaplama'!B57,\"\")","v":""},{"$f":"IF('EK DERS Ücret Hesaplama'!$AM57=1,'EK DERS Ücret Hesaplama'!C57,\"\")","v":""},{"$f":"IF('EK DERS Ücret Hesaplama'!$AM57=1,IF('EK DERS Ücret Hesaplama'!D57=\"Ücretli Öğretmen\",\"Ücretli Öğr.\",\"Ücr.Öğr. (Emekli)\"),\"\")","v":""},{"$f":"IF('EK DERS Ücret Hesaplama'!$AM57=1,'EK DERS Ücret Hesaplama'!M57,\"\")","v":""},{"$f":"IF('EK DERS Ücret Hesaplama'!$AM57=1,'EK DERS Ücret Hesaplama'!N57,\"\")","v":""},{"$f":"IF('EK DERS Ücret Hesaplama'!$AM57=1,'EK DERS Ücret Hesaplama'!E57,\"\")","v":""},{"$f":"IF('EK DERS Ücret Hesaplama'!$AM57=1,'EK DERS Ücret Hesaplama'!F57,\"\")","v":""},{"$f":"IF('EK DERS Ücret Hesaplama'!$AM57=1,'EK DERS Ücret Hesaplama'!G57,\"\")","v":""},{"$f":"IF('EK DERS Ücret Hesaplama'!$AM57=1,'EK DERS Ücret Hesaplama'!H57,\"\")","v":""},{"$f":"IF('EK DERS Ücret Hesaplama'!$AM57=1,'EK DERS Ücret Hesaplama'!I57,\"\")","v":""},{"$f":"IF('EK DERS Ücret Hesaplama'!$AM57=1,'EK DERS Ücret Hesaplama'!J57,\"\")","v":""},{"$f":"IF('EK DERS Ücret Hesaplama'!$AM57=1,'EK DERS Ücret Hesaplama'!K57,\"\")","v":""},{"$f":"IF('EK DERS Ücret Hesaplama'!$AM57=1,'EK DERS Ücret Hesaplama'!L57,\"\")","v":""},{"$f":"IF('EK DERS Ücret Hesaplama'!$AM57=1,'EK DERS Ücret Hesaplama'!O57,\"\")","v":""},{"$f":"IF('EK DERS Ücret Hesaplama'!$AM57=1,'EK DERS Ücret Hesaplama'!P57,\"\")","v":""},{"$f":"IF('EK DERS Ücret Hesaplama'!$AM57=1,'EK DERS Ücret Hesaplama'!Q57,\"\")","v":""},{"$f":"IF('EK DERS Ücret Hesaplama'!$AM57=1,'EK DERS Ücret Hesaplama'!R57,\"\")","v":""},{"$f":"IF('EK DERS Ücret Hesaplama'!$AM57=1,'EK DERS Ücret Hesaplama'!S57,\"\")","v":""},{"$f":"IF('EK DERS Ücret Hesaplama'!$AM57=1,hesaplamalar!X54,\"\")","v":""},{"$f":"IF('EK DERS Ücret Hesaplama'!$AM57=1,hesaplamalar!Y54,\"\")","v":""},{"$f":"IF('EK DERS Ücret Hesaplama'!$AM57=1,hesaplamalar!Z54,\"\")","v":""},{"$f":"IF('EK DERS Ücret Hesaplama'!$AM57=1,hesaplamalar!AA54,\"\")","v":""},{"$f":"IF('EK DERS Ücret Hesaplama'!$AM57=1,hesaplamalar!AB54,\"\")","v":""},{"$f":"IF('EK DERS Ücret Hesaplama'!$AM57=1,hesaplamalar!AC54,\"\")","v":""},{"$f":"IF('EK DERS Ücret Hesaplama'!$AM57=1,hesaplamalar!AD54,\"\")","v":""},{"$f":"IF('EK DERS Ücret Hesaplama'!$AM57=1,hesaplamalar!AE54,\"\")","v":""},{"$f":"IF('EK DERS Ücret Hesaplama'!$AM57=1,hesaplamalar!AG54,\"\")","v":""},{"$f":"IF('EK DERS Ücret Hesaplama'!$AM57=1,hesaplamalar!AH54,\"\")","v":""},{"$f":"IF('EK DERS Ücret Hesaplama'!$AM57=1,'EK DERS Ücret Hesaplama'!AE57,\"\")","v":""},{"$f":"IF('EK DERS Ücret Hesaplama'!$AM57=1,'EK DERS Ücret Hesaplama'!AG57,\"\")","v":""},{"$f":"IF('EK DERS Ücret Hesaplama'!$AM57=1,'EK DERS Ücret Hesaplama'!AF57,\"\")","v":""},{"$f":"IF('EK DERS Ücret Hesaplama'!$AM57=1,'EK DERS Ücret Hesaplama'!AH57,\"\")","v":""},{"$f":"IF('EK DERS Ücret Hesaplama'!$AM57=1,'EK DERS Ücret Hesaplama'!AI57,\"\")","v":""},{"$f":"IF('EK DERS Ücret Hesaplama'!$AM57=1,'EK DERS Ücret Hesaplama'!AJ57,\"\")","v":""},{"$f":"IF('EK DERS Ücret Hesaplama'!$AM57=1,'EK DERS Ücret Hesaplama'!AK57,\"\")","v":""},null,0]
[{"$f":"IF(AJ60=\"\",\"\",SUBTOTAL(103,$AJ$8:AJ60))","v":""},{"$f":"IF('EK DERS Ücret Hesaplama'!$AM58=1,'EK DERS Ücret Hesaplama'!B58,\"\")","v":""},{"$f":"IF('EK DERS Ücret Hesaplama'!$AM58=1,'EK DERS Ücret Hesaplama'!C58,\"\")","v":""},{"$f":"IF('EK DERS Ücret Hesaplama'!$AM58=1,IF('EK DERS Ücret Hesaplama'!D58=\"Ücretli Öğretmen\",\"Ücretli Öğr.\",\"Ücr.Öğr. (Emekli)\"),\"\")","v":""},{"$f":"IF('EK DERS Ücret Hesaplama'!$AM58=1,'EK DERS Ücret Hesaplama'!M58,\"\")","v":""},{"$f":"IF('EK DERS Ücret Hesaplama'!$AM58=1,'EK DERS Ücret Hesaplama'!N58,\"\")","v":""},{"$f":"IF('EK DERS Ücret Hesaplama'!$AM58=1,'EK DERS Ücret Hesaplama'!E58,\"\")","v":""},{"$f":"IF('EK DERS Ücret Hesaplama'!$AM58=1,'EK DERS Ücret Hesaplama'!F58,\"\")","v":""},{"$f":"IF('EK DERS Ücret Hesaplama'!$AM58=1,'EK DERS Ücret Hesaplama'!G58,\"\")","v":""},{"$f":"IF('EK DERS Ücret Hesaplama'!$AM58=1,'EK DERS Ücret Hesaplama'!H58,\"\")","v":""},{"$f":"IF('EK DERS Ücret Hesaplama'!$AM58=1,'EK DERS Ücret Hesaplama'!I58,\"\")","v":""},{"$f":"IF('EK DERS Ücret Hesaplama'!$AM58=1,'EK DERS Ücret Hesaplama'!J58,\"\")","v":""},{"$f":"IF('EK DERS Ücret Hesaplama'!$AM58=1,'EK DERS Ücret Hesaplama'!K58,\"\")","v":""},{"$f":"IF('EK DERS Ücret Hesaplama'!$AM58=1,'EK DERS Ücret Hesaplama'!L58,\"\")","v":""},{"$f":"IF('EK DERS Ücret Hesaplama'!$AM58=1,'EK DERS Ücret Hesaplama'!O58,\"\")","v":""},{"$f":"IF('EK DERS Ücret Hesaplama'!$AM58=1,'EK DERS Ücret Hesaplama'!P58,\"\")","v":""},{"$f":"IF('EK DERS Ücret Hesaplama'!$AM58=1,'EK DERS Ücret Hesaplama'!Q58,\"\")","v":""},{"$f":"IF('EK DERS Ücret Hesaplama'!$AM58=1,'EK DERS Ücret Hesaplama'!R58,\"\")","v":""},{"$f":"IF('EK DERS Ücret Hesaplama'!$AM58=1,'EK DERS Ücret Hesaplama'!S58,\"\")","v":""},{"$f":"IF('EK DERS Ücret Hesaplama'!$AM58=1,hesaplamalar!X55,\"\")","v":""},{"$f":"IF('EK DERS Ücret Hesaplama'!$AM58=1,hesaplamalar!Y55,\"\")","v":""},{"$f":"IF('EK DERS Ücret Hesaplama'!$AM58=1,hesaplamalar!Z55,\"\")","v":""},{"$f":"IF('EK DERS Ücret Hesaplama'!$AM58=1,hesaplamalar!AA55,\"\")","v":""},{"$f":"IF('EK DERS Ücret Hesaplama'!$AM58=1,hesaplamalar!AB55,\"\")","v":""},{"$f":"IF('EK DERS Ücret Hesaplama'!$AM58=1,hesaplamalar!AC55,\"\")","v":""},{"$f":"IF('EK DERS Ücret Hesaplama'!$AM58=1,hesaplamalar!AD55,\"\")","v":""},{"$f":"IF('EK DERS Ücret Hesaplama'!$AM58=1,hesaplamalar!AE55,\"\")","v":""},{"$f":"IF('EK DERS Ücret Hesaplama'!$AM58=1,hesaplamalar!AG55,\"\")","v":""},{"$f":"IF('EK DERS Ücret Hesaplama'!$AM58=1,hesaplamalar!AH55,\"\")","v":""},{"$f":"IF('EK DERS Ücret Hesaplama'!$AM58=1,'EK DERS Ücret Hesaplama'!AE58,\"\")","v":""},{"$f":"IF('EK DERS Ücret Hesaplama'!$AM58=1,'EK DERS Ücret Hesaplama'!AG58,\"\")","v":""},{"$f":"IF('EK DERS Ücret Hesaplama'!$AM58=1,'EK DERS Ücret Hesaplama'!AF58,\"\")","v":""},{"$f":"IF('EK DERS Ücret Hesaplama'!$AM58=1,'EK DERS Ücret Hesaplama'!AH58,\"\")","v":""},{"$f":"IF('EK DERS Ücret Hesaplama'!$AM58=1,'EK DERS Ücret Hesaplama'!AI58,\"\")","v":""},{"$f":"IF('EK DERS Ücret Hesaplama'!$AM58=1,'EK DERS Ücret Hesaplama'!AJ58,\"\")","v":""},{"$f":"IF('EK DERS Ücret Hesaplama'!$AM58=1,'EK DERS Ücret Hesaplama'!AK58,\"\")","v":""},null,0]
[{"$f":"IF(AJ61=\"\",\"\",SUBTOTAL(103,$AJ$8:AJ61))","v":""},{"$f":"IF('EK DERS Ücret Hesaplama'!$AM59=1,'EK DERS Ücret Hesaplama'!B59,\"\")","v":""},{"$f":"IF('EK DERS Ücret Hesaplama'!$AM59=1,'EK DERS Ücret Hesaplama'!C59,\"\")","v":""},{"$f":"IF('EK DERS Ücret Hesaplama'!$AM59=1,IF('EK DERS Ücret Hesaplama'!D59=\"Ücretli Öğretmen\",\"Ücretli Öğr.\",\"Ücr.Öğr. (Emekli)\"),\"\")","v":""},{"$f":"IF('EK DERS Ücret Hesaplama'!$AM59=1,'EK DERS Ücret Hesaplama'!M59,\"\")","v":""},{"$f":"IF('EK DERS Ücret Hesaplama'!$AM59=1,'EK DERS Ücret Hesaplama'!N59,\"\")","v":""},{"$f":"IF('EK DERS Ücret Hesaplama'!$AM59=1,'EK DERS Ücret Hesaplama'!E59,\"\")","v":""},{"$f":"IF('EK DERS Ücret Hesaplama'!$AM59=1,'EK DERS Ücret Hesaplama'!F59,\"\")","v":""},{"$f":"IF('EK DERS Ücret Hesaplama'!$AM59=1,'EK DERS Ücret Hesaplama'!G59,\"\")","v":""},{"$f":"IF('EK DERS Ücret Hesaplama'!$AM59=1,'EK DERS Ücret Hesaplama'!H59,\"\")","v":""},{"$f":"IF('EK DERS Ücret Hesaplama'!$AM59=1,'EK DERS Ücret Hesaplama'!I59,\"\")","v":""},{"$f":"IF('EK DERS Ücret Hesaplama'!$AM59=1,'EK DERS Ücret Hesaplama'!J59,\"\")","v":""},{"$f":"IF('EK DERS Ücret Hesaplama'!$AM59=1,'EK DERS Ücret Hesaplama'!K59,\"\")","v":""},{"$f":"IF('EK DERS Ücret Hesaplama'!$AM59=1,'EK DERS Ücret Hesaplama'!L59,\"\")","v":""},{"$f":"IF('EK DERS Ücret Hesaplama'!$AM59=1,'EK DERS Ücret Hesaplama'!O59,\"\")","v":""},{"$f":"IF('EK DERS Ücret Hesaplama'!$AM59=1,'EK DERS Ücret Hesaplama'!P59,\"\")","v":""},{"$f":"IF('EK DERS Ücret Hesaplama'!$AM59=1,'EK DERS Ücret Hesaplama'!Q59,\"\")","v":""},{"$f":"IF('EK DERS Ücret Hesaplama'!$AM59=1,'EK DERS Ücret Hesaplama'!R59,\"\")","v":""},{"$f":"IF('EK DERS Ücret Hesaplama'!$AM59=1,'EK DERS Ücret Hesaplama'!S59,\"\")","v":""},{"$f":"IF('EK DERS Ücret Hesaplama'!$AM59=1,hesaplamalar!X56,\"\")","v":""},{"$f":"IF('EK DERS Ücret Hesaplama'!$AM59=1,hesaplamalar!Y56,\"\")","v":""},{"$f":"IF('EK DERS Ücret Hesaplama'!$AM59=1,hesaplamalar!Z56,\"\")","v":""},{"$f":"IF('EK DERS Ücret Hesaplama'!$AM59=1,hesaplamalar!AA56,\"\")","v":""},{"$f":"IF('EK DERS Ücret Hesaplama'!$AM59=1,hesaplamalar!AB56,\"\")","v":""},{"$f":"IF('EK DERS Ücret Hesaplama'!$AM59=1,hesaplamalar!AC56,\"\")","v":""},{"$f":"IF('EK DERS Ücret Hesaplama'!$AM59=1,hesaplamalar!AD56,\"\")","v":""},{"$f":"IF('EK DERS Ücret Hesaplama'!$AM59=1,hesaplamalar!AE56,\"\")","v":""},{"$f":"IF('EK DERS Ücret Hesaplama'!$AM59=1,hesaplamalar!AG56,\"\")","v":""},{"$f":"IF('EK DERS Ücret Hesaplama'!$AM59=1,hesaplamalar!AH56,\"\")","v":""},{"$f":"IF('EK DERS Ücret Hesaplama'!$AM59=1,'EK DERS Ücret Hesaplama'!AE59,\"\")","v":""},{"$f":"IF('EK DERS Ücret Hesaplama'!$AM59=1,'EK DERS Ücret Hesaplama'!AG59,\"\")","v":""},{"$f":"IF('EK DERS Ücret Hesaplama'!$AM59=1,'EK DERS Ücret Hesaplama'!AF59,\"\")","v":""},{"$f":"IF('EK DERS Ücret Hesaplama'!$AM59=1,'EK DERS Ücret Hesaplama'!AH59,\"\")","v":""},{"$f":"IF('EK DERS Ücret Hesaplama'!$AM59=1,'EK DERS Ücret Hesaplama'!AI59,\"\")","v":""},{"$f":"IF('EK DERS Ücret Hesaplama'!$AM59=1,'EK DERS Ücret Hesaplama'!AJ59,\"\")","v":""},{"$f":"IF('EK DERS Ücret Hesaplama'!$AM59=1,'EK DERS Ücret Hesaplama'!AK59,\"\")","v":""},null,0]
[{"$f":"IF(AJ62=\"\",\"\",SUBTOTAL(103,$AJ$8:AJ62))","v":""},{"$f":"IF('EK DERS Ücret Hesaplama'!$AM60=1,'EK DERS Ücret Hesaplama'!B60,\"\")","v":""},{"$f":"IF('EK DERS Ücret Hesaplama'!$AM60=1,'EK DERS Ücret Hesaplama'!C60,\"\")","v":""},{"$f":"IF('EK DERS Ücret Hesaplama'!$AM60=1,IF('EK DERS Ücret Hesaplama'!D60=\"Ücretli Öğretmen\",\"Ücretli Öğr.\",\"Ücr.Öğr. (Emekli)\"),\"\")","v":""},{"$f":"IF('EK DERS Ücret Hesaplama'!$AM60=1,'EK DERS Ücret Hesaplama'!M60,\"\")","v":""},{"$f":"IF('EK DERS Ücret Hesaplama'!$AM60=1,'EK DERS Ücret Hesaplama'!N60,\"\")","v":""},{"$f":"IF('EK DERS Ücret Hesaplama'!$AM60=1,'EK DERS Ücret Hesaplama'!E60,\"\")","v":""},{"$f":"IF('EK DERS Ücret Hesaplama'!$AM60=1,'EK DERS Ücret Hesaplama'!F60,\"\")","v":""},{"$f":"IF('EK DERS Ücret Hesaplama'!$AM60=1,'EK DERS Ücret Hesaplama'!G60,\"\")","v":""},{"$f":"IF('EK DERS Ücret Hesaplama'!$AM60=1,'EK DERS Ücret Hesaplama'!H60,\"\")","v":""},{"$f":"IF('EK DERS Ücret Hesaplama'!$AM60=1,'EK DERS Ücret Hesaplama'!I60,\"\")","v":""},{"$f":"IF('EK DERS Ücret Hesaplama'!$AM60=1,'EK DERS Ücret Hesaplama'!J60,\"\")","v":""},{"$f":"IF('EK DERS Ücret Hesaplama'!$AM60=1,'EK DERS Ücret Hesaplama'!K60,\"\")","v":""},{"$f":"IF('EK DERS Ücret Hesaplama'!$AM60=1,'EK DERS Ücret Hesaplama'!L60,\"\")","v":""},{"$f":"IF('EK DERS Ücret Hesaplama'!$AM60=1,'EK DERS Ücret Hesaplama'!O60,\"\")","v":""},{"$f":"IF('EK DERS Ücret Hesaplama'!$AM60=1,'EK DERS Ücret Hesaplama'!P60,\"\")","v":""},{"$f":"IF('EK DERS Ücret Hesaplama'!$AM60=1,'EK DERS Ücret Hesaplama'!Q60,\"\")","v":""},{"$f":"IF('EK DERS Ücret Hesaplama'!$AM60=1,'EK DERS Ücret Hesaplama'!R60,\"\")","v":""},{"$f":"IF('EK DERS Ücret Hesaplama'!$AM60=1,'EK DERS Ücret Hesaplama'!S60,\"\")","v":""},{"$f":"IF('EK DERS Ücret Hesaplama'!$AM60=1,hesaplamalar!X57,\"\")","v":""},{"$f":"IF('EK DERS Ücret Hesaplama'!$AM60=1,hesaplamalar!Y57,\"\")","v":""},{"$f":"IF('EK DERS Ücret Hesaplama'!$AM60=1,hesaplamalar!Z57,\"\")","v":""},{"$f":"IF('EK DERS Ücret Hesaplama'!$AM60=1,hesaplamalar!AA57,\"\")","v":""},{"$f":"IF('EK DERS Ücret Hesaplama'!$AM60=1,hesaplamalar!AB57,\"\")","v":""},{"$f":"IF('EK DERS Ücret Hesaplama'!$AM60=1,hesaplamalar!AC57,\"\")","v":""},{"$f":"IF('EK DERS Ücret Hesaplama'!$AM60=1,hesaplamalar!AD57,\"\")","v":""},{"$f":"IF('EK DERS Ücret Hesaplama'!$AM60=1,hesaplamalar!AE57,\"\")","v":""},{"$f":"IF('EK DERS Ücret Hesaplama'!$AM60=1,hesaplamalar!AG57,\"\")","v":""},{"$f":"IF('EK DERS Ücret Hesaplama'!$AM60=1,hesaplamalar!AH57,\"\")","v":""},{"$f":"IF('EK DERS Ücret Hesaplama'!$AM60=1,'EK DERS Ücret Hesaplama'!AE60,\"\")","v":""},{"$f":"IF('EK DERS Ücret Hesaplama'!$AM60=1,'EK DERS Ücret Hesaplama'!AG60,\"\")","v":""},{"$f":"IF('EK DERS Ücret Hesaplama'!$AM60=1,'EK DERS Ücret Hesaplama'!AF60,\"\")","v":""},{"$f":"IF('EK DERS Ücret Hesaplama'!$AM60=1,'EK DERS Ücret Hesaplama'!AH60,\"\")","v":""},{"$f":"IF('EK DERS Ücret Hesaplama'!$AM60=1,'EK DERS Ücret Hesaplama'!AI60,\"\")","v":""},{"$f":"IF('EK DERS Ücret Hesaplama'!$AM60=1,'EK DERS Ücret Hesaplama'!AJ60,\"\")","v":""},{"$f":"IF('EK DERS Ücret Hesaplama'!$AM60=1,'EK DERS Ücret Hesaplama'!AK60,\"\")","v":""},null,0]
[{"$f":"IF(AJ63=\"\",\"\",SUBTOTAL(103,$AJ$8:AJ63))","v":""},{"$f":"IF('EK DERS Ücret Hesaplama'!$AM61=1,'EK DERS Ücret Hesaplama'!B61,\"\")","v":""},{"$f":"IF('EK DERS Ücret Hesaplama'!$AM61=1,'EK DERS Ücret Hesaplama'!C61,\"\")","v":""},{"$f":"IF('EK DERS Ücret Hesaplama'!$AM61=1,IF('EK DERS Ücret Hesaplama'!D61=\"Ücretli Öğretmen\",\"Ücretli Öğr.\",\"Ücr.Öğr. (Emekli)\"),\"\")","v":""},{"$f":"IF('EK DERS Ücret Hesaplama'!$AM61=1,'EK DERS Ücret Hesaplama'!M61,\"\")","v":""},{"$f":"IF('EK DERS Ücret Hesaplama'!$AM61=1,'EK DERS Ücret Hesaplama'!N61,\"\")","v":""},{"$f":"IF('EK DERS Ücret Hesaplama'!$AM61=1,'EK DERS Ücret Hesaplama'!E61,\"\")","v":""},{"$f":"IF('EK DERS Ücret Hesaplama'!$AM61=1,'EK DERS Ücret Hesaplama'!F61,\"\")","v":""},{"$f":"IF('EK DERS Ücret Hesaplama'!$AM61=1,'EK DERS Ücret Hesaplama'!G61,\"\")","v":""},{"$f":"IF('EK DERS Ücret Hesaplama'!$AM61=1,'EK DERS Ücret Hesaplama'!H61,\"\")","v":""},{"$f":"IF('EK DERS Ücret Hesaplama'!$AM61=1,'EK DERS Ücret Hesaplama'!I61,\"\")","v":""},{"$f":"IF('EK DERS Ücret Hesaplama'!$AM61=1,'EK DERS Ücret Hesaplama'!J61,\"\")","v":""},{"$f":"IF('EK DERS Ücret Hesaplama'!$AM61=1,'EK DERS Ücret Hesaplama'!K61,\"\")","v":""},{"$f":"IF('EK DERS Ücret Hesaplama'!$AM61=1,'EK DERS Ücret Hesaplama'!L61,\"\")","v":""},{"$f":"IF('EK DERS Ücret Hesaplama'!$AM61=1,'EK DERS Ücret Hesaplama'!O61,\"\")","v":""},{"$f":"IF('EK DERS Ücret Hesaplama'!$AM61=1,'EK DERS Ücret Hesaplama'!P61,\"\")","v":""},{"$f":"IF('EK DERS Ücret Hesaplama'!$AM61=1,'EK DERS Ücret Hesaplama'!Q61,\"\")","v":""},{"$f":"IF('EK DERS Ücret Hesaplama'!$AM61=1,'EK DERS Ücret Hesaplama'!R61,\"\")","v":""},{"$f":"IF('EK DERS Ücret Hesaplama'!$AM61=1,'EK DERS Ücret Hesaplama'!S61,\"\")","v":""},{"$f":"IF('EK DERS Ücret Hesaplama'!$AM61=1,hesaplamalar!X58,\"\")","v":""},{"$f":"IF('EK DERS Ücret Hesaplama'!$AM61=1,hesaplamalar!Y58,\"\")","v":""},{"$f":"IF('EK DERS Ücret Hesaplama'!$AM61=1,hesaplamalar!Z58,\"\")","v":""},{"$f":"IF('EK DERS Ücret Hesaplama'!$AM61=1,hesaplamalar!AA58,\"\")","v":""},{"$f":"IF('EK DERS Ücret Hesaplama'!$AM61=1,hesaplamalar!AB58,\"\")","v":""},{"$f":"IF('EK DERS Ücret Hesaplama'!$AM61=1,hesaplamalar!AC58,\"\")","v":""},{"$f":"IF('EK DERS Ücret Hesaplama'!$AM61=1,hesaplamalar!AD58,\"\")","v":""},{"$f":"IF('EK DERS Ücret Hesaplama'!$AM61=1,hesaplamalar!AE58,\"\")","v":""},{"$f":"IF('EK DERS Ücret Hesaplama'!$AM61=1,hesaplamalar!AG58,\"\")","v":""},{"$f":"IF('EK DERS Ücret Hesaplama'!$AM61=1,hesaplamalar!AH58,\"\")","v":""},{"$f":"IF('EK DERS Ücret Hesaplama'!$AM61=1,'EK DERS Ücret Hesaplama'!AE61,\"\")","v":""},{"$f":"IF('EK DERS Ücret Hesaplama'!$AM61=1,'EK DERS Ücret Hesaplama'!AG61,\"\")","v":""},{"$f":"IF('EK DERS Ücret Hesaplama'!$AM61=1,'EK DERS Ücret Hesaplama'!AF61,\"\")","v":""},{"$f":"IF('EK DERS Ücret Hesaplama'!$AM61=1,'EK DERS Ücret Hesaplama'!AH61,\"\")","v":""},{"$f":"IF('EK DERS Ücret Hesaplama'!$AM61=1,'EK DERS Ücret Hesaplama'!AI61,\"\")","v":""},{"$f":"IF('EK DERS Ücret Hesaplama'!$AM61=1,'EK DERS Ücret Hesaplama'!AJ61,\"\")","v":""},{"$f":"IF('EK DERS Ücret Hesaplama'!$AM61=1,'EK DERS Ücret Hesaplama'!AK61,\"\")","v":""},null,0]
[{"$f":"IF(AJ64=\"\",\"\",SUBTOTAL(103,$AJ$8:AJ64))","v":""},{"$f":"IF('EK DERS Ücret Hesaplama'!$AM62=1,'EK DERS Ücret Hesaplama'!B62,\"\")","v":""},{"$f":"IF('EK DERS Ücret Hesaplama'!$AM62=1,'EK DERS Ücret Hesaplama'!C62,\"\")","v":""},{"$f":"IF('EK DERS Ücret Hesaplama'!$AM62=1,IF('EK DERS Ücret Hesaplama'!D62=\"Ücretli Öğretmen\",\"Ücretli Öğr.\",\"Ücr.Öğr. (Emekli)\"),\"\")","v":""},{"$f":"IF('EK DERS Ücret Hesaplama'!$AM62=1,'EK DERS Ücret Hesaplama'!M62,\"\")","v":""},{"$f":"IF('EK DERS Ücret Hesaplama'!$AM62=1,'EK DERS Ücret Hesaplama'!N62,\"\")","v":""},{"$f":"IF('EK DERS Ücret Hesaplama'!$AM62=1,'EK DERS Ücret Hesaplama'!E62,\"\")","v":""},{"$f":"IF('EK DERS Ücret Hesaplama'!$AM62=1,'EK DERS Ücret Hesaplama'!F62,\"\")","v":""},{"$f":"IF('EK DERS Ücret Hesaplama'!$AM62=1,'EK DERS Ücret Hesaplama'!G62,\"\")","v":""},{"$f":"IF('EK DERS Ücret Hesaplama'!$AM62=1,'EK DERS Ücret Hesaplama'!H62,\"\")","v":""},{"$f":"IF('EK DERS Ücret Hesaplama'!$AM62=1,'EK DERS Ücret Hesaplama'!I62,\"\")","v":""},{"$f":"IF('EK DERS Ücret Hesaplama'!$AM62=1,'EK DERS Ücret Hesaplama'!J62,\"\")","v":""},{"$f":"IF('EK DERS Ücret Hesaplama'!$AM62=1,'EK DERS Ücret Hesaplama'!K62,\"\")","v":""},{"$f":"IF('EK DERS Ücret Hesaplama'!$AM62=1,'EK DERS Ücret Hesaplama'!L62,\"\")","v":""},{"$f":"IF('EK DERS Ücret Hesaplama'!$AM62=1,'EK DERS Ücret Hesaplama'!O62,\"\")","v":""},{"$f":"IF('EK DERS Ücret Hesaplama'!$AM62=1,'EK DERS Ücret Hesaplama'!P62,\"\")","v":""},{"$f":"IF('EK DERS Ücret Hesaplama'!$AM62=1,'EK DERS Ücret Hesaplama'!Q62,\"\")","v":""},{"$f":"IF('EK DERS Ücret Hesaplama'!$AM62=1,'EK DERS Ücret Hesaplama'!R62,\"\")","v":""},{"$f":"IF('EK DERS Ücret Hesaplama'!$AM62=1,'EK DERS Ücret Hesaplama'!S62,\"\")","v":""},{"$f":"IF('EK DERS Ücret Hesaplama'!$AM62=1,hesaplamalar!X59,\"\")","v":""},{"$f":"IF('EK DERS Ücret Hesaplama'!$AM62=1,hesaplamalar!Y59,\"\")","v":""},{"$f":"IF('EK DERS Ücret Hesaplama'!$AM62=1,hesaplamalar!Z59,\"\")","v":""},{"$f":"IF('EK DERS Ücret Hesaplama'!$AM62=1,hesaplamalar!AA59,\"\")","v":""},{"$f":"IF('EK DERS Ücret Hesaplama'!$AM62=1,hesaplamalar!AB59,\"\")","v":""},{"$f":"IF('EK DERS Ücret Hesaplama'!$AM62=1,hesaplamalar!AC59,\"\")","v":""},{"$f":"IF('EK DERS Ücret Hesaplama'!$AM62=1,hesaplamalar!AD59,\"\")","v":""},{"$f":"IF('EK DERS Ücret Hesaplama'!$AM62=1,hesaplamalar!AE59,\"\")","v":""},{"$f":"IF('EK DERS Ücret Hesaplama'!$AM62=1,hesaplamalar!AG59,\"\")","v":""},{"$f":"IF('EK DERS Ücret Hesaplama'!$AM62=1,hesaplamalar!AH59,\"\")","v":""},{"$f":"IF('EK DERS Ücret Hesaplama'!$AM62=1,'EK DERS Ücret Hesaplama'!AE62,\"\")","v":""},{"$f":"IF('EK DERS Ücret Hesaplama'!$AM62=1,'EK DERS Ücret Hesaplama'!AG62,\"\")","v":""},{"$f":"IF('EK DERS Ücret Hesaplama'!$AM62=1,'EK DERS Ücret Hesaplama'!AF62,\"\")","v":""},{"$f":"IF('EK DERS Ücret Hesaplama'!$AM62=1,'EK DERS Ücret Hesaplama'!AH62,\"\")","v":""},{"$f":"IF('EK DERS Ücret Hesaplama'!$AM62=1,'EK DERS Ücret Hesaplama'!AI62,\"\")","v":""},{"$f":"IF('EK DERS Ücret Hesaplama'!$AM62=1,'EK DERS Ücret Hesaplama'!AJ62,\"\")","v":""},{"$f":"IF('EK DERS Ücret Hesaplama'!$AM62=1,'EK DERS Ücret Hesaplama'!AK62,\"\")","v":""},null,0]
[{"$f":"IF(AJ65=\"\",\"\",SUBTOTAL(103,$AJ$8:AJ65))","v":""},{"$f":"IF('EK DERS Ücret Hesaplama'!$AM63=1,'EK DERS Ücret Hesaplama'!B63,\"\")","v":""},{"$f":"IF('EK DERS Ücret Hesaplama'!$AM63=1,'EK DERS Ücret Hesaplama'!C63,\"\")","v":""},{"$f":"IF('EK DERS Ücret Hesaplama'!$AM63=1,IF('EK DERS Ücret Hesaplama'!D63=\"Ücretli Öğretmen\",\"Ücretli Öğr.\",\"Ücr.Öğr. (Emekli)\"),\"\")","v":""},{"$f":"IF('EK DERS Ücret Hesaplama'!$AM63=1,'EK DERS Ücret Hesaplama'!M63,\"\")","v":""},{"$f":"IF('EK DERS Ücret Hesaplama'!$AM63=1,'EK DERS Ücret Hesaplama'!N63,\"\")","v":""},{"$f":"IF('EK DERS Ücret Hesaplama'!$AM63=1,'EK DERS Ücret Hesaplama'!E63,\"\")","v":""},{"$f":"IF('EK DERS Ücret Hesaplama'!$AM63=1,'EK DERS Ücret Hesaplama'!F63,\"\")","v":""},{"$f":"IF('EK DERS Ücret Hesaplama'!$AM63=1,'EK DERS Ücret Hesaplama'!G63,\"\")","v":""},{"$f":"IF('EK DERS Ücret Hesaplama'!$AM63=1,'EK DERS Ücret Hesaplama'!H63,\"\")","v":""},{"$f":"IF('EK DERS Ücret Hesaplama'!$AM63=1,'EK DERS Ücret Hesaplama'!I63,\"\")","v":""},{"$f":"IF('EK DERS Ücret Hesaplama'!$AM63=1,'EK DERS Ücret Hesaplama'!J63,\"\")","v":""},{"$f":"IF('EK DERS Ücret Hesaplama'!$AM63=1,'EK DERS Ücret Hesaplama'!K63,\"\")","v":""},{"$f":"IF('EK DERS Ücret Hesaplama'!$AM63=1,'EK DERS Ücret Hesaplama'!L63,\"\")","v":""},{"$f":"IF('EK DERS Ücret Hesaplama'!$AM63=1,'EK DERS Ücret Hesaplama'!O63,\"\")","v":""},{"$f":"IF('EK DERS Ücret Hesaplama'!$AM63=1,'EK DERS Ücret Hesaplama'!P63,\"\")","v":""},{"$f":"IF('EK DERS Ücret Hesaplama'!$AM63=1,'EK DERS Ücret Hesaplama'!Q63,\"\")","v":""},{"$f":"IF('EK DERS Ücret Hesaplama'!$AM63=1,'EK DERS Ücret Hesaplama'!R63,\"\")","v":""},{"$f":"IF('EK DERS Ücret Hesaplama'!$AM63=1,'EK DERS Ücret Hesaplama'!S63,\"\")","v":""},{"$f":"IF('EK DERS Ücret Hesaplama'!$AM63=1,hesaplamalar!X60,\"\")","v":""},{"$f":"IF('EK DERS Ücret Hesaplama'!$AM63=1,hesaplamalar!Y60,\"\")","v":""},{"$f":"IF('EK DERS Ücret Hesaplama'!$AM63=1,hesaplamalar!Z60,\"\")","v":""},{"$f":"IF('EK DERS Ücret Hesaplama'!$AM63=1,hesaplamalar!AA60,\"\")","v":""},{"$f":"IF('EK DERS Ücret Hesaplama'!$AM63=1,hesaplamalar!AB60,\"\")","v":""},{"$f":"IF('EK DERS Ücret Hesaplama'!$AM63=1,hesaplamalar!AC60,\"\")","v":""},{"$f":"IF('EK DERS Ücret Hesaplama'!$AM63=1,hesaplamalar!AD60,\"\")","v":""},{"$f":"IF('EK DERS Ücret Hesaplama'!$AM63=1,hesaplamalar!AE60,\"\")","v":""},{"$f":"IF('EK DERS Ücret Hesaplama'!$AM63=1,hesaplamalar!AG60,\"\")","v":""},{"$f":"IF('EK DERS Ücret Hesaplama'!$AM63=1,hesaplamalar!AH60,\"\")","v":""},{"$f":"IF('EK DERS Ücret Hesaplama'!$AM63=1,'EK DERS Ücret Hesaplama'!AE63,\"\")","v":""},{"$f":"IF('EK DERS Ücret Hesaplama'!$AM63=1,'EK DERS Ücret Hesaplama'!AG63,\"\")","v":""},{"$f":"IF('EK DERS Ücret Hesaplama'!$AM63=1,'EK DERS Ücret Hesaplama'!AF63,\"\")","v":""},{"$f":"IF('EK DERS Ücret Hesaplama'!$AM63=1,'EK DERS Ücret Hesaplama'!AH63,\"\")","v":""},{"$f":"IF('EK DERS Ücret Hesaplama'!$AM63=1,'EK DERS Ücret Hesaplama'!AI63,\"\")","v":""},{"$f":"IF('EK DERS Ücret Hesaplama'!$AM63=1,'EK DERS Ücret Hesaplama'!AJ63,\"\")","v":""},{"$f":"IF('EK DERS Ücret Hesaplama'!$AM63=1,'EK DERS Ücret Hesaplama'!AK63,\"\")","v":""},null,0]
[{"$f":"IF(AJ66=\"\",\"\",SUBTOTAL(103,$AJ$8:AJ66))","v":""},{"$f":"IF('EK DERS Ücret Hesaplama'!$AM64=1,'EK DERS Ücret Hesaplama'!B64,\"\")","v":""},{"$f":"IF('EK DERS Ücret Hesaplama'!$AM64=1,'EK DERS Ücret Hesaplama'!C64,\"\")","v":""},{"$f":"IF('EK DERS Ücret Hesaplama'!$AM64=1,IF('EK DERS Ücret Hesaplama'!D64=\"Ücretli Öğretmen\",\"Ücretli Öğr.\",\"Ücr.Öğr. (Emekli)\"),\"\")","v":""},{"$f":"IF('EK DERS Ücret Hesaplama'!$AM64=1,'EK DERS Ücret Hesaplama'!M64,\"\")","v":""},{"$f":"IF('EK DERS Ücret Hesaplama'!$AM64=1,'EK DERS Ücret Hesaplama'!N64,\"\")","v":""},{"$f":"IF('EK DERS Ücret Hesaplama'!$AM64=1,'EK DERS Ücret Hesaplama'!E64,\"\")","v":""},{"$f":"IF('EK DERS Ücret Hesaplama'!$AM64=1,'EK DERS Ücret Hesaplama'!F64,\"\")","v":""},{"$f":"IF('EK DERS Ücret Hesaplama'!$AM64=1,'EK DERS Ücret Hesaplama'!G64,\"\")","v":""},{"$f":"IF('EK DERS Ücret Hesaplama'!$AM64=1,'EK DERS Ücret Hesaplama'!H64,\"\")","v":""},{"$f":"IF('EK DERS Ücret Hesaplama'!$AM64=1,'EK DERS Ücret Hesaplama'!I64,\"\")","v":""},{"$f":"IF('EK DERS Ücret Hesaplama'!$AM64=1,'EK DERS Ücret Hesaplama'!J64,\"\")","v":""},{"$f":"IF('EK DERS Ücret Hesaplama'!$AM64=1,'EK DERS Ücret Hesaplama'!K64,\"\")","v":""},{"$f":"IF('EK DERS Ücret Hesaplama'!$AM64=1,'EK DERS Ücret Hesaplama'!L64,\"\")","v":""},{"$f":"IF('EK DERS Ücret Hesaplama'!$AM64=1,'EK DERS Ücret Hesaplama'!O64,\"\")","v":""},{"$f":"IF('EK DERS Ücret Hesaplama'!$AM64=1,'EK DERS Ücret Hesaplama'!P64,\"\")","v":""},{"$f":"IF('EK DERS Ücret Hesaplama'!$AM64=1,'EK DERS Ücret Hesaplama'!Q64,\"\")","v":""},{"$f":"IF('EK DERS Ücret Hesaplama'!$AM64=1,'EK DERS Ücret Hesaplama'!R64,\"\")","v":""},{"$f":"IF('EK DERS Ücret Hesaplama'!$AM64=1,'EK DERS Ücret Hesaplama'!S64,\"\")","v":""},{"$f":"IF('EK DERS Ücret Hesaplama'!$AM64=1,hesaplamalar!X61,\"\")","v":""},{"$f":"IF('EK DERS Ücret Hesaplama'!$AM64=1,hesaplamalar!Y61,\"\")","v":""},{"$f":"IF('EK DERS Ücret Hesaplama'!$AM64=1,hesaplamalar!Z61,\"\")","v":""},{"$f":"IF('EK DERS Ücret Hesaplama'!$AM64=1,hesaplamalar!AA61,\"\")","v":""},{"$f":"IF('EK DERS Ücret Hesaplama'!$AM64=1,hesaplamalar!AB61,\"\")","v":""},{"$f":"IF('EK DERS Ücret Hesaplama'!$AM64=1,hesaplamalar!AC61,\"\")","v":""},{"$f":"IF('EK DERS Ücret Hesaplama'!$AM64=1,hesaplamalar!AD61,\"\")","v":""},{"$f":"IF('EK DERS Ücret Hesaplama'!$AM64=1,hesaplamalar!AE61,\"\")","v":""},{"$f":"IF('EK DERS Ücret Hesaplama'!$AM64=1,hesaplamalar!AG61,\"\")","v":""},{"$f":"IF('EK DERS Ücret Hesaplama'!$AM64=1,hesaplamalar!AH61,\"\")","v":""},{"$f":"IF('EK DERS Ücret Hesaplama'!$AM64=1,'EK DERS Ücret Hesaplama'!AE64,\"\")","v":""},{"$f":"IF('EK DERS Ücret Hesaplama'!$AM64=1,'EK DERS Ücret Hesaplama'!AG64,\"\")","v":""},{"$f":"IF('EK DERS Ücret Hesaplama'!$AM64=1,'EK DERS Ücret Hesaplama'!AF64,\"\")","v":""},{"$f":"IF('EK DERS Ücret Hesaplama'!$AM64=1,'EK DERS Ücret Hesaplama'!AH64,\"\")","v":""},{"$f":"IF('EK DERS Ücret Hesaplama'!$AM64=1,'EK DERS Ücret Hesaplama'!AI64,\"\")","v":""},{"$f":"IF('EK DERS Ücret Hesaplama'!$AM64=1,'EK DERS Ücret Hesaplama'!AJ64,\"\")","v":""},{"$f":"IF('EK DERS Ücret Hesaplama'!$AM64=1,'EK DERS Ücret Hesaplama'!AK64,\"\")","v":""},null,0]
[{"$f":"IF(AJ67=\"\",\"\",SUBTOTAL(103,$AJ$8:AJ67))","v":""},{"$f":"IF('EK DERS Ücret Hesaplama'!$AM65=1,'EK DERS Ücret Hesaplama'!B65,\"\")","v":""},{"$f":"IF('EK DERS Ücret Hesaplama'!$AM65=1,'EK DERS Ücret Hesaplama'!C65,\"\")","v":""},{"$f":"IF('EK DERS Ücret Hesaplama'!$AM65=1,IF('EK DERS Ücret Hesaplama'!D65=\"Ücretli Öğretmen\",\"Ücretli Öğr.\",\"Ücr.Öğr. (Emekli)\"),\"\")","v":""},{"$f":"IF('EK DERS Ücret Hesaplama'!$AM65=1,'EK DERS Ücret Hesaplama'!M65,\"\")","v":""},{"$f":"IF('EK DERS Ücret Hesaplama'!$AM65=1,'EK DERS Ücret Hesaplama'!N65,\"\")","v":""},{"$f":"IF('EK DERS Ücret Hesaplama'!$AM65=1,'EK DERS Ücret Hesaplama'!E65,\"\")","v":""},{"$f":"IF('EK DERS Ücret Hesaplama'!$AM65=1,'EK DERS Ücret Hesaplama'!F65,\"\")","v":""},{"$f":"IF('EK DERS Ücret Hesaplama'!$AM65=1,'EK DERS Ücret Hesaplama'!G65,\"\")","v":""},{"$f":"IF('EK DERS Ücret Hesaplama'!$AM65=1,'EK DERS Ücret Hesaplama'!H65,\"\")","v":""},{"$f":"IF('EK DERS Ücret Hesaplama'!$AM65=1,'EK DERS Ücret Hesaplama'!I65,\"\")","v":""},{"$f":"IF('EK DERS Ücret Hesaplama'!$AM65=1,'EK DERS Ücret Hesaplama'!J65,\"\")","v":""},{"$f":"IF('EK DERS Ücret Hesaplama'!$AM65=1,'EK DERS Ücret Hesaplama'!K65,\"\")","v":""},{"$f":"IF('EK DERS Ücret Hesaplama'!$AM65=1,'EK DERS Ücret Hesaplama'!L65,\"\")","v":""},{"$f":"IF('EK DERS Ücret Hesaplama'!$AM65=1,'EK DERS Ücret Hesaplama'!O65,\"\")","v":""},{"$f":"IF('EK DERS Ücret Hesaplama'!$AM65=1,'EK DERS Ücret Hesaplama'!P65,\"\")","v":""},{"$f":"IF('EK DERS Ücret Hesaplama'!$AM65=1,'EK DERS Ücret Hesaplama'!Q65,\"\")","v":""},{"$f":"IF('EK DERS Ücret Hesaplama'!$AM65=1,'EK DERS Ücret Hesaplama'!R65,\"\")","v":""},{"$f":"IF('EK DERS Ücret Hesaplama'!$AM65=1,'EK DERS Ücret Hesaplama'!S65,\"\")","v":""},{"$f":"IF('EK DERS Ücret Hesaplama'!$AM65=1,hesaplamalar!X62,\"\")","v":""},{"$f":"IF('EK DERS Ücret Hesaplama'!$AM65=1,hesaplamalar!Y62,\"\")","v":""},{"$f":"IF('EK DERS Ücret Hesaplama'!$AM65=1,hesaplamalar!Z62,\"\")","v":""},{"$f":"IF('EK DERS Ücret Hesaplama'!$AM65=1,hesaplamalar!AA62,\"\")","v":""},{"$f":"IF('EK DERS Ücret Hesaplama'!$AM65=1,hesaplamalar!AB62,\"\")","v":""},{"$f":"IF('EK DERS Ücret Hesaplama'!$AM65=1,hesaplamalar!AC62,\"\")","v":""},{"$f":"IF('EK DERS Ücret Hesaplama'!$AM65=1,hesaplamalar!AD62,\"\")","v":""},{"$f":"IF('EK DERS Ücret Hesaplama'!$AM65=1,hesaplamalar!AE62,\"\")","v":""},{"$f":"IF('EK DERS Ücret Hesaplama'!$AM65=1,hesaplamalar!AG62,\"\")","v":""},{"$f":"IF('EK DERS Ücret Hesaplama'!$AM65=1,hesaplamalar!AH62,\"\")","v":""},{"$f":"IF('EK DERS Ücret Hesaplama'!$AM65=1,'EK DERS Ücret Hesaplama'!AE65,\"\")","v":""},{"$f":"IF('EK DERS Ücret Hesaplama'!$AM65=1,'EK DERS Ücret Hesaplama'!AG65,\"\")","v":""},{"$f":"IF('EK DERS Ücret Hesaplama'!$AM65=1,'EK DERS Ücret Hesaplama'!AF65,\"\")","v":""},{"$f":"IF('EK DERS Ücret Hesaplama'!$AM65=1,'EK DERS Ücret Hesaplama'!AH65,\"\")","v":""},{"$f":"IF('EK DERS Ücret Hesaplama'!$AM65=1,'EK DERS Ücret Hesaplama'!AI65,\"\")","v":""},{"$f":"IF('EK DERS Ücret Hesaplama'!$AM65=1,'EK DERS Ücret Hesaplama'!AJ65,\"\")","v":""},{"$f":"IF('EK DERS Ücret Hesaplama'!$AM65=1,'EK DERS Ücret Hesaplama'!AK65,\"\")","v":""},null,0]
[{"$f":"IF(AJ68=\"\",\"\",SUBTOTAL(103,$AJ$8:AJ68))","v":""},{"$f":"IF('EK DERS Ücret Hesaplama'!$AM66=1,'EK DERS Ücret Hesaplama'!B66,\"\")","v":""},{"$f":"IF('EK DERS Ücret Hesaplama'!$AM66=1,'EK DERS Ücret Hesaplama'!C66,\"\")","v":""},{"$f":"IF('EK DERS Ücret Hesaplama'!$AM66=1,IF('EK DERS Ücret Hesaplama'!D66=\"Ücretli Öğretmen\",\"Ücretli Öğr.\",\"Ücr.Öğr. (Emekli)\"),\"\")","v":""},{"$f":"IF('EK DERS Ücret Hesaplama'!$AM66=1,'EK DERS Ücret Hesaplama'!M66,\"\")","v":""},{"$f":"IF('EK DERS Ücret Hesaplama'!$AM66=1,'EK DERS Ücret Hesaplama'!N66,\"\")","v":""},{"$f":"IF('EK DERS Ücret Hesaplama'!$AM66=1,'EK DERS Ücret Hesaplama'!E66,\"\")","v":""},{"$f":"IF('EK DERS Ücret Hesaplama'!$AM66=1,'EK DERS Ücret Hesaplama'!F66,\"\")","v":""},{"$f":"IF('EK DERS Ücret Hesaplama'!$AM66=1,'EK DERS Ücret Hesaplama'!G66,\"\")","v":""},{"$f":"IF('EK DERS Ücret Hesaplama'!$AM66=1,'EK DERS Ücret Hesaplama'!H66,\"\")","v":""},{"$f":"IF('EK DERS Ücret Hesaplama'!$AM66=1,'EK DERS Ücret Hesaplama'!I66,\"\")","v":""},{"$f":"IF('EK DERS Ücret Hesaplama'!$AM66=1,'EK DERS Ücret Hesaplama'!J66,\"\")","v":""},{"$f":"IF('EK DERS Ücret Hesaplama'!$AM66=1,'EK DERS Ücret Hesaplama'!K66,\"\")","v":""},{"$f":"IF('EK DERS Ücret Hesaplama'!$AM66=1,'EK DERS Ücret Hesaplama'!L66,\"\")","v":""},{"$f":"IF('EK DERS Ücret Hesaplama'!$AM66=1,'EK DERS Ücret Hesaplama'!O66,\"\")","v":""},{"$f":"IF('EK DERS Ücret Hesaplama'!$AM66=1,'EK DERS Ücret Hesaplama'!P66,\"\")","v":""},{"$f":"IF('EK DERS Ücret Hesaplama'!$AM66=1,'EK DERS Ücret Hesaplama'!Q66,\"\")","v":""},{"$f":"IF('EK DERS Ücret Hesaplama'!$AM66=1,'EK DERS Ücret Hesaplama'!R66,\"\")","v":""},{"$f":"IF('EK DERS Ücret Hesaplama'!$AM66=1,'EK DERS Ücret Hesaplama'!S66,\"\")","v":""},{"$f":"IF('EK DERS Ücret Hesaplama'!$AM66=1,hesaplamalar!X63,\"\")","v":""},{"$f":"IF('EK DERS Ücret Hesaplama'!$AM66=1,hesaplamalar!Y63,\"\")","v":""},{"$f":"IF('EK DERS Ücret Hesaplama'!$AM66=1,hesaplamalar!Z63,\"\")","v":""},{"$f":"IF('EK DERS Ücret Hesaplama'!$AM66=1,hesaplamalar!AA63,\"\")","v":""},{"$f":"IF('EK DERS Ücret Hesaplama'!$AM66=1,hesaplamalar!AB63,\"\")","v":""},{"$f":"IF('EK DERS Ücret Hesaplama'!$AM66=1,hesaplamalar!AC63,\"\")","v":""},{"$f":"IF('EK DERS Ücret Hesaplama'!$AM66=1,hesaplamalar!AD63,\"\")","v":""},{"$f":"IF('EK DERS Ücret Hesaplama'!$AM66=1,hesaplamalar!AE63,\"\")","v":""},{"$f":"IF('EK DERS Ücret Hesaplama'!$AM66=1,hesaplamalar!AG63,\"\")","v":""},{"$f":"IF('EK DERS Ücret Hesaplama'!$AM66=1,hesaplamalar!AH63,\"\")","v":""},{"$f":"IF('EK DERS Ücret Hesaplama'!$AM66=1,'EK DERS Ücret Hesaplama'!AE66,\"\")","v":""},{"$f":"IF('EK DERS Ücret Hesaplama'!$AM66=1,'EK DERS Ücret Hesaplama'!AG66,\"\")","v":""},{"$f":"IF('EK DERS Ücret Hesaplama'!$AM66=1,'EK DERS Ücret Hesaplama'!AF66,\"\")","v":""},{"$f":"IF('EK DERS Ücret Hesaplama'!$AM66=1,'EK DERS Ücret Hesaplama'!AH66,\"\")","v":""},{"$f":"IF('EK DERS Ücret Hesaplama'!$AM66=1,'EK DERS Ücret Hesaplama'!AI66,\"\")","v":""},{"$f":"IF('EK DERS Ücret Hesaplama'!$AM66=1,'EK DERS Ücret Hesaplama'!AJ66,\"\")","v":""},{"$f":"IF('EK DERS Ücret Hesaplama'!$AM66=1,'EK DERS Ücret Hesaplama'!AK66,\"\")","v":""},null,0]
[{"$f":"IF(AJ69=\"\",\"\",SUBTOTAL(103,$AJ$8:AJ69))","v":""},{"$f":"IF('EK DERS Ücret Hesaplama'!$AM67=1,'EK DERS Ücret Hesaplama'!B67,\"\")","v":""},{"$f":"IF('EK DERS Ücret Hesaplama'!$AM67=1,'EK DERS Ücret Hesaplama'!C67,\"\")","v":""},{"$f":"IF('EK DERS Ücret Hesaplama'!$AM67=1,IF('EK DERS Ücret Hesaplama'!D67=\"Ücretli Öğretmen\",\"Ücretli Öğr.\",\"Ücr.Öğr. (Emekli)\"),\"\")","v":""},{"$f":"IF('EK DERS Ücret Hesaplama'!$AM67=1,'EK DERS Ücret Hesaplama'!M67,\"\")","v":""},{"$f":"IF('EK DERS Ücret Hesaplama'!$AM67=1,'EK DERS Ücret Hesaplama'!N67,\"\")","v":""},{"$f":"IF('EK DERS Ücret Hesaplama'!$AM67=1,'EK DERS Ücret Hesaplama'!E67,\"\")","v":""},{"$f":"IF('EK DERS Ücret Hesaplama'!$AM67=1,'EK DERS Ücret Hesaplama'!F67,\"\")","v":""},{"$f":"IF('EK DERS Ücret Hesaplama'!$AM67=1,'EK DERS Ücret Hesaplama'!G67,\"\")","v":""},{"$f":"IF('EK DERS Ücret Hesaplama'!$AM67=1,'EK DERS Ücret Hesaplama'!H67,\"\")","v":""},{"$f":"IF('EK DERS Ücret Hesaplama'!$AM67=1,'EK DERS Ücret Hesaplama'!I67,\"\")","v":""},{"$f":"IF('EK DERS Ücret Hesaplama'!$AM67=1,'EK DERS Ücret Hesaplama'!J67,\"\")","v":""},{"$f":"IF('EK DERS Ücret Hesaplama'!$AM67=1,'EK DERS Ücret Hesaplama'!K67,\"\")","v":""},{"$f":"IF('EK DERS Ücret Hesaplama'!$AM67=1,'EK DERS Ücret Hesaplama'!L67,\"\")","v":""},{"$f":"IF('EK DERS Ücret Hesaplama'!$AM67=1,'EK DERS Ücret Hesaplama'!O67,\"\")","v":""},{"$f":"IF('EK DERS Ücret Hesaplama'!$AM67=1,'EK DERS Ücret Hesaplama'!P67,\"\")","v":""},{"$f":"IF('EK DERS Ücret Hesaplama'!$AM67=1,'EK DERS Ücret Hesaplama'!Q67,\"\")","v":""},{"$f":"IF('EK DERS Ücret Hesaplama'!$AM67=1,'EK DERS Ücret Hesaplama'!R67,\"\")","v":""},{"$f":"IF('EK DERS Ücret Hesaplama'!$AM67=1,'EK DERS Ücret Hesaplama'!S67,\"\")","v":""},{"$f":"IF('EK DERS Ücret Hesaplama'!$AM67=1,hesaplamalar!X64,\"\")","v":""},{"$f":"IF('EK DERS Ücret Hesaplama'!$AM67=1,hesaplamalar!Y64,\"\")","v":""},{"$f":"IF('EK DERS Ücret Hesaplama'!$AM67=1,hesaplamalar!Z64,\"\")","v":""},{"$f":"IF('EK DERS Ücret Hesaplama'!$AM67=1,hesaplamalar!AA64,\"\")","v":""},{"$f":"IF('EK DERS Ücret Hesaplama'!$AM67=1,hesaplamalar!AB64,\"\")","v":""},{"$f":"IF('EK DERS Ücret Hesaplama'!$AM67=1,hesaplamalar!AC64,\"\")","v":""},{"$f":"IF('EK DERS Ücret Hesaplama'!$AM67=1,hesaplamalar!AD64,\"\")","v":""},{"$f":"IF('EK DERS Ücret Hesaplama'!$AM67=1,hesaplamalar!AE64,\"\")","v":""},{"$f":"IF('EK DERS Ücret Hesaplama'!$AM67=1,hesaplamalar!AG64,\"\")","v":""},{"$f":"IF('EK DERS Ücret Hesaplama'!$AM67=1,hesaplamalar!AH64,\"\")","v":""},{"$f":"IF('EK DERS Ücret Hesaplama'!$AM67=1,'EK DERS Ücret Hesaplama'!AE67,\"\")","v":""},{"$f":"IF('EK DERS Ücret Hesaplama'!$AM67=1,'EK DERS Ücret Hesaplama'!AG67,\"\")","v":""},{"$f":"IF('EK DERS Ücret Hesaplama'!$AM67=1,'EK DERS Ücret Hesaplama'!AF67,\"\")","v":""},{"$f":"IF('EK DERS Ücret Hesaplama'!$AM67=1,'EK DERS Ücret Hesaplama'!AH67,\"\")","v":""},{"$f":"IF('EK DERS Ücret Hesaplama'!$AM67=1,'EK DERS Ücret Hesaplama'!AI67,\"\")","v":""},{"$f":"IF('EK DERS Ücret Hesaplama'!$AM67=1,'EK DERS Ücret Hesaplama'!AJ67,\"\")","v":""},{"$f":"IF('EK DERS Ücret Hesaplama'!$AM67=1,'EK DERS Ücret Hesaplama'!AK67,\"\")","v":""},null,0]
[{"$f":"IF(AJ70=\"\",\"\",SUBTOTAL(103,$AJ$8:AJ70))","v":""},{"$f":"IF('EK DERS Ücret Hesaplama'!$AM68=1,'EK DERS Ücret Hesaplama'!B68,\"\")","v":""},{"$f":"IF('EK DERS Ücret Hesaplama'!$AM68=1,'EK DERS Ücret Hesaplama'!C68,\"\")","v":""},{"$f":"IF('EK DERS Ücret Hesaplama'!$AM68=1,IF('EK DERS Ücret Hesaplama'!D68=\"Ücretli Öğretmen\",\"Ücretli Öğr.\",\"Ücr.Öğr. (Emekli)\"),\"\")","v":""},{"$f":"IF('EK DERS Ücret Hesaplama'!$AM68=1,'EK DERS Ücret Hesaplama'!M68,\"\")","v":""},{"$f":"IF('EK DERS Ücret Hesaplama'!$AM68=1,'EK DERS Ücret Hesaplama'!N68,\"\")","v":""},{"$f":"IF('EK DERS Ücret Hesaplama'!$AM68=1,'EK DERS Ücret Hesaplama'!E68,\"\")","v":""},{"$f":"IF('EK DERS Ücret Hesaplama'!$AM68=1,'EK DERS Ücret Hesaplama'!F68,\"\")","v":""},{"$f":"IF('EK DERS Ücret Hesaplama'!$AM68=1,'EK DERS Ücret Hesaplama'!G68,\"\")","v":""},{"$f":"IF('EK DERS Ücret Hesaplama'!$AM68=1,'EK DERS Ücret Hesaplama'!H68,\"\")","v":""},{"$f":"IF('EK DERS Ücret Hesaplama'!$AM68=1,'EK DERS Ücret Hesaplama'!I68,\"\")","v":""},{"$f":"IF('EK DERS Ücret Hesaplama'!$AM68=1,'EK DERS Ücret Hesaplama'!J68,\"\")","v":""},{"$f":"IF('EK DERS Ücret Hesaplama'!$AM68=1,'EK DERS Ücret Hesaplama'!K68,\"\")","v":""},{"$f":"IF('EK DERS Ücret Hesaplama'!$AM68=1,'EK DERS Ücret Hesaplama'!L68,\"\")","v":""},{"$f":"IF('EK DERS Ücret Hesaplama'!$AM68=1,'EK DERS Ücret Hesaplama'!O68,\"\")","v":""},{"$f":"IF('EK DERS Ücret Hesaplama'!$AM68=1,'EK DERS Ücret Hesaplama'!P68,\"\")","v":""},{"$f":"IF('EK DERS Ücret Hesaplama'!$AM68=1,'EK DERS Ücret Hesaplama'!Q68,\"\")","v":""},{"$f":"IF('EK DERS Ücret Hesaplama'!$AM68=1,'EK DERS Ücret Hesaplama'!R68,\"\")","v":""},{"$f":"IF('EK DERS Ücret Hesaplama'!$AM68=1,'EK DERS Ücret Hesaplama'!S68,\"\")","v":""},{"$f":"IF('EK DERS Ücret Hesaplama'!$AM68=1,hesaplamalar!X65,\"\")","v":""},{"$f":"IF('EK DERS Ücret Hesaplama'!$AM68=1,hesaplamalar!Y65,\"\")","v":""},{"$f":"IF('EK DERS Ücret Hesaplama'!$AM68=1,hesaplamalar!Z65,\"\")","v":""},{"$f":"IF('EK DERS Ücret Hesaplama'!$AM68=1,hesaplamalar!AA65,\"\")","v":""},{"$f":"IF('EK DERS Ücret Hesaplama'!$AM68=1,hesaplamalar!AB65,\"\")","v":""},{"$f":"IF('EK DERS Ücret Hesaplama'!$AM68=1,hesaplamalar!AC65,\"\")","v":""},{"$f":"IF('EK DERS Ücret Hesaplama'!$AM68=1,hesaplamalar!AD65,\"\")","v":""},{"$f":"IF('EK DERS Ücret Hesaplama'!$AM68=1,hesaplamalar!AE65,\"\")","v":""},{"$f":"IF('EK DERS Ücret Hesaplama'!$AM68=1,hesaplamalar!AG65,\"\")","v":""},{"$f":"IF('EK DERS Ücret Hesaplama'!$AM68=1,hesaplamalar!AH65,\"\")","v":""},{"$f":"IF('EK DERS Ücret Hesaplama'!$AM68=1,'EK DERS Ücret Hesaplama'!AE68,\"\")","v":""},{"$f":"IF('EK DERS Ücret Hesaplama'!$AM68=1,'EK DERS Ücret Hesaplama'!AG68,\"\")","v":""},{"$f":"IF('EK DERS Ücret Hesaplama'!$AM68=1,'EK DERS Ücret Hesaplama'!AF68,\"\")","v":""},{"$f":"IF('EK DERS Ücret Hesaplama'!$AM68=1,'EK DERS Ücret Hesaplama'!AH68,\"\")","v":""},{"$f":"IF('EK DERS Ücret Hesaplama'!$AM68=1,'EK DERS Ücret Hesaplama'!AI68,\"\")","v":""},{"$f":"IF('EK DERS Ücret Hesaplama'!$AM68=1,'EK DERS Ücret Hesaplama'!AJ68,\"\")","v":""},{"$f":"IF('EK DERS Ücret Hesaplama'!$AM68=1,'EK DERS Ücret Hesaplama'!AK68,\"\")","v":""},null,0]
[{"$f":"IF(AJ71=\"\",\"\",SUBTOTAL(103,$AJ$8:AJ71))","v":""},{"$f":"IF('EK DERS Ücret Hesaplama'!$AM69=1,'EK DERS Ücret Hesaplama'!B69,\"\")","v":""},{"$f":"IF('EK DERS Ücret Hesaplama'!$AM69=1,'EK DERS Ücret Hesaplama'!C69,\"\")","v":""},{"$f":"IF('EK DERS Ücret Hesaplama'!$AM69=1,IF('EK DERS Ücret Hesaplama'!D69=\"Ücretli Öğretmen\",\"Ücretli Öğr.\",\"Ücr.Öğr. (Emekli)\"),\"\")","v":""},{"$f":"IF('EK DERS Ücret Hesaplama'!$AM69=1,'EK DERS Ücret Hesaplama'!M69,\"\")","v":""},{"$f":"IF('EK DERS Ücret Hesaplama'!$AM69=1,'EK DERS Ücret Hesaplama'!N69,\"\")","v":""},{"$f":"IF('EK DERS Ücret Hesaplama'!$AM69=1,'EK DERS Ücret Hesaplama'!E69,\"\")","v":""},{"$f":"IF('EK DERS Ücret Hesaplama'!$AM69=1,'EK DERS Ücret Hesaplama'!F69,\"\")","v":""},{"$f":"IF('EK DERS Ücret Hesaplama'!$AM69=1,'EK DERS Ücret Hesaplama'!G69,\"\")","v":""},{"$f":"IF('EK DERS Ücret Hesaplama'!$AM69=1,'EK DERS Ücret Hesaplama'!H69,\"\")","v":""},{"$f":"IF('EK DERS Ücret Hesaplama'!$AM69=1,'EK DERS Ücret Hesaplama'!I69,\"\")","v":""},{"$f":"IF('EK DERS Ücret Hesaplama'!$AM69=1,'EK DERS Ücret Hesaplama'!J69,\"\")","v":""},{"$f":"IF('EK DERS Ücret Hesaplama'!$AM69=1,'EK DERS Ücret Hesaplama'!K69,\"\")","v":""},{"$f":"IF('EK DERS Ücret Hesaplama'!$AM69=1,'EK DERS Ücret Hesaplama'!L69,\"\")","v":""},{"$f":"IF('EK DERS Ücret Hesaplama'!$AM69=1,'EK DERS Ücret Hesaplama'!O69,\"\")","v":""},{"$f":"IF('EK DERS Ücret Hesaplama'!$AM69=1,'EK DERS Ücret Hesaplama'!P69,\"\")","v":""},{"$f":"IF('EK DERS Ücret Hesaplama'!$AM69=1,'EK DERS Ücret Hesaplama'!Q69,\"\")","v":""},{"$f":"IF('EK DERS Ücret Hesaplama'!$AM69=1,'EK DERS Ücret Hesaplama'!R69,\"\")","v":""},{"$f":"IF('EK DERS Ücret Hesaplama'!$AM69=1,'EK DERS Ücret Hesaplama'!S69,\"\")","v":""},{"$f":"IF('EK DERS Ücret Hesaplama'!$AM69=1,hesaplamalar!X66,\"\")","v":""},{"$f":"IF('EK DERS Ücret Hesaplama'!$AM69=1,hesaplamalar!Y66,\"\")","v":""},{"$f":"IF('EK DERS Ücret Hesaplama'!$AM69=1,hesaplamalar!Z66,\"\")","v":""},{"$f":"IF('EK DERS Ücret Hesaplama'!$AM69=1,hesaplamalar!AA66,\"\")","v":""},{"$f":"IF('EK DERS Ücret Hesaplama'!$AM69=1,hesaplamalar!AB66,\"\")","v":""},{"$f":"IF('EK DERS Ücret Hesaplama'!$AM69=1,hesaplamalar!AC66,\"\")","v":""},{"$f":"IF('EK DERS Ücret Hesaplama'!$AM69=1,hesaplamalar!AD66,\"\")","v":""},{"$f":"IF('EK DERS Ücret Hesaplama'!$AM69=1,hesaplamalar!AE66,\"\")","v":""},{"$f":"IF('EK DERS Ücret Hesaplama'!$AM69=1,hesaplamalar!AG66,\"\")","v":""},{"$f":"IF('EK DERS Ücret Hesaplama'!$AM69=1,hesaplamalar!AH66,\"\")","v":""},{"$f":"IF('EK DERS Ücret Hesaplama'!$AM69=1,'EK DERS Ücret Hesaplama'!AE69,\"\")","v":""},{"$f":"IF('EK DERS Ücret Hesaplama'!$AM69=1,'EK DERS Ücret Hesaplama'!AG69,\"\")","v":""},{"$f":"IF('EK DERS Ücret Hesaplama'!$AM69=1,'EK DERS Ücret Hesaplama'!AF69,\"\")","v":""},{"$f":"IF('EK DERS Ücret Hesaplama'!$AM69=1,'EK DERS Ücret Hesaplama'!AH69,\"\")","v":""},{"$f":"IF('EK DERS Ücret Hesaplama'!$AM69=1,'EK DERS Ücret Hesaplama'!AI69,\"\")","v":""},{"$f":"IF('EK DERS Ücret Hesaplama'!$AM69=1,'EK DERS Ücret Hesaplama'!AJ69,\"\")","v":""},{"$f":"IF('EK DERS Ücret Hesaplama'!$AM69=1,'EK DERS Ücret Hesaplama'!AK69,\"\")","v":""},null,0]
[{"$f":"IF(AJ72=\"\",\"\",SUBTOTAL(103,$AJ$8:AJ72))","v":""},{"$f":"IF('EK DERS Ücret Hesaplama'!$AM70=1,'EK DERS Ücret Hesaplama'!B70,\"\")","v":""},{"$f":"IF('EK DERS Ücret Hesaplama'!$AM70=1,'EK DERS Ücret Hesaplama'!C70,\"\")","v":""},{"$f":"IF('EK DERS Ücret Hesaplama'!$AM70=1,IF('EK DERS Ücret Hesaplama'!D70=\"Ücretli Öğretmen\",\"Ücretli Öğr.\",\"Ücr.Öğr. (Emekli)\"),\"\")","v":""},{"$f":"IF('EK DERS Ücret Hesaplama'!$AM70=1,'EK DERS Ücret Hesaplama'!M70,\"\")","v":""},{"$f":"IF('EK DERS Ücret Hesaplama'!$AM70=1,'EK DERS Ücret Hesaplama'!N70,\"\")","v":""},{"$f":"IF('EK DERS Ücret Hesaplama'!$AM70=1,'EK DERS Ücret Hesaplama'!E70,\"\")","v":""},{"$f":"IF('EK DERS Ücret Hesaplama'!$AM70=1,'EK DERS Ücret Hesaplama'!F70,\"\")","v":""},{"$f":"IF('EK DERS Ücret Hesaplama'!$AM70=1,'EK DERS Ücret Hesaplama'!G70,\"\")","v":""},{"$f":"IF('EK DERS Ücret Hesaplama'!$AM70=1,'EK DERS Ücret Hesaplama'!H70,\"\")","v":""},{"$f":"IF('EK DERS Ücret Hesaplama'!$AM70=1,'EK DERS Ücret Hesaplama'!I70,\"\")","v":""},{"$f":"IF('EK DERS Ücret Hesaplama'!$AM70=1,'EK DERS Ücret Hesaplama'!J70,\"\")","v":""},{"$f":"IF('EK DERS Ücret Hesaplama'!$AM70=1,'EK DERS Ücret Hesaplama'!K70,\"\")","v":""},{"$f":"IF('EK DERS Ücret Hesaplama'!$AM70=1,'EK DERS Ücret Hesaplama'!L70,\"\")","v":""},{"$f":"IF('EK DERS Ücret Hesaplama'!$AM70=1,'EK DERS Ücret Hesaplama'!O70,\"\")","v":""},{"$f":"IF('EK DERS Ücret Hesaplama'!$AM70=1,'EK DERS Ücret Hesaplama'!P70,\"\")","v":""},{"$f":"IF('EK DERS Ücret Hesaplama'!$AM70=1,'EK DERS Ücret Hesaplama'!Q70,\"\")","v":""},{"$f":"IF('EK DERS Ücret Hesaplama'!$AM70=1,'EK DERS Ücret Hesaplama'!R70,\"\")","v":""},{"$f":"IF('EK DERS Ücret Hesaplama'!$AM70=1,'EK DERS Ücret Hesaplama'!S70,\"\")","v":""},{"$f":"IF('EK DERS Ücret Hesaplama'!$AM70=1,hesaplamalar!X67,\"\")","v":""},{"$f":"IF('EK DERS Ücret Hesaplama'!$AM70=1,hesaplamalar!Y67,\"\")","v":""},{"$f":"IF('EK DERS Ücret Hesaplama'!$AM70=1,hesaplamalar!Z67,\"\")","v":""},{"$f":"IF('EK DERS Ücret Hesaplama'!$AM70=1,hesaplamalar!AA67,\"\")","v":""},{"$f":"IF('EK DERS Ücret Hesaplama'!$AM70=1,hesaplamalar!AB67,\"\")","v":""},{"$f":"IF('EK DERS Ücret Hesaplama'!$AM70=1,hesaplamalar!AC67,\"\")","v":""},{"$f":"IF('EK DERS Ücret Hesaplama'!$AM70=1,hesaplamalar!AD67,\"\")","v":""},{"$f":"IF('EK DERS Ücret Hesaplama'!$AM70=1,hesaplamalar!AE67,\"\")","v":""},{"$f":"IF('EK DERS Ücret Hesaplama'!$AM70=1,hesaplamalar!AG67,\"\")","v":""},{"$f":"IF('EK DERS Ücret Hesaplama'!$AM70=1,hesaplamalar!AH67,\"\")","v":""},{"$f":"IF('EK DERS Ücret Hesaplama'!$AM70=1,'EK DERS Ücret Hesaplama'!AE70,\"\")","v":""},{"$f":"IF('EK DERS Ücret Hesaplama'!$AM70=1,'EK DERS Ücret Hesaplama'!AG70,\"\")","v":""},{"$f":"IF('EK DERS Ücret Hesaplama'!$AM70=1,'EK DERS Ücret Hesaplama'!AF70,\"\")","v":""},{"$f":"IF('EK DERS Ücret Hesaplama'!$AM70=1,'EK DERS Ücret Hesaplama'!AH70,\"\")","v":""},{"$f":"IF('EK DERS Ücret Hesaplama'!$AM70=1,'EK DERS Ücret Hesaplama'!AI70,\"\")","v":""},{"$f":"IF('EK DERS Ücret Hesaplama'!$AM70=1,'EK DERS Ücret Hesaplama'!AJ70,\"\")","v":""},{"$f":"IF('EK DERS Ücret Hesaplama'!$AM70=1,'EK DERS Ücret Hesaplama'!AK70,\"\")","v":""},null,0]
[{"$f":"IF(AJ73=\"\",\"\",SUBTOTAL(103,$AJ$8:AJ73))","v":""},{"$f":"IF('EK DERS Ücret Hesaplama'!$AM71=1,'EK DERS Ücret Hesaplama'!B71,\"\")","v":""},{"$f":"IF('EK DERS Ücret Hesaplama'!$AM71=1,'EK DERS Ücret Hesaplama'!C71,\"\")","v":""},{"$f":"IF('EK DERS Ücret Hesaplama'!$AM71=1,IF('EK DERS Ücret Hesaplama'!D71=\"Ücretli Öğretmen\",\"Ücretli Öğr.\",\"Ücr.Öğr. (Emekli)\"),\"\")","v":""},{"$f":"IF('EK DERS Ücret Hesaplama'!$AM71=1,'EK DERS Ücret Hesaplama'!M71,\"\")","v":""},{"$f":"IF('EK DERS Ücret Hesaplama'!$AM71=1,'EK DERS Ücret Hesaplama'!N71,\"\")","v":""},{"$f":"IF('EK DERS Ücret Hesaplama'!$AM71=1,'EK DERS Ücret Hesaplama'!E71,\"\")","v":""},{"$f":"IF('EK DERS Ücret Hesaplama'!$AM71=1,'EK DERS Ücret Hesaplama'!F71,\"\")","v":""},{"$f":"IF('EK DERS Ücret Hesaplama'!$AM71=1,'EK DERS Ücret Hesaplama'!G71,\"\")","v":""},{"$f":"IF('EK DERS Ücret Hesaplama'!$AM71=1,'EK DERS Ücret Hesaplama'!H71,\"\")","v":""},{"$f":"IF('EK DERS Ücret Hesaplama'!$AM71=1,'EK DERS Ücret Hesaplama'!I71,\"\")","v":""},{"$f":"IF('EK DERS Ücret Hesaplama'!$AM71=1,'EK DERS Ücret Hesaplama'!J71,\"\")","v":""},{"$f":"IF('EK DERS Ücret Hesaplama'!$AM71=1,'EK DERS Ücret Hesaplama'!K71,\"\")","v":""},{"$f":"IF('EK DERS Ücret Hesaplama'!$AM71=1,'EK DERS Ücret Hesaplama'!L71,\"\")","v":""},{"$f":"IF('EK DERS Ücret Hesaplama'!$AM71=1,'EK DERS Ücret Hesaplama'!O71,\"\")","v":""},{"$f":"IF('EK DERS Ücret Hesaplama'!$AM71=1,'EK DERS Ücret Hesaplama'!P71,\"\")","v":""},{"$f":"IF('EK DERS Ücret Hesaplama'!$AM71=1,'EK DERS Ücret Hesaplama'!Q71,\"\")","v":""},{"$f":"IF('EK DERS Ücret Hesaplama'!$AM71=1,'EK DERS Ücret Hesaplama'!R71,\"\")","v":""},{"$f":"IF('EK DERS Ücret Hesaplama'!$AM71=1,'EK DERS Ücret Hesaplama'!S71,\"\")","v":""},{"$f":"IF('EK DERS Ücret Hesaplama'!$AM71=1,hesaplamalar!X68,\"\")","v":""},{"$f":"IF('EK DERS Ücret Hesaplama'!$AM71=1,hesaplamalar!Y68,\"\")","v":""},{"$f":"IF('EK DERS Ücret Hesaplama'!$AM71=1,hesaplamalar!Z68,\"\")","v":""},{"$f":"IF('EK DERS Ücret Hesaplama'!$AM71=1,hesaplamalar!AA68,\"\")","v":""},{"$f":"IF('EK DERS Ücret Hesaplama'!$AM71=1,hesaplamalar!AB68,\"\")","v":""},{"$f":"IF('EK DERS Ücret Hesaplama'!$AM71=1,hesaplamalar!AC68,\"\")","v":""},{"$f":"IF('EK DERS Ücret Hesaplama'!$AM71=1,hesaplamalar!AD68,\"\")","v":""},{"$f":"IF('EK DERS Ücret Hesaplama'!$AM71=1,hesaplamalar!AE68,\"\")","v":""},{"$f":"IF('EK DERS Ücret Hesaplama'!$AM71=1,hesaplamalar!AG68,\"\")","v":""},{"$f":"IF('EK DERS Ücret Hesaplama'!$AM71=1,hesaplamalar!AH68,\"\")","v":""},{"$f":"IF('EK DERS Ücret Hesaplama'!$AM71=1,'EK DERS Ücret Hesaplama'!AE71,\"\")","v":""},{"$f":"IF('EK DERS Ücret Hesaplama'!$AM71=1,'EK DERS Ücret Hesaplama'!AG71,\"\")","v":""},{"$f":"IF('EK DERS Ücret Hesaplama'!$AM71=1,'EK DERS Ücret Hesaplama'!AF71,\"\")","v":""},{"$f":"IF('EK DERS Ücret Hesaplama'!$AM71=1,'EK DERS Ücret Hesaplama'!AH71,\"\")","v":""},{"$f":"IF('EK DERS Ücret Hesaplama'!$AM71=1,'EK DERS Ücret Hesaplama'!AI71,\"\")","v":""},{"$f":"IF('EK DERS Ücret Hesaplama'!$AM71=1,'EK DERS Ücret Hesaplama'!AJ71,\"\")","v":""},{"$f":"IF('EK DERS Ücret Hesaplama'!$AM71=1,'EK DERS Ücret Hesaplama'!AK71,\"\")","v":""},null,{"$f":"IF(AJ73=\"\",0,1)","v":0}]
[{"$f":"IF(AJ74=\"\",\"\",SUBTOTAL(103,$AJ$8:AJ74))","v":""},{"$f":"IF('EK DERS Ücret Hesaplama'!$AM72=1,'EK DERS Ücret Hesaplama'!B72,\"\")","v":""},{"$f":"IF('EK DERS Ücret Hesaplama'!$AM72=1,'EK DERS Ücret Hesaplama'!C72,\"\")","v":""},{"$f":"IF('EK DERS Ücret Hesaplama'!$AM72=1,IF('EK DERS Ücret Hesaplama'!D72=\"Ücretli Öğretmen\",\"Ücretli Öğr.\",\"Ücr.Öğr. (Emekli)\"),\"\")","v":""},{"$f":"IF('EK DERS Ücret Hesaplama'!$AM72=1,'EK DERS Ücret Hesaplama'!M72,\"\")","v":""},{"$f":"IF('EK DERS Ücret Hesaplama'!$AM72=1,'EK DERS Ücret Hesaplama'!N72,\"\")","v":""},{"$f":"IF('EK DERS Ücret Hesaplama'!$AM72=1,'EK DERS Ücret Hesaplama'!E72,\"\")","v":""},{"$f":"IF('EK DERS Ücret Hesaplama'!$AM72=1,'EK DERS Ücret Hesaplama'!F72,\"\")","v":""},{"$f":"IF('EK DERS Ücret Hesaplama'!$AM72=1,'EK DERS Ücret Hesaplama'!G72,\"\")","v":""},{"$f":"IF('EK DERS Ücret Hesaplama'!$AM72=1,'EK DERS Ücret Hesaplama'!H72,\"\")","v":""},{"$f":"IF('EK DERS Ücret Hesaplama'!$AM72=1,'EK DERS Ücret Hesaplama'!I72,\"\")","v":""},{"$f":"IF('EK DERS Ücret Hesaplama'!$AM72=1,'EK DERS Ücret Hesaplama'!J72,\"\")","v":""},{"$f":"IF('EK DERS Ücret Hesaplama'!$AM72=1,'EK DERS Ücret Hesaplama'!K72,\"\")","v":""},{"$f":"IF('EK DERS Ücret Hesaplama'!$AM72=1,'EK DERS Ücret Hesaplama'!L72,\"\")","v":""},{"$f":"IF('EK DERS Ücret Hesaplama'!$AM72=1,'EK DERS Ücret Hesaplama'!O72,\"\")","v":""},{"$f":"IF('EK DERS Ücret Hesaplama'!$AM72=1,'EK DERS Ücret Hesaplama'!P72,\"\")","v":""},{"$f":"IF('EK DERS Ücret Hesaplama'!$AM72=1,'EK DERS Ücret Hesaplama'!Q72,\"\")","v":""},{"$f":"IF('EK DERS Ücret Hesaplama'!$AM72=1,'EK DERS Ücret Hesaplama'!R72,\"\")","v":""},{"$f":"IF('EK DERS Ücret Hesaplama'!$AM72=1,'EK DERS Ücret Hesaplama'!S72,\"\")","v":""},{"$f":"IF('EK DERS Ücret Hesaplama'!$AM72=1,hesaplamalar!X69,\"\")","v":""},{"$f":"IF('EK DERS Ücret Hesaplama'!$AM72=1,hesaplamalar!Y69,\"\")","v":""},{"$f":"IF('EK DERS Ücret Hesaplama'!$AM72=1,hesaplamalar!Z69,\"\")","v":""},{"$f":"IF('EK DERS Ücret Hesaplama'!$AM72=1,hesaplamalar!AA69,\"\")","v":""},{"$f":"IF('EK DERS Ücret Hesaplama'!$AM72=1,hesaplamalar!AB69,\"\")","v":""},{"$f":"IF('EK DERS Ücret Hesaplama'!$AM72=1,hesaplamalar!AC69,\"\")","v":""},{"$f":"IF('EK DERS Ücret Hesaplama'!$AM72=1,hesaplamalar!AD69,\"\")","v":""},{"$f":"IF('EK DERS Ücret Hesaplama'!$AM72=1,hesaplamalar!AE69,\"\")","v":""},{"$f":"IF('EK DERS Ücret Hesaplama'!$AM72=1,hesaplamalar!AG69,\"\")","v":""},{"$f":"IF('EK DERS Ücret Hesaplama'!$AM72=1,hesaplamalar!AH69,\"\")","v":""},{"$f":"IF('EK DERS Ücret Hesaplama'!$AM72=1,'EK DERS Ücret Hesaplama'!AE72,\"\")","v":""},{"$f":"IF('EK DERS Ücret Hesaplama'!$AM72=1,'EK DERS Ücret Hesaplama'!AG72,\"\")","v":""},{"$f":"IF('EK DERS Ücret Hesaplama'!$AM72=1,'EK DERS Ücret Hesaplama'!AF72,\"\")","v":""},{"$f":"IF('EK DERS Ücret Hesaplama'!$AM72=1,'EK DERS Ücret Hesaplama'!AH72,\"\")","v":""},{"$f":"IF('EK DERS Ücret Hesaplama'!$AM72=1,'EK DERS Ücret Hesaplama'!AI72,\"\")","v":""},{"$f":"IF('EK DERS Ücret Hesaplama'!$AM72=1,'EK DERS Ücret Hesaplama'!AJ72,\"\")","v":""},{"$f":"IF('EK DERS Ücret Hesaplama'!$AM72=1,'EK DERS Ücret Hesaplama'!AK72,\"\")","v":""},null,0]
[{"$f":"IF(AJ75=\"\",\"\",SUBTOTAL(103,$AJ$8:AJ75))","v":""},{"$f":"IF('EK DERS Ücret Hesaplama'!$AM73=1,'EK DERS Ücret Hesaplama'!B73,\"\")","v":""},{"$f":"IF('EK DERS Ücret Hesaplama'!$AM73=1,'EK DERS Ücret Hesaplama'!C73,\"\")","v":""},{"$f":"IF('EK DERS Ücret Hesaplama'!$AM73=1,IF('EK DERS Ücret Hesaplama'!D73=\"Ücretli Öğretmen\",\"Ücretli Öğr.\",\"Ücr.Öğr. (Emekli)\"),\"\")","v":""},{"$f":"IF('EK DERS Ücret Hesaplama'!$AM73=1,'EK DERS Ücret Hesaplama'!M73,\"\")","v":""},{"$f":"IF('EK DERS Ücret Hesaplama'!$AM73=1,'EK DERS Ücret Hesaplama'!N73,\"\")","v":""},{"$f":"IF('EK DERS Ücret Hesaplama'!$AM73=1,'EK DERS Ücret Hesaplama'!E73,\"\")","v":""},{"$f":"IF('EK DERS Ücret Hesaplama'!$AM73=1,'EK DERS Ücret Hesaplama'!F73,\"\")","v":""},{"$f":"IF('EK DERS Ücret Hesaplama'!$AM73=1,'EK DERS Ücret Hesaplama'!G73,\"\")","v":""},{"$f":"IF('EK DERS Ücret Hesaplama'!$AM73=1,'EK DERS Ücret Hesaplama'!H73,\"\")","v":""},{"$f":"IF('EK DERS Ücret Hesaplama'!$AM73=1,'EK DERS Ücret Hesaplama'!I73,\"\")","v":""},{"$f":"IF('EK DERS Ücret Hesaplama'!$AM73=1,'EK DERS Ücret Hesaplama'!J73,\"\")","v":""},{"$f":"IF('EK DERS Ücret Hesaplama'!$AM73=1,'EK DERS Ücret Hesaplama'!K73,\"\")","v":""},{"$f":"IF('EK DERS Ücret Hesaplama'!$AM73=1,'EK DERS Ücret Hesaplama'!L73,\"\")","v":""},{"$f":"IF('EK DERS Ücret Hesaplama'!$AM73=1,'EK DERS Ücret Hesaplama'!O73,\"\")","v":""},{"$f":"IF('EK DERS Ücret Hesaplama'!$AM73=1,'EK DERS Ücret Hesaplama'!P73,\"\")","v":""},{"$f":"IF('EK DERS Ücret Hesaplama'!$AM73=1,'EK DERS Ücret Hesaplama'!Q73,\"\")","v":""},{"$f":"IF('EK DERS Ücret Hesaplama'!$AM73=1,'EK DERS Ücret Hesaplama'!R73,\"\")","v":""},{"$f":"IF('EK DERS Ücret Hesaplama'!$AM73=1,'EK DERS Ücret Hesaplama'!S73,\"\")","v":""},{"$f":"IF('EK DERS Ücret Hesaplama'!$AM73=1,hesaplamalar!X70,\"\")","v":""},{"$f":"IF('EK DERS Ücret Hesaplama'!$AM73=1,hesaplamalar!Y70,\"\")","v":""},{"$f":"IF('EK DERS Ücret Hesaplama'!$AM73=1,hesaplamalar!Z70,\"\")","v":""},{"$f":"IF('EK DERS Ücret Hesaplama'!$AM73=1,hesaplamalar!AA70,\"\")","v":""},{"$f":"IF('EK DERS Ücret Hesaplama'!$AM73=1,hesaplamalar!AB70,\"\")","v":""},{"$f":"IF('EK DERS Ücret Hesaplama'!$AM73=1,hesaplamalar!AC70,\"\")","v":""},{"$f":"IF('EK DERS Ücret Hesaplama'!$AM73=1,hesaplamalar!AD70,\"\")","v":""},{"$f":"IF('EK DERS Ücret Hesaplama'!$AM73=1,hesaplamalar!AE70,\"\")","v":""},{"$f":"IF('EK DERS Ücret Hesaplama'!$AM73=1,hesaplamalar!AG70,\"\")","v":""},{"$f":"IF('EK DERS Ücret Hesaplama'!$AM73=1,hesaplamalar!AH70,\"\")","v":""},{"$f":"IF('EK DERS Ücret Hesaplama'!$AM73=1,'EK DERS Ücret Hesaplama'!AE73,\"\")","v":""},{"$f":"IF('EK DERS Ücret Hesaplama'!$AM73=1,'EK DERS Ücret Hesaplama'!AG73,\"\")","v":""},{"$f":"IF('EK DERS Ücret Hesaplama'!$AM73=1,'EK DERS Ücret Hesaplama'!AF73,\"\")","v":""},{"$f":"IF('EK DERS Ücret Hesaplama'!$AM73=1,'EK DERS Ücret Hesaplama'!AH73,\"\")","v":""},{"$f":"IF('EK DERS Ücret Hesaplama'!$AM73=1,'EK DERS Ücret Hesaplama'!AI73,\"\")","v":""},{"$f":"IF('EK DERS Ücret Hesaplama'!$AM73=1,'EK DERS Ücret Hesaplama'!AJ73,\"\")","v":""},{"$f":"IF('EK DERS Ücret Hesaplama'!$AM73=1,'EK DERS Ücret Hesaplama'!AK73,\"\")","v":""},null,0]
[{"$f":"IF(AJ76=\"\",\"\",SUBTOTAL(103,$AJ$8:AJ76))","v":""},{"$f":"IF('EK DERS Ücret Hesaplama'!$AM74=1,'EK DERS Ücret Hesaplama'!B74,\"\")","v":""},{"$f":"IF('EK DERS Ücret Hesaplama'!$AM74=1,'EK DERS Ücret Hesaplama'!C74,\"\")","v":""},{"$f":"IF('EK DERS Ücret Hesaplama'!$AM74=1,IF('EK DERS Ücret Hesaplama'!D74=\"Ücretli Öğretmen\",\"Ücretli Öğr.\",\"Ücr.Öğr. (Emekli)\"),\"\")","v":""},{"$f":"IF('EK DERS Ücret Hesaplama'!$AM74=1,'EK DERS Ücret Hesaplama'!M74,\"\")","v":""},{"$f":"IF('EK DERS Ücret Hesaplama'!$AM74=1,'EK DERS Ücret Hesaplama'!N74,\"\")","v":""},{"$f":"IF('EK DERS Ücret Hesaplama'!$AM74=1,'EK DERS Ücret Hesaplama'!E74,\"\")","v":""},{"$f":"IF('EK DERS Ücret Hesaplama'!$AM74=1,'EK DERS Ücret Hesaplama'!F74,\"\")","v":""},{"$f":"IF('EK DERS Ücret Hesaplama'!$AM74=1,'EK DERS Ücret Hesaplama'!G74,\"\")","v":""},{"$f":"IF('EK DERS Ücret Hesaplama'!$AM74=1,'EK DERS Ücret Hesaplama'!H74,\"\")","v":""},{"$f":"IF('EK DERS Ücret Hesaplama'!$AM74=1,'EK DERS Ücret Hesaplama'!I74,\"\")","v":""},{"$f":"IF('EK DERS Ücret Hesaplama'!$AM74=1,'EK DERS Ücret Hesaplama'!J74,\"\")","v":""},{"$f":"IF('EK DERS Ücret Hesaplama'!$AM74=1,'EK DERS Ücret Hesaplama'!K74,\"\")","v":""},{"$f":"IF('EK DERS Ücret Hesaplama'!$AM74=1,'EK DERS Ücret Hesaplama'!L74,\"\")","v":""},{"$f":"IF('EK DERS Ücret Hesaplama'!$AM74=1,'EK DERS Ücret Hesaplama'!O74,\"\")","v":""},{"$f":"IF('EK DERS Ücret Hesaplama'!$AM74=1,'EK DERS Ücret Hesaplama'!P74,\"\")","v":""},{"$f":"IF('EK DERS Ücret Hesaplama'!$AM74=1,'EK DERS Ücret Hesaplama'!Q74,\"\")","v":""},{"$f":"IF('EK DERS Ücret Hesaplama'!$AM74=1,'EK DERS Ücret Hesaplama'!R74,\"\")","v":""},{"$f":"IF('EK DERS Ücret Hesaplama'!$AM74=1,'EK DERS Ücret Hesaplama'!S74,\"\")","v":""},{"$f":"IF('EK DERS Ücret Hesaplama'!$AM74=1,hesaplamalar!X71,\"\")","v":""},{"$f":"IF('EK DERS Ücret Hesaplama'!$AM74=1,hesaplamalar!Y71,\"\")","v":""},{"$f":"IF('EK DERS Ücret Hesaplama'!$AM74=1,hesaplamalar!Z71,\"\")","v":""},{"$f":"IF('EK DERS Ücret Hesaplama'!$AM74=1,hesaplamalar!AA71,\"\")","v":""},{"$f":"IF('EK DERS Ücret Hesaplama'!$AM74=1,hesaplamalar!AB71,\"\")","v":""},{"$f":"IF('EK DERS Ücret Hesaplama'!$AM74=1,hesaplamalar!AC71,\"\")","v":""},{"$f":"IF('EK DERS Ücret Hesaplama'!$AM74=1,hesaplamalar!AD71,\"\")","v":""},{"$f":"IF('EK DERS Ücret Hesaplama'!$AM74=1,hesaplamalar!AE71,\"\")","v":""},{"$f":"IF('EK DERS Ücret Hesaplama'!$AM74=1,hesaplamalar!AG71,\"\")","v":""},{"$f":"IF('EK DERS Ücret Hesaplama'!$AM74=1,hesaplamalar!AH71,\"\")","v":""},{"$f":"IF('EK DERS Ücret Hesaplama'!$AM74=1,'EK DERS Ücret Hesaplama'!AE74,\"\")","v":""},{"$f":"IF('EK DERS Ücret Hesaplama'!$AM74=1,'EK DERS Ücret Hesaplama'!AG74,\"\")","v":""},{"$f":"IF('EK DERS Ücret Hesaplama'!$AM74=1,'EK DERS Ücret Hesaplama'!AF74,\"\")","v":""},{"$f":"IF('EK DERS Ücret Hesaplama'!$AM74=1,'EK DERS Ücret Hesaplama'!AH74,\"\")","v":""},{"$f":"IF('EK DERS Ücret Hesaplama'!$AM74=1,'EK DERS Ücret Hesaplama'!AI74,\"\")","v":""},{"$f":"IF('EK DERS Ücret Hesaplama'!$AM74=1,'EK DERS Ücret Hesaplama'!AJ74,\"\")","v":""},{"$f":"IF('EK DERS Ücret Hesaplama'!$AM74=1,'EK DERS Ücret Hesaplama'!AK74,\"\")","v":""},null,0]
[{"$f":"IF(AJ77=\"\",\"\",SUBTOTAL(103,$AJ$8:AJ77))","v":""},{"$f":"IF('EK DERS Ücret Hesaplama'!$AM75=1,'EK DERS Ücret Hesaplama'!B75,\"\")","v":""},{"$f":"IF('EK DERS Ücret Hesaplama'!$AM75=1,'EK DERS Ücret Hesaplama'!C75,\"\")","v":""},{"$f":"IF('EK DERS Ücret Hesaplama'!$AM75=1,IF('EK DERS Ücret Hesaplama'!D75=\"Ücretli Öğretmen\",\"Ücretli Öğr.\",\"Ücr.Öğr. (Emekli)\"),\"\")","v":""},{"$f":"IF('EK DERS Ücret Hesaplama'!$AM75=1,'EK DERS Ücret Hesaplama'!M75,\"\")","v":""},{"$f":"IF('EK DERS Ücret Hesaplama'!$AM75=1,'EK DERS Ücret Hesaplama'!N75,\"\")","v":""},{"$f":"IF('EK DERS Ücret Hesaplama'!$AM75=1,'EK DERS Ücret Hesaplama'!E75,\"\")","v":""},{"$f":"IF('EK DERS Ücret Hesaplama'!$AM75=1,'EK DERS Ücret Hesaplama'!F75,\"\")","v":""},{"$f":"IF('EK DERS Ücret Hesaplama'!$AM75=1,'EK DERS Ücret Hesaplama'!G75,\"\")","v":""},{"$f":"IF('EK DERS Ücret Hesaplama'!$AM75=1,'EK DERS Ücret Hesaplama'!H75,\"\")","v":""},{"$f":"IF('EK DERS Ücret Hesaplama'!$AM75=1,'EK DERS Ücret Hesaplama'!I75,\"\")","v":""},{"$f":"IF('EK DERS Ücret Hesaplama'!$AM75=1,'EK DERS Ücret Hesaplama'!J75,\"\")","v":""},{"$f":"IF('EK DERS Ücret Hesaplama'!$AM75=1,'EK DERS Ücret Hesaplama'!K75,\"\")","v":""},{"$f":"IF('EK DERS Ücret Hesaplama'!$AM75=1,'EK DERS Ücret Hesaplama'!L75,\"\")","v":""},{"$f":"IF('EK DERS Ücret Hesaplama'!$AM75=1,'EK DERS Ücret Hesaplama'!O75,\"\")","v":""},{"$f":"IF('EK DERS Ücret Hesaplama'!$AM75=1,'EK DERS Ücret Hesaplama'!P75,\"\")","v":""},{"$f":"IF('EK DERS Ücret Hesaplama'!$AM75=1,'EK DERS Ücret Hesaplama'!Q75,\"\")","v":""},{"$f":"IF('EK DERS Ücret Hesaplama'!$AM75=1,'EK DERS Ücret Hesaplama'!R75,\"\")","v":""},{"$f":"IF('EK DERS Ücret Hesaplama'!$AM75=1,'EK DERS Ücret Hesaplama'!S75,\"\")","v":""},{"$f":"IF('EK DERS Ücret Hesaplama'!$AM75=1,hesaplamalar!X72,\"\")","v":""},{"$f":"IF('EK DERS Ücret Hesaplama'!$AM75=1,hesaplamalar!Y72,\"\")","v":""},{"$f":"IF('EK DERS Ücret Hesaplama'!$AM75=1,hesaplamalar!Z72,\"\")","v":""},{"$f":"IF('EK DERS Ücret Hesaplama'!$AM75=1,hesaplamalar!AA72,\"\")","v":""},{"$f":"IF('EK DERS Ücret Hesaplama'!$AM75=1,hesaplamalar!AB72,\"\")","v":""},{"$f":"IF('EK DERS Ücret Hesaplama'!$AM75=1,hesaplamalar!AC72,\"\")","v":""},{"$f":"IF('EK DERS Ücret Hesaplama'!$AM75=1,hesaplamalar!AD72,\"\")","v":""},{"$f":"IF('EK DERS Ücret Hesaplama'!$AM75=1,hesaplamalar!AE72,\"\")","v":""},{"$f":"IF('EK DERS Ücret Hesaplama'!$AM75=1,hesaplamalar!AG72,\"\")","v":""},{"$f":"IF('EK DERS Ücret Hesaplama'!$AM75=1,hesaplamalar!AH72,\"\")","v":""},{"$f":"IF('EK DERS Ücret Hesaplama'!$AM75=1,'EK DERS Ücret Hesaplama'!AE75,\"\")","v":""},{"$f":"IF('EK DERS Ücret Hesaplama'!$AM75=1,'EK DERS Ücret Hesaplama'!AG75,\"\")","v":""},{"$f":"IF('EK DERS Ücret Hesaplama'!$AM75=1,'EK DERS Ücret Hesaplama'!AF75,\"\")","v":""},{"$f":"IF('EK DERS Ücret Hesaplama'!$AM75=1,'EK DERS Ücret Hesaplama'!AH75,\"\")","v":""},{"$f":"IF('EK DERS Ücret Hesaplama'!$AM75=1,'EK DERS Ücret Hesaplama'!AI75,\"\")","v":""},{"$f":"IF('EK DERS Ücret Hesaplama'!$AM75=1,'EK DERS Ücret Hesaplama'!AJ75,\"\")","v":""},{"$f":"IF('EK DERS Ücret Hesaplama'!$AM75=1,'EK DERS Ücret Hesaplama'!AK75,\"\")","v":""},null,0]
[{"$f":"IF(AJ78=\"\",\"\",SUBTOTAL(103,$AJ$8:AJ78))","v":""},{"$f":"IF('EK DERS Ücret Hesaplama'!$AM76=1,'EK DERS Ücret Hesaplama'!B76,\"\")","v":""},{"$f":"IF('EK DERS Ücret Hesaplama'!$AM76=1,'EK DERS Ücret Hesaplama'!C76,\"\")","v":""},{"$f":"IF('EK DERS Ücret Hesaplama'!$AM76=1,IF('EK DERS Ücret Hesaplama'!D76=\"Ücretli Öğretmen\",\"Ücretli Öğr.\",\"Ücr.Öğr. (Emekli)\"),\"\")","v":""},{"$f":"IF('EK DERS Ücret Hesaplama'!$AM76=1,'EK DERS Ücret Hesaplama'!M76,\"\")","v":""},{"$f":"IF('EK DERS Ücret Hesaplama'!$AM76=1,'EK DERS Ücret Hesaplama'!N76,\"\")","v":""},{"$f":"IF('EK DERS Ücret Hesaplama'!$AM76=1,'EK DERS Ücret Hesaplama'!E76,\"\")","v":""},{"$f":"IF('EK DERS Ücret Hesaplama'!$AM76=1,'EK DERS Ücret Hesaplama'!F76,\"\")","v":""},{"$f":"IF('EK DERS Ücret Hesaplama'!$AM76=1,'EK DERS Ücret Hesaplama'!G76,\"\")","v":""},{"$f":"IF('EK DERS Ücret Hesaplama'!$AM76=1,'EK DERS Ücret Hesaplama'!H76,\"\")","v":""},{"$f":"IF('EK DERS Ücret Hesaplama'!$AM76=1,'EK DERS Ücret Hesaplama'!I76,\"\")","v":""},{"$f":"IF('EK DERS Ücret Hesaplama'!$AM76=1,'EK DERS Ücret Hesaplama'!J76,\"\")","v":""},{"$f":"IF('EK DERS Ücret Hesaplama'!$AM76=1,'EK DERS Ücret Hesaplama'!K76,\"\")","v":""},{"$f":"IF('EK DERS Ücret Hesaplama'!$AM76=1,'EK DERS Ücret Hesaplama'!L76,\"\")","v":""},{"$f":"IF('EK DERS Ücret Hesaplama'!$AM76=1,'EK DERS Ücret Hesaplama'!O76,\"\")","v":""},{"$f":"IF('EK DERS Ücret Hesaplama'!$AM76=1,'EK DERS Ücret Hesaplama'!P76,\"\")","v":""},{"$f":"IF('EK DERS Ücret Hesaplama'!$AM76=1,'EK DERS Ücret Hesaplama'!Q76,\"\")","v":""},{"$f":"IF('EK DERS Ücret Hesaplama'!$AM76=1,'EK DERS Ücret Hesaplama'!R76,\"\")","v":""},{"$f":"IF('EK DERS Ücret Hesaplama'!$AM76=1,'EK DERS Ücret Hesaplama'!S76,\"\")","v":""},{"$f":"IF('EK DERS Ücret Hesaplama'!$AM76=1,hesaplamalar!X73,\"\")","v":""},{"$f":"IF('EK DERS Ücret Hesaplama'!$AM76=1,hesaplamalar!Y73,\"\")","v":""},{"$f":"IF('EK DERS Ücret Hesaplama'!$AM76=1,hesaplamalar!Z73,\"\")","v":""},{"$f":"IF('EK DERS Ücret Hesaplama'!$AM76=1,hesaplamalar!AA73,\"\")","v":""},{"$f":"IF('EK DERS Ücret Hesaplama'!$AM76=1,hesaplamalar!AB73,\"\")","v":""},{"$f":"IF('EK DERS Ücret Hesaplama'!$AM76=1,hesaplamalar!AC73,\"\")","v":""},{"$f":"IF('EK DERS Ücret Hesaplama'!$AM76=1,hesaplamalar!AD73,\"\")","v":""},{"$f":"IF('EK DERS Ücret Hesaplama'!$AM76=1,hesaplamalar!AE73,\"\")","v":""},{"$f":"IF('EK DERS Ücret Hesaplama'!$AM76=1,hesaplamalar!AG73,\"\")","v":""},{"$f":"IF('EK DERS Ücret Hesaplama'!$AM76=1,hesaplamalar!AH73,\"\")","v":""},{"$f":"IF('EK DERS Ücret Hesaplama'!$AM76=1,'EK DERS Ücret Hesaplama'!AE76,\"\")","v":""},{"$f":"IF('EK DERS Ücret Hesaplama'!$AM76=1,'EK DERS Ücret Hesaplama'!AG76,\"\")","v":""},{"$f":"IF('EK DERS Ücret Hesaplama'!$AM76=1,'EK DERS Ücret Hesaplama'!AF76,\"\")","v":""},{"$f":"IF('EK DERS Ücret Hesaplama'!$AM76=1,'EK DERS Ücret Hesaplama'!AH76,\"\")","v":""},{"$f":"IF('EK DERS Ücret Hesaplama'!$AM76=1,'EK DERS Ücret Hesaplama'!AI76,\"\")","v":""},{"$f":"IF('EK DERS Ücret Hesaplama'!$AM76=1,'EK DERS Ücret Hesaplama'!AJ76,\"\")","v":""},{"$f":"IF('EK DERS Ücret Hesaplama'!$AM76=1,'EK DERS Ücret Hesaplama'!AK76,\"\")","v":""},null,0]
[{"$f":"IF(AJ79=\"\",\"\",SUBTOTAL(103,$AJ$8:AJ79))","v":""},{"$f":"IF('EK DERS Ücret Hesaplama'!$AM77=1,'EK DERS Ücret Hesaplama'!B77,\"\")","v":""},{"$f":"IF('EK DERS Ücret Hesaplama'!$AM77=1,'EK DERS Ücret Hesaplama'!C77,\"\")","v":""},{"$f":"IF('EK DERS Ücret Hesaplama'!$AM77=1,IF('EK DERS Ücret Hesaplama'!D77=\"Ücretli Öğretmen\",\"Ücretli Öğr.\",\"Ücr.Öğr. (Emekli)\"),\"\")","v":""},{"$f":"IF('EK DERS Ücret Hesaplama'!$AM77=1,'EK DERS Ücret Hesaplama'!M77,\"\")","v":""},{"$f":"IF('EK DERS Ücret Hesaplama'!$AM77=1,'EK DERS Ücret Hesaplama'!N77,\"\")","v":""},{"$f":"IF('EK DERS Ücret Hesaplama'!$AM77=1,'EK DERS Ücret Hesaplama'!E77,\"\")","v":""},{"$f":"IF('EK DERS Ücret Hesaplama'!$AM77=1,'EK DERS Ücret Hesaplama'!F77,\"\")","v":""},{"$f":"IF('EK DERS Ücret Hesaplama'!$AM77=1,'EK DERS Ücret Hesaplama'!G77,\"\")","v":""},{"$f":"IF('EK DERS Ücret Hesaplama'!$AM77=1,'EK DERS Ücret Hesaplama'!H77,\"\")","v":""},{"$f":"IF('EK DERS Ücret Hesaplama'!$AM77=1,'EK DERS Ücret Hesaplama'!I77,\"\")","v":""},{"$f":"IF('EK DERS Ücret Hesaplama'!$AM77=1,'EK DERS Ücret Hesaplama'!J77,\"\")","v":""},{"$f":"IF('EK DERS Ücret Hesaplama'!$AM77=1,'EK DERS Ücret Hesaplama'!K77,\"\")","v":""},{"$f":"IF('EK DERS Ücret Hesaplama'!$AM77=1,'EK DERS Ücret Hesaplama'!L77,\"\")","v":""},{"$f":"IF('EK DERS Ücret Hesaplama'!$AM77=1,'EK DERS Ücret Hesaplama'!O77,\"\")","v":""},{"$f":"IF('EK DERS Ücret Hesaplama'!$AM77=1,'EK DERS Ücret Hesaplama'!P77,\"\")","v":""},{"$f":"IF('EK DERS Ücret Hesaplama'!$AM77=1,'EK DERS Ücret Hesaplama'!Q77,\"\")","v":""},{"$f":"IF('EK DERS Ücret Hesaplama'!$AM77=1,'EK DERS Ücret Hesaplama'!R77,\"\")","v":""},{"$f":"IF('EK DERS Ücret Hesaplama'!$AM77=1,'EK DERS Ücret Hesaplama'!S77,\"\")","v":""},{"$f":"IF('EK DERS Ücret Hesaplama'!$AM77=1,hesaplamalar!X74,\"\")","v":""},{"$f":"IF('EK DERS Ücret Hesaplama'!$AM77=1,hesaplamalar!Y74,\"\")","v":""},{"$f":"IF('EK DERS Ücret Hesaplama'!$AM77=1,hesaplamalar!Z74,\"\")","v":""},{"$f":"IF('EK DERS Ücret Hesaplama'!$AM77=1,hesaplamalar!AA74,\"\")","v":""},{"$f":"IF('EK DERS Ücret Hesaplama'!$AM77=1,hesaplamalar!AB74,\"\")","v":""},{"$f":"IF('EK DERS Ücret Hesaplama'!$AM77=1,hesaplamalar!AC74,\"\")","v":""},{"$f":"IF('EK DERS Ücret Hesaplama'!$AM77=1,hesaplamalar!AD74,\"\")","v":""},{"$f":"IF('EK DERS Ücret Hesaplama'!$AM77=1,hesaplamalar!AE74,\"\")","v":""},{"$f":"IF('EK DERS Ücret Hesaplama'!$AM77=1,hesaplamalar!AG74,\"\")","v":""},{"$f":"IF('EK DERS Ücret Hesaplama'!$AM77=1,hesaplamalar!AH74,\"\")","v":""},{"$f":"IF('EK DERS Ücret Hesaplama'!$AM77=1,'EK DERS Ücret Hesaplama'!AE77,\"\")","v":""},{"$f":"IF('EK DERS Ücret Hesaplama'!$AM77=1,'EK DERS Ücret Hesaplama'!AG77,\"\")","v":""},{"$f":"IF('EK DERS Ücret Hesaplama'!$AM77=1,'EK DERS Ücret Hesaplama'!AF77,\"\")","v":""},{"$f":"IF('EK DERS Ücret Hesaplama'!$AM77=1,'EK DERS Ücret Hesaplama'!AH77,\"\")","v":""},{"$f":"IF('EK DERS Ücret Hesaplama'!$AM77=1,'EK DERS Ücret Hesaplama'!AI77,\"\")","v":""},{"$f":"IF('EK DERS Ücret Hesaplama'!$AM77=1,'EK DERS Ücret Hesaplama'!AJ77,\"\")","v":""},{"$f":"IF('EK DERS Ücret Hesaplama'!$AM77=1,'EK DERS Ücret Hesaplama'!AK77,\"\")","v":""},null,0]
[{"$f":"IF(AJ80=\"\",\"\",SUBTOTAL(103,$AJ$8:AJ80))","v":""},{"$f":"IF('EK DERS Ücret Hesaplama'!$AM78=1,'EK DERS Ücret Hesaplama'!B78,\"\")","v":""},{"$f":"IF('EK DERS Ücret Hesaplama'!$AM78=1,'EK DERS Ücret Hesaplama'!C78,\"\")","v":""},{"$f":"IF('EK DERS Ücret Hesaplama'!$AM78=1,IF('EK DERS Ücret Hesaplama'!D78=\"Ücretli Öğretmen\",\"Ücretli Öğr.\",\"Ücr.Öğr. (Emekli)\"),\"\")","v":""},{"$f":"IF('EK DERS Ücret Hesaplama'!$AM78=1,'EK DERS Ücret Hesaplama'!M78,\"\")","v":""},{"$f":"IF('EK DERS Ücret Hesaplama'!$AM78=1,'EK DERS Ücret Hesaplama'!N78,\"\")","v":""},{"$f":"IF('EK DERS Ücret Hesaplama'!$AM78=1,'EK DERS Ücret Hesaplama'!E78,\"\")","v":""},{"$f":"IF('EK DERS Ücret Hesaplama'!$AM78=1,'EK DERS Ücret Hesaplama'!F78,\"\")","v":""},{"$f":"IF('EK DERS Ücret Hesaplama'!$AM78=1,'EK DERS Ücret Hesaplama'!G78,\"\")","v":""},{"$f":"IF('EK DERS Ücret Hesaplama'!$AM78=1,'EK DERS Ücret Hesaplama'!H78,\"\")","v":""},{"$f":"IF('EK DERS Ücret Hesaplama'!$AM78=1,'EK DERS Ücret Hesaplama'!I78,\"\")","v":""},{"$f":"IF('EK DERS Ücret Hesaplama'!$AM78=1,'EK DERS Ücret Hesaplama'!J78,\"\")","v":""},{"$f":"IF('EK DERS Ücret Hesaplama'!$AM78=1,'EK DERS Ücret Hesaplama'!K78,\"\")","v":""},{"$f":"IF('EK DERS Ücret Hesaplama'!$AM78=1,'EK DERS Ücret Hesaplama'!L78,\"\")","v":""},{"$f":"IF('EK DERS Ücret Hesaplama'!$AM78=1,'EK DERS Ücret Hesaplama'!O78,\"\")","v":""},{"$f":"IF('EK DERS Ücret Hesaplama'!$AM78=1,'EK DERS Ücret Hesaplama'!P78,\"\")","v":""},{"$f":"IF('EK DERS Ücret Hesaplama'!$AM78=1,'EK DERS Ücret Hesaplama'!Q78,\"\")","v":""},{"$f":"IF('EK DERS Ücret Hesaplama'!$AM78=1,'EK DERS Ücret Hesaplama'!R78,\"\")","v":""},{"$f":"IF('EK DERS Ücret Hesaplama'!$AM78=1,'EK DERS Ücret Hesaplama'!S78,\"\")","v":""},{"$f":"IF('EK DERS Ücret Hesaplama'!$AM78=1,hesaplamalar!X75,\"\")","v":""},{"$f":"IF('EK DERS Ücret Hesaplama'!$AM78=1,hesaplamalar!Y75,\"\")","v":""},{"$f":"IF('EK DERS Ücret Hesaplama'!$AM78=1,hesaplamalar!Z75,\"\")","v":""},{"$f":"IF('EK DERS Ücret Hesaplama'!$AM78=1,hesaplamalar!AA75,\"\")","v":""},{"$f":"IF('EK DERS Ücret Hesaplama'!$AM78=1,hesaplamalar!AB75,\"\")","v":""},{"$f":"IF('EK DERS Ücret Hesaplama'!$AM78=1,hesaplamalar!AC75,\"\")","v":""},{"$f":"IF('EK DERS Ücret Hesaplama'!$AM78=1,hesaplamalar!AD75,\"\")","v":""},{"$f":"IF('EK DERS Ücret Hesaplama'!$AM78=1,hesaplamalar!AE75,\"\")","v":""},{"$f":"IF('EK DERS Ücret Hesaplama'!$AM78=1,hesaplamalar!AG75,\"\")","v":""},{"$f":"IF('EK DERS Ücret Hesaplama'!$AM78=1,hesaplamalar!AH75,\"\")","v":""},{"$f":"IF('EK DERS Ücret Hesaplama'!$AM78=1,'EK DERS Ücret Hesaplama'!AE78,\"\")","v":""},{"$f":"IF('EK DERS Ücret Hesaplama'!$AM78=1,'EK DERS Ücret Hesaplama'!AG78,\"\")","v":""},{"$f":"IF('EK DERS Ücret Hesaplama'!$AM78=1,'EK DERS Ücret Hesaplama'!AF78,\"\")","v":""},{"$f":"IF('EK DERS Ücret Hesaplama'!$AM78=1,'EK DERS Ücret Hesaplama'!AH78,\"\")","v":""},{"$f":"IF('EK DERS Ücret Hesaplama'!$AM78=1,'EK DERS Ücret Hesaplama'!AI78,\"\")","v":""},{"$f":"IF('EK DERS Ücret Hesaplama'!$AM78=1,'EK DERS Ücret Hesaplama'!AJ78,\"\")","v":""},{"$f":"IF('EK DERS Ücret Hesaplama'!$AM78=1,'EK DERS Ücret Hesaplama'!AK78,\"\")","v":""},null,0]
[{"$f":"IF(AJ81=\"\",\"\",SUBTOTAL(103,$AJ$8:AJ81))","v":""},{"$f":"IF('EK DERS Ücret Hesaplama'!$AM79=1,'EK DERS Ücret Hesaplama'!B79,\"\")","v":""},{"$f":"IF('EK DERS Ücret Hesaplama'!$AM79=1,'EK DERS Ücret Hesaplama'!C79,\"\")","v":""},{"$f":"IF('EK DERS Ücret Hesaplama'!$AM79=1,IF('EK DERS Ücret Hesaplama'!D79=\"Ücretli Öğretmen\",\"Ücretli Öğr.\",\"Ücr.Öğr. (Emekli)\"),\"\")","v":""},{"$f":"IF('EK DERS Ücret Hesaplama'!$AM79=1,'EK DERS Ücret Hesaplama'!M79,\"\")","v":""},{"$f":"IF('EK DERS Ücret Hesaplama'!$AM79=1,'EK DERS Ücret Hesaplama'!N79,\"\")","v":""},{"$f":"IF('EK DERS Ücret Hesaplama'!$AM79=1,'EK DERS Ücret Hesaplama'!E79,\"\")","v":""},{"$f":"IF('EK DERS Ücret Hesaplama'!$AM79=1,'EK DERS Ücret Hesaplama'!F79,\"\")","v":""},{"$f":"IF('EK DERS Ücret Hesaplama'!$AM79=1,'EK DERS Ücret Hesaplama'!G79,\"\")","v":""},{"$f":"IF('EK DERS Ücret Hesaplama'!$AM79=1,'EK DERS Ücret Hesaplama'!H79,\"\")","v":""},{"$f":"IF('EK DERS Ücret Hesaplama'!$AM79=1,'EK DERS Ücret Hesaplama'!I79,\"\")","v":""},{"$f":"IF('EK DERS Ücret Hesaplama'!$AM79=1,'EK DERS Ücret Hesaplama'!J79,\"\")","v":""},{"$f":"IF('EK DERS Ücret Hesaplama'!$AM79=1,'EK DERS Ücret Hesaplama'!K79,\"\")","v":""},{"$f":"IF('EK DERS Ücret Hesaplama'!$AM79=1,'EK DERS Ücret Hesaplama'!L79,\"\")","v":""},{"$f":"IF('EK DERS Ücret Hesaplama'!$AM79=1,'EK DERS Ücret Hesaplama'!O79,\"\")","v":""},{"$f":"IF('EK DERS Ücret Hesaplama'!$AM79=1,'EK DERS Ücret Hesaplama'!P79,\"\")","v":""},{"$f":"IF('EK DERS Ücret Hesaplama'!$AM79=1,'EK DERS Ücret Hesaplama'!Q79,\"\")","v":""},{"$f":"IF('EK DERS Ücret Hesaplama'!$AM79=1,'EK DERS Ücret Hesaplama'!R79,\"\")","v":""},{"$f":"IF('EK DERS Ücret Hesaplama'!$AM79=1,'EK DERS Ücret Hesaplama'!S79,\"\")","v":""},{"$f":"IF('EK DERS Ücret Hesaplama'!$AM79=1,hesaplamalar!X76,\"\")","v":""},{"$f":"IF('EK DERS Ücret Hesaplama'!$AM79=1,hesaplamalar!Y76,\"\")","v":""},{"$f":"IF('EK DERS Ücret Hesaplama'!$AM79=1,hesaplamalar!Z76,\"\")","v":""},{"$f":"IF('EK DERS Ücret Hesaplama'!$AM79=1,hesaplamalar!AA76,\"\")","v":""},{"$f":"IF('EK DERS Ücret Hesaplama'!$AM79=1,hesaplamalar!AB76,\"\")","v":""},{"$f":"IF('EK DERS Ücret Hesaplama'!$AM79=1,hesaplamalar!AC76,\"\")","v":""},{"$f":"IF('EK DERS Ücret Hesaplama'!$AM79=1,hesaplamalar!AD76,\"\")","v":""},{"$f":"IF('EK DERS Ücret Hesaplama'!$AM79=1,hesaplamalar!AE76,\"\")","v":""},{"$f":"IF('EK DERS Ücret Hesaplama'!$AM79=1,hesaplamalar!AG76,\"\")","v":""},{"$f":"IF('EK DERS Ücret Hesaplama'!$AM79=1,hesaplamalar!AH76,\"\")","v":""},{"$f":"IF('EK DERS Ücret Hesaplama'!$AM79=1,'EK DERS Ücret Hesaplama'!AE79,\"\")","v":""},{"$f":"IF('EK DERS Ücret Hesaplama'!$AM79=1,'EK DERS Ücret Hesaplama'!AG79,\"\")","v":""},{"$f":"IF('EK DERS Ücret Hesaplama'!$AM79=1,'EK DERS Ücret Hesaplama'!AF79,\"\")","v":""},{"$f":"IF('EK DERS Ücret Hesaplama'!$AM79=1,'EK DERS Ücret Hesaplama'!AH79,\"\")","v":""},{"$f":"IF('EK DERS Ücret Hesaplama'!$AM79=1,'EK DERS Ücret Hesaplama'!AI79,\"\")","v":""},{"$f":"IF('EK DERS Ücret Hesaplama'!$AM79=1,'EK DERS Ücret Hesaplama'!AJ79,\"\")","v":""},{"$f":"IF('EK DERS Ücret Hesaplama'!$AM79=1,'EK DERS Ücret Hesaplama'!AK79,\"\")","v":""},null,0]
[{"$f":"IF(AJ82=\"\",\"\",SUBTOTAL(103,$AJ$8:AJ82))","v":""},{"$f":"IF('EK DERS Ücret Hesaplama'!$AM80=1,'EK DERS Ücret Hesaplama'!B80,\"\")","v":""},{"$f":"IF('EK DERS Ücret Hesaplama'!$AM80=1,'EK DERS Ücret Hesaplama'!C80,\"\")","v":""},{"$f":"IF('EK DERS Ücret Hesaplama'!$AM80=1,IF('EK DERS Ücret Hesaplama'!D80=\"Ücretli Öğretmen\",\"Ücretli Öğr.\",\"Ücr.Öğr. (Emekli)\"),\"\")","v":""},{"$f":"IF('EK DERS Ücret Hesaplama'!$AM80=1,'EK DERS Ücret Hesaplama'!M80,\"\")","v":""},{"$f":"IF('EK DERS Ücret Hesaplama'!$AM80=1,'EK DERS Ücret Hesaplama'!N80,\"\")","v":""},{"$f":"IF('EK DERS Ücret Hesaplama'!$AM80=1,'EK DERS Ücret Hesaplama'!E80,\"\")","v":""},{"$f":"IF('EK DERS Ücret Hesaplama'!$AM80=1,'EK DERS Ücret Hesaplama'!F80,\"\")","v":""},{"$f":"IF('EK DERS Ücret Hesaplama'!$AM80=1,'EK DERS Ücret Hesaplama'!G80,\"\")","v":""},{"$f":"IF('EK DERS Ücret Hesaplama'!$AM80=1,'EK DERS Ücret Hesaplama'!H80,\"\")","v":""},{"$f":"IF('EK DERS Ücret Hesaplama'!$AM80=1,'EK DERS Ücret Hesaplama'!I80,\"\")","v":""},{"$f":"IF('EK DERS Ücret Hesaplama'!$AM80=1,'EK DERS Ücret Hesaplama'!J80,\"\")","v":""},{"$f":"IF('EK DERS Ücret Hesaplama'!$AM80=1,'EK DERS Ücret Hesaplama'!K80,\"\")","v":""},{"$f":"IF('EK DERS Ücret Hesaplama'!$AM80=1,'EK DERS Ücret Hesaplama'!L80,\"\")","v":""},{"$f":"IF('EK DERS Ücret Hesaplama'!$AM80=1,'EK DERS Ücret Hesaplama'!O80,\"\")","v":""},{"$f":"IF('EK DERS Ücret Hesaplama'!$AM80=1,'EK DERS Ücret Hesaplama'!P80,\"\")","v":""},{"$f":"IF('EK DERS Ücret Hesaplama'!$AM80=1,'EK DERS Ücret Hesaplama'!Q80,\"\")","v":""},{"$f":"IF('EK DERS Ücret Hesaplama'!$AM80=1,'EK DERS Ücret Hesaplama'!R80,\"\")","v":""},{"$f":"IF('EK DERS Ücret Hesaplama'!$AM80=1,'EK DERS Ücret Hesaplama'!S80,\"\")","v":""},{"$f":"IF('EK DERS Ücret Hesaplama'!$AM80=1,hesaplamalar!X77,\"\")","v":""},{"$f":"IF('EK DERS Ücret Hesaplama'!$AM80=1,hesaplamalar!Y77,\"\")","v":""},{"$f":"IF('EK DERS Ücret Hesaplama'!$AM80=1,hesaplamalar!Z77,\"\")","v":""},{"$f":"IF('EK DERS Ücret Hesaplama'!$AM80=1,hesaplamalar!AA77,\"\")","v":""},{"$f":"IF('EK DERS Ücret Hesaplama'!$AM80=1,hesaplamalar!AB77,\"\")","v":""},{"$f":"IF('EK DERS Ücret Hesaplama'!$AM80=1,hesaplamalar!AC77,\"\")","v":""},{"$f":"IF('EK DERS Ücret Hesaplama'!$AM80=1,hesaplamalar!AD77,\"\")","v":""},{"$f":"IF('EK DERS Ücret Hesaplama'!$AM80=1,hesaplamalar!AE77,\"\")","v":""},{"$f":"IF('EK DERS Ücret Hesaplama'!$AM80=1,hesaplamalar!AG77,\"\")","v":""},{"$f":"IF('EK DERS Ücret Hesaplama'!$AM80=1,hesaplamalar!AH77,\"\")","v":""},{"$f":"IF('EK DERS Ücret Hesaplama'!$AM80=1,'EK DERS Ücret Hesaplama'!AE80,\"\")","v":""},{"$f":"IF('EK DERS Ücret Hesaplama'!$AM80=1,'EK DERS Ücret Hesaplama'!AG80,\"\")","v":""},{"$f":"IF('EK DERS Ücret Hesaplama'!$AM80=1,'EK DERS Ücret Hesaplama'!AF80,\"\")","v":""},{"$f":"IF('EK DERS Ücret Hesaplama'!$AM80=1,'EK DERS Ücret Hesaplama'!AH80,\"\")","v":""},{"$f":"IF('EK DERS Ücret Hesaplama'!$AM80=1,'EK DERS Ücret Hesaplama'!AI80,\"\")","v":""},{"$f":"IF('EK DERS Ücret Hesaplama'!$AM80=1,'EK DERS Ücret Hesaplama'!AJ80,\"\")","v":""},{"$f":"IF('EK DERS Ücret Hesaplama'!$AM80=1,'EK DERS Ücret Hesaplama'!AK80,\"\")","v":""},null,0]
[{"$f":"IF(AJ83=\"\",\"\",SUBTOTAL(103,$AJ$8:AJ83))","v":""},{"$f":"IF('EK DERS Ücret Hesaplama'!$AM81=1,'EK DERS Ücret Hesaplama'!B81,\"\")","v":""},{"$f":"IF('EK DERS Ücret Hesaplama'!$AM81=1,'EK DERS Ücret Hesaplama'!C81,\"\")","v":""},{"$f":"IF('EK DERS Ücret Hesaplama'!$AM81=1,IF('EK DERS Ücret Hesaplama'!D81=\"Ücretli Öğretmen\",\"Ücretli Öğr.\",\"Ücr.Öğr. (Emekli)\"),\"\")","v":""},{"$f":"IF('EK DERS Ücret Hesaplama'!$AM81=1,'EK DERS Ücret Hesaplama'!M81,\"\")","v":""},{"$f":"IF('EK DERS Ücret Hesaplama'!$AM81=1,'EK DERS Ücret Hesaplama'!N81,\"\")","v":""},{"$f":"IF('EK DERS Ücret Hesaplama'!$AM81=1,'EK DERS Ücret Hesaplama'!E81,\"\")","v":""},{"$f":"IF('EK DERS Ücret Hesaplama'!$AM81=1,'EK DERS Ücret Hesaplama'!F81,\"\")","v":""},{"$f":"IF('EK DERS Ücret Hesaplama'!$AM81=1,'EK DERS Ücret Hesaplama'!G81,\"\")","v":""},{"$f":"IF('EK DERS Ücret Hesaplama'!$AM81=1,'EK DERS Ücret Hesaplama'!H81,\"\")","v":""},{"$f":"IF('EK DERS Ücret Hesaplama'!$AM81=1,'EK DERS Ücret Hesaplama'!I81,\"\")","v":""},{"$f":"IF('EK DERS Ücret Hesaplama'!$AM81=1,'EK DERS Ücret Hesaplama'!J81,\"\")","v":""},{"$f":"IF('EK DERS Ücret Hesaplama'!$AM81=1,'EK DERS Ücret Hesaplama'!K81,\"\")","v":""},{"$f":"IF('EK DERS Ücret Hesaplama'!$AM81=1,'EK DERS Ücret Hesaplama'!L81,\"\")","v":""},{"$f":"IF('EK DERS Ücret Hesaplama'!$AM81=1,'EK DERS Ücret Hesaplama'!O81,\"\")","v":""},{"$f":"IF('EK DERS Ücret Hesaplama'!$AM81=1,'EK DERS Ücret Hesaplama'!P81,\"\")","v":""},{"$f":"IF('EK DERS Ücret Hesaplama'!$AM81=1,'EK DERS Ücret Hesaplama'!Q81,\"\")","v":""},{"$f":"IF('EK DERS Ücret Hesaplama'!$AM81=1,'EK DERS Ücret Hesaplama'!R81,\"\")","v":""},{"$f":"IF('EK DERS Ücret Hesaplama'!$AM81=1,'EK DERS Ücret Hesaplama'!S81,\"\")","v":""},{"$f":"IF('EK DERS Ücret Hesaplama'!$AM81=1,hesaplamalar!X78,\"\")","v":""},{"$f":"IF('EK DERS Ücret Hesaplama'!$AM81=1,hesaplamalar!Y78,\"\")","v":""},{"$f":"IF('EK DERS Ücret Hesaplama'!$AM81=1,hesaplamalar!Z78,\"\")","v":""},{"$f":"IF('EK DERS Ücret Hesaplama'!$AM81=1,hesaplamalar!AA78,\"\")","v":""},{"$f":"IF('EK DERS Ücret Hesaplama'!$AM81=1,hesaplamalar!AB78,\"\")","v":""},{"$f":"IF('EK DERS Ücret Hesaplama'!$AM81=1,hesaplamalar!AC78,\"\")","v":""},{"$f":"IF('EK DERS Ücret Hesaplama'!$AM81=1,hesaplamalar!AD78,\"\")","v":""},{"$f":"IF('EK DERS Ücret Hesaplama'!$AM81=1,hesaplamalar!AE78,\"\")","v":""},{"$f":"IF('EK DERS Ücret Hesaplama'!$AM81=1,hesaplamalar!AG78,\"\")","v":""},{"$f":"IF('EK DERS Ücret Hesaplama'!$AM81=1,hesaplamalar!AH78,\"\")","v":""},{"$f":"IF('EK DERS Ücret Hesaplama'!$AM81=1,'EK DERS Ücret Hesaplama'!AE81,\"\")","v":""},{"$f":"IF('EK DERS Ücret Hesaplama'!$AM81=1,'EK DERS Ücret Hesaplama'!AG81,\"\")","v":""},{"$f":"IF('EK DERS Ücret Hesaplama'!$AM81=1,'EK DERS Ücret Hesaplama'!AF81,\"\")","v":""},{"$f":"IF('EK DERS Ücret Hesaplama'!$AM81=1,'EK DERS Ücret Hesaplama'!AH81,\"\")","v":""},{"$f":"IF('EK DERS Ücret Hesaplama'!$AM81=1,'EK DERS Ücret Hesaplama'!AI81,\"\")","v":""},{"$f":"IF('EK DERS Ücret Hesaplama'!$AM81=1,'EK DERS Ücret Hesaplama'!AJ81,\"\")","v":""},{"$f":"IF('EK DERS Ücret Hesaplama'!$AM81=1,'EK DERS Ücret Hesaplama'!AK81,\"\")","v":""},null,0]
[{"$f":"IF(AJ84=\"\",\"\",SUBTOTAL(103,$AJ$8:AJ84))","v":""},{"$f":"IF('EK DERS Ücret Hesaplama'!$AM82=1,'EK DERS Ücret Hesaplama'!B82,\"\")","v":""},{"$f":"IF('EK DERS Ücret Hesaplama'!$AM82=1,'EK DERS Ücret Hesaplama'!C82,\"\")","v":""},{"$f":"IF('EK DERS Ücret Hesaplama'!$AM82=1,IF('EK DERS Ücret Hesaplama'!D82=\"Ücretli Öğretmen\",\"Ücretli Öğr.\",\"Ücr.Öğr. (Emekli)\"),\"\")","v":""},{"$f":"IF('EK DERS Ücret Hesaplama'!$AM82=1,'EK DERS Ücret Hesaplama'!M82,\"\")","v":""},{"$f":"IF('EK DERS Ücret Hesaplama'!$AM82=1,'EK DERS Ücret Hesaplama'!N82,\"\")","v":""},{"$f":"IF('EK DERS Ücret Hesaplama'!$AM82=1,'EK DERS Ücret Hesaplama'!E82,\"\")","v":""},{"$f":"IF('EK DERS Ücret Hesaplama'!$AM82=1,'EK DERS Ücret Hesaplama'!F82,\"\")","v":""},{"$f":"IF('EK DERS Ücret Hesaplama'!$AM82=1,'EK DERS Ücret Hesaplama'!G82,\"\")","v":""},{"$f":"IF('EK DERS Ücret Hesaplama'!$AM82=1,'EK DERS Ücret Hesaplama'!H82,\"\")","v":""},{"$f":"IF('EK DERS Ücret Hesaplama'!$AM82=1,'EK DERS Ücret Hesaplama'!I82,\"\")","v":""},{"$f":"IF('EK DERS Ücret Hesaplama'!$AM82=1,'EK DERS Ücret Hesaplama'!J82,\"\")","v":""},{"$f":"IF('EK DERS Ücret Hesaplama'!$AM82=1,'EK DERS Ücret Hesaplama'!K82,\"\")","v":""},{"$f":"IF('EK DERS Ücret Hesaplama'!$AM82=1,'EK DERS Ücret Hesaplama'!L82,\"\")","v":""},{"$f":"IF('EK DERS Ücret Hesaplama'!$AM82=1,'EK DERS Ücret Hesaplama'!O82,\"\")","v":""},{"$f":"IF('EK DERS Ücret Hesaplama'!$AM82=1,'EK DERS Ücret Hesaplama'!P82,\"\")","v":""},{"$f":"IF('EK DERS Ücret Hesaplama'!$AM82=1,'EK DERS Ücret Hesaplama'!Q82,\"\")","v":""},{"$f":"IF('EK DERS Ücret Hesaplama'!$AM82=1,'EK DERS Ücret Hesaplama'!R82,\"\")","v":""},{"$f":"IF('EK DERS Ücret Hesaplama'!$AM82=1,'EK DERS Ücret Hesaplama'!S82,\"\")","v":""},{"$f":"IF('EK DERS Ücret Hesaplama'!$AM82=1,hesaplamalar!X79,\"\")","v":""},{"$f":"IF('EK DERS Ücret Hesaplama'!$AM82=1,hesaplamalar!Y79,\"\")","v":""},{"$f":"IF('EK DERS Ücret Hesaplama'!$AM82=1,hesaplamalar!Z79,\"\")","v":""},{"$f":"IF('EK DERS Ücret Hesaplama'!$AM82=1,hesaplamalar!AA79,\"\")","v":""},{"$f":"IF('EK DERS Ücret Hesaplama'!$AM82=1,hesaplamalar!AB79,\"\")","v":""},{"$f":"IF('EK DERS Ücret Hesaplama'!$AM82=1,hesaplamalar!AC79,\"\")","v":""},{"$f":"IF('EK DERS Ücret Hesaplama'!$AM82=1,hesaplamalar!AD79,\"\")","v":""},{"$f":"IF('EK DERS Ücret Hesaplama'!$AM82=1,hesaplamalar!AE79,\"\")","v":""},{"$f":"IF('EK DERS Ücret Hesaplama'!$AM82=1,hesaplamalar!AG79,\"\")","v":""},{"$f":"IF('EK DERS Ücret Hesaplama'!$AM82=1,hesaplamalar!AH79,\"\")","v":""},{"$f":"IF('EK DERS Ücret Hesaplama'!$AM82=1,'EK DERS Ücret Hesaplama'!AE82,\"\")","v":""},{"$f":"IF('EK DERS Ücret Hesaplama'!$AM82=1,'EK DERS Ücret Hesaplama'!AG82,\"\")","v":""},{"$f":"IF('EK DERS Ücret Hesaplama'!$AM82=1,'EK DERS Ücret Hesaplama'!AF82,\"\")","v":""},{"$f":"IF('EK DERS Ücret Hesaplama'!$AM82=1,'EK DERS Ücret Hesaplama'!AH82,\"\")","v":""},{"$f":"IF('EK DERS Ücret Hesaplama'!$AM82=1,'EK DERS Ücret Hesaplama'!AI82,\"\")","v":""},{"$f":"IF('EK DERS Ücret Hesaplama'!$AM82=1,'EK DERS Ücret Hesaplama'!AJ82,\"\")","v":""},{"$f":"IF('EK DERS Ücret Hesaplama'!$AM82=1,'EK DERS Ücret Hesaplama'!AK82,\"\")","v":""},null,0]
[{"$f":"IF(AJ85=\"\",\"\",SUBTOTAL(103,$AJ$8:AJ85))","v":""},{"$f":"IF('EK DERS Ücret Hesaplama'!$AM83=1,'EK DERS Ücret Hesaplama'!B83,\"\")","v":""},{"$f":"IF('EK DERS Ücret Hesaplama'!$AM83=1,'EK DERS Ücret Hesaplama'!C83,\"\")","v":""},{"$f":"IF('EK DERS Ücret Hesaplama'!$AM83=1,IF('EK DERS Ücret Hesaplama'!D83=\"Ücretli Öğretmen\",\"Ücretli Öğr.\",\"Ücr.Öğr. (Emekli)\"),\"\")","v":""},{"$f":"IF('EK DERS Ücret Hesaplama'!$AM83=1,'EK DERS Ücret Hesaplama'!M83,\"\")","v":""},{"$f":"IF('EK DERS Ücret Hesaplama'!$AM83=1,'EK DERS Ücret Hesaplama'!N83,\"\")","v":""},{"$f":"IF('EK DERS Ücret Hesaplama'!$AM83=1,'EK DERS Ücret Hesaplama'!E83,\"\")","v":""},{"$f":"IF('EK DERS Ücret Hesaplama'!$AM83=1,'EK DERS Ücret Hesaplama'!F83,\"\")","v":""},{"$f":"IF('EK DERS Ücret Hesaplama'!$AM83=1,'EK DERS Ücret Hesaplama'!G83,\"\")","v":""},{"$f":"IF('EK DERS Ücret Hesaplama'!$AM83=1,'EK DERS Ücret Hesaplama'!H83,\"\")","v":""},{"$f":"IF('EK DERS Ücret Hesaplama'!$AM83=1,'EK DERS Ücret Hesaplama'!I83,\"\")","v":""},{"$f":"IF('EK DERS Ücret Hesaplama'!$AM83=1,'EK DERS Ücret Hesaplama'!J83,\"\")","v":""},{"$f":"IF('EK DERS Ücret Hesaplama'!$AM83=1,'EK DERS Ücret Hesaplama'!K83,\"\")","v":""},{"$f":"IF('EK DERS Ücret Hesaplama'!$AM83=1,'EK DERS Ücret Hesaplama'!L83,\"\")","v":""},{"$f":"IF('EK DERS Ücret Hesaplama'!$AM83=1,'EK DERS Ücret Hesaplama'!O83,\"\")","v":""},{"$f":"IF('EK DERS Ücret Hesaplama'!$AM83=1,'EK DERS Ücret Hesaplama'!P83,\"\")","v":""},{"$f":"IF('EK DERS Ücret Hesaplama'!$AM83=1,'EK DERS Ücret Hesaplama'!Q83,\"\")","v":""},{"$f":"IF('EK DERS Ücret Hesaplama'!$AM83=1,'EK DERS Ücret Hesaplama'!R83,\"\")","v":""},{"$f":"IF('EK DERS Ücret Hesaplama'!$AM83=1,'EK DERS Ücret Hesaplama'!S83,\"\")","v":""},{"$f":"IF('EK DERS Ücret Hesaplama'!$AM83=1,hesaplamalar!X80,\"\")","v":""},{"$f":"IF('EK DERS Ücret Hesaplama'!$AM83=1,hesaplamalar!Y80,\"\")","v":""},{"$f":"IF('EK DERS Ücret Hesaplama'!$AM83=1,hesaplamalar!Z80,\"\")","v":""},{"$f":"IF('EK DERS Ücret Hesaplama'!$AM83=1,hesaplamalar!AA80,\"\")","v":""},{"$f":"IF('EK DERS Ücret Hesaplama'!$AM83=1,hesaplamalar!AB80,\"\")","v":""},{"$f":"IF('EK DERS Ücret Hesaplama'!$AM83=1,hesaplamalar!AC80,\"\")","v":""},{"$f":"IF('EK DERS Ücret Hesaplama'!$AM83=1,hesaplamalar!AD80,\"\")","v":""},{"$f":"IF('EK DERS Ücret Hesaplama'!$AM83=1,hesaplamalar!AE80,\"\")","v":""},{"$f":"IF('EK DERS Ücret Hesaplama'!$AM83=1,hesaplamalar!AG80,\"\")","v":""},{"$f":"IF('EK DERS Ücret Hesaplama'!$AM83=1,hesaplamalar!AH80,\"\")","v":""},{"$f":"IF('EK DERS Ücret Hesaplama'!$AM83=1,'EK DERS Ücret Hesaplama'!AE83,\"\")","v":""},{"$f":"IF('EK DERS Ücret Hesaplama'!$AM83=1,'EK DERS Ücret Hesaplama'!AG83,\"\")","v":""},{"$f":"IF('EK DERS Ücret Hesaplama'!$AM83=1,'EK DERS Ücret Hesaplama'!AF83,\"\")","v":""},{"$f":"IF('EK DERS Ücret Hesaplama'!$AM83=1,'EK DERS Ücret Hesaplama'!AH83,\"\")","v":""},{"$f":"IF('EK DERS Ücret Hesaplama'!$AM83=1,'EK DERS Ücret Hesaplama'!AI83,\"\")","v":""},{"$f":"IF('EK DERS Ücret Hesaplama'!$AM83=1,'EK DERS Ücret Hesaplama'!AJ83,\"\")","v":""},{"$f":"IF('EK DERS Ücret Hesaplama'!$AM83=1,'EK DERS Ücret Hesaplama'!AK83,\"\")","v":""},null,0]
[{"$f":"IF(AJ86=\"\",\"\",SUBTOTAL(103,$AJ$8:AJ86))","v":""},{"$f":"IF('EK DERS Ücret Hesaplama'!$AM84=1,'EK DERS Ücret Hesaplama'!B84,\"\")","v":""},{"$f":"IF('EK DERS Ücret Hesaplama'!$AM84=1,'EK DERS Ücret Hesaplama'!C84,\"\")","v":""},{"$f":"IF('EK DERS Ücret Hesaplama'!$AM84=1,IF('EK DERS Ücret Hesaplama'!D84=\"Ücretli Öğretmen\",\"Ücretli Öğr.\",\"Ücr.Öğr. (Emekli)\"),\"\")","v":""},{"$f":"IF('EK DERS Ücret Hesaplama'!$AM84=1,'EK DERS Ücret Hesaplama'!M84,\"\")","v":""},{"$f":"IF('EK DERS Ücret Hesaplama'!$AM84=1,'EK DERS Ücret Hesaplama'!N84,\"\")","v":""},{"$f":"IF('EK DERS Ücret Hesaplama'!$AM84=1,'EK DERS Ücret Hesaplama'!E84,\"\")","v":""},{"$f":"IF('EK DERS Ücret Hesaplama'!$AM84=1,'EK DERS Ücret Hesaplama'!F84,\"\")","v":""},{"$f":"IF('EK DERS Ücret Hesaplama'!$AM84=1,'EK DERS Ücret Hesaplama'!G84,\"\")","v":""},{"$f":"IF('EK DERS Ücret Hesaplama'!$AM84=1,'EK DERS Ücret Hesaplama'!H84,\"\")","v":""},{"$f":"IF('EK DERS Ücret Hesaplama'!$AM84=1,'EK DERS Ücret Hesaplama'!I84,\"\")","v":""},{"$f":"IF('EK DERS Ücret Hesaplama'!$AM84=1,'EK DERS Ücret Hesaplama'!J84,\"\")","v":""},{"$f":"IF('EK DERS Ücret Hesaplama'!$AM84=1,'EK DERS Ücret Hesaplama'!K84,\"\")","v":""},{"$f":"IF('EK DERS Ücret Hesaplama'!$AM84=1,'EK DERS Ücret Hesaplama'!L84,\"\")","v":""},{"$f":"IF('EK DERS Ücret Hesaplama'!$AM84=1,'EK DERS Ücret Hesaplama'!O84,\"\")","v":""},{"$f":"IF('EK DERS Ücret Hesaplama'!$AM84=1,'EK DERS Ücret Hesaplama'!P84,\"\")","v":""},{"$f":"IF('EK DERS Ücret Hesaplama'!$AM84=1,'EK DERS Ücret Hesaplama'!Q84,\"\")","v":""},{"$f":"IF('EK DERS Ücret Hesaplama'!$AM84=1,'EK DERS Ücret Hesaplama'!R84,\"\")","v":""},{"$f":"IF('EK DERS Ücret Hesaplama'!$AM84=1,'EK DERS Ücret Hesaplama'!S84,\"\")","v":""},{"$f":"IF('EK DERS Ücret Hesaplama'!$AM84=1,hesaplamalar!X81,\"\")","v":""},{"$f":"IF('EK DERS Ücret Hesaplama'!$AM84=1,hesaplamalar!Y81,\"\")","v":""},{"$f":"IF('EK DERS Ücret Hesaplama'!$AM84=1,hesaplamalar!Z81,\"\")","v":""},{"$f":"IF('EK DERS Ücret Hesaplama'!$AM84=1,hesaplamalar!AA81,\"\")","v":""},{"$f":"IF('EK DERS Ücret Hesaplama'!$AM84=1,hesaplamalar!AB81,\"\")","v":""},{"$f":"IF('EK DERS Ücret Hesaplama'!$AM84=1,hesaplamalar!AC81,\"\")","v":""},{"$f":"IF('EK DERS Ücret Hesaplama'!$AM84=1,hesaplamalar!AD81,\"\")","v":""},{"$f":"IF('EK DERS Ücret Hesaplama'!$AM84=1,hesaplamalar!AE81,\"\")","v":""},{"$f":"IF('EK DERS Ücret Hesaplama'!$AM84=1,hesaplamalar!AG81,\"\")","v":""},{"$f":"IF('EK DERS Ücret Hesaplama'!$AM84=1,hesaplamalar!AH81,\"\")","v":""},{"$f":"IF('EK DERS Ücret Hesaplama'!$AM84=1,'EK DERS Ücret Hesaplama'!AE84,\"\")","v":""},{"$f":"IF('EK DERS Ücret Hesaplama'!$AM84=1,'EK DERS Ücret Hesaplama'!AG84,\"\")","v":""},{"$f":"IF('EK DERS Ücret Hesaplama'!$AM84=1,'EK DERS Ücret Hesaplama'!AF84,\"\")","v":""},{"$f":"IF('EK DERS Ücret Hesaplama'!$AM84=1,'EK DERS Ücret Hesaplama'!AH84,\"\")","v":""},{"$f":"IF('EK DERS Ücret Hesaplama'!$AM84=1,'EK DERS Ücret Hesaplama'!AI84,\"\")","v":""},{"$f":"IF('EK DERS Ücret Hesaplama'!$AM84=1,'EK DERS Ücret Hesaplama'!AJ84,\"\")","v":""},{"$f":"IF('EK DERS Ücret Hesaplama'!$AM84=1,'EK DERS Ücret Hesaplama'!AK84,\"\")","v":""},null,0]
[{"$f":"IF(AJ87=\"\",\"\",SUBTOTAL(103,$AJ$8:AJ87))","v":""},{"$f":"IF('EK DERS Ücret Hesaplama'!$AM85=1,'EK DERS Ücret Hesaplama'!B85,\"\")","v":""},{"$f":"IF('EK DERS Ücret Hesaplama'!$AM85=1,'EK DERS Ücret Hesaplama'!C85,\"\")","v":""},{"$f":"IF('EK DERS Ücret Hesaplama'!$AM85=1,IF('EK DERS Ücret Hesaplama'!D85=\"Ücretli Öğretmen\",\"Ücretli Öğr.\",\"Ücr.Öğr. (Emekli)\"),\"\")","v":""},{"$f":"IF('EK DERS Ücret Hesaplama'!$AM85=1,'EK DERS Ücret Hesaplama'!M85,\"\")","v":""},{"$f":"IF('EK DERS Ücret Hesaplama'!$AM85=1,'EK DERS Ücret Hesaplama'!N85,\"\")","v":""},{"$f":"IF('EK DERS Ücret Hesaplama'!$AM85=1,'EK DERS Ücret Hesaplama'!E85,\"\")","v":""},{"$f":"IF('EK DERS Ücret Hesaplama'!$AM85=1,'EK DERS Ücret Hesaplama'!F85,\"\")","v":""},{"$f":"IF('EK DERS Ücret Hesaplama'!$AM85=1,'EK DERS Ücret Hesaplama'!G85,\"\")","v":""},{"$f":"IF('EK DERS Ücret Hesaplama'!$AM85=1,'EK DERS Ücret Hesaplama'!H85,\"\")","v":""},{"$f":"IF('EK DERS Ücret Hesaplama'!$AM85=1,'EK DERS Ücret Hesaplama'!I85,\"\")","v":""},{"$f":"IF('EK DERS Ücret Hesaplama'!$AM85=1,'EK DERS Ücret Hesaplama'!J85,\"\")","v":""},{"$f":"IF('EK DERS Ücret Hesaplama'!$AM85=1,'EK DERS Ücret Hesaplama'!K85,\"\")","v":""},{"$f":"IF('EK DERS Ücret Hesaplama'!$AM85=1,'EK DERS Ücret Hesaplama'!L85,\"\")","v":""},{"$f":"IF('EK DERS Ücret Hesaplama'!$AM85=1,'EK DERS Ücret Hesaplama'!O85,\"\")","v":""},{"$f":"IF('EK DERS Ücret Hesaplama'!$AM85=1,'EK DERS Ücret Hesaplama'!P85,\"\")","v":""},{"$f":"IF('EK DERS Ücret Hesaplama'!$AM85=1,'EK DERS Ücret Hesaplama'!Q85,\"\")","v":""},{"$f":"IF('EK DERS Ücret Hesaplama'!$AM85=1,'EK DERS Ücret Hesaplama'!R85,\"\")","v":""},{"$f":"IF('EK DERS Ücret Hesaplama'!$AM85=1,'EK DERS Ücret Hesaplama'!S85,\"\")","v":""},{"$f":"IF('EK DERS Ücret Hesaplama'!$AM85=1,hesaplamalar!X82,\"\")","v":""},{"$f":"IF('EK DERS Ücret Hesaplama'!$AM85=1,hesaplamalar!Y82,\"\")","v":""},{"$f":"IF('EK DERS Ücret Hesaplama'!$AM85=1,hesaplamalar!Z82,\"\")","v":""},{"$f":"IF('EK DERS Ücret Hesaplama'!$AM85=1,hesaplamalar!AA82,\"\")","v":""},{"$f":"IF('EK DERS Ücret Hesaplama'!$AM85=1,hesaplamalar!AB82,\"\")","v":""},{"$f":"IF('EK DERS Ücret Hesaplama'!$AM85=1,hesaplamalar!AC82,\"\")","v":""},{"$f":"IF('EK DERS Ücret Hesaplama'!$AM85=1,hesaplamalar!AD82,\"\")","v":""},{"$f":"IF('EK DERS Ücret Hesaplama'!$AM85=1,hesaplamalar!AE82,\"\")","v":""},{"$f":"IF('EK DERS Ücret Hesaplama'!$AM85=1,hesaplamalar!AG82,\"\")","v":""},{"$f":"IF('EK DERS Ücret Hesaplama'!$AM85=1,hesaplamalar!AH82,\"\")","v":""},{"$f":"IF('EK DERS Ücret Hesaplama'!$AM85=1,'EK DERS Ücret Hesaplama'!AE85,\"\")","v":""},{"$f":"IF('EK DERS Ücret Hesaplama'!$AM85=1,'EK DERS Ücret Hesaplama'!AG85,\"\")","v":""},{"$f":"IF('EK DERS Ücret Hesaplama'!$AM85=1,'EK DERS Ücret Hesaplama'!AF85,\"\")","v":""},{"$f":"IF('EK DERS Ücret Hesaplama'!$AM85=1,'EK DERS Ücret Hesaplama'!AH85,\"\")","v":""},{"$f":"IF('EK DERS Ücret Hesaplama'!$AM85=1,'EK DERS Ücret Hesaplama'!AI85,\"\")","v":""},{"$f":"IF('EK DERS Ücret Hesaplama'!$AM85=1,'EK DERS Ücret Hesaplama'!AJ85,\"\")","v":""},{"$f":"IF('EK DERS Ücret Hesaplama'!$AM85=1,'EK DERS Ücret Hesaplama'!AK85,\"\")","v":""},null,0]
[{"$f":"IF(AJ88=\"\",\"\",SUBTOTAL(103,$AJ$8:AJ88))","v":""},{"$f":"IF('EK DERS Ücret Hesaplama'!$AM86=1,'EK DERS Ücret Hesaplama'!B86,\"\")","v":""},{"$f":"IF('EK DERS Ücret Hesaplama'!$AM86=1,'EK DERS Ücret Hesaplama'!C86,\"\")","v":""},{"$f":"IF('EK DERS Ücret Hesaplama'!$AM86=1,IF('EK DERS Ücret Hesaplama'!D86=\"Ücretli Öğretmen\",\"Ücretli Öğr.\",\"Ücr.Öğr. (Emekli)\"),\"\")","v":""},{"$f":"IF('EK DERS Ücret Hesaplama'!$AM86=1,'EK DERS Ücret Hesaplama'!M86,\"\")","v":""},{"$f":"IF('EK DERS Ücret Hesaplama'!$AM86=1,'EK DERS Ücret Hesaplama'!N86,\"\")","v":""},{"$f":"IF('EK DERS Ücret Hesaplama'!$AM86=1,'EK DERS Ücret Hesaplama'!E86,\"\")","v":""},{"$f":"IF('EK DERS Ücret Hesaplama'!$AM86=1,'EK DERS Ücret Hesaplama'!F86,\"\")","v":""},{"$f":"IF('EK DERS Ücret Hesaplama'!$AM86=1,'EK DERS Ücret Hesaplama'!G86,\"\")","v":""},{"$f":"IF('EK DERS Ücret Hesaplama'!$AM86=1,'EK DERS Ücret Hesaplama'!H86,\"\")","v":""},{"$f":"IF('EK DERS Ücret Hesaplama'!$AM86=1,'EK DERS Ücret Hesaplama'!I86,\"\")","v":""},{"$f":"IF('EK DERS Ücret Hesaplama'!$AM86=1,'EK DERS Ücret Hesaplama'!J86,\"\")","v":""},{"$f":"IF('EK DERS Ücret Hesaplama'!$AM86=1,'EK DERS Ücret Hesaplama'!K86,\"\")","v":""},{"$f":"IF('EK DERS Ücret Hesaplama'!$AM86=1,'EK DERS Ücret Hesaplama'!L86,\"\")","v":""},{"$f":"IF('EK DERS Ücret Hesaplama'!$AM86=1,'EK DERS Ücret Hesaplama'!O86,\"\")","v":""},{"$f":"IF('EK DERS Ücret Hesaplama'!$AM86=1,'EK DERS Ücret Hesaplama'!P86,\"\")","v":""},{"$f":"IF('EK DERS Ücret Hesaplama'!$AM86=1,'EK DERS Ücret Hesaplama'!Q86,\"\")","v":""},{"$f":"IF('EK DERS Ücret Hesaplama'!$AM86=1,'EK DERS Ücret Hesaplama'!R86,\"\")","v":""},{"$f":"IF('EK DERS Ücret Hesaplama'!$AM86=1,'EK DERS Ücret Hesaplama'!S86,\"\")","v":""},{"$f":"IF('EK DERS Ücret Hesaplama'!$AM86=1,hesaplamalar!X83,\"\")","v":""},{"$f":"IF('EK DERS Ücret Hesaplama'!$AM86=1,hesaplamalar!Y83,\"\")","v":""},{"$f":"IF('EK DERS Ücret Hesaplama'!$AM86=1,hesaplamalar!Z83,\"\")","v":""},{"$f":"IF('EK DERS Ücret Hesaplama'!$AM86=1,hesaplamalar!AA83,\"\")","v":""},{"$f":"IF('EK DERS Ücret Hesaplama'!$AM86=1,hesaplamalar!AB83,\"\")","v":""},{"$f":"IF('EK DERS Ücret Hesaplama'!$AM86=1,hesaplamalar!AC83,\"\")","v":""},{"$f":"IF('EK DERS Ücret Hesaplama'!$AM86=1,hesaplamalar!AD83,\"\")","v":""},{"$f":"IF('EK DERS Ücret Hesaplama'!$AM86=1,hesaplamalar!AE83,\"\")","v":""},{"$f":"IF('EK DERS Ücret Hesaplama'!$AM86=1,hesaplamalar!AG83,\"\")","v":""},{"$f":"IF('EK DERS Ücret Hesaplama'!$AM86=1,hesaplamalar!AH83,\"\")","v":""},{"$f":"IF('EK DERS Ücret Hesaplama'!$AM86=1,'EK DERS Ücret Hesaplama'!AE86,\"\")","v":""},{"$f":"IF('EK DERS Ücret Hesaplama'!$AM86=1,'EK DERS Ücret Hesaplama'!AG86,\"\")","v":""},{"$f":"IF('EK DERS Ücret Hesaplama'!$AM86=1,'EK DERS Ücret Hesaplama'!AF86,\"\")","v":""},{"$f":"IF('EK DERS Ücret Hesaplama'!$AM86=1,'EK DERS Ücret Hesaplama'!AH86,\"\")","v":""},{"$f":"IF('EK DERS Ücret Hesaplama'!$AM86=1,'EK DERS Ücret Hesaplama'!AI86,\"\")","v":""},{"$f":"IF('EK DERS Ücret Hesaplama'!$AM86=1,'EK DERS Ücret Hesaplama'!AJ86,\"\")","v":""},{"$f":"IF('EK DERS Ücret Hesaplama'!$AM86=1,'EK DERS Ücret Hesaplama'!AK86,\"\")","v":""},null,0]
[{"$f":"IF(AJ89=\"\",\"\",SUBTOTAL(103,$AJ$8:AJ89))","v":""},{"$f":"IF('EK DERS Ücret Hesaplama'!$AM87=1,'EK DERS Ücret Hesaplama'!B87,\"\")","v":""},{"$f":"IF('EK DERS Ücret Hesaplama'!$AM87=1,'EK DERS Ücret Hesaplama'!C87,\"\")","v":""},{"$f":"IF('EK DERS Ücret Hesaplama'!$AM87=1,IF('EK DERS Ücret Hesaplama'!D87=\"Ücretli Öğretmen\",\"Ücretli Öğr.\",\"Ücr.Öğr. (Emekli)\"),\"\")","v":""},{"$f":"IF('EK DERS Ücret Hesaplama'!$AM87=1,'EK DERS Ücret Hesaplama'!M87,\"\")","v":""},{"$f":"IF('EK DERS Ücret Hesaplama'!$AM87=1,'EK DERS Ücret Hesaplama'!N87,\"\")","v":""},{"$f":"IF('EK DERS Ücret Hesaplama'!$AM87=1,'EK DERS Ücret Hesaplama'!E87,\"\")","v":""},{"$f":"IF('EK DERS Ücret Hesaplama'!$AM87=1,'EK DERS Ücret Hesaplama'!F87,\"\")","v":""},{"$f":"IF('EK DERS Ücret Hesaplama'!$AM87=1,'EK DERS Ücret Hesaplama'!G87,\"\")","v":""},{"$f":"IF('EK DERS Ücret Hesaplama'!$AM87=1,'EK DERS Ücret Hesaplama'!H87,\"\")","v":""},{"$f":"IF('EK DERS Ücret Hesaplama'!$AM87=1,'EK DERS Ücret Hesaplama'!I87,\"\")","v":""},{"$f":"IF('EK DERS Ücret Hesaplama'!$AM87=1,'EK DERS Ücret Hesaplama'!J87,\"\")","v":""},{"$f":"IF('EK DERS Ücret Hesaplama'!$AM87=1,'EK DERS Ücret Hesaplama'!K87,\"\")","v":""},{"$f":"IF('EK DERS Ücret Hesaplama'!$AM87=1,'EK DERS Ücret Hesaplama'!L87,\"\")","v":""},{"$f":"IF('EK DERS Ücret Hesaplama'!$AM87=1,'EK DERS Ücret Hesaplama'!O87,\"\")","v":""},{"$f":"IF('EK DERS Ücret Hesaplama'!$AM87=1,'EK DERS Ücret Hesaplama'!P87,\"\")","v":""},{"$f":"IF('EK DERS Ücret Hesaplama'!$AM87=1,'EK DERS Ücret Hesaplama'!Q87,\"\")","v":""},{"$f":"IF('EK DERS Ücret Hesaplama'!$AM87=1,'EK DERS Ücret Hesaplama'!R87,\"\")","v":""},{"$f":"IF('EK DERS Ücret Hesaplama'!$AM87=1,'EK DERS Ücret Hesaplama'!S87,\"\")","v":""},{"$f":"IF('EK DERS Ücret Hesaplama'!$AM87=1,hesaplamalar!X84,\"\")","v":""},{"$f":"IF('EK DERS Ücret Hesaplama'!$AM87=1,hesaplamalar!Y84,\"\")","v":""},{"$f":"IF('EK DERS Ücret Hesaplama'!$AM87=1,hesaplamalar!Z84,\"\")","v":""},{"$f":"IF('EK DERS Ücret Hesaplama'!$AM87=1,hesaplamalar!AA84,\"\")","v":""},{"$f":"IF('EK DERS Ücret Hesaplama'!$AM87=1,hesaplamalar!AB84,\"\")","v":""},{"$f":"IF('EK DERS Ücret Hesaplama'!$AM87=1,hesaplamalar!AC84,\"\")","v":""},{"$f":"IF('EK DERS Ücret Hesaplama'!$AM87=1,hesaplamalar!AD84,\"\")","v":""},{"$f":"IF('EK DERS Ücret Hesaplama'!$AM87=1,hesaplamalar!AE84,\"\")","v":""},{"$f":"IF('EK DERS Ücret Hesaplama'!$AM87=1,hesaplamalar!AG84,\"\")","v":""},{"$f":"IF('EK DERS Ücret Hesaplama'!$AM87=1,hesaplamalar!AH84,\"\")","v":""},{"$f":"IF('EK DERS Ücret Hesaplama'!$AM87=1,'EK DERS Ücret Hesaplama'!AE87,\"\")","v":""},{"$f":"IF('EK DERS Ücret Hesaplama'!$AM87=1,'EK DERS Ücret Hesaplama'!AG87,\"\")","v":""},{"$f":"IF('EK DERS Ücret Hesaplama'!$AM87=1,'EK DERS Ücret Hesaplama'!AF87,\"\")","v":""},{"$f":"IF('EK DERS Ücret Hesaplama'!$AM87=1,'EK DERS Ücret Hesaplama'!AH87,\"\")","v":""},{"$f":"IF('EK DERS Ücret Hesaplama'!$AM87=1,'EK DERS Ücret Hesaplama'!AI87,\"\")","v":""},{"$f":"IF('EK DERS Ücret Hesaplama'!$AM87=1,'EK DERS Ücret Hesaplama'!AJ87,\"\")","v":""},{"$f":"IF('EK DERS Ücret Hesaplama'!$AM87=1,'EK DERS Ücret Hesaplama'!AK87,\"\")","v":""},null,0]
[{"$f":"IF(AJ90=\"\",\"\",SUBTOTAL(103,$AJ$8:AJ90))","v":""},{"$f":"IF('EK DERS Ücret Hesaplama'!$AM88=1,'EK DERS Ücret Hesaplama'!B88,\"\")","v":""},{"$f":"IF('EK DERS Ücret Hesaplama'!$AM88=1,'EK DERS Ücret Hesaplama'!C88,\"\")","v":""},{"$f":"IF('EK DERS Ücret Hesaplama'!$AM88=1,IF('EK DERS Ücret Hesaplama'!D88=\"Ücretli Öğretmen\",\"Ücretli Öğr.\",\"Ücr.Öğr. (Emekli)\"),\"\")","v":""},{"$f":"IF('EK DERS Ücret Hesaplama'!$AM88=1,'EK DERS Ücret Hesaplama'!M88,\"\")","v":""},{"$f":"IF('EK DERS Ücret Hesaplama'!$AM88=1,'EK DERS Ücret Hesaplama'!N88,\"\")","v":""},{"$f":"IF('EK DERS Ücret Hesaplama'!$AM88=1,'EK DERS Ücret Hesaplama'!E88,\"\")","v":""},{"$f":"IF('EK DERS Ücret Hesaplama'!$AM88=1,'EK DERS Ücret Hesaplama'!F88,\"\")","v":""},{"$f":"IF('EK DERS Ücret Hesaplama'!$AM88=1,'EK DERS Ücret Hesaplama'!G88,\"\")","v":""},{"$f":"IF('EK DERS Ücret Hesaplama'!$AM88=1,'EK DERS Ücret Hesaplama'!H88,\"\")","v":""},{"$f":"IF('EK DERS Ücret Hesaplama'!$AM88=1,'EK DERS Ücret Hesaplama'!I88,\"\")","v":""},{"$f":"IF('EK DERS Ücret Hesaplama'!$AM88=1,'EK DERS Ücret Hesaplama'!J88,\"\")","v":""},{"$f":"IF('EK DERS Ücret Hesaplama'!$AM88=1,'EK DERS Ücret Hesaplama'!K88,\"\")","v":""},{"$f":"IF('EK DERS Ücret Hesaplama'!$AM88=1,'EK DERS Ücret Hesaplama'!L88,\"\")","v":""},{"$f":"IF('EK DERS Ücret Hesaplama'!$AM88=1,'EK DERS Ücret Hesaplama'!O88,\"\")","v":""},{"$f":"IF('EK DERS Ücret Hesaplama'!$AM88=1,'EK DERS Ücret Hesaplama'!P88,\"\")","v":""},{"$f":"IF('EK DERS Ücret Hesaplama'!$AM88=1,'EK DERS Ücret Hesaplama'!Q88,\"\")","v":""},{"$f":"IF('EK DERS Ücret Hesaplama'!$AM88=1,'EK DERS Ücret Hesaplama'!R88,\"\")","v":""},{"$f":"IF('EK DERS Ücret Hesaplama'!$AM88=1,'EK DERS Ücret Hesaplama'!S88,\"\")","v":""},{"$f":"IF('EK DERS Ücret Hesaplama'!$AM88=1,hesaplamalar!X85,\"\")","v":""},{"$f":"IF('EK DERS Ücret Hesaplama'!$AM88=1,hesaplamalar!Y85,\"\")","v":""},{"$f":"IF('EK DERS Ücret Hesaplama'!$AM88=1,hesaplamalar!Z85,\"\")","v":""},{"$f":"IF('EK DERS Ücret Hesaplama'!$AM88=1,hesaplamalar!AA85,\"\")","v":""},{"$f":"IF('EK DERS Ücret Hesaplama'!$AM88=1,hesaplamalar!AB85,\"\")","v":""},{"$f":"IF('EK DERS Ücret Hesaplama'!$AM88=1,hesaplamalar!AC85,\"\")","v":""},{"$f":"IF('EK DERS Ücret Hesaplama'!$AM88=1,hesaplamalar!AD85,\"\")","v":""},{"$f":"IF('EK DERS Ücret Hesaplama'!$AM88=1,hesaplamalar!AE85,\"\")","v":""},{"$f":"IF('EK DERS Ücret Hesaplama'!$AM88=1,hesaplamalar!AG85,\"\")","v":""},{"$f":"IF('EK DERS Ücret Hesaplama'!$AM88=1,hesaplamalar!AH85,\"\")","v":""},{"$f":"IF('EK DERS Ücret Hesaplama'!$AM88=1,'EK DERS Ücret Hesaplama'!AE88,\"\")","v":""},{"$f":"IF('EK DERS Ücret Hesaplama'!$AM88=1,'EK DERS Ücret Hesaplama'!AG88,\"\")","v":""},{"$f":"IF('EK DERS Ücret Hesaplama'!$AM88=1,'EK DERS Ücret Hesaplama'!AF88,\"\")","v":""},{"$f":"IF('EK DERS Ücret Hesaplama'!$AM88=1,'EK DERS Ücret Hesaplama'!AH88,\"\")","v":""},{"$f":"IF('EK DERS Ücret Hesaplama'!$AM88=1,'EK DERS Ücret Hesaplama'!AI88,\"\")","v":""},{"$f":"IF('EK DERS Ücret Hesaplama'!$AM88=1,'EK DERS Ücret Hesaplama'!AJ88,\"\")","v":""},{"$f":"IF('EK DERS Ücret Hesaplama'!$AM88=1,'EK DERS Ücret Hesaplama'!AK88,\"\")","v":""},null,0]
[{"$f":"IF(AJ91=\"\",\"\",SUBTOTAL(103,$AJ$8:AJ91))","v":""},{"$f":"IF('EK DERS Ücret Hesaplama'!$AM89=1,'EK DERS Ücret Hesaplama'!B89,\"\")","v":""},{"$f":"IF('EK DERS Ücret Hesaplama'!$AM89=1,'EK DERS Ücret Hesaplama'!C89,\"\")","v":""},{"$f":"IF('EK DERS Ücret Hesaplama'!$AM89=1,IF('EK DERS Ücret Hesaplama'!D89=\"Ücretli Öğretmen\",\"Ücretli Öğr.\",\"Ücr.Öğr. (Emekli)\"),\"\")","v":""},{"$f":"IF('EK DERS Ücret Hesaplama'!$AM89=1,'EK DERS Ücret Hesaplama'!M89,\"\")","v":""},{"$f":"IF('EK DERS Ücret Hesaplama'!$AM89=1,'EK DERS Ücret Hesaplama'!N89,\"\")","v":""},{"$f":"IF('EK DERS Ücret Hesaplama'!$AM89=1,'EK DERS Ücret Hesaplama'!E89,\"\")","v":""},{"$f":"IF('EK DERS Ücret Hesaplama'!$AM89=1,'EK DERS Ücret Hesaplama'!F89,\"\")","v":""},{"$f":"IF('EK DERS Ücret Hesaplama'!$AM89=1,'EK DERS Ücret Hesaplama'!G89,\"\")","v":""},{"$f":"IF('EK DERS Ücret Hesaplama'!$AM89=1,'EK DERS Ücret Hesaplama'!H89,\"\")","v":""},{"$f":"IF('EK DERS Ücret Hesaplama'!$AM89=1,'EK DERS Ücret Hesaplama'!I89,\"\")","v":""},{"$f":"IF('EK DERS Ücret Hesaplama'!$AM89=1,'EK DERS Ücret Hesaplama'!J89,\"\")","v":""},{"$f":"IF('EK DERS Ücret Hesaplama'!$AM89=1,'EK DERS Ücret Hesaplama'!K89,\"\")","v":""},{"$f":"IF('EK DERS Ücret Hesaplama'!$AM89=1,'EK DERS Ücret Hesaplama'!L89,\"\")","v":""},{"$f":"IF('EK DERS Ücret Hesaplama'!$AM89=1,'EK DERS Ücret Hesaplama'!O89,\"\")","v":""},{"$f":"IF('EK DERS Ücret Hesaplama'!$AM89=1,'EK DERS Ücret Hesaplama'!P89,\"\")","v":""},{"$f":"IF('EK DERS Ücret Hesaplama'!$AM89=1,'EK DERS Ücret Hesaplama'!Q89,\"\")","v":""},{"$f":"IF('EK DERS Ücret Hesaplama'!$AM89=1,'EK DERS Ücret Hesaplama'!R89,\"\")","v":""},{"$f":"IF('EK DERS Ücret Hesaplama'!$AM89=1,'EK DERS Ücret Hesaplama'!S89,\"\")","v":""},{"$f":"IF('EK DERS Ücret Hesaplama'!$AM89=1,hesaplamalar!X86,\"\")","v":""},{"$f":"IF('EK DERS Ücret Hesaplama'!$AM89=1,hesaplamalar!Y86,\"\")","v":""},{"$f":"IF('EK DERS Ücret Hesaplama'!$AM89=1,hesaplamalar!Z86,\"\")","v":""},{"$f":"IF('EK DERS Ücret Hesaplama'!$AM89=1,hesaplamalar!AA86,\"\")","v":""},{"$f":"IF('EK DERS Ücret Hesaplama'!$AM89=1,hesaplamalar!AB86,\"\")","v":""},{"$f":"IF('EK DERS Ücret Hesaplama'!$AM89=1,hesaplamalar!AC86,\"\")","v":""},{"$f":"IF('EK DERS Ücret Hesaplama'!$AM89=1,hesaplamalar!AD86,\"\")","v":""},{"$f":"IF('EK DERS Ücret Hesaplama'!$AM89=1,hesaplamalar!AE86,\"\")","v":""},{"$f":"IF('EK DERS Ücret Hesaplama'!$AM89=1,hesaplamalar!AG86,\"\")","v":""},{"$f":"IF('EK DERS Ücret Hesaplama'!$AM89=1,hesaplamalar!AH86,\"\")","v":""},{"$f":"IF('EK DERS Ücret Hesaplama'!$AM89=1,'EK DERS Ücret Hesaplama'!AE89,\"\")","v":""},{"$f":"IF('EK DERS Ücret Hesaplama'!$AM89=1,'EK DERS Ücret Hesaplama'!AG89,\"\")","v":""},{"$f":"IF('EK DERS Ücret Hesaplama'!$AM89=1,'EK DERS Ücret Hesaplama'!AF89,\"\")","v":""},{"$f":"IF('EK DERS Ücret Hesaplama'!$AM89=1,'EK DERS Ücret Hesaplama'!AH89,\"\")","v":""},{"$f":"IF('EK DERS Ücret Hesaplama'!$AM89=1,'EK DERS Ücret Hesaplama'!AI89,\"\")","v":""},{"$f":"IF('EK DERS Ücret Hesaplama'!$AM89=1,'EK DERS Ücret Hesaplama'!AJ89,\"\")","v":""},{"$f":"IF('EK DERS Ücret Hesaplama'!$AM89=1,'EK DERS Ücret Hesaplama'!AK89,\"\")","v":""},null,0]
[{"$f":"IF(AJ92=\"\",\"\",SUBTOTAL(103,$AJ$8:AJ92))","v":""},{"$f":"IF('EK DERS Ücret Hesaplama'!$AM90=1,'EK DERS Ücret Hesaplama'!B90,\"\")","v":""},{"$f":"IF('EK DERS Ücret Hesaplama'!$AM90=1,'EK DERS Ücret Hesaplama'!C90,\"\")","v":""},{"$f":"IF('EK DERS Ücret Hesaplama'!$AM90=1,IF('EK DERS Ücret Hesaplama'!D90=\"Ücretli Öğretmen\",\"Ücretli Öğr.\",\"Ücr.Öğr. (Emekli)\"),\"\")","v":""},{"$f":"IF('EK DERS Ücret Hesaplama'!$AM90=1,'EK DERS Ücret Hesaplama'!M90,\"\")","v":""},{"$f":"IF('EK DERS Ücret Hesaplama'!$AM90=1,'EK DERS Ücret Hesaplama'!N90,\"\")","v":""},{"$f":"IF('EK DERS Ücret Hesaplama'!$AM90=1,'EK DERS Ücret Hesaplama'!E90,\"\")","v":""},{"$f":"IF('EK DERS Ücret Hesaplama'!$AM90=1,'EK DERS Ücret Hesaplama'!F90,\"\")","v":""},{"$f":"IF('EK DERS Ücret Hesaplama'!$AM90=1,'EK DERS Ücret Hesaplama'!G90,\"\")","v":""},{"$f":"IF('EK DERS Ücret Hesaplama'!$AM90=1,'EK DERS Ücret Hesaplama'!H90,\"\")","v":""},{"$f":"IF('EK DERS Ücret Hesaplama'!$AM90=1,'EK DERS Ücret Hesaplama'!I90,\"\")","v":""},{"$f":"IF('EK DERS Ücret Hesaplama'!$AM90=1,'EK DERS Ücret Hesaplama'!J90,\"\")","v":""},{"$f":"IF('EK DERS Ücret Hesaplama'!$AM90=1,'EK DERS Ücret Hesaplama'!K90,\"\")","v":""},{"$f":"IF('EK DERS Ücret Hesaplama'!$AM90=1,'EK DERS Ücret Hesaplama'!L90,\"\")","v":""},{"$f":"IF('EK DERS Ücret Hesaplama'!$AM90=1,'EK DERS Ücret Hesaplama'!O90,\"\")","v":""},{"$f":"IF('EK DERS Ücret Hesaplama'!$AM90=1,'EK DERS Ücret Hesaplama'!P90,\"\")","v":""},{"$f":"IF('EK DERS Ücret Hesaplama'!$AM90=1,'EK DERS Ücret Hesaplama'!Q90,\"\")","v":""},{"$f":"IF('EK DERS Ücret Hesaplama'!$AM90=1,'EK DERS Ücret Hesaplama'!R90,\"\")","v":""},{"$f":"IF('EK DERS Ücret Hesaplama'!$AM90=1,'EK DERS Ücret Hesaplama'!S90,\"\")","v":""},{"$f":"IF('EK DERS Ücret Hesaplama'!$AM90=1,hesaplamalar!X87,\"\")","v":""},{"$f":"IF('EK DERS Ücret Hesaplama'!$AM90=1,hesaplamalar!Y87,\"\")","v":""},{"$f":"IF('EK DERS Ücret Hesaplama'!$AM90=1,hesaplamalar!Z87,\"\")","v":""},{"$f":"IF('EK DERS Ücret Hesaplama'!$AM90=1,hesaplamalar!AA87,\"\")","v":""},{"$f":"IF('EK DERS Ücret Hesaplama'!$AM90=1,hesaplamalar!AB87,\"\")","v":""},{"$f":"IF('EK DERS Ücret Hesaplama'!$AM90=1,hesaplamalar!AC87,\"\")","v":""},{"$f":"IF('EK DERS Ücret Hesaplama'!$AM90=1,hesaplamalar!AD87,\"\")","v":""},{"$f":"IF('EK DERS Ücret Hesaplama'!$AM90=1,hesaplamalar!AE87,\"\")","v":""},{"$f":"IF('EK DERS Ücret Hesaplama'!$AM90=1,hesaplamalar!AG87,\"\")","v":""},{"$f":"IF('EK DERS Ücret Hesaplama'!$AM90=1,hesaplamalar!AH87,\"\")","v":""},{"$f":"IF('EK DERS Ücret Hesaplama'!$AM90=1,'EK DERS Ücret Hesaplama'!AE90,\"\")","v":""},{"$f":"IF('EK DERS Ücret Hesaplama'!$AM90=1,'EK DERS Ücret Hesaplama'!AG90,\"\")","v":""},{"$f":"IF('EK DERS Ücret Hesaplama'!$AM90=1,'EK DERS Ücret Hesaplama'!AF90,\"\")","v":""},{"$f":"IF('EK DERS Ücret Hesaplama'!$AM90=1,'EK DERS Ücret Hesaplama'!AH90,\"\")","v":""},{"$f":"IF('EK DERS Ücret Hesaplama'!$AM90=1,'EK DERS Ücret Hesaplama'!AI90,\"\")","v":""},{"$f":"IF('EK DERS Ücret Hesaplama'!$AM90=1,'EK DERS Ücret Hesaplama'!AJ90,\"\")","v":""},{"$f":"IF('EK DERS Ücret Hesaplama'!$AM90=1,'EK DERS Ücret Hesaplama'!AK90,\"\")","v":""},null,0]
[{"$f":"IF(AJ93=\"\",\"\",SUBTOTAL(103,$AJ$8:AJ93))","v":""},{"$f":"IF('EK DERS Ücret Hesaplama'!$AM91=1,'EK DERS Ücret Hesaplama'!B91,\"\")","v":""},{"$f":"IF('EK DERS Ücret Hesaplama'!$AM91=1,'EK DERS Ücret Hesaplama'!C91,\"\")","v":""},{"$f":"IF('EK DERS Ücret Hesaplama'!$AM91=1,IF('EK DERS Ücret Hesaplama'!D91=\"Ücretli Öğretmen\",\"Ücretli Öğr.\",\"Ücr.Öğr. (Emekli)\"),\"\")","v":""},{"$f":"IF('EK DERS Ücret Hesaplama'!$AM91=1,'EK DERS Ücret Hesaplama'!M91,\"\")","v":""},{"$f":"IF('EK DERS Ücret Hesaplama'!$AM91=1,'EK DERS Ücret Hesaplama'!N91,\"\")","v":""},{"$f":"IF('EK DERS Ücret Hesaplama'!$AM91=1,'EK DERS Ücret Hesaplama'!E91,\"\")","v":""},{"$f":"IF('EK DERS Ücret Hesaplama'!$AM91=1,'EK DERS Ücret Hesaplama'!F91,\"\")","v":""},{"$f":"IF('EK DERS Ücret Hesaplama'!$AM91=1,'EK DERS Ücret Hesaplama'!G91,\"\")","v":""},{"$f":"IF('EK DERS Ücret Hesaplama'!$AM91=1,'EK DERS Ücret Hesaplama'!H91,\"\")","v":""},{"$f":"IF('EK DERS Ücret Hesaplama'!$AM91=1,'EK DERS Ücret Hesaplama'!I91,\"\")","v":""},{"$f":"IF('EK DERS Ücret Hesaplama'!$AM91=1,'EK DERS Ücret Hesaplama'!J91,\"\")","v":""},{"$f":"IF('EK DERS Ücret Hesaplama'!$AM91=1,'EK DERS Ücret Hesaplama'!K91,\"\")","v":""},{"$f":"IF('EK DERS Ücret Hesaplama'!$AM91=1,'EK DERS Ücret Hesaplama'!L91,\"\")","v":""},{"$f":"IF('EK DERS Ücret Hesaplama'!$AM91=1,'EK DERS Ücret Hesaplama'!O91,\"\")","v":""},{"$f":"IF('EK DERS Ücret Hesaplama'!$AM91=1,'EK DERS Ücret Hesaplama'!P91,\"\")","v":""},{"$f":"IF('EK DERS Ücret Hesaplama'!$AM91=1,'EK DERS Ücret Hesaplama'!Q91,\"\")","v":""},{"$f":"IF('EK DERS Ücret Hesaplama'!$AM91=1,'EK DERS Ücret Hesaplama'!R91,\"\")","v":""},{"$f":"IF('EK DERS Ücret Hesaplama'!$AM91=1,'EK DERS Ücret Hesaplama'!S91,\"\")","v":""},{"$f":"IF('EK DERS Ücret Hesaplama'!$AM91=1,hesaplamalar!X88,\"\")","v":""},{"$f":"IF('EK DERS Ücret Hesaplama'!$AM91=1,hesaplamalar!Y88,\"\")","v":""},{"$f":"IF('EK DERS Ücret Hesaplama'!$AM91=1,hesaplamalar!Z88,\"\")","v":""},{"$f":"IF('EK DERS Ücret Hesaplama'!$AM91=1,hesaplamalar!AA88,\"\")","v":""},{"$f":"IF('EK DERS Ücret Hesaplama'!$AM91=1,hesaplamalar!AB88,\"\")","v":""},{"$f":"IF('EK DERS Ücret Hesaplama'!$AM91=1,hesaplamalar!AC88,\"\")","v":""},{"$f":"IF('EK DERS Ücret Hesaplama'!$AM91=1,hesaplamalar!AD88,\"\")","v":""},{"$f":"IF('EK DERS Ücret Hesaplama'!$AM91=1,hesaplamalar!AE88,\"\")","v":""},{"$f":"IF('EK DERS Ücret Hesaplama'!$AM91=1,hesaplamalar!AG88,\"\")","v":""},{"$f":"IF('EK DERS Ücret Hesaplama'!$AM91=1,hesaplamalar!AH88,\"\")","v":""},{"$f":"IF('EK DERS Ücret Hesaplama'!$AM91=1,'EK DERS Ücret Hesaplama'!AE91,\"\")","v":""},{"$f":"IF('EK DERS Ücret Hesaplama'!$AM91=1,'EK DERS Ücret Hesaplama'!AG91,\"\")","v":""},{"$f":"IF('EK DERS Ücret Hesaplama'!$AM91=1,'EK DERS Ücret Hesaplama'!AF91,\"\")","v":""},{"$f":"IF('EK DERS Ücret Hesaplama'!$AM91=1,'EK DERS Ücret Hesaplama'!AH91,\"\")","v":""},{"$f":"IF('EK DERS Ücret Hesaplama'!$AM91=1,'EK DERS Ücret Hesaplama'!AI91,\"\")","v":""},{"$f":"IF('EK DERS Ücret Hesaplama'!$AM91=1,'EK DERS Ücret Hesaplama'!AJ91,\"\")","v":""},{"$f":"IF('EK DERS Ücret Hesaplama'!$AM91=1,'EK DERS Ücret Hesaplama'!AK91,\"\")","v":""},null,0]
[{"$f":"IF(AJ94=\"\",\"\",SUBTOTAL(103,$AJ$8:AJ94))","v":""},{"$f":"IF('EK DERS Ücret Hesaplama'!$AM92=1,'EK DERS Ücret Hesaplama'!B92,\"\")","v":""},{"$f":"IF('EK DERS Ücret Hesaplama'!$AM92=1,'EK DERS Ücret Hesaplama'!C92,\"\")","v":""},{"$f":"IF('EK DERS Ücret Hesaplama'!$AM92=1,IF('EK DERS Ücret Hesaplama'!D92=\"Ücretli Öğretmen\",\"Ücretli Öğr.\",\"Ücr.Öğr. (Emekli)\"),\"\")","v":""},{"$f":"IF('EK DERS Ücret Hesaplama'!$AM92=1,'EK DERS Ücret Hesaplama'!M92,\"\")","v":""},{"$f":"IF('EK DERS Ücret Hesaplama'!$AM92=1,'EK DERS Ücret Hesaplama'!N92,\"\")","v":""},{"$f":"IF('EK DERS Ücret Hesaplama'!$AM92=1,'EK DERS Ücret Hesaplama'!E92,\"\")","v":""},{"$f":"IF('EK DERS Ücret Hesaplama'!$AM92=1,'EK DERS Ücret Hesaplama'!F92,\"\")","v":""},{"$f":"IF('EK DERS Ücret Hesaplama'!$AM92=1,'EK DERS Ücret Hesaplama'!G92,\"\")","v":""},{"$f":"IF('EK DERS Ücret Hesaplama'!$AM92=1,'EK DERS Ücret Hesaplama'!H92,\"\")","v":""},{"$f":"IF('EK DERS Ücret Hesaplama'!$AM92=1,'EK DERS Ücret Hesaplama'!I92,\"\")","v":""},{"$f":"IF('EK DERS Ücret Hesaplama'!$AM92=1,'EK DERS Ücret Hesaplama'!J92,\"\")","v":""},{"$f":"IF('EK DERS Ücret Hesaplama'!$AM92=1,'EK DERS Ücret Hesaplama'!K92,\"\")","v":""},{"$f":"IF('EK DERS Ücret Hesaplama'!$AM92=1,'EK DERS Ücret Hesaplama'!L92,\"\")","v":""},{"$f":"IF('EK DERS Ücret Hesaplama'!$AM92=1,'EK DERS Ücret Hesaplama'!O92,\"\")","v":""},{"$f":"IF('EK DERS Ücret Hesaplama'!$AM92=1,'EK DERS Ücret Hesaplama'!P92,\"\")","v":""},{"$f":"IF('EK DERS Ücret Hesaplama'!$AM92=1,'EK DERS Ücret Hesaplama'!Q92,\"\")","v":""},{"$f":"IF('EK DERS Ücret Hesaplama'!$AM92=1,'EK DERS Ücret Hesaplama'!R92,\"\")","v":""},{"$f":"IF('EK DERS Ücret Hesaplama'!$AM92=1,'EK DERS Ücret Hesaplama'!S92,\"\")","v":""},{"$f":"IF('EK DERS Ücret Hesaplama'!$AM92=1,hesaplamalar!X89,\"\")","v":""},{"$f":"IF('EK DERS Ücret Hesaplama'!$AM92=1,hesaplamalar!Y89,\"\")","v":""},{"$f":"IF('EK DERS Ücret Hesaplama'!$AM92=1,hesaplamalar!Z89,\"\")","v":""},{"$f":"IF('EK DERS Ücret Hesaplama'!$AM92=1,hesaplamalar!AA89,\"\")","v":""},{"$f":"IF('EK DERS Ücret Hesaplama'!$AM92=1,hesaplamalar!AB89,\"\")","v":""},{"$f":"IF('EK DERS Ücret Hesaplama'!$AM92=1,hesaplamalar!AC89,\"\")","v":""},{"$f":"IF('EK DERS Ücret Hesaplama'!$AM92=1,hesaplamalar!AD89,\"\")","v":""},{"$f":"IF('EK DERS Ücret Hesaplama'!$AM92=1,hesaplamalar!AE89,\"\")","v":""},{"$f":"IF('EK DERS Ücret Hesaplama'!$AM92=1,hesaplamalar!AG89,\"\")","v":""},{"$f":"IF('EK DERS Ücret Hesaplama'!$AM92=1,hesaplamalar!AH89,\"\")","v":""},{"$f":"IF('EK DERS Ücret Hesaplama'!$AM92=1,'EK DERS Ücret Hesaplama'!AE92,\"\")","v":""},{"$f":"IF('EK DERS Ücret Hesaplama'!$AM92=1,'EK DERS Ücret Hesaplama'!AG92,\"\")","v":""},{"$f":"IF('EK DERS Ücret Hesaplama'!$AM92=1,'EK DERS Ücret Hesaplama'!AF92,\"\")","v":""},{"$f":"IF('EK DERS Ücret Hesaplama'!$AM92=1,'EK DERS Ücret Hesaplama'!AH92,\"\")","v":""},{"$f":"IF('EK DERS Ücret Hesaplama'!$AM92=1,'EK DERS Ücret Hesaplama'!AI92,\"\")","v":""},{"$f":"IF('EK DERS Ücret Hesaplama'!$AM92=1,'EK DERS Ücret Hesaplama'!AJ92,\"\")","v":""},{"$f":"IF('EK DERS Ücret Hesaplama'!$AM92=1,'EK DERS Ücret Hesaplama'!AK92,\"\")","v":""},null,0]
[{"$f":"IF(AJ95=\"\",\"\",SUBTOTAL(103,$AJ$8:AJ95))","v":""},{"$f":"IF('EK DERS Ücret Hesaplama'!$AM93=1,'EK DERS Ücret Hesaplama'!B93,\"\")","v":""},{"$f":"IF('EK DERS Ücret Hesaplama'!$AM93=1,'EK DERS Ücret Hesaplama'!C93,\"\")","v":""},{"$f":"IF('EK DERS Ücret Hesaplama'!$AM93=1,IF('EK DERS Ücret Hesaplama'!D93=\"Ücretli Öğretmen\",\"Ücretli Öğr.\",\"Ücr.Öğr. (Emekli)\"),\"\")","v":""},{"$f":"IF('EK DERS Ücret Hesaplama'!$AM93=1,'EK DERS Ücret Hesaplama'!M93,\"\")","v":""},{"$f":"IF('EK DERS Ücret Hesaplama'!$AM93=1,'EK DERS Ücret Hesaplama'!N93,\"\")","v":""},{"$f":"IF('EK DERS Ücret Hesaplama'!$AM93=1,'EK DERS Ücret Hesaplama'!E93,\"\")","v":""},{"$f":"IF('EK DERS Ücret Hesaplama'!$AM93=1,'EK DERS Ücret Hesaplama'!F93,\"\")","v":""},{"$f":"IF('EK DERS Ücret Hesaplama'!$AM93=1,'EK DERS Ücret Hesaplama'!G93,\"\")","v":""},{"$f":"IF('EK DERS Ücret Hesaplama'!$AM93=1,'EK DERS Ücret Hesaplama'!H93,\"\")","v":""},{"$f":"IF('EK DERS Ücret Hesaplama'!$AM93=1,'EK DERS Ücret Hesaplama'!I93,\"\")","v":""},{"$f":"IF('EK DERS Ücret Hesaplama'!$AM93=1,'EK DERS Ücret Hesaplama'!J93,\"\")","v":""},{"$f":"IF('EK DERS Ücret Hesaplama'!$AM93=1,'EK DERS Ücret Hesaplama'!K93,\"\")","v":""},{"$f":"IF('EK DERS Ücret Hesaplama'!$AM93=1,'EK DERS Ücret Hesaplama'!L93,\"\")","v":""},{"$f":"IF('EK DERS Ücret Hesaplama'!$AM93=1,'EK DERS Ücret Hesaplama'!O93,\"\")","v":""},{"$f":"IF('EK DERS Ücret Hesaplama'!$AM93=1,'EK DERS Ücret Hesaplama'!P93,\"\")","v":""},{"$f":"IF('EK DERS Ücret Hesaplama'!$AM93=1,'EK DERS Ücret Hesaplama'!Q93,\"\")","v":""},{"$f":"IF('EK DERS Ücret Hesaplama'!$AM93=1,'EK DERS Ücret Hesaplama'!R93,\"\")","v":""},{"$f":"IF('EK DERS Ücret Hesaplama'!$AM93=1,'EK DERS Ücret Hesaplama'!S93,\"\")","v":""},{"$f":"IF('EK DERS Ücret Hesaplama'!$AM93=1,hesaplamalar!X90,\"\")","v":""},{"$f":"IF('EK DERS Ücret Hesaplama'!$AM93=1,hesaplamalar!Y90,\"\")","v":""},{"$f":"IF('EK DERS Ücret Hesaplama'!$AM93=1,hesaplamalar!Z90,\"\")","v":""},{"$f":"IF('EK DERS Ücret Hesaplama'!$AM93=1,hesaplamalar!AA90,\"\")","v":""},{"$f":"IF('EK DERS Ücret Hesaplama'!$AM93=1,hesaplamalar!AB90,\"\")","v":""},{"$f":"IF('EK DERS Ücret Hesaplama'!$AM93=1,hesaplamalar!AC90,\"\")","v":""},{"$f":"IF('EK DERS Ücret Hesaplama'!$AM93=1,hesaplamalar!AD90,\"\")","v":""},{"$f":"IF('EK DERS Ücret Hesaplama'!$AM93=1,hesaplamalar!AE90,\"\")","v":""},{"$f":"IF('EK DERS Ücret Hesaplama'!$AM93=1,hesaplamalar!AG90,\"\")","v":""},{"$f":"IF('EK DERS Ücret Hesaplama'!$AM93=1,hesaplamalar!AH90,\"\")","v":""},{"$f":"IF('EK DERS Ücret Hesaplama'!$AM93=1,'EK DERS Ücret Hesaplama'!AE93,\"\")","v":""},{"$f":"IF('EK DERS Ücret Hesaplama'!$AM93=1,'EK DERS Ücret Hesaplama'!AG93,\"\")","v":""},{"$f":"IF('EK DERS Ücret Hesaplama'!$AM93=1,'EK DERS Ücret Hesaplama'!AF93,\"\")","v":""},{"$f":"IF('EK DERS Ücret Hesaplama'!$AM93=1,'EK DERS Ücret Hesaplama'!AH93,\"\")","v":""},{"$f":"IF('EK DERS Ücret Hesaplama'!$AM93=1,'EK DERS Ücret Hesaplama'!AI93,\"\")","v":""},{"$f":"IF('EK DERS Ücret Hesaplama'!$AM93=1,'EK DERS Ücret Hesaplama'!AJ93,\"\")","v":""},{"$f":"IF('EK DERS Ücret Hesaplama'!$AM93=1,'EK DERS Ücret Hesaplama'!AK93,\"\")","v":""},null,0]
[{"$f":"IF(AJ96=\"\",\"\",SUBTOTAL(103,$AJ$8:AJ96))","v":""},{"$f":"IF('EK DERS Ücret Hesaplama'!$AM94=1,'EK DERS Ücret Hesaplama'!B94,\"\")","v":""},{"$f":"IF('EK DERS Ücret Hesaplama'!$AM94=1,'EK DERS Ücret Hesaplama'!C94,\"\")","v":""},{"$f":"IF('EK DERS Ücret Hesaplama'!$AM94=1,IF('EK DERS Ücret Hesaplama'!D94=\"Ücretli Öğretmen\",\"Ücretli Öğr.\",\"Ücr.Öğr. (Emekli)\"),\"\")","v":""},{"$f":"IF('EK DERS Ücret Hesaplama'!$AM94=1,'EK DERS Ücret Hesaplama'!M94,\"\")","v":""},{"$f":"IF('EK DERS Ücret Hesaplama'!$AM94=1,'EK DERS Ücret Hesaplama'!N94,\"\")","v":""},{"$f":"IF('EK DERS Ücret Hesaplama'!$AM94=1,'EK DERS Ücret Hesaplama'!E94,\"\")","v":""},{"$f":"IF('EK DERS Ücret Hesaplama'!$AM94=1,'EK DERS Ücret Hesaplama'!F94,\"\")","v":""},{"$f":"IF('EK DERS Ücret Hesaplama'!$AM94=1,'EK DERS Ücret Hesaplama'!G94,\"\")","v":""},{"$f":"IF('EK DERS Ücret Hesaplama'!$AM94=1,'EK DERS Ücret Hesaplama'!H94,\"\")","v":""},{"$f":"IF('EK DERS Ücret Hesaplama'!$AM94=1,'EK DERS Ücret Hesaplama'!I94,\"\")","v":""},{"$f":"IF('EK DERS Ücret Hesaplama'!$AM94=1,'EK DERS Ücret Hesaplama'!J94,\"\")","v":""},{"$f":"IF('EK DERS Ücret Hesaplama'!$AM94=1,'EK DERS Ücret Hesaplama'!K94,\"\")","v":""},{"$f":"IF('EK DERS Ücret Hesaplama'!$AM94=1,'EK DERS Ücret Hesaplama'!L94,\"\")","v":""},{"$f":"IF('EK DERS Ücret Hesaplama'!$AM94=1,'EK DERS Ücret Hesaplama'!O94,\"\")","v":""},{"$f":"IF('EK DERS Ücret Hesaplama'!$AM94=1,'EK DERS Ücret Hesaplama'!P94,\"\")","v":""},{"$f":"IF('EK DERS Ücret Hesaplama'!$AM94=1,'EK DERS Ücret Hesaplama'!Q94,\"\")","v":""},{"$f":"IF('EK DERS Ücret Hesaplama'!$AM94=1,'EK DERS Ücret Hesaplama'!R94,\"\")","v":""},{"$f":"IF('EK DERS Ücret Hesaplama'!$AM94=1,'EK DERS Ücret Hesaplama'!S94,\"\")","v":""},{"$f":"IF('EK DERS Ücret Hesaplama'!$AM94=1,hesaplamalar!X91,\"\")","v":""},{"$f":"IF('EK DERS Ücret Hesaplama'!$AM94=1,hesaplamalar!Y91,\"\")","v":""},{"$f":"IF('EK DERS Ücret Hesaplama'!$AM94=1,hesaplamalar!Z91,\"\")","v":""},{"$f":"IF('EK DERS Ücret Hesaplama'!$AM94=1,hesaplamalar!AA91,\"\")","v":""},{"$f":"IF('EK DERS Ücret Hesaplama'!$AM94=1,hesaplamalar!AB91,\"\")","v":""},{"$f":"IF('EK DERS Ücret Hesaplama'!$AM94=1,hesaplamalar!AC91,\"\")","v":""},{"$f":"IF('EK DERS Ücret Hesaplama'!$AM94=1,hesaplamalar!AD91,\"\")","v":""},{"$f":"IF('EK DERS Ücret Hesaplama'!$AM94=1,hesaplamalar!AE91,\"\")","v":""},{"$f":"IF('EK DERS Ücret Hesaplama'!$AM94=1,hesaplamalar!AG91,\"\")","v":""},{"$f":"IF('EK DERS Ücret Hesaplama'!$AM94=1,hesaplamalar!AH91,\"\")","v":""},{"$f":"IF('EK DERS Ücret Hesaplama'!$AM94=1,'EK DERS Ücret Hesaplama'!AE94,\"\")","v":""},{"$f":"IF('EK DERS Ücret Hesaplama'!$AM94=1,'EK DERS Ücret Hesaplama'!AG94,\"\")","v":""},{"$f":"IF('EK DERS Ücret Hesaplama'!$AM94=1,'EK DERS Ücret Hesaplama'!AF94,\"\")","v":""},{"$f":"IF('EK DERS Ücret Hesaplama'!$AM94=1,'EK DERS Ücret Hesaplama'!AH94,\"\")","v":""},{"$f":"IF('EK DERS Ücret Hesaplama'!$AM94=1,'EK DERS Ücret Hesaplama'!AI94,\"\")","v":""},{"$f":"IF('EK DERS Ücret Hesaplama'!$AM94=1,'EK DERS Ücret Hesaplama'!AJ94,\"\")","v":""},{"$f":"IF('EK DERS Ücret Hesaplama'!$AM94=1,'EK DERS Ücret Hesaplama'!AK94,\"\")","v":""},null,0]
[{"$f":"IF(AJ97=\"\",\"\",SUBTOTAL(103,$AJ$8:AJ97))","v":""},{"$f":"IF('EK DERS Ücret Hesaplama'!$AM95=1,'EK DERS Ücret Hesaplama'!B95,\"\")","v":""},{"$f":"IF('EK DERS Ücret Hesaplama'!$AM95=1,'EK DERS Ücret Hesaplama'!C95,\"\")","v":""},{"$f":"IF('EK DERS Ücret Hesaplama'!$AM95=1,IF('EK DERS Ücret Hesaplama'!D95=\"Ücretli Öğretmen\",\"Ücretli Öğr.\",\"Ücr.Öğr. (Emekli)\"),\"\")","v":""},{"$f":"IF('EK DERS Ücret Hesaplama'!$AM95=1,'EK DERS Ücret Hesaplama'!M95,\"\")","v":""},{"$f":"IF('EK DERS Ücret Hesaplama'!$AM95=1,'EK DERS Ücret Hesaplama'!N95,\"\")","v":""},{"$f":"IF('EK DERS Ücret Hesaplama'!$AM95=1,'EK DERS Ücret Hesaplama'!E95,\"\")","v":""},{"$f":"IF('EK DERS Ücret Hesaplama'!$AM95=1,'EK DERS Ücret Hesaplama'!F95,\"\")","v":""},{"$f":"IF('EK DERS Ücret Hesaplama'!$AM95=1,'EK DERS Ücret Hesaplama'!G95,\"\")","v":""},{"$f":"IF('EK DERS Ücret Hesaplama'!$AM95=1,'EK DERS Ücret Hesaplama'!H95,\"\")","v":""},{"$f":"IF('EK DERS Ücret Hesaplama'!$AM95=1,'EK DERS Ücret Hesaplama'!I95,\"\")","v":""},{"$f":"IF('EK DERS Ücret Hesaplama'!$AM95=1,'EK DERS Ücret Hesaplama'!J95,\"\")","v":""},{"$f":"IF('EK DERS Ücret Hesaplama'!$AM95=1,'EK DERS Ücret Hesaplama'!K95,\"\")","v":""},{"$f":"IF('EK DERS Ücret Hesaplama'!$AM95=1,'EK DERS Ücret Hesaplama'!L95,\"\")","v":""},{"$f":"IF('EK DERS Ücret Hesaplama'!$AM95=1,'EK DERS Ücret Hesaplama'!O95,\"\")","v":""},{"$f":"IF('EK DERS Ücret Hesaplama'!$AM95=1,'EK DERS Ücret Hesaplama'!P95,\"\")","v":""},{"$f":"IF('EK DERS Ücret Hesaplama'!$AM95=1,'EK DERS Ücret Hesaplama'!Q95,\"\")","v":""},{"$f":"IF('EK DERS Ücret Hesaplama'!$AM95=1,'EK DERS Ücret Hesaplama'!R95,\"\")","v":""},{"$f":"IF('EK DERS Ücret Hesaplama'!$AM95=1,'EK DERS Ücret Hesaplama'!S95,\"\")","v":""},{"$f":"IF('EK DERS Ücret Hesaplama'!$AM95=1,hesaplamalar!X92,\"\")","v":""},{"$f":"IF('EK DERS Ücret Hesaplama'!$AM95=1,hesaplamalar!Y92,\"\")","v":""},{"$f":"IF('EK DERS Ücret Hesaplama'!$AM95=1,hesaplamalar!Z92,\"\")","v":""},{"$f":"IF('EK DERS Ücret Hesaplama'!$AM95=1,hesaplamalar!AA92,\"\")","v":""},{"$f":"IF('EK DERS Ücret Hesaplama'!$AM95=1,hesaplamalar!AB92,\"\")","v":""},{"$f":"IF('EK DERS Ücret Hesaplama'!$AM95=1,hesaplamalar!AC92,\"\")","v":""},{"$f":"IF('EK DERS Ücret Hesaplama'!$AM95=1,hesaplamalar!AD92,\"\")","v":""},{"$f":"IF('EK DERS Ücret Hesaplama'!$AM95=1,hesaplamalar!AE92,\"\")","v":""},{"$f":"IF('EK DERS Ücret Hesaplama'!$AM95=1,hesaplamalar!AG92,\"\")","v":""},{"$f":"IF('EK DERS Ücret Hesaplama'!$AM95=1,hesaplamalar!AH92,\"\")","v":""},{"$f":"IF('EK DERS Ücret Hesaplama'!$AM95=1,'EK DERS Ücret Hesaplama'!AE95,\"\")","v":""},{"$f":"IF('EK DERS Ücret Hesaplama'!$AM95=1,'EK DERS Ücret Hesaplama'!AG95,\"\")","v":""},{"$f":"IF('EK DERS Ücret Hesaplama'!$AM95=1,'EK DERS Ücret Hesaplama'!AF95,\"\")","v":""},{"$f":"IF('EK DERS Ücret Hesaplama'!$AM95=1,'EK DERS Ücret Hesaplama'!AH95,\"\")","v":""},{"$f":"IF('EK DERS Ücret Hesaplama'!$AM95=1,'EK DERS Ücret Hesaplama'!AI95,\"\")","v":""},{"$f":"IF('EK DERS Ücret Hesaplama'!$AM95=1,'EK DERS Ücret Hesaplama'!AJ95,\"\")","v":""},{"$f":"IF('EK DERS Ücret Hesaplama'!$AM95=1,'EK DERS Ücret Hesaplama'!AK95,\"\")","v":""},null,0]
[{"$f":"IF(AJ98=\"\",\"\",SUBTOTAL(103,$AJ$8:AJ98))","v":""},{"$f":"IF('EK DERS Ücret Hesaplama'!$AM96=1,'EK DERS Ücret Hesaplama'!B96,\"\")","v":""},{"$f":"IF('EK DERS Ücret Hesaplama'!$AM96=1,'EK DERS Ücret Hesaplama'!C96,\"\")","v":""},{"$f":"IF('EK DERS Ücret Hesaplama'!$AM96=1,IF('EK DERS Ücret Hesaplama'!D96=\"Ücretli Öğretmen\",\"Ücretli Öğr.\",\"Ücr.Öğr. (Emekli)\"),\"\")","v":""},{"$f":"IF('EK DERS Ücret Hesaplama'!$AM96=1,'EK DERS Ücret Hesaplama'!M96,\"\")","v":""},{"$f":"IF('EK DERS Ücret Hesaplama'!$AM96=1,'EK DERS Ücret Hesaplama'!N96,\"\")","v":""},{"$f":"IF('EK DERS Ücret Hesaplama'!$AM96=1,'EK DERS Ücret Hesaplama'!E96,\"\")","v":""},{"$f":"IF('EK DERS Ücret Hesaplama'!$AM96=1,'EK DERS Ücret Hesaplama'!F96,\"\")","v":""},{"$f":"IF('EK DERS Ücret Hesaplama'!$AM96=1,'EK DERS Ücret Hesaplama'!G96,\"\")","v":""},{"$f":"IF('EK DERS Ücret Hesaplama'!$AM96=1,'EK DERS Ücret Hesaplama'!H96,\"\")","v":""},{"$f":"IF('EK DERS Ücret Hesaplama'!$AM96=1,'EK DERS Ücret Hesaplama'!I96,\"\")","v":""},{"$f":"IF('EK DERS Ücret Hesaplama'!$AM96=1,'EK DERS Ücret Hesaplama'!J96,\"\")","v":""},{"$f":"IF('EK DERS Ücret Hesaplama'!$AM96=1,'EK DERS Ücret Hesaplama'!K96,\"\")","v":""},{"$f":"IF('EK DERS Ücret Hesaplama'!$AM96=1,'EK DERS Ücret Hesaplama'!L96,\"\")","v":""},{"$f":"IF('EK DERS Ücret Hesaplama'!$AM96=1,'EK DERS Ücret Hesaplama'!O96,\"\")","v":""},{"$f":"IF('EK DERS Ücret Hesaplama'!$AM96=1,'EK DERS Ücret Hesaplama'!P96,\"\")","v":""},{"$f":"IF('EK DERS Ücret Hesaplama'!$AM96=1,'EK DERS Ücret Hesaplama'!Q96,\"\")","v":""},{"$f":"IF('EK DERS Ücret Hesaplama'!$AM96=1,'EK DERS Ücret Hesaplama'!R96,\"\")","v":""},{"$f":"IF('EK DERS Ücret Hesaplama'!$AM96=1,'EK DERS Ücret Hesaplama'!S96,\"\")","v":""},{"$f":"IF('EK DERS Ücret Hesaplama'!$AM96=1,hesaplamalar!X93,\"\")","v":""},{"$f":"IF('EK DERS Ücret Hesaplama'!$AM96=1,hesaplamalar!Y93,\"\")","v":""},{"$f":"IF('EK DERS Ücret Hesaplama'!$AM96=1,hesaplamalar!Z93,\"\")","v":""},{"$f":"IF('EK DERS Ücret Hesaplama'!$AM96=1,hesaplamalar!AA93,\"\")","v":""},{"$f":"IF('EK DERS Ücret Hesaplama'!$AM96=1,hesaplamalar!AB93,\"\")","v":""},{"$f":"IF('EK DERS Ücret Hesaplama'!$AM96=1,hesaplamalar!AC93,\"\")","v":""},{"$f":"IF('EK DERS Ücret Hesaplama'!$AM96=1,hesaplamalar!AD93,\"\")","v":""},{"$f":"IF('EK DERS Ücret Hesaplama'!$AM96=1,hesaplamalar!AE93,\"\")","v":""},{"$f":"IF('EK DERS Ücret Hesaplama'!$AM96=1,hesaplamalar!AG93,\"\")","v":""},{"$f":"IF('EK DERS Ücret Hesaplama'!$AM96=1,hesaplamalar!AH93,\"\")","v":""},{"$f":"IF('EK DERS Ücret Hesaplama'!$AM96=1,'EK DERS Ücret Hesaplama'!AE96,\"\")","v":""},{"$f":"IF('EK DERS Ücret Hesaplama'!$AM96=1,'EK DERS Ücret Hesaplama'!AG96,\"\")","v":""},{"$f":"IF('EK DERS Ücret Hesaplama'!$AM96=1,'EK DERS Ücret Hesaplama'!AF96,\"\")","v":""},{"$f":"IF('EK DERS Ücret Hesaplama'!$AM96=1,'EK DERS Ücret Hesaplama'!AH96,\"\")","v":""},{"$f":"IF('EK DERS Ücret Hesaplama'!$AM96=1,'EK DERS Ücret Hesaplama'!AI96,\"\")","v":""},{"$f":"IF('EK DERS Ücret Hesaplama'!$AM96=1,'EK DERS Ücret Hesaplama'!AJ96,\"\")","v":""},{"$f":"IF('EK DERS Ücret Hesaplama'!$AM96=1,'EK DERS Ücret Hesaplama'!AK96,\"\")","v":""},null,0]
[{"$f":"IF(AJ99=\"\",\"\",SUBTOTAL(103,$AJ$8:AJ99))","v":""},{"$f":"IF('EK DERS Ücret Hesaplama'!$AM97=1,'EK DERS Ücret Hesaplama'!B97,\"\")","v":""},{"$f":"IF('EK DERS Ücret Hesaplama'!$AM97=1,'EK DERS Ücret Hesaplama'!C97,\"\")","v":""},{"$f":"IF('EK DERS Ücret Hesaplama'!$AM97=1,IF('EK DERS Ücret Hesaplama'!D97=\"Ücretli Öğretmen\",\"Ücretli Öğr.\",\"Ücr.Öğr. (Emekli)\"),\"\")","v":""},{"$f":"IF('EK DERS Ücret Hesaplama'!$AM97=1,'EK DERS Ücret Hesaplama'!M97,\"\")","v":""},{"$f":"IF('EK DERS Ücret Hesaplama'!$AM97=1,'EK DERS Ücret Hesaplama'!N97,\"\")","v":""},{"$f":"IF('EK DERS Ücret Hesaplama'!$AM97=1,'EK DERS Ücret Hesaplama'!E97,\"\")","v":""},{"$f":"IF('EK DERS Ücret Hesaplama'!$AM97=1,'EK DERS Ücret Hesaplama'!F97,\"\")","v":""},{"$f":"IF('EK DERS Ücret Hesaplama'!$AM97=1,'EK DERS Ücret Hesaplama'!G97,\"\")","v":""},{"$f":"IF('EK DERS Ücret Hesaplama'!$AM97=1,'EK DERS Ücret Hesaplama'!H97,\"\")","v":""},{"$f":"IF('EK DERS Ücret Hesaplama'!$AM97=1,'EK DERS Ücret Hesaplama'!I97,\"\")","v":""},{"$f":"IF('EK DERS Ücret Hesaplama'!$AM97=1,'EK DERS Ücret Hesaplama'!J97,\"\")","v":""},{"$f":"IF('EK DERS Ücret Hesaplama'!$AM97=1,'EK DERS Ücret Hesaplama'!K97,\"\")","v":""},{"$f":"IF('EK DERS Ücret Hesaplama'!$AM97=1,'EK DERS Ücret Hesaplama'!L97,\"\")","v":""},{"$f":"IF('EK DERS Ücret Hesaplama'!$AM97=1,'EK DERS Ücret Hesaplama'!O97,\"\")","v":""},{"$f":"IF('EK DERS Ücret Hesaplama'!$AM97=1,'EK DERS Ücret Hesaplama'!P97,\"\")","v":""},{"$f":"IF('EK DERS Ücret Hesaplama'!$AM97=1,'EK DERS Ücret Hesaplama'!Q97,\"\")","v":""},{"$f":"IF('EK DERS Ücret Hesaplama'!$AM97=1,'EK DERS Ücret Hesaplama'!R97,\"\")","v":""},{"$f":"IF('EK DERS Ücret Hesaplama'!$AM97=1,'EK DERS Ücret Hesaplama'!S97,\"\")","v":""},{"$f":"IF('EK DERS Ücret Hesaplama'!$AM97=1,hesaplamalar!X94,\"\")","v":""},{"$f":"IF('EK DERS Ücret Hesaplama'!$AM97=1,hesaplamalar!Y94,\"\")","v":""},{"$f":"IF('EK DERS Ücret Hesaplama'!$AM97=1,hesaplamalar!Z94,\"\")","v":""},{"$f":"IF('EK DERS Ücret Hesaplama'!$AM97=1,hesaplamalar!AA94,\"\")","v":""},{"$f":"IF('EK DERS Ücret Hesaplama'!$AM97=1,hesaplamalar!AB94,\"\")","v":""},{"$f":"IF('EK DERS Ücret Hesaplama'!$AM97=1,hesaplamalar!AC94,\"\")","v":""},{"$f":"IF('EK DERS Ücret Hesaplama'!$AM97=1,hesaplamalar!AD94,\"\")","v":""},{"$f":"IF('EK DERS Ücret Hesaplama'!$AM97=1,hesaplamalar!AE94,\"\")","v":""},{"$f":"IF('EK DERS Ücret Hesaplama'!$AM97=1,hesaplamalar!AG94,\"\")","v":""},{"$f":"IF('EK DERS Ücret Hesaplama'!$AM97=1,hesaplamalar!AH94,\"\")","v":""},{"$f":"IF('EK DERS Ücret Hesaplama'!$AM97=1,'EK DERS Ücret Hesaplama'!AE97,\"\")","v":""},{"$f":"IF('EK DERS Ücret Hesaplama'!$AM97=1,'EK DERS Ücret Hesaplama'!AG97,\"\")","v":""},{"$f":"IF('EK DERS Ücret Hesaplama'!$AM97=1,'EK DERS Ücret Hesaplama'!AF97,\"\")","v":""},{"$f":"IF('EK DERS Ücret Hesaplama'!$AM97=1,'EK DERS Ücret Hesaplama'!AH97,\"\")","v":""},{"$f":"IF('EK DERS Ücret Hesaplama'!$AM97=1,'EK DERS Ücret Hesaplama'!AI97,\"\")","v":""},{"$f":"IF('EK DERS Ücret Hesaplama'!$AM97=1,'EK DERS Ücret Hesaplama'!AJ97,\"\")","v":""},{"$f":"IF('EK DERS Ücret Hesaplama'!$AM97=1,'EK DERS Ücret Hesaplama'!AK97,\"\")","v":""},null,0]
[{"$f":"IF(AJ100=\"\",\"\",SUBTOTAL(103,$AJ$8:AJ100))","v":""},{"$f":"IF('EK DERS Ücret Hesaplama'!$AM98=1,'EK DERS Ücret Hesaplama'!B98,\"\")","v":""},{"$f":"IF('EK DERS Ücret Hesaplama'!$AM98=1,'EK DERS Ücret Hesaplama'!C98,\"\")","v":""},{"$f":"IF('EK DERS Ücret Hesaplama'!$AM98=1,IF('EK DERS Ücret Hesaplama'!D98=\"Ücretli Öğretmen\",\"Ücretli Öğr.\",\"Ücr.Öğr. (Emekli)\"),\"\")","v":""},{"$f":"IF('EK DERS Ücret Hesaplama'!$AM98=1,'EK DERS Ücret Hesaplama'!M98,\"\")","v":""},{"$f":"IF('EK DERS Ücret Hesaplama'!$AM98=1,'EK DERS Ücret Hesaplama'!N98,\"\")","v":""},{"$f":"IF('EK DERS Ücret Hesaplama'!$AM98=1,'EK DERS Ücret Hesaplama'!E98,\"\")","v":""},{"$f":"IF('EK DERS Ücret Hesaplama'!$AM98=1,'EK DERS Ücret Hesaplama'!F98,\"\")","v":""},{"$f":"IF('EK DERS Ücret Hesaplama'!$AM98=1,'EK DERS Ücret Hesaplama'!G98,\"\")","v":""},{"$f":"IF('EK DERS Ücret Hesaplama'!$AM98=1,'EK DERS Ücret Hesaplama'!H98,\"\")","v":""},{"$f":"IF('EK DERS Ücret Hesaplama'!$AM98=1,'EK DERS Ücret Hesaplama'!I98,\"\")","v":""},{"$f":"IF('EK DERS Ücret Hesaplama'!$AM98=1,'EK DERS Ücret Hesaplama'!J98,\"\")","v":""},{"$f":"IF('EK DERS Ücret Hesaplama'!$AM98=1,'EK DERS Ücret Hesaplama'!K98,\"\")","v":""},{"$f":"IF('EK DERS Ücret Hesaplama'!$AM98=1,'EK DERS Ücret Hesaplama'!L98,\"\")","v":""},{"$f":"IF('EK DERS Ücret Hesaplama'!$AM98=1,'EK DERS Ücret Hesaplama'!O98,\"\")","v":""},{"$f":"IF('EK DERS Ücret Hesaplama'!$AM98=1,'EK DERS Ücret Hesaplama'!P98,\"\")","v":""},{"$f":"IF('EK DERS Ücret Hesaplama'!$AM98=1,'EK DERS Ücret Hesaplama'!Q98,\"\")","v":""},{"$f":"IF('EK DERS Ücret Hesaplama'!$AM98=1,'EK DERS Ücret Hesaplama'!R98,\"\")","v":""},{"$f":"IF('EK DERS Ücret Hesaplama'!$AM98=1,'EK DERS Ücret Hesaplama'!S98,\"\")","v":""},{"$f":"IF('EK DERS Ücret Hesaplama'!$AM98=1,hesaplamalar!X95,\"\")","v":""},{"$f":"IF('EK DERS Ücret Hesaplama'!$AM98=1,hesaplamalar!Y95,\"\")","v":""},{"$f":"IF('EK DERS Ücret Hesaplama'!$AM98=1,hesaplamalar!Z95,\"\")","v":""},{"$f":"IF('EK DERS Ücret Hesaplama'!$AM98=1,hesaplamalar!AA95,\"\")","v":""},{"$f":"IF('EK DERS Ücret Hesaplama'!$AM98=1,hesaplamalar!AB95,\"\")","v":""},{"$f":"IF('EK DERS Ücret Hesaplama'!$AM98=1,hesaplamalar!AC95,\"\")","v":""},{"$f":"IF('EK DERS Ücret Hesaplama'!$AM98=1,hesaplamalar!AD95,\"\")","v":""},{"$f":"IF('EK DERS Ücret Hesaplama'!$AM98=1,hesaplamalar!AE95,\"\")","v":""},{"$f":"IF('EK DERS Ücret Hesaplama'!$AM98=1,hesaplamalar!AG95,\"\")","v":""},{"$f":"IF('EK DERS Ücret Hesaplama'!$AM98=1,hesaplamalar!AH95,\"\")","v":""},{"$f":"IF('EK DERS Ücret Hesaplama'!$AM98=1,'EK DERS Ücret Hesaplama'!AE98,\"\")","v":""},{"$f":"IF('EK DERS Ücret Hesaplama'!$AM98=1,'EK DERS Ücret Hesaplama'!AG98,\"\")","v":""},{"$f":"IF('EK DERS Ücret Hesaplama'!$AM98=1,'EK DERS Ücret Hesaplama'!AF98,\"\")","v":""},{"$f":"IF('EK DERS Ücret Hesaplama'!$AM98=1,'EK DERS Ücret Hesaplama'!AH98,\"\")","v":""},{"$f":"IF('EK DERS Ücret Hesaplama'!$AM98=1,'EK DERS Ücret Hesaplama'!AI98,\"\")","v":""},{"$f":"IF('EK DERS Ücret Hesaplama'!$AM98=1,'EK DERS Ücret Hesaplama'!AJ98,\"\")","v":""},{"$f":"IF('EK DERS Ücret Hesaplama'!$AM98=1,'EK DERS Ücret Hesaplama'!AK98,\"\")","v":""},null,0]
[{"$f":"IF(AJ101=\"\",\"\",SUBTOTAL(103,$AJ$8:AJ101))","v":""},{"$f":"IF('EK DERS Ücret Hesaplama'!$AM99=1,'EK DERS Ücret Hesaplama'!B99,\"\")","v":""},{"$f":"IF('EK DERS Ücret Hesaplama'!$AM99=1,'EK DERS Ücret Hesaplama'!C99,\"\")","v":""},{"$f":"IF('EK DERS Ücret Hesaplama'!$AM99=1,IF('EK DERS Ücret Hesaplama'!D99=\"Ücretli Öğretmen\",\"Ücretli Öğr.\",\"Ücr.Öğr. (Emekli)\"),\"\")","v":""},{"$f":"IF('EK DERS Ücret Hesaplama'!$AM99=1,'EK DERS Ücret Hesaplama'!M99,\"\")","v":""},{"$f":"IF('EK DERS Ücret Hesaplama'!$AM99=1,'EK DERS Ücret Hesaplama'!N99,\"\")","v":""},{"$f":"IF('EK DERS Ücret Hesaplama'!$AM99=1,'EK DERS Ücret Hesaplama'!E99,\"\")","v":""},{"$f":"IF('EK DERS Ücret Hesaplama'!$AM99=1,'EK DERS Ücret Hesaplama'!F99,\"\")","v":""},{"$f":"IF('EK DERS Ücret Hesaplama'!$AM99=1,'EK DERS Ücret Hesaplama'!G99,\"\")","v":""},{"$f":"IF('EK DERS Ücret Hesaplama'!$AM99=1,'EK DERS Ücret Hesaplama'!H99,\"\")","v":""},{"$f":"IF('EK DERS Ücret Hesaplama'!$AM99=1,'EK DERS Ücret Hesaplama'!I99,\"\")","v":""},{"$f":"IF('EK DERS Ücret Hesaplama'!$AM99=1,'EK DERS Ücret Hesaplama'!J99,\"\")","v":""},{"$f":"IF('EK DERS Ücret Hesaplama'!$AM99=1,'EK DERS Ücret Hesaplama'!K99,\"\")","v":""},{"$f":"IF('EK DERS Ücret Hesaplama'!$AM99=1,'EK DERS Ücret Hesaplama'!L99,\"\")","v":""},{"$f":"IF('EK DERS Ücret Hesaplama'!$AM99=1,'EK DERS Ücret Hesaplama'!O99,\"\")","v":""},{"$f":"IF('EK DERS Ücret Hesaplama'!$AM99=1,'EK DERS Ücret Hesaplama'!P99,\"\")","v":""},{"$f":"IF('EK DERS Ücret Hesaplama'!$AM99=1,'EK DERS Ücret Hesaplama'!Q99,\"\")","v":""},{"$f":"IF('EK DERS Ücret Hesaplama'!$AM99=1,'EK DERS Ücret Hesaplama'!R99,\"\")","v":""},{"$f":"IF('EK DERS Ücret Hesaplama'!$AM99=1,'EK DERS Ücret Hesaplama'!S99,\"\")","v":""},{"$f":"IF('EK DERS Ücret Hesaplama'!$AM99=1,hesaplamalar!X96,\"\")","v":""},{"$f":"IF('EK DERS Ücret Hesaplama'!$AM99=1,hesaplamalar!Y96,\"\")","v":""},{"$f":"IF('EK DERS Ücret Hesaplama'!$AM99=1,hesaplamalar!Z96,\"\")","v":""},{"$f":"IF('EK DERS Ücret Hesaplama'!$AM99=1,hesaplamalar!AA96,\"\")","v":""},{"$f":"IF('EK DERS Ücret Hesaplama'!$AM99=1,hesaplamalar!AB96,\"\")","v":""},{"$f":"IF('EK DERS Ücret Hesaplama'!$AM99=1,hesaplamalar!AC96,\"\")","v":""},{"$f":"IF('EK DERS Ücret Hesaplama'!$AM99=1,hesaplamalar!AD96,\"\")","v":""},{"$f":"IF('EK DERS Ücret Hesaplama'!$AM99=1,hesaplamalar!AE96,\"\")","v":""},{"$f":"IF('EK DERS Ücret Hesaplama'!$AM99=1,hesaplamalar!AG96,\"\")","v":""},{"$f":"IF('EK DERS Ücret Hesaplama'!$AM99=1,hesaplamalar!AH96,\"\")","v":""},{"$f":"IF('EK DERS Ücret Hesaplama'!$AM99=1,'EK DERS Ücret Hesaplama'!AE99,\"\")","v":""},{"$f":"IF('EK DERS Ücret Hesaplama'!$AM99=1,'EK DERS Ücret Hesaplama'!AG99,\"\")","v":""},{"$f":"IF('EK DERS Ücret Hesaplama'!$AM99=1,'EK DERS Ücret Hesaplama'!AF99,\"\")","v":""},{"$f":"IF('EK DERS Ücret Hesaplama'!$AM99=1,'EK DERS Ücret Hesaplama'!AH99,\"\")","v":""},{"$f":"IF('EK DERS Ücret Hesaplama'!$AM99=1,'EK DERS Ücret Hesaplama'!AI99,\"\")","v":""},{"$f":"IF('EK DERS Ücret Hesaplama'!$AM99=1,'EK DERS Ücret Hesaplama'!AJ99,\"\")","v":""},{"$f":"IF('EK DERS Ücret Hesaplama'!$AM99=1,'EK DERS Ücret Hesaplama'!AK99,\"\")","v":""},null,0]
[{"$f":"IF(AJ102=\"\",\"\",SUBTOTAL(103,$AJ$8:AJ102))","v":""},{"$f":"IF('EK DERS Ücret Hesaplama'!$AM100=1,'EK DERS Ücret Hesaplama'!B100,\"\")","v":""},{"$f":"IF('EK DERS Ücret Hesaplama'!$AM100=1,'EK DERS Ücret Hesaplama'!C100,\"\")","v":""},{"$f":"IF('EK DERS Ücret Hesaplama'!$AM100=1,IF('EK DERS Ücret Hesaplama'!D100=\"Ücretli Öğretmen\",\"Ücretli Öğr.\",\"Ücr.Öğr. (Emekli)\"),\"\")","v":""},{"$f":"IF('EK DERS Ücret Hesaplama'!$AM100=1,'EK DERS Ücret Hesaplama'!M100,\"\")","v":""},{"$f":"IF('EK DERS Ücret Hesaplama'!$AM100=1,'EK DERS Ücret Hesaplama'!N100,\"\")","v":""},{"$f":"IF('EK DERS Ücret Hesaplama'!$AM100=1,'EK DERS Ücret Hesaplama'!E100,\"\")","v":""},{"$f":"IF('EK DERS Ücret Hesaplama'!$AM100=1,'EK DERS Ücret Hesaplama'!F100,\"\")","v":""},{"$f":"IF('EK DERS Ücret Hesaplama'!$AM100=1,'EK DERS Ücret Hesaplama'!G100,\"\")","v":""},{"$f":"IF('EK DERS Ücret Hesaplama'!$AM100=1,'EK DERS Ücret Hesaplama'!H100,\"\")","v":""},{"$f":"IF('EK DERS Ücret Hesaplama'!$AM100=1,'EK DERS Ücret Hesaplama'!I100,\"\")","v":""},{"$f":"IF('EK DERS Ücret Hesaplama'!$AM100=1,'EK DERS Ücret Hesaplama'!J100,\"\")","v":""},{"$f":"IF('EK DERS Ücret Hesaplama'!$AM100=1,'EK DERS Ücret Hesaplama'!K100,\"\")","v":""},{"$f":"IF('EK DERS Ücret Hesaplama'!$AM100=1,'EK DERS Ücret Hesaplama'!L100,\"\")","v":""},{"$f":"IF('EK DERS Ücret Hesaplama'!$AM100=1,'EK DERS Ücret Hesaplama'!O100,\"\")","v":""},{"$f":"IF('EK DERS Ücret Hesaplama'!$AM100=1,'EK DERS Ücret Hesaplama'!P100,\"\")","v":""},{"$f":"IF('EK DERS Ücret Hesaplama'!$AM100=1,'EK DERS Ücret Hesaplama'!Q100,\"\")","v":""},{"$f":"IF('EK DERS Ücret Hesaplama'!$AM100=1,'EK DERS Ücret Hesaplama'!R100,\"\")","v":""},{"$f":"IF('EK DERS Ücret Hesaplama'!$AM100=1,'EK DERS Ücret Hesaplama'!S100,\"\")","v":""},{"$f":"IF('EK DERS Ücret Hesaplama'!$AM100=1,hesaplamalar!X97,\"\")","v":""},{"$f":"IF('EK DERS Ücret Hesaplama'!$AM100=1,hesaplamalar!Y97,\"\")","v":""},{"$f":"IF('EK DERS Ücret Hesaplama'!$AM100=1,hesaplamalar!Z97,\"\")","v":""},{"$f":"IF('EK DERS Ücret Hesaplama'!$AM100=1,hesaplamalar!AA97,\"\")","v":""},{"$f":"IF('EK DERS Ücret Hesaplama'!$AM100=1,hesaplamalar!AB97,\"\")","v":""},{"$f":"IF('EK DERS Ücret Hesaplama'!$AM100=1,hesaplamalar!AC97,\"\")","v":""},{"$f":"IF('EK DERS Ücret Hesaplama'!$AM100=1,hesaplamalar!AD97,\"\")","v":""},{"$f":"IF('EK DERS Ücret Hesaplama'!$AM100=1,hesaplamalar!AE97,\"\")","v":""},{"$f":"IF('EK DERS Ücret Hesaplama'!$AM100=1,hesaplamalar!AG97,\"\")","v":""},{"$f":"IF('EK DERS Ücret Hesaplama'!$AM100=1,hesaplamalar!AH97,\"\")","v":""},{"$f":"IF('EK DERS Ücret Hesaplama'!$AM100=1,'EK DERS Ücret Hesaplama'!AE100,\"\")","v":""},{"$f":"IF('EK DERS Ücret Hesaplama'!$AM100=1,'EK DERS Ücret Hesaplama'!AG100,\"\")","v":""},{"$f":"IF('EK DERS Ücret Hesaplama'!$AM100=1,'EK DERS Ücret Hesaplama'!AF100,\"\")","v":""},{"$f":"IF('EK DERS Ücret Hesaplama'!$AM100=1,'EK DERS Ücret Hesaplama'!AH100,\"\")","v":""},{"$f":"IF('EK DERS Ücret Hesaplama'!$AM100=1,'EK DERS Ücret Hesaplama'!AI100,\"\")","v":""},{"$f":"IF('EK DERS Ücret Hesaplama'!$AM100=1,'EK DERS Ücret Hesaplama'!AJ100,\"\")","v":""},{"$f":"IF('EK DERS Ücret Hesaplama'!$AM100=1,'EK DERS Ücret Hesaplama'!AK100,\"\")","v":""},null,0]
[{"$f":"IF(AJ103=\"\",\"\",SUBTOTAL(103,$AJ$8:AJ103))","v":""},{"$f":"IF('EK DERS Ücret Hesaplama'!$AM101=1,'EK DERS Ücret Hesaplama'!B101,\"\")","v":""},{"$f":"IF('EK DERS Ücret Hesaplama'!$AM101=1,'EK DERS Ücret Hesaplama'!C101,\"\")","v":""},{"$f":"IF('EK DERS Ücret Hesaplama'!$AM101=1,IF('EK DERS Ücret Hesaplama'!D101=\"Ücretli Öğretmen\",\"Ücretli Öğr.\",\"Ücr.Öğr. (Emekli)\"),\"\")","v":""},{"$f":"IF('EK DERS Ücret Hesaplama'!$AM101=1,'EK DERS Ücret Hesaplama'!M101,\"\")","v":""},{"$f":"IF('EK DERS Ücret Hesaplama'!$AM101=1,'EK DERS Ücret Hesaplama'!N101,\"\")","v":""},{"$f":"IF('EK DERS Ücret Hesaplama'!$AM101=1,'EK DERS Ücret Hesaplama'!E101,\"\")","v":""},{"$f":"IF('EK DERS Ücret Hesaplama'!$AM101=1,'EK DERS Ücret Hesaplama'!F101,\"\")","v":""},{"$f":"IF('EK DERS Ücret Hesaplama'!$AM101=1,'EK DERS Ücret Hesaplama'!G101,\"\")","v":""},{"$f":"IF('EK DERS Ücret Hesaplama'!$AM101=1,'EK DERS Ücret Hesaplama'!H101,\"\")","v":""},{"$f":"IF('EK DERS Ücret Hesaplama'!$AM101=1,'EK DERS Ücret Hesaplama'!I101,\"\")","v":""},{"$f":"IF('EK DERS Ücret Hesaplama'!$AM101=1,'EK DERS Ücret Hesaplama'!J101,\"\")","v":""},{"$f":"IF('EK DERS Ücret Hesaplama'!$AM101=1,'EK DERS Ücret Hesaplama'!K101,\"\")","v":""},{"$f":"IF('EK DERS Ücret Hesaplama'!$AM101=1,'EK DERS Ücret Hesaplama'!L101,\"\")","v":""},{"$f":"IF('EK DERS Ücret Hesaplama'!$AM101=1,'EK DERS Ücret Hesaplama'!O101,\"\")","v":""},{"$f":"IF('EK DERS Ücret Hesaplama'!$AM101=1,'EK DERS Ücret Hesaplama'!P101,\"\")","v":""},{"$f":"IF('EK DERS Ücret Hesaplama'!$AM101=1,'EK DERS Ücret Hesaplama'!Q101,\"\")","v":""},{"$f":"IF('EK DERS Ücret Hesaplama'!$AM101=1,'EK DERS Ücret Hesaplama'!R101,\"\")","v":""},{"$f":"IF('EK DERS Ücret Hesaplama'!$AM101=1,'EK DERS Ücret Hesaplama'!S101,\"\")","v":""},{"$f":"IF('EK DERS Ücret Hesaplama'!$AM101=1,hesaplamalar!X98,\"\")","v":""},{"$f":"IF('EK DERS Ücret Hesaplama'!$AM101=1,hesaplamalar!Y98,\"\")","v":""},{"$f":"IF('EK DERS Ücret Hesaplama'!$AM101=1,hesaplamalar!Z98,\"\")","v":""},{"$f":"IF('EK DERS Ücret Hesaplama'!$AM101=1,hesaplamalar!AA98,\"\")","v":""},{"$f":"IF('EK DERS Ücret Hesaplama'!$AM101=1,hesaplamalar!AB98,\"\")","v":""},{"$f":"IF('EK DERS Ücret Hesaplama'!$AM101=1,hesaplamalar!AC98,\"\")","v":""},{"$f":"IF('EK DERS Ücret Hesaplama'!$AM101=1,hesaplamalar!AD98,\"\")","v":""},{"$f":"IF('EK DERS Ücret Hesaplama'!$AM101=1,hesaplamalar!AE98,\"\")","v":""},{"$f":"IF('EK DERS Ücret Hesaplama'!$AM101=1,hesaplamalar!AG98,\"\")","v":""},{"$f":"IF('EK DERS Ücret Hesaplama'!$AM101=1,hesaplamalar!AH98,\"\")","v":""},{"$f":"IF('EK DERS Ücret Hesaplama'!$AM101=1,'EK DERS Ücret Hesaplama'!AE101,\"\")","v":""},{"$f":"IF('EK DERS Ücret Hesaplama'!$AM101=1,'EK DERS Ücret Hesaplama'!AG101,\"\")","v":""},{"$f":"IF('EK DERS Ücret Hesaplama'!$AM101=1,'EK DERS Ücret Hesaplama'!AF101,\"\")","v":""},{"$f":"IF('EK DERS Ücret Hesaplama'!$AM101=1,'EK DERS Ücret Hesaplama'!AH101,\"\")","v":""},{"$f":"IF('EK DERS Ücret Hesaplama'!$AM101=1,'EK DERS Ücret Hesaplama'!AI101,\"\")","v":""},{"$f":"IF('EK DERS Ücret Hesaplama'!$AM101=1,'EK DERS Ücret Hesaplama'!AJ101,\"\")","v":""},{"$f":"IF('EK DERS Ücret Hesaplama'!$AM101=1,'EK DERS Ücret Hesaplama'!AK101,\"\")","v":""},null,0]
[{"$f":"IF(AJ104=\"\",\"\",SUBTOTAL(103,$AJ$8:AJ104))","v":""},{"$f":"IF('EK DERS Ücret Hesaplama'!$AM102=1,'EK DERS Ücret Hesaplama'!B102,\"\")","v":""},{"$f":"IF('EK DERS Ücret Hesaplama'!$AM102=1,'EK DERS Ücret Hesaplama'!C102,\"\")","v":""},{"$f":"IF('EK DERS Ücret Hesaplama'!$AM102=1,IF('EK DERS Ücret Hesaplama'!D102=\"Ücretli Öğretmen\",\"Ücretli Öğr.\",\"Ücr.Öğr. (Emekli)\"),\"\")","v":""},{"$f":"IF('EK DERS Ücret Hesaplama'!$AM102=1,'EK DERS Ücret Hesaplama'!M102,\"\")","v":""},{"$f":"IF('EK DERS Ücret Hesaplama'!$AM102=1,'EK DERS Ücret Hesaplama'!N102,\"\")","v":""},{"$f":"IF('EK DERS Ücret Hesaplama'!$AM102=1,'EK DERS Ücret Hesaplama'!E102,\"\")","v":""},{"$f":"IF('EK DERS Ücret Hesaplama'!$AM102=1,'EK DERS Ücret Hesaplama'!F102,\"\")","v":""},{"$f":"IF('EK DERS Ücret Hesaplama'!$AM102=1,'EK DERS Ücret Hesaplama'!G102,\"\")","v":""},{"$f":"IF('EK DERS Ücret Hesaplama'!$AM102=1,'EK DERS Ücret Hesaplama'!H102,\"\")","v":""},{"$f":"IF('EK DERS Ücret Hesaplama'!$AM102=1,'EK DERS Ücret Hesaplama'!I102,\"\")","v":""},{"$f":"IF('EK DERS Ücret Hesaplama'!$AM102=1,'EK DERS Ücret Hesaplama'!J102,\"\")","v":""},{"$f":"IF('EK DERS Ücret Hesaplama'!$AM102=1,'EK DERS Ücret Hesaplama'!K102,\"\")","v":""},{"$f":"IF('EK DERS Ücret Hesaplama'!$AM102=1,'EK DERS Ücret Hesaplama'!L102,\"\")","v":""},{"$f":"IF('EK DERS Ücret Hesaplama'!$AM102=1,'EK DERS Ücret Hesaplama'!O102,\"\")","v":""},{"$f":"IF('EK DERS Ücret Hesaplama'!$AM102=1,'EK DERS Ücret Hesaplama'!P102,\"\")","v":""},{"$f":"IF('EK DERS Ücret Hesaplama'!$AM102=1,'EK DERS Ücret Hesaplama'!Q102,\"\")","v":""},{"$f":"IF('EK DERS Ücret Hesaplama'!$AM102=1,'EK DERS Ücret Hesaplama'!R102,\"\")","v":""},{"$f":"IF('EK DERS Ücret Hesaplama'!$AM102=1,'EK DERS Ücret Hesaplama'!S102,\"\")","v":""},{"$f":"IF('EK DERS Ücret Hesaplama'!$AM102=1,hesaplamalar!X99,\"\")","v":""},{"$f":"IF('EK DERS Ücret Hesaplama'!$AM102=1,hesaplamalar!Y99,\"\")","v":""},{"$f":"IF('EK DERS Ücret Hesaplama'!$AM102=1,hesaplamalar!Z99,\"\")","v":""},{"$f":"IF('EK DERS Ücret Hesaplama'!$AM102=1,hesaplamalar!AA99,\"\")","v":""},{"$f":"IF('EK DERS Ücret Hesaplama'!$AM102=1,hesaplamalar!AB99,\"\")","v":""},{"$f":"IF('EK DERS Ücret Hesaplama'!$AM102=1,hesaplamalar!AC99,\"\")","v":""},{"$f":"IF('EK DERS Ücret Hesaplama'!$AM102=1,hesaplamalar!AD99,\"\")","v":""},{"$f":"IF('EK DERS Ücret Hesaplama'!$AM102=1,hesaplamalar!AE99,\"\")","v":""},{"$f":"IF('EK DERS Ücret Hesaplama'!$AM102=1,hesaplamalar!AG99,\"\")","v":""},{"$f":"IF('EK DERS Ücret Hesaplama'!$AM102=1,hesaplamalar!AH99,\"\")","v":""},{"$f":"IF('EK DERS Ücret Hesaplama'!$AM102=1,'EK DERS Ücret Hesaplama'!AE102,\"\")","v":""},{"$f":"IF('EK DERS Ücret Hesaplama'!$AM102=1,'EK DERS Ücret Hesaplama'!AG102,\"\")","v":""},{"$f":"IF('EK DERS Ücret Hesaplama'!$AM102=1,'EK DERS Ücret Hesaplama'!AF102,\"\")","v":""},{"$f":"IF('EK DERS Ücret Hesaplama'!$AM102=1,'EK DERS Ücret Hesaplama'!AH102,\"\")","v":""},{"$f":"IF('EK DERS Ücret Hesaplama'!$AM102=1,'EK DERS Ücret Hesaplama'!AI102,\"\")","v":""},{"$f":"IF('EK DERS Ücret Hesaplama'!$AM102=1,'EK DERS Ücret Hesaplama'!AJ102,\"\")","v":""},{"$f":"IF('EK DERS Ücret Hesaplama'!$AM102=1,'EK DERS Ücret Hesaplama'!AK102,\"\")","v":""},null,0]
[{"$f":"IF(AJ105=\"\",\"\",SUBTOTAL(103,$AJ$8:AJ105))","v":""},{"$f":"IF('EK DERS Ücret Hesaplama'!$AM103=1,'EK DERS Ücret Hesaplama'!B103,\"\")","v":""},{"$f":"IF('EK DERS Ücret Hesaplama'!$AM103=1,'EK DERS Ücret Hesaplama'!C103,\"\")","v":""},{"$f":"IF('EK DERS Ücret Hesaplama'!$AM103=1,IF('EK DERS Ücret Hesaplama'!D103=\"Ücretli Öğretmen\",\"Ücretli Öğr.\",\"Ücr.Öğr. (Emekli)\"),\"\")","v":""},{"$f":"IF('EK DERS Ücret Hesaplama'!$AM103=1,'EK DERS Ücret Hesaplama'!M103,\"\")","v":""},{"$f":"IF('EK DERS Ücret Hesaplama'!$AM103=1,'EK DERS Ücret Hesaplama'!N103,\"\")","v":""},{"$f":"IF('EK DERS Ücret Hesaplama'!$AM103=1,'EK DERS Ücret Hesaplama'!E103,\"\")","v":""},{"$f":"IF('EK DERS Ücret Hesaplama'!$AM103=1,'EK DERS Ücret Hesaplama'!F103,\"\")","v":""},{"$f":"IF('EK DERS Ücret Hesaplama'!$AM103=1,'EK DERS Ücret Hesaplama'!G103,\"\")","v":""},{"$f":"IF('EK DERS Ücret Hesaplama'!$AM103=1,'EK DERS Ücret Hesaplama'!H103,\"\")","v":""},{"$f":"IF('EK DERS Ücret Hesaplama'!$AM103=1,'EK DERS Ücret Hesaplama'!I103,\"\")","v":""},{"$f":"IF('EK DERS Ücret Hesaplama'!$AM103=1,'EK DERS Ücret Hesaplama'!J103,\"\")","v":""},{"$f":"IF('EK DERS Ücret Hesaplama'!$AM103=1,'EK DERS Ücret Hesaplama'!K103,\"\")","v":""},{"$f":"IF('EK DERS Ücret Hesaplama'!$AM103=1,'EK DERS Ücret Hesaplama'!L103,\"\")","v":""},{"$f":"IF('EK DERS Ücret Hesaplama'!$AM103=1,'EK DERS Ücret Hesaplama'!O103,\"\")","v":""},{"$f":"IF('EK DERS Ücret Hesaplama'!$AM103=1,'EK DERS Ücret Hesaplama'!P103,\"\")","v":""},{"$f":"IF('EK DERS Ücret Hesaplama'!$AM103=1,'EK DERS Ücret Hesaplama'!Q103,\"\")","v":""},{"$f":"IF('EK DERS Ücret Hesaplama'!$AM103=1,'EK DERS Ücret Hesaplama'!R103,\"\")","v":""},{"$f":"IF('EK DERS Ücret Hesaplama'!$AM103=1,'EK DERS Ücret Hesaplama'!S103,\"\")","v":""},{"$f":"IF('EK DERS Ücret Hesaplama'!$AM103=1,hesaplamalar!X100,\"\")","v":""},{"$f":"IF('EK DERS Ücret Hesaplama'!$AM103=1,hesaplamalar!Y100,\"\")","v":""},{"$f":"IF('EK DERS Ücret Hesaplama'!$AM103=1,hesaplamalar!Z100,\"\")","v":""},{"$f":"IF('EK DERS Ücret Hesaplama'!$AM103=1,hesaplamalar!AA100,\"\")","v":""},{"$f":"IF('EK DERS Ücret Hesaplama'!$AM103=1,hesaplamalar!AB100,\"\")","v":""},{"$f":"IF('EK DERS Ücret Hesaplama'!$AM103=1,hesaplamalar!AC100,\"\")","v":""},{"$f":"IF('EK DERS Ücret Hesaplama'!$AM103=1,hesaplamalar!AD100,\"\")","v":""},{"$f":"IF('EK DERS Ücret Hesaplama'!$AM103=1,hesaplamalar!AE100,\"\")","v":""},{"$f":"IF('EK DERS Ücret Hesaplama'!$AM103=1,hesaplamalar!AG100,\"\")","v":""},{"$f":"IF('EK DERS Ücret Hesaplama'!$AM103=1,hesaplamalar!AH100,\"\")","v":""},{"$f":"IF('EK DERS Ücret Hesaplama'!$AM103=1,'EK DERS Ücret Hesaplama'!AE103,\"\")","v":""},{"$f":"IF('EK DERS Ücret Hesaplama'!$AM103=1,'EK DERS Ücret Hesaplama'!AG103,\"\")","v":""},{"$f":"IF('EK DERS Ücret Hesaplama'!$AM103=1,'EK DERS Ücret Hesaplama'!AF103,\"\")","v":""},{"$f":"IF('EK DERS Ücret Hesaplama'!$AM103=1,'EK DERS Ücret Hesaplama'!AH103,\"\")","v":""},{"$f":"IF('EK DERS Ücret Hesaplama'!$AM103=1,'EK DERS Ücret Hesaplama'!AI103,\"\")","v":""},{"$f":"IF('EK DERS Ücret Hesaplama'!$AM103=1,'EK DERS Ücret Hesaplama'!AJ103,\"\")","v":""},{"$f":"IF('EK DERS Ücret Hesaplama'!$AM103=1,'EK DERS Ücret Hesaplama'!AK103,\"\")","v":""},null,0]
[{"$f":"IF(AJ106=\"\",\"\",SUBTOTAL(103,$AJ$8:AJ106))","v":""},{"$f":"IF('EK DERS Ücret Hesaplama'!$AM104=1,'EK DERS Ücret Hesaplama'!B104,\"\")","v":""},{"$f":"IF('EK DERS Ücret Hesaplama'!$AM104=1,'EK DERS Ücret Hesaplama'!C104,\"\")","v":""},{"$f":"IF('EK DERS Ücret Hesaplama'!$AM104=1,IF('EK DERS Ücret Hesaplama'!D104=\"Ücretli Öğretmen\",\"Ücretli Öğr.\",\"Ücr.Öğr. (Emekli)\"),\"\")","v":""},{"$f":"IF('EK DERS Ücret Hesaplama'!$AM104=1,'EK DERS Ücret Hesaplama'!M104,\"\")","v":""},{"$f":"IF('EK DERS Ücret Hesaplama'!$AM104=1,'EK DERS Ücret Hesaplama'!N104,\"\")","v":""},{"$f":"IF('EK DERS Ücret Hesaplama'!$AM104=1,'EK DERS Ücret Hesaplama'!E104,\"\")","v":""},{"$f":"IF('EK DERS Ücret Hesaplama'!$AM104=1,'EK DERS Ücret Hesaplama'!F104,\"\")","v":""},{"$f":"IF('EK DERS Ücret Hesaplama'!$AM104=1,'EK DERS Ücret Hesaplama'!G104,\"\")","v":""},{"$f":"IF('EK DERS Ücret Hesaplama'!$AM104=1,'EK DERS Ücret Hesaplama'!H104,\"\")","v":""},{"$f":"IF('EK DERS Ücret Hesaplama'!$AM104=1,'EK DERS Ücret Hesaplama'!I104,\"\")","v":""},{"$f":"IF('EK DERS Ücret Hesaplama'!$AM104=1,'EK DERS Ücret Hesaplama'!J104,\"\")","v":""},{"$f":"IF('EK DERS Ücret Hesaplama'!$AM104=1,'EK DERS Ücret Hesaplama'!K104,\"\")","v":""},{"$f":"IF('EK DERS Ücret Hesaplama'!$AM104=1,'EK DERS Ücret Hesaplama'!L104,\"\")","v":""},{"$f":"IF('EK DERS Ücret Hesaplama'!$AM104=1,'EK DERS Ücret Hesaplama'!O104,\"\")","v":""},{"$f":"IF('EK DERS Ücret Hesaplama'!$AM104=1,'EK DERS Ücret Hesaplama'!P104,\"\")","v":""},{"$f":"IF('EK DERS Ücret Hesaplama'!$AM104=1,'EK DERS Ücret Hesaplama'!Q104,\"\")","v":""},{"$f":"IF('EK DERS Ücret Hesaplama'!$AM104=1,'EK DERS Ücret Hesaplama'!R104,\"\")","v":""},{"$f":"IF('EK DERS Ücret Hesaplama'!$AM104=1,'EK DERS Ücret Hesaplama'!S104,\"\")","v":""},{"$f":"IF('EK DERS Ücret Hesaplama'!$AM104=1,hesaplamalar!X101,\"\")","v":""},{"$f":"IF('EK DERS Ücret Hesaplama'!$AM104=1,hesaplamalar!Y101,\"\")","v":""},{"$f":"IF('EK DERS Ücret Hesaplama'!$AM104=1,hesaplamalar!Z101,\"\")","v":""},{"$f":"IF('EK DERS Ücret Hesaplama'!$AM104=1,hesaplamalar!AA101,\"\")","v":""},{"$f":"IF('EK DERS Ücret Hesaplama'!$AM104=1,hesaplamalar!AB101,\"\")","v":""},{"$f":"IF('EK DERS Ücret Hesaplama'!$AM104=1,hesaplamalar!AC101,\"\")","v":""},{"$f":"IF('EK DERS Ücret Hesaplama'!$AM104=1,hesaplamalar!AD101,\"\")","v":""},{"$f":"IF('EK DERS Ücret Hesaplama'!$AM104=1,hesaplamalar!AE101,\"\")","v":""},{"$f":"IF('EK DERS Ücret Hesaplama'!$AM104=1,hesaplamalar!AG101,\"\")","v":""},{"$f":"IF('EK DERS Ücret Hesaplama'!$AM104=1,hesaplamalar!AH101,\"\")","v":""},{"$f":"IF('EK DERS Ücret Hesaplama'!$AM104=1,'EK DERS Ücret Hesaplama'!AE104,\"\")","v":""},{"$f":"IF('EK DERS Ücret Hesaplama'!$AM104=1,'EK DERS Ücret Hesaplama'!AG104,\"\")","v":""},{"$f":"IF('EK DERS Ücret Hesaplama'!$AM104=1,'EK DERS Ücret Hesaplama'!AF104,\"\")","v":""},{"$f":"IF('EK DERS Ücret Hesaplama'!$AM104=1,'EK DERS Ücret Hesaplama'!AH104,\"\")","v":""},{"$f":"IF('EK DERS Ücret Hesaplama'!$AM104=1,'EK DERS Ücret Hesaplama'!AI104,\"\")","v":""},{"$f":"IF('EK DERS Ücret Hesaplama'!$AM104=1,'EK DERS Ücret Hesaplama'!AJ104,\"\")","v":""},{"$f":"IF('EK DERS Ücret Hesaplama'!$AM104=1,'EK DERS Ücret Hesaplama'!AK104,\"\")","v":""},null,0]
[{"$f":"IF(AJ107=\"\",\"\",SUBTOTAL(103,$AJ$8:AJ107))","v":""},{"$f":"IF('EK DERS Ücret Hesaplama'!$AM105=1,'EK DERS Ücret Hesaplama'!B105,\"\")","v":""},{"$f":"IF('EK DERS Ücret Hesaplama'!$AM105=1,'EK DERS Ücret Hesaplama'!C105,\"\")","v":""},{"$f":"IF('EK DERS Ücret Hesaplama'!$AM105=1,IF('EK DERS Ücret Hesaplama'!D105=\"Ücretli Öğretmen\",\"Ücretli Öğr.\",\"Ücr.Öğr. (Emekli)\"),\"\")","v":""},{"$f":"IF('EK DERS Ücret Hesaplama'!$AM105=1,'EK DERS Ücret Hesaplama'!M105,\"\")","v":""},{"$f":"IF('EK DERS Ücret Hesaplama'!$AM105=1,'EK DERS Ücret Hesaplama'!N105,\"\")","v":""},{"$f":"IF('EK DERS Ücret Hesaplama'!$AM105=1,'EK DERS Ücret Hesaplama'!E105,\"\")","v":""},{"$f":"IF('EK DERS Ücret Hesaplama'!$AM105=1,'EK DERS Ücret Hesaplama'!F105,\"\")","v":""},{"$f":"IF('EK DERS Ücret Hesaplama'!$AM105=1,'EK DERS Ücret Hesaplama'!G105,\"\")","v":""},{"$f":"IF('EK DERS Ücret Hesaplama'!$AM105=1,'EK DERS Ücret Hesaplama'!H105,\"\")","v":""},{"$f":"IF('EK DERS Ücret Hesaplama'!$AM105=1,'EK DERS Ücret Hesaplama'!I105,\"\")","v":""},{"$f":"IF('EK DERS Ücret Hesaplama'!$AM105=1,'EK DERS Ücret Hesaplama'!J105,\"\")","v":""},{"$f":"IF('EK DERS Ücret Hesaplama'!$AM105=1,'EK DERS Ücret Hesaplama'!K105,\"\")","v":""},{"$f":"IF('EK DERS Ücret Hesaplama'!$AM105=1,'EK DERS Ücret Hesaplama'!L105,\"\")","v":""},{"$f":"IF('EK DERS Ücret Hesaplama'!$AM105=1,'EK DERS Ücret Hesaplama'!O105,\"\")","v":""},{"$f":"IF('EK DERS Ücret Hesaplama'!$AM105=1,'EK DERS Ücret Hesaplama'!P105,\"\")","v":""},{"$f":"IF('EK DERS Ücret Hesaplama'!$AM105=1,'EK DERS Ücret Hesaplama'!Q105,\"\")","v":""},{"$f":"IF('EK DERS Ücret Hesaplama'!$AM105=1,'EK DERS Ücret Hesaplama'!R105,\"\")","v":""},{"$f":"IF('EK DERS Ücret Hesaplama'!$AM105=1,'EK DERS Ücret Hesaplama'!S105,\"\")","v":""},{"$f":"IF('EK DERS Ücret Hesaplama'!$AM105=1,hesaplamalar!X102,\"\")","v":""},{"$f":"IF('EK DERS Ücret Hesaplama'!$AM105=1,hesaplamalar!Y102,\"\")","v":""},{"$f":"IF('EK DERS Ücret Hesaplama'!$AM105=1,hesaplamalar!Z102,\"\")","v":""},{"$f":"IF('EK DERS Ücret Hesaplama'!$AM105=1,hesaplamalar!AA102,\"\")","v":""},{"$f":"IF('EK DERS Ücret Hesaplama'!$AM105=1,hesaplamalar!AB102,\"\")","v":""},{"$f":"IF('EK DERS Ücret Hesaplama'!$AM105=1,hesaplamalar!AC102,\"\")","v":""},{"$f":"IF('EK DERS Ücret Hesaplama'!$AM105=1,hesaplamalar!AD102,\"\")","v":""},{"$f":"IF('EK DERS Ücret Hesaplama'!$AM105=1,hesaplamalar!AE102,\"\")","v":""},{"$f":"IF('EK DERS Ücret Hesaplama'!$AM105=1,hesaplamalar!AG102,\"\")","v":""},{"$f":"IF('EK DERS Ücret Hesaplama'!$AM105=1,hesaplamalar!AH102,\"\")","v":""},{"$f":"IF('EK DERS Ücret Hesaplama'!$AM105=1,'EK DERS Ücret Hesaplama'!AE105,\"\")","v":""},{"$f":"IF('EK DERS Ücret Hesaplama'!$AM105=1,'EK DERS Ücret Hesaplama'!AG105,\"\")","v":""},{"$f":"IF('EK DERS Ücret Hesaplama'!$AM105=1,'EK DERS Ücret Hesaplama'!AF105,\"\")","v":""},{"$f":"IF('EK DERS Ücret Hesaplama'!$AM105=1,'EK DERS Ücret Hesaplama'!AH105,\"\")","v":""},{"$f":"IF('EK DERS Ücret Hesaplama'!$AM105=1,'EK DERS Ücret Hesaplama'!AI105,\"\")","v":""},{"$f":"IF('EK DERS Ücret Hesaplama'!$AM105=1,'EK DERS Ücret Hesaplama'!AJ105,\"\")","v":""},{"$f":"IF('EK DERS Ücret Hesaplama'!$AM105=1,'EK DERS Ücret Hesaplama'!AK105,\"\")","v":""},null,0]
[null,null,null,"T O P L A M",{"$f":"SUM(E8:E107)","v":615},{"$f":"SUM(F8:F107)","v":83},615,65510.990000000005,0,0,0,0,0,0,65510.990000000005,65510.990000000005,13429.75,0,78940.740000000005,0,0," - ",8450.92,8450.92," - ",497.23,497.23,0,0,13429.75,0,9171.5399999999991,0,0,22601.289999999997,56339.45]

{"sheet":"hesaplamalar","index":4,"n_rows":102,"n_cols":34,"rows_kept":102,"cut":false,"hidden":true,"merged":[[0,23,0,27],[0,28,0,30]]}
[null,null,null,null,null,null,null,null,null,null,null,null,null,null,null,null,null,null,null,null,null,null,null,"Gelir Vergisi Matrah - İstisnası",null,null,null,null,"Damga Vergisi Matrah - İstisnası"]
[null,"Geçen Aylar Gelir Vergisi Matrahı Toplamı","Engellilik İndirimi","Şahıs (Özel) Sigorta Prim Tutarı","Bu  Ay Gelir Vergisi Matrahı ",null,"Geçen Ay Gelir Vergisi Matrahı ","Bu  Ay Gelir Vergisi Matrahı ","Toplam Vergi Matrahı","İstisna Öncesi Gelir Vergisi","Gelir Vergisi Muafiyeti\n(net asgari ücret)","Vergi Muafiyeti Sınırı","Ek Dersteki Gelir Vergisi Muafiyeti","Gelir Vergisi Muafiyeti Sonrası Ödenecek Gelir Vergisi",null,"Damga Vergisi Matrahı","İstisna Öncesi Damga Vergisi","Damga Vergisi Muafiyeti Sınırı\n(brüt asgari ücret)","Damga Vergisi Muafiyeti Sınırı","Ek Dersteki Damga Vergisi Muafiyeti ","Damga Vergisi Muafiyeti Sonrası Ödenecek Damga Vergisi",null,null,"Geçen Aylar Gelir Vergisi Matrahı Toplamı","Gelir Vergisi Matrahı İndirimi\n(Engellilik - Özel Sigorta)","Bu Ay Toplam Vergi Matrahı\n(indirim sonrası)","İstisna Öncesi Gelir Vergisi","Ek Dersteki Gelir Vergisi İstisnası\n(üst sınır …... TL.)","Damga Vergisi Matrahı","İstisna Öncesi Damga Vergisi","Ek Dersteki Damga Vergisi İstisnası (üst sınır ……. TL.)",null,"Gelir Vergisi Muafiyeti Sonrası Ödenecek Gelir Vergisi","Damga Vergisi Muafiyeti Sonrası Ödenecek Damga Vergisi"]
[1,{"$f":"'BİLGİ GİRİŞİ'!F5","v":0},{"$f":"\nIF('BİLGİ GİRİŞİ'!G5=KATSAYILAR!$B$16,KATSAYILAR!$C$16,\nIF('BİLGİ GİRİŞİ'!G5=KATSAYILAR!$B$17,KATSAYILAR!$C$17,\nIF('BİLGİ GİRİŞİ'!G5=KATSAYILAR!$B$18,KATSAYILAR!$C$18,0)))","v":0},{"$f":"'BİLGİ GİRİŞİ'!H5","v":0},{"$f":"IF('EK DERS Ücret Hesaplama'!O6-C3-D3-'EK DERS Ücret Hesaplama'!AF6-'EK DERS Ücret Hesaplama'!AH6<=0,0,'EK DERS Ücret Hesaplama'!O6-C3-D3-'EK DERS Ücret Hesaplama'!AF6-'EK DERS Ücret Hesaplama'!AH6)","v":16489.600000000002},null,{"$f":"'EK DERS Ücret Hesaplama'!T6","v":0},{"$f":"E3","v":16489.600000000002},{"$f":"G3+H3","v":16489.600000000002},{"$f":"ROUND(\nIF(G3>=KATSAYILAR!$C$13,H3*KATSAYILAR!$B$14,\nIF(I3>KATSAYILAR!$C$13,(I3-KATSAYILAR!$C$13)*KATSAYILAR!$B$14+(KATSAYILAR!$C$13-G3)*KATSAYILAR!$B$13,\nIF(G3>KATSAYILAR!$C$12,H3*KATSAYILAR!$B$13,\nIF(I3>KATSAYILAR!$C$12,(I3-KATSAYILAR!$C$12)*KATSAYILAR!$B$13+(KATSAYILAR!$C$12-G3)*KATSAYILAR!$B$12,\nIF(G3>KATSAYILAR!$C$11,H3*KATSAYILAR!$B$12,\nIF(I3>KATSAYILAR!$C$11,(I3-KATSAYILAR!$C$11)*KATSAYILAR!$B$12+(KATSAYILAR!$C$11-G3)*KATSAYILAR!$B$11,\nH3*KATSAYILAR!$B$11)))))),2)","v":2473.44},{"$f":"KATSAYILAR!$C$6","v":17002.13},{"$f":"ROUND(K3*KATSAYILAR!$B$11,2)","v":2550.3200000000002},{"$f":"IF(J3<=L3,J3,L3)","v":2473.44},{"$f":"J3-M3","v":0},null,{"$f":"'EK DERS Ücret Hesaplama'!O6","v":19173.95},{"$f":"ROUND(P3*KATSAYILAR!$C$20,2)","v":145.53},{"$f":"KATSAYILAR!$C$7","v":20002.5},{"$f":"ROUND(R3*KATSAYILAR!$C$20,2)","v":151.82},{"$f":"IF(Q3<=S3,Q3,S3)","v":145.53},{"$f":"Q3-T3","v":0},null,null,{"$f":"G3","v":0},{"$f":"C3+D3","v":0},{"$f":"E3","v":16489.600000000002},{"$f":"J3","v":2473.44},{"$f":"M3","v":2473.44},{"$f":"P3","v":19173.95},{"$f":"Q3","v":145.53},{"$f":"T3","v":145.53},null,{"$f":"N3","v":0},{"$f":"U3","v":0}]
[2,{"$f":"'BİLGİ GİRİŞİ'!F6","v":0},{"$f":"\nIF('BİLGİ GİRİŞİ'!G6=KATSAYILAR!$B$16,KATSAYILAR!$C$16,\nIF('BİLGİ GİRİŞİ'!G6=KATSAYILAR!$B$17,KATSAYILAR!$C$17,\nIF('BİLGİ GİRİŞİ'!G6=KATSAYILAR!$B$18,KATSAYILAR!$C$18,0)))","v":0},{"$f":"'BİLGİ GİRİŞİ'!H6","v":0},{"$f":"IF('EK DERS Ücret Hesaplama'!O7-C4-D4-'EK DERS Ücret Hesaplama'!AF7-'EK DERS Ücret Hesaplama'!AH7<=0,0,'EK DERS Ücret Hesaplama'!O7-C4-D4-'EK DERS Ücret Hesaplama'!AF7-'EK DERS Ücret Hesaplama'!AH7)","v":16489.600000000002},null,{"$f":"'EK DERS Ücret Hesaplama'!T7","v":0},{"$f":"E4","v":16489.600000000002},{"$f":"G4+H4","v":16489.600000000002},{"$f":"ROUND(\nIF(G4>=KATSAYILAR!$C$13,H4*KATSAYILAR!$B$14,\nIF(I4>KATSAYILAR!$C$13,(I4-KATSAYILAR!$C$13)*KATSAYILAR!$B$14+(KATSAYILAR!$C$13-G4)*KATSAYILAR!$B$13,\nIF(G4>KATSAYILAR!$C$12,H4*KATSAYILAR!$B$13,\nIF(I4>KATSAYILAR!$C$12,(I4-KATSAYILAR!$C$12)*KATSAYILAR!$B$13+(KATSAYILAR!$C$12-G4)*KATSAYILAR!$B$12,\nIF(G4>KATSAYILAR!$C$11,H4*KATSAYILAR!$B$12,\nIF(I4>KATSAYILAR!$C$11,(I4-KATSAYILAR!$C$11)*KATSAYILAR!$B$12+(KATSAYILAR!$C$11-G4)*KATSAYILAR!$B$11,\nH4*KATSAYILAR!$B$11)))))),2)","v":2473.44},{"$f":"KATSAYILAR!$C$6","v":17002.13},{"$f":"ROUND(K4*KATSAYILAR!$B$11,2)","v":2550.3200000000002},{"$f":"IF(J4<=L4,J4,L4)","v":2473.44},{"$f":"J4-M4","v":0},null,{"$f":"'EK DERS Ücret Hesaplama'!O7","v":19173.95},{"$f":"ROUND(P4*KATSAYILAR!$C$20,2)","v":145.53},{"$f":"KATSAYILAR!$C$7","v":20002.5},{"$f":"ROUND(R4*KATSAYILAR!$C$20,2)","v":151.82},{"$f":"IF(Q4<=S4,Q4,S4)","v":145.53},{"$f":"Q4-T4","v":0},null,null,{"$f":"G4","v":0},{"$f":"C4+D4","v":0},{"$f":"E4","v":16489.600000000002},{"$f":"J4","v":2473.44},{"$f":"M4","v":2473.44},{"$f":"P4","v":19173.95},{"$f":"Q4","v":145.53},{"$f":"T4","v":145.53},null,{"$f":"N4","v":0},{"$f":"U4","v":0}]
[3,{"$f":"'BİLGİ GİRİŞİ'!F7","v":0},{"$f":"\nIF('BİLGİ GİRİŞİ'!G7=KATSAYILAR!$B$16,KATSAYILAR!$C$16,\nIF('BİLGİ GİRİŞİ'!G7=KATSAYILAR!$B$17,KATSAYILAR!$C$17,\nIF('BİLGİ GİRİŞİ'!G7=KATSAYILAR!$B$18,KATSAYILAR!$C$18,0)))","v":0},{"$f":"'BİLGİ GİRİŞİ'!H7","v":0},{"$f":"IF('EK DERS Ücret Hesaplama'!O8-C5-D5-'EK DERS Ücret Hesaplama'!AF8-'EK DERS Ücret Hesaplama'!AH8<=0,0,'EK DERS Ücret Hesaplama'!O8-C5-D5-'EK DERS Ücret Hesaplama'!AF8-'EK DERS Ücret Hesaplama'!AH8)","v":14199.37},null,{"$f":"'EK DERS Ücret Hesaplama'!T8","v":0},14199.37,14199.37,{"$f":"ROUND(\nIF(G5>=KATSAYILAR!$C$13,H5*KATSAYILAR!$B$14,\nIF(I5>KATSAYILAR!$C$13,(I5-KATSAYILAR!$C$13)*KATSAYILAR!$B$14+(KATSAYILAR!$C$13-G5)*KATSAYILAR!$B$13,\nIF(G5>KATSAYILAR!$C$12,H5*KATSAYILAR!$B$13,\nIF(I5>KATSAYILAR!$C$12,(I5-KATSAYILAR!$C$12)*KATSAYILAR!$B$13+(KATSAYILAR!$C$12-G5)*KATSAYILAR!$B$12,\nIF(G5>KATSAYILAR!$C$11,H5*KATSAYILAR!$B$12,\nIF(I5>KATSAYILAR!$C$11,(I5-KATSAYILAR!$C$11)*KATSAYILAR!$B$12+(KATSAYILAR!$C$11-G5)*KATSAYILAR!$B$11,\nH5*KATSAYILAR!$B$11)))))),2)","v":2129.91},{"$f":"KATSAYILAR!$C$6","v":17002.13},{"$f":"ROUND(K5*KATSAYILAR!$B$11,2)","v":2550.3200000000002},2129.91,0,null,{"$f":"'EK DERS Ücret Hesaplama'!O8","v":16510.900000000001},{"$f":"ROUND(P5*KATSAYILAR!$C$20,2)","v":125.32},{"$f":"KATSAYILAR!$C$7","v":20002.5},{"$f":"ROUND(R5*KATSAYILAR!$C$20,2)","v":151.82},125.32,0,null,null,0,0,14199.37,2129.91,2129.91,16510.900000000001,125.32,125.32,null,0,0]
[4,{"$f":"'BİLGİ GİRİŞİ'!F8","v":0},{"$f":"\nIF('BİLGİ GİRİŞİ'!G8=KATSAYILAR!$B$16,KATSAYILAR!$C$16,\nIF('BİLGİ GİRİŞİ'!G8=KATSAYILAR!$B$17,KATSAYILAR!$C$17,\nIF('BİLGİ GİRİŞİ'!G8=KATSAYILAR!$B$18,KATSAYILAR!$C$18,0)))","v":0},{"$f":"'BİLGİ GİRİŞİ'!H8","v":0},{"$f":"IF('EK DERS Ücret Hesaplama'!O9-C6-D6-'EK DERS Ücret Hesaplama'!AF9-'EK DERS Ücret Hesaplama'!AH9<=0,0,'EK DERS Ücret Hesaplama'!O9-C6-D6-'EK DERS Ücret Hesaplama'!AF9-'EK DERS Ücret Hesaplama'!AH9)","v":9160.880000000001},null,{"$f":"'EK DERS Ücret Hesaplama'!T9","v":0},9160.880000000001,9160.880000000001,{"$f":"ROUND(\nIF(G6>=KATSAYILAR!$C$13,H6*KATSAYILAR!$B$14,\nIF(I6>KATSAYILAR!$C$13,(I6-KATSAYILAR!$C$13)*KATSAYILAR!$B$14+(KATSAYILAR!$C$13-G6)*KATSAYILAR!$B$13,\nIF(G6>KATSAYILAR!$C$12,H6*KATSAYILAR!$B$13,\nIF(I6>KATSAYILAR!$C$12,(I6-KATSAYILAR!$C$12)*KATSAYILAR!$B$13+(KATSAYILAR!$C$12-G6)*KATSAYILAR!$B$12,\nIF(G6>KATSAYILAR!$C$11,H6*KATSAYILAR!$B$12,\nIF(I6>KATSAYILAR!$C$11,(I6-KATSAYILAR!$C$11)*KATSAYILAR!$B$12+(KATSAYILAR!$C$11-G6)*KATSAYILAR!$B$11,\nH6*KATSAYILAR!$B$11)))))),2)","v":1374.13},{"$f":"KATSAYILAR!$C$6","v":17002.13},{"$f":"ROUND(K6*KATSAYILAR!$B$11,2)","v":2550.3200000000002},1374.13,0,null,{"$f":"'EK DERS Ücret Hesaplama'!O9","v":10652.19},{"$f":"ROUND(P6*KATSAYILAR!$C$20,2)","v":80.849999999999994},{"$f":"KATSAYILAR!$C$7","v":20002.5},{"$f":"ROUND(R6*KATSAYILAR!$C$20,2)","v":151.82},80.849999999999994,0,null,null,0,0,9160.880000000001,1374.13,1374.13,10652.19,80.849999999999994,80.849999999999994,null,0,0]
[5,{"$f":"'BİLGİ GİRİŞİ'!F9","v":0},{"$f":"\nIF('BİLGİ GİRİŞİ'!G9=KATSAYILAR!$B$16,KATSAYILAR!$C$16,\nIF('BİLGİ GİRİŞİ'!G9=KATSAYILAR!$B$17,KATSAYILAR!$C$17,\nIF('BİLGİ GİRİŞİ'!G9=KATSAYILAR!$B$18,KATSAYILAR!$C$18,0)))","v":0},{"$f":"'BİLGİ GİRİŞİ'!H9","v":0},{"$f":"IF('EK DERS Ücret Hesaplama'!O10-C7-D7-'EK DERS Ücret Hesaplama'!AF10-'EK DERS Ücret Hesaplama'!AH10<=0,0,'EK DERS Ücret Hesaplama'!O10-C7-D7-'EK DERS Ücret Hesaplama'!AF10-'EK DERS Ücret Hesaplama'!AH10)","v":0},null,{"$f":"'EK DERS Ücret Hesaplama'!T10","v":0},0,0,{"$f":"ROUND(\nIF(G7>=KATSAYILAR!$C$13,H7*KATSAYILAR!$B$14,\nIF(I7>KATSAYILAR!$C$13,(I7-KATSAYILAR!$C$13)*KATSAYILAR!$B$14+(KATSAYILAR!$C$13-G7)*KATSAYILAR!$B$13,\nIF(G7>KATSAYILAR!$C$12,H7*KATSAYILAR!$B$13,\nIF(I7>KATSAYILAR!$C$12,(I7-KATSAYILAR!$C$12)*KATSAYILAR!$B$13+(KATSAYILAR!$C$12-G7)*KATSAYILAR!$B$12,\nIF(G7>KATSAYILAR!$C$11,H7*KATSAYILAR!$B$12,\nIF(I7>KATSAYILAR!$C$11,(I7-KATSAYILAR!$C$11)*KATSAYILAR!$B$12+(KATSAYILAR!$C$11-G7)*KATSAYILAR!$B$11,\nH7*KATSAYILAR!$B$11)))))),2)","v":0},{"$f":"KATSAYILAR!$C$6","v":17002.13},{"$f":"ROUND(K7*KATSAYILAR!$B$11,2)","v":2550.3200000000002},0,0,null,{"$f":"'EK DERS Ücret Hesaplama'!O10","v":0},{"$f":"ROUND(P7*KATSAYILAR!$C$20,2)","v":0},{"$f":"KATSAYILAR!$C$7","v":20002.5},{"$f":"ROUND(R7*KATSAYILAR!$C$20,2)","v":151.82},0,0,null,null,0,0,0,0,0,0,0,0,null,0,0]
[6,{"$f":"'BİLGİ GİRİŞİ'!F10","v":0},{"$f":"\nIF('BİLGİ GİRİŞİ'!G10=KATSAYILAR!$B$16,KATSAYILAR!$C$16,\nIF('BİLGİ GİRİŞİ'!G10=KATSAYILAR!$B$17,KATSAYILAR!$C$17,\nIF('BİLGİ GİRİŞİ'!G10=KATSAYILAR!$B$18,KATSAYILAR!$C$18,0)))","v":0},{"$f":"'BİLGİ GİRİŞİ'!H10","v":0},{"$f":"IF('EK DERS Ücret Hesaplama'!O11-C8-D8-'EK DERS Ücret Hesaplama'!AF11-'EK DERS Ücret Hesaplama'!AH11<=0,0,'EK DERS Ücret Hesaplama'!O11-C8-D8-'EK DERS Ücret Hesaplama'!AF11-'EK DERS Ücret Hesaplama'!AH11)","v":0},null,{"$f":"'EK DERS Ücret Hesaplama'!T11","v":0},0,0,{"$f":"ROUND(\nIF(G8>=KATSAYILAR!$C$13,H8*KATSAYILAR!$B$14,\nIF(I8>KATSAYILAR!$C$13,(I8-KATSAYILAR!$C$13)*KATSAYILAR!$B$14+(KATSAYILAR!$C$13-G8)*KATSAYILAR!$B$13,\nIF(G8>KATSAYILAR!$C$12,H8*KATSAYILAR!$B$13,\nIF(I8>KATSAYILAR!$C$12,(I8-KATSAYILAR!$C$12)*KATSAYILAR!$B$13+(KATSAYILAR!$C$12-G8)*KATSAYILAR!$B$12,\nIF(G8>KATSAYILAR!$C$11,H8*KATSAYILAR!$B$12,\nIF(I8>KATSAYILAR!$C$11,(I8-KATSAYILAR!$C$11)*KATSAYILAR!$B$12+(KATSAYILAR!$C$11-G8)*KATSAYILAR!$B$11,\nH8*KATSAYILAR!$B$11)))))),2)","v":0},{"$f":"KATSAYILAR!$C$6","v":17002.13},{"$f":"ROUND(K8*KATSAYILAR!$B$11,2)","v":2550.3200000000002},0,0,null,{"$f":"'EK DERS Ücret Hesaplama'!O11","v":0},{"$f":"ROUND(P8*KATSAYILAR!$C$20,2)","v":0},{"$f":"KATSAYILAR!$C$7","v":20002.5},{"$f":"ROUND(R8*KATSAYILAR!$C$20,2)","v":151.82},0,0,null,null,0,0,0,0,0,0,0,0,null,0,0]
[7,{"$f":"'BİLGİ GİRİŞİ'!F11","v":0},{"$f":"\nIF('BİLGİ GİRİŞİ'!G11=KATSAYILAR!$B$16,KATSAYILAR!$C$16,\nIF('BİLGİ GİRİŞİ'!G11=KATSAYILAR!$B$17,KATSAYILAR!$C$17,\nIF('BİLGİ GİRİŞİ'!G11=KATSAYILAR!$B$18,KATSAYILAR!$C$18,0)))","v":0},{"$f":"'BİLGİ GİRİŞİ'!H11","v":0},{"$f":"IF('EK DERS Ücret Hesaplama'!O12-C9-D9-'EK DERS Ücret Hesaplama'!AF12-'EK DERS Ücret Hesaplama'!AH12<=0,0,'EK DERS Ücret Hesaplama'!O12-C9-D9-'EK DERS Ücret Hesaplama'!AF12-'EK DERS Ücret Hesaplama'!AH12)","v":0},null,{"$f":"'EK DERS Ücret Hesaplama'!T12","v":0},0,0,{"$f":"ROUND(\nIF(G9>=KATSAYILAR!$C$13,H9*KATSAYILAR!$B$14,\nIF(I9>KATSAYILAR!$C$13,(I9-KATSAYILAR!$C$13)*KATSAYILAR!$B$14+(KATSAYILAR!$C$13-G9)*KATSAYILAR!$B$13,\nIF(G9>KATSAYILAR!$C$12,H9*KATSAYILAR!$B$13,\nIF(I9>KATSAYILAR!$C$12,(I9-KATSAYILAR!$C$12)*KATSAYILAR!$B$13+(KATSAYILAR!$C$12-G9)*KATSAYILAR!$B$12,\nIF(G9>KATSAYILAR!$C$11,H9*KATSAYILAR!$B$12,\nIF(I9>KATSAYILAR!$C$11,(I9-KATSAYILAR!$C$11)*KATSAYILAR!$B$12+(KATSAYILAR!$C$11-G9)*KATSAYILAR!$B$11,\nH9*KATSAYILAR!$B$11)))))),2)","v":0},{"$f":"KATSAYILAR!$C$6","v":17002.13},{"$f":"ROUND(K9*KATSAYILAR!$B$11,2)","v":2550.3200000000002},0,0,null,{"$f":"'EK DERS Ücret Hesaplama'!O12","v":0},{"$f":"ROUND(P9*KATSAYILAR!$C$20,2)","v":0},{"$f":"KATSAYILAR!$C$7","v":20002.5},{"$f":"ROUND(R9*KATSAYILAR!$C$20,2)","v":151.82},0,0,null,null,0,0,0,0,0,0,0,0,null,0,0]
[8,{"$f":"'BİLGİ GİRİŞİ'!F12","v":0},{"$f":"\nIF('BİLGİ GİRİŞİ'!G12=KATSAYILAR!$B$16,KATSAYILAR!$C$16,\nIF('BİLGİ GİRİŞİ'!G12=KATSAYILAR!$B$17,KATSAYILAR!$C$17,\nIF('BİLGİ GİRİŞİ'!G12=KATSAYILAR!$B$18,KATSAYILAR!$C$18,0)))","v":0},{"$f":"'BİLGİ GİRİŞİ'!H12","v":0},{"$f":"IF('EK DERS Ücret Hesaplama'!O13-C10-D10-'EK DERS Ücret Hesaplama'!AF13-'EK DERS Ücret Hesaplama'!AH13<=0,0,'EK DERS Ücret Hesaplama'!O13-C10-D10-'EK DERS Ücret Hesaplama'!AF13-'EK DERS Ücret Hesaplama'!AH13)","v":0},null,{"$f":"'EK DERS Ücret Hesaplama'!T13","v":0},0,0,{"$f":"ROUND(\nIF(G10>=KATSAYILAR!$C$13,H10*KATSAYILAR!$B$14,\nIF(I10>KATSAYILAR!$C$13,(I10-KATSAYILAR!$C$13)*KATSAYILAR!$B$14+(KATSAYILAR!$C$13-G10)*KATSAYILAR!$B$13,\nIF(G10>KATSAYILAR!$C$12,H10*KATSAYILAR!$B$13,\nIF(I10>KATSAYILAR!$C$12,(I10-KATSAYILAR!$C$12)*KATSAYILAR!$B$13+(KATSAYILAR!$C$12-G10)*KATSAYILAR!$B$12,\nIF(G10>KATSAYILAR!$C$11,H10*KATSAYILAR!$B$12,\nIF(I10>KATSAYILAR!$C$11,(I10-KATSAYILAR!$C$11)*KATSAYILAR!$B$12+(KATSAYILAR!$C$11-G10)*KATSAYILAR!$B$11,\nH10*KATSAYILAR!$B$11)))))),2)","v":0},{"$f":"KATSAYILAR!$C$6","v":17002.13},{"$f":"ROUND(K10*KATSAYILAR!$B$11,2)","v":2550.3200000000002},0,0,null,{"$f":"'EK DERS Ücret Hesaplama'!O13","v":0},{"$f":"ROUND(P10*KATSAYILAR!$C$20,2)","v":0},{"$f":"KATSAYILAR!$C$7","v":20002.5},{"$f":"ROUND(R10*KATSAYILAR!$C$20,2)","v":151.82},0,0,null,null,0,0,0,0,0,0,0,0,null,0,0]
[9,{"$f":"'BİLGİ GİRİŞİ'!F13","v":0},{"$f":"\nIF('BİLGİ GİRİŞİ'!G13=KATSAYILAR!$B$16,KATSAYILAR!$C$16,\nIF('BİLGİ GİRİŞİ'!G13=KATSAYILAR!$B$17,KATSAYILAR!$C$17,\nIF('BİLGİ GİRİŞİ'!G13=KATSAYILAR!$B$18,KATSAYILAR!$C$18,0)))","v":0},{"$f":"'BİLGİ GİRİŞİ'!H13","v":0},{"$f":"IF('EK DERS Ücret Hesaplama'!O14-C11-D11-'EK DERS Ücret Hesaplama'!AF14-'EK DERS Ücret Hesaplama'!AH14<=0,0,'EK DERS Ücret Hesaplama'!O14-C11-D11-'EK DERS Ücret Hesaplama'!AF14-'EK DERS Ücret Hesaplama'!AH14)","v":0},null,{"$f":"'EK DERS Ücret Hesaplama'!T14","v":0},0,0,{"$f":"ROUND(\nIF(G11>=KATSAYILAR!$C$13,H11*KATSAYILAR!$B$14,\nIF(I11>KATSAYILAR!$C$13,(I11-KATSAYILAR!$C$13)*KATSAYILAR!$B$14+(KATSAYILAR!$C$13-G11)*KATSAYILAR!$B$13,\nIF(G11>KATSAYILAR!$C$12,H11*KATSAYILAR!$B$13,\nIF(I11>KATSAYILAR!$C$12,(I11-KATSAYILAR!$C$12)*KATSAYILAR!$B$13+(KATSAYILAR!$C$12-G11)*KATSAYILAR!$B$12,\nIF(G11>KATSAYILAR!$C$11,H11*KATSAYILAR!$B$12,\nIF(I11>KATSAYILAR!$C$11,(I11-KATSAYILAR!$C$11)*KATSAYILAR!$B$12+(KATSAYILAR!$C$11-G11)*KATSAYILAR!$B$11,\nH11*KATSAYILAR!$B$11)))))),2)","v":0},{"$f":"KATSAYILAR!$C$6","v":17002.13},{"$f":"ROUND(K11*KATSAYILAR!$B$11,2)","v":2550.3200000000002},0,0,null,{"$f":"'EK DERS Ücret Hesaplama'!O14","v":0},{"$f":"ROUND(P11*KATSAYILAR!$C$20,2)","v":0},{"$f":"KATSAYILAR!$C$7","v":20002.5},{"$f":"ROUND(R11*KATSAYILAR!$C$20,2)","v":151.82},0,0,null,null,0,0,0,0,0,0,0,0,null,0,0]
[10,{"$f":"'BİLGİ GİRİŞİ'!F14","v":0},{"$f":"\nIF('BİLGİ GİRİŞİ'!G14=KATSAYILAR!$B$16,KATSAYILAR!$C$16,\nIF('BİLGİ GİRİŞİ'!G14=KATSAYILAR!$B$17,KATSAYILAR!$C$17,\nIF('BİLGİ GİRİŞİ'!G14=KATSAYILAR!$B$18,KATSAYILAR!$C$18,0)))","v":0},{"$f":"'BİLGİ GİRİŞİ'!H14","v":0},{"$f":"IF('EK DERS Ücret Hesaplama'!O15-C12-D12-'EK DERS Ücret Hesaplama'!AF15-'EK DERS Ücret Hesaplama'!AH15<=0,0,'EK DERS Ücret Hesaplama'!O15-C12-D12-'EK DERS Ücret Hesaplama'!AF15-'EK DERS Ücret Hesaplama'!AH15)","v":0},null,{"$f":"'EK DERS Ücret Hesaplama'!T15","v":0},0,0,{"$f":"ROUND(\nIF(G12>=KATSAYILAR!$C$13,H12*KATSAYILAR!$B$14,\nIF(I12>KATSAYILAR!$C$13,(I12-KATSAYILAR!$C$13)*KATSAYILAR!$B$14+(KATSAYILAR!$C$13-G12)*KATSAYILAR!$B$13,\nIF(G12>KATSAYILAR!$C$12,H12*KATSAYILAR!$B$13,\nIF(I12>KATSAYILAR!$C$12,(I12-KATSAYILAR!$C$12)*KATSAYILAR!$B$13+(KATSAYILAR!$C$12-G12)*KATSAYILAR!$B$12,\nIF(G12>KATSAYILAR!$C$11,H12*KATSAYILAR!$B$12,\nIF(I12>KATSAYILAR!$C$11,(I12-KATSAYILAR!$C$11)*KATSAYILAR!$B$12+(KATSAYILAR!$C$11-G12)*KATSAYILAR!$B$11,\nH12*KATSAYILAR!$B$11)))))),2)","v":0},{"$f":"KATSAYILAR!$C$6","v":17002.13},{"$f":"ROUND(K12*KATSAYILAR!$B$11,2)","v":2550.3200000000002},0,0,null,{"$f":"'EK DERS Ücret Hesaplama'!O15","v":0},{"$f":"ROUND(P12*KATSAYILAR!$C$20,2)","v":0},{"$f":"KATSAYILAR!$C$7","v":20002.5},{"$f":"ROUND(R12*KATSAYILAR!$C$20,2)","v":151.82},0,0,null,null,0,0,0,0,0,0,0,0,null,0,0]
[11,{"$f":"'BİLGİ GİRİŞİ'!F15","v":0},{"$f":"\nIF('BİLGİ GİRİŞİ'!G15=KATSAYILAR!$B$16,KATSAYILAR!$C$16,\nIF('BİLGİ GİRİŞİ'!G15=KATSAYILAR!$B$17,KATSAYILAR!$C$17,\nIF('BİLGİ GİRİŞİ'!G15=KATSAYILAR!$B$18,KATSAYILAR!$C$18,0)))","v":0},{"$f":"'BİLGİ GİRİŞİ'!H15","v":0},{"$f":"IF('EK DERS Ücret Hesaplama'!O16-C13-D13-'EK DERS Ücret Hesaplama'!AF16-'EK DERS Ücret Hesaplama'!AH16<=0,0,'EK DERS Ücret Hesaplama'!O16-C13-D13-'EK DERS Ücret Hesaplama'!AF16-'EK DERS Ücret Hesaplama'!AH16)","v":0},null,{"$f":"'EK DERS Ücret Hesaplama'!T16","v":0},0,0,{"$f":"ROUND(\nIF(G13>=KATSAYILAR!$C$13,H13*KATSAYILAR!$B$14,\nIF(I13>KATSAYILAR!$C$13,(I13-KATSAYILAR!$C$13)*KATSAYILAR!$B$14+(KATSAYILAR!$C$13-G13)*KATSAYILAR!$B$13,\nIF(G13>KATSAYILAR!$C$12,H13*KATSAYILAR!$B$13,\nIF(I13>KATSAYILAR!$C$12,(I13-KATSAYILAR!$C$12)*KATSAYILAR!$B$13+(KATSAYILAR!$C$12-G13)*KATSAYILAR!$B$12,\nIF(G13>KATSAYILAR!$C$11,H13*KATSAYILAR!$B$12,\nIF(I13>KATSAYILAR!$C$11,(I13-KATSAYILAR!$C$11)*KATSAYILAR!$B$12+(KATSAYILAR!$C$11-G13)*KATSAYILAR!$B$11,\nH13*KATSAYILAR!$B$11)))))),2)","v":0},{"$f":"KATSAYILAR!$C$6","v":17002.13},{"$f":"ROUND(K13*KATSAYILAR!$B$11,2)","v":2550.3200000000002},0,0,null,{"$f":"'EK DERS Ücret Hesaplama'!O16","v":0},{"$f":"ROUND(P13*KATSAYILAR!$C$20,2)","v":0},{"$f":"KATSAYILAR!$C$7","v":20002.5},{"$f":"ROUND(R13*KATSAYILAR!$C$20,2)","v":151.82},0,0,null,null,0,0,0,0,0,0,0,0,null,0,0]
[12,{"$f":"'BİLGİ GİRİŞİ'!F16","v":0},{"$f":"\nIF('BİLGİ GİRİŞİ'!G16=KATSAYILAR!$B$16,KATSAYILAR!$C$16,\nIF('BİLGİ GİRİŞİ'!G16=KATSAYILAR!$B$17,KATSAYILAR!$C$17,\nIF('BİLGİ GİRİŞİ'!G16=KATSAYILAR!$B$18,KATSAYILAR!$C$18,0)))","v":0},{"$f":"'BİLGİ GİRİŞİ'!H16","v":0},{"$f":"IF('EK DERS Ücret Hesaplama'!O17-C14-D14-'EK DERS Ücret Hesaplama'!AF17-'EK DERS Ücret Hesaplama'!AH17<=0,0,'EK DERS Ücret Hesaplama'!O17-C14-D14-'EK DERS Ücret Hesaplama'!AF17-'EK DERS Ücret Hesaplama'!AH17)","v":0},null,{"$f":"'EK DERS Ücret Hesaplama'!T17","v":0},0,0,{"$f":"ROUND(\nIF(G14>=KATSAYILAR!$C$13,H14*KATSAYILAR!$B$14,\nIF(I14>KATSAYILAR!$C$13,(I14-KATSAYILAR!$C$13)*KATSAYILAR!$B$14+(KATSAYILAR!$C$13-G14)*KATSAYILAR!$B$13,\nIF(G14>KATSAYILAR!$C$12,H14*KATSAYILAR!$B$13,\nIF(I14>KATSAYILAR!$C$12,(I14-KATSAYILAR!$C$12)*KATSAYILAR!$B$13+(KATSAYILAR!$C$12-G14)*KATSAYILAR!$B$12,\nIF(G14>KATSAYILAR!$C$11,H14*KATSAYILAR!$B$12,\nIF(I14>KATSAYILAR!$C$11,(I14-KATSAYILAR!$C$11)*KATSAYILAR!$B$12+(KATSAYILAR!$C$11-G14)*KATSAYILAR!$B$11,\nH14*KATSAYILAR!$B$11)))))),2)","v":0},{"$f":"KATSAYILAR!$C$6","v":17002.13},{"$f":"ROUND(K14*KATSAYILAR!$B$11,2)","v":2550.3200000000002},0,0,null,{"$f":"'EK DERS Ücret Hesaplama'!O17","v":0},{"$f":"ROUND(P14*KATSAYILAR!$C$20,2)","v":0},{"$f":"KATSAYILAR!$C$7","v":20002.5},{"$f":"ROUND(R14*KATSAYILAR!$C$20,2)","v":151.82},0,0,null,null,0,0,0,0,0,0,0,0,null,0,0]
[13,{"$f":"'BİLGİ GİRİŞİ'!F17","v":0},{"$f":"\nIF('BİLGİ GİRİŞİ'!G17=KATSAYILAR!$B$16,KATSAYILAR!$C$16,\nIF('BİLGİ GİRİŞİ'!G17=KATSAYILAR!$B$17,KATSAYILAR!$C$17,\nIF('BİLGİ GİRİŞİ'!G17=KATSAYILAR!$B$18,KATSAYILAR!$C$18,0)))","v":0},{"$f":"'BİLGİ GİRİŞİ'!H17","v":0},{"$f":"IF('EK DERS Ücret Hesaplama'!O18-C15-D15-'EK DERS Ücret Hesaplama'!AF18-'EK DERS Ücret Hesaplama'!AH18<=0,0,'EK DERS Ücret Hesaplama'!O18-C15-D15-'EK DERS Ücret Hesaplama'!AF18-'EK DERS Ücret Hesaplama'!AH18)","v":0},null,{"$f":"'EK DERS Ücret Hesaplama'!T18","v":0},0,0,{"$f":"ROUND(\nIF(G15>=KATSAYILAR!$C$13,H15*KATSAYILAR!$B$14,\nIF(I15>KATSAYILAR!$C$13,(I15-KATSAYILAR!$C$13)*KATSAYILAR!$B$14+(KATSAYILAR!$C$13-G15)*KATSAYILAR!$B$13,\nIF(G15>KATSAYILAR!$C$12,H15*KATSAYILAR!$B$13,\nIF(I15>KATSAYILAR!$C$12,(I15-KATSAYILAR!$C$12)*KATSAYILAR!$B$13+(KATSAYILAR!$C$12-G15)*KATSAYILAR!$B$12,\nIF(G15>KATSAYILAR!$C$11,H15*KATSAYILAR!$B$12,\nIF(I15>KATSAYILAR!$C$11,(I15-KATSAYILAR!$C$11)*KATSAYILAR!$B$12+(KATSAYILAR!$C$11-G15)*KATSAYILAR!$B$11,\nH15*KATSAYILAR!$B$11)))))),2)","v":0},{"$f":"KATSAYILAR!$C$6","v":17002.13},{"$f":"ROUND(K15*KATSAYILAR!$B$11,2)","v":2550.3200000000002},0,0,null,{"$f":"'EK DERS Ücret Hesaplama'!O18","v":0},{"$f":"ROUND(P15*KATSAYILAR!$C$20,2)","v":0},{"$f":"KATSAYILAR!$C$7","v":20002.5},{"$f":"ROUND(R15*KATSAYILAR!$C$20,2)","v":151.82},0,0,null,null,0,0,0,0,0,0,0,0,null,0,0]
[14,{"$f":"'BİLGİ GİRİŞİ'!F18","v":0},{"$f":"\nIF('BİLGİ GİRİŞİ'!G18=KATSAYILAR!$B$16,KATSAYILAR!$C$16,\nIF('BİLGİ GİRİŞİ'!G18=KATSAYILAR!$B$17,KATSAYILAR!$C$17,\nIF('BİLGİ GİRİŞİ'!G18=KATSAYILAR!$B$18,KATSAYILAR!$C$18,0)))","v":0},{"$f":"'BİLGİ GİRİŞİ'!H18","v":0},{"$f":"IF('EK DERS Ücret Hesaplama'!O19-C16-D16-'EK DERS Ücret Hesaplama'!AF19-'EK DERS Ücret Hesaplama'!AH19<=0,0,'EK DERS Ücret Hesaplama'!O19-C16-D16-'EK DERS Ücret Hesaplama'!AF19-'EK DERS Ücret Hesaplama'!AH19)","v":0},null,{"$f":"'EK DERS Ücret Hesaplama'!T19","v":0},0,0,{"$f":"ROUND(\nIF(G16>=KATSAYILAR!$C$13,H16*KATSAYILAR!$B$14,\nIF(I16>KATSAYILAR!$C$13,(I16-KATSAYILAR!$C$13)*KATSAYILAR!$B$14+(KATSAYILAR!$C$13-G16)*KATSAYILAR!$B$13,\nIF(G16>KATSAYILAR!$C$12,H16*KATSAYILAR!$B$13,\nIF(I16>KATSAYILAR!$C$12,(I16-KATSAYILAR!$C$12)*KATSAYILAR!$B$13+(KATSAYILAR!$C$12-G16)*KATSAYILAR!$B$12,\nIF(G16>KATSAYILAR!$C$11,H16*KATSAYILAR!$B$12,\nIF(I16>KATSAYILAR!$C$11,(I16-KATSAYILAR!$C$11)*KATSAYILAR!$B$12+(KATSAYILAR!$C$11-G16)*KATSAYILAR!$B$11,\nH16*KATSAYILAR!$B$11)))))),2)","v":0},{"$f":"KATSAYILAR!$C$6","v":17002.13},{"$f":"ROUND(K16*KATSAYILAR!$B$11,2)","v":2550.3200000000002},0,0,null,{"$f":"'EK DERS Ücret Hesaplama'!O19","v":0},{"$f":"ROUND(P16*KATSAYILAR!$C$20,2)","v":0},{"$f":"KATSAYILAR!$C$7","v":20002.5},{"$f":"ROUND(R16*KATSAYILAR!$C$20,2)","v":151.82},0,0,null,null,0,0,0,0,0,0,0,0,null,0,0]
[15,{"$f":"'BİLGİ GİRİŞİ'!F19","v":0},{"$f":"\nIF('BİLGİ GİRİŞİ'!G19=KATSAYILAR!$B$16,KATSAYILAR!$C$16,\nIF('BİLGİ GİRİŞİ'!G19=KATSAYILAR!$B$17,KATSAYILAR!$C$17,\nIF('BİLGİ GİRİŞİ'!G19=KATSAYILAR!$B$18,KATSAYILAR!$C$18,0)))","v":0},{"$f":"'BİLGİ GİRİŞİ'!H19","v":0},{"$f":"IF('EK DERS Ücret Hesaplama'!O20-C17-D17-'EK DERS Ücret Hesaplama'!AF20-'EK DERS Ücret Hesaplama'!AH20<=0,0,'EK DERS Ücret Hesaplama'!O20-C17-D17-'EK DERS Ücret Hesaplama'!AF20-'EK DERS Ücret Hesaplama'!AH20)","v":0},null,{"$f":"'EK DERS Ücret Hesaplama'!T20","v":0},0,0,{"$f":"ROUND(\nIF(G17>=KATSAYILAR!$C$13,H17*KATSAYILAR!$B$14,\nIF(I17>KATSAYILAR!$C$13,(I17-KATSAYILAR!$C$13)*KATSAYILAR!$B$14+(KATSAYILAR!$C$13-G17)*KATSAYILAR!$B$13,\nIF(G17>KATSAYILAR!$C$12,H17*KATSAYILAR!$B$13,\nIF(I17>KATSAYILAR!$C$12,(I17-KATSAYILAR!$C$12)*KATSAYILAR!$B$13+(KATSAYILAR!$C$12-G17)*KATSAYILAR!$B$12,\nIF(G17>KATSAYILAR!$C$11,H17*KATSAYILAR!$B$12,\nIF(I17>KATSAYILAR!$C$11,(I17-KATSAYILAR!$C$11)*KATSAYILAR!$B$12+(KATSAYILAR!$C$11-G17)*KATSAYILAR!$B$11,\nH17*KATSAYILAR!$B$11)))))),2)","v":0},{"$f":"KATSAYILAR!$C$6","v":17002.13},{"$f":"ROUND(K17*KATSAYILAR!$B$11,2)","v":2550.3200000000002},0,0,null,{"$f":"'EK DERS Ücret Hesaplama'!O20","v":0},{"$f":"ROUND(P17*KATSAYILAR!$C$20,2)","v":0},{"$f":"KATSAYILAR!$C$7","v":20002.5},{"$f":"ROUND(R17*KATSAYILAR!$C$20,2)","v":151.82},0,0,null,null,0,0,0,0,0,0,0,0,null,0,0]
[16,{"$f":"'BİLGİ GİRİŞİ'!F20","v":0},{"$f":"\nIF('BİLGİ GİRİŞİ'!G20=KATSAYILAR!$B$16,KATSAYILAR!$C$16,\nIF('BİLGİ GİRİŞİ'!G20=KATSAYILAR!$B$17,KATSAYILAR!$C$17,\nIF('BİLGİ GİRİŞİ'!G20=KATSAYILAR!$B$18,KATSAYILAR!$C$18,0)))","v":0},{"$f":"'BİLGİ GİRİŞİ'!H20","v":0},{"$f":"IF('EK DERS Ücret Hesaplama'!O21-C18-D18-'EK DERS Ücret Hesaplama'!AF21-'EK DERS Ücret Hesaplama'!AH21<=0,0,'EK DERS Ücret Hesaplama'!O21-C18-D18-'EK DERS Ücret Hesaplama'!AF21-'EK DERS Ücret Hesaplama'!AH21)","v":0},null,{"$f":"'EK DERS Ücret Hesaplama'!T21","v":0},0,0,{"$f":"ROUND(\nIF(G18>=KATSAYILAR!$C$13,H18*KATSAYILAR!$B$14,\nIF(I18>KATSAYILAR!$C$13,(I18-KATSAYILAR!$C$13)*KATSAYILAR!$B$14+(KATSAYILAR!$C$13-G18)*KATSAYILAR!$B$13,\nIF(G18>KATSAYILAR!$C$12,H18*KATSAYILAR!$B$13,\nIF(I18>KATSAYILAR!$C$12,(I18-KATSAYILAR!$C$12)*KATSAYILAR!$B$13+(KATSAYILAR!$C$12-G18)*KATSAYILAR!$B$12,\nIF(G18>KATSAYILAR!$C$11,H18*KATSAYILAR!$B$12,\nIF(I18>KATSAYILAR!$C$11,(I18-KATSAYILAR!$C$11)*KATSAYILAR!$B$12+(KATSAYILAR!$C$11-G18)*KATSAYILAR!$B$11,\nH18*KATSAYILAR!$B$11)))))),2)","v":0},{"$f":"KATSAYILAR!$C$6","v":17002.13},{"$f":"ROUND(K18*KATSAYILAR!$B$11,2)","v":2550.3200000000002},0,0,null,{"$f":"'EK DERS Ücret Hesaplama'!O21","v":0},{"$f":"ROUND(P18*KATSAYILAR!$C$20,2)","v":0},{"$f":"KATSAYILAR!$C$7","v":20002.5},{"$f":"ROUND(R18*KATSAYILAR!$C$20,2)","v":151.82},0,0,null,null,0,0,0,0,0,0,0,0,null,0,0]
[17,{"$f":"'BİLGİ GİRİŞİ'!F21","v":0},{"$f":"\nIF('BİLGİ GİRİŞİ'!G21=KATSAYILAR!$B$16,KATSAYILAR!$C$16,\nIF('BİLGİ GİRİŞİ'!G21=KATSAYILAR!$B$17,KATSAYILAR!$C$17,\nIF('BİLGİ GİRİŞİ'!G21=KATSAYILAR!$B$18,KATSAYILAR!$C$18,0)))","v":0},{"$f":"'BİLGİ GİRİŞİ'!H21","v":0},{"$f":"IF('EK DERS Ücret Hesaplama'!O22-C19-D19-'EK DERS Ücret Hesaplama'!AF22-'EK DERS Ücret Hesaplama'!AH22<=0,0,'EK DERS Ücret Hesaplama'!O22-C19-D19-'EK DERS Ücret Hesaplama'!AF22-'EK DERS Ücret Hesaplama'!AH22)","v":0},null,{"$f":"'EK DERS Ücret Hesaplama'!T22","v":0},0,0,{"$f":"ROUND(\nIF(G19>=KATSAYILAR!$C$13,H19*KATSAYILAR!$B$14,\nIF(I19>KATSAYILAR!$C$13,(I19-KATSAYILAR!$C$13)*KATSAYILAR!$B$14+(KATSAYILAR!$C$13-G19)*KATSAYILAR!$B$13,\nIF(G19>KATSAYILAR!$C$12,H19*KATSAYILAR!$B$13,\nIF(I19>KATSAYILAR!$C$12,(I19-KATSAYILAR!$C$12)*KATSAYILAR!$B$13+(KATSAYILAR!$C$12-G19)*KATSAYILAR!$B$12,\nIF(G19>KATSAYILAR!$C$11,H19*KATSAYILAR!$B$12,\nIF(I19>KATSAYILAR!$C$11,(I19-KATSAYILAR!$C$11)*KATSAYILAR!$B$12+(KATSAYILAR!$C$11-G19)*KATSAYILAR!$B$11,\nH19*KATSAYILAR!$B$11)))))),2)","v":0},{"$f":"KATSAYILAR!$C$6","v":17002.13},{"$f":"ROUND(K19*KATSAYILAR!$B$11,2)","v":2550.3200000000002},0,0,null,{"$f":"'EK DERS Ücret Hesaplama'!O22","v":0},{"$f":"ROUND(P19*KATSAYILAR!$C$20,2)","v":0},{"$f":"KATSAYILAR!$C$7","v":20002.5},{"$f":"ROUND(R19*KATSAYILAR!$C$20,2)","v":151.82},0,0,null,null,0,0,0,0,0,0,0,0,null,0,0]
[18,{"$f":"'BİLGİ GİRİŞİ'!F22","v":0},{"$f":"\nIF('BİLGİ GİRİŞİ'!G22=KATSAYILAR!$B$16,KATSAYILAR!$C$16,\nIF('BİLGİ GİRİŞİ'!G22=KATSAYILAR!$B$17,KATSAYILAR!$C$17,\nIF('BİLGİ GİRİŞİ'!G22=KATSAYILAR!$B$18,KATSAYILAR!$C$18,0)))","v":0},{"$f":"'BİLGİ GİRİŞİ'!H22","v":0},{"$f":"IF('EK DERS Ücret Hesaplama'!O23-C20-D20-'EK DERS Ücret Hesaplama'!AF23-'EK DERS Ücret Hesaplama'!AH23<=0,0,'EK DERS Ücret Hesaplama'!O23-C20-D20-'EK DERS Ücret Hesaplama'!AF23-'EK DERS Ücret Hesaplama'!AH23)","v":0},null,{"$f":"'EK DERS Ücret Hesaplama'!T23","v":0},0,0,{"$f":"ROUND(\nIF(G20>=KATSAYILAR!$C$13,H20*KATSAYILAR!$B$14,\nIF(I20>KATSAYILAR!$C$13,(I20-KATSAYILAR!$C$13)*KATSAYILAR!$B$14+(KATSAYILAR!$C$13-G20)*KATSAYILAR!$B$13,\nIF(G20>KATSAYILAR!$C$12,H20*KATSAYILAR!$B$13,\nIF(I20>KATSAYILAR!$C$12,(I20-KATSAYILAR!$C$12)*KATSAYILAR!$B$13+(KATSAYILAR!$C$12-G20)*KATSAYILAR!$B$12,\nIF(G20>KATSAYILAR!$C$11,H20*KATSAYILAR!$B$12,\nIF(I20>KATSAYILAR!$C$11,(I20-KATSAYILAR!$C$11)*KATSAYILAR!$B$12+(KATSAYILAR!$C$11-G20)*KATSAYILAR!$B$11,\nH20*KATSAYILAR!$B$11)))))),2)","v":0},{"$f":"KATSAYILAR!$C$6","v":17002.13},{"$f":"ROUND(K20*KATSAYILAR!$B$11,2)","v":2550.3200000000002},0,0,null,{"$f":"'EK DERS Ücret Hesaplama'!O23","v":0},{"$f":"ROUND(P20*KATSAYILAR!$C$20,2)","v":0},{"$f":"KATSAYILAR!$C$7","v":20002.5},{"$f":"ROUND(R20*KATSAYILAR!$C$20,2)","v":151.82},0,0,null,null,0,0,0,0,0,0,0,0,null,0,0]
[19,{"$f":"'BİLGİ GİRİŞİ'!F23","v":0},{"$f":"\nIF('BİLGİ GİRİŞİ'!G23=KATSAYILAR!$B$16,KATSAYILAR!$C$16,\nIF('BİLGİ GİRİŞİ'!G23=KATSAYILAR!$B$17,KATSAYILAR!$C$17,\nIF('BİLGİ GİRİŞİ'!G23=KATSAYILAR!$B$18,KATSAYILAR!$C$18,0)))","v":0},{"$f":"'BİLGİ GİRİŞİ'!H23","v":0},{"$f":"IF('EK DERS Ücret Hesaplama'!O24-C21-D21-'EK DERS Ücret Hesaplama'!AF24-'EK DERS Ücret Hesaplama'!AH24<=0,0,'EK DERS Ücret Hesaplama'!O24-C21-D21-'EK DERS Ücret Hesaplama'!AF24-'EK DERS Ücret Hesaplama'!AH24)","v":0},null,{"$f":"'EK DERS Ücret Hesaplama'!T24","v":0},0,0,{"$f":"ROUND(\nIF(G21>=KATSAYILAR!$C$13,H21*KATSAYILAR!$B$14,\nIF(I21>KATSAYILAR!$C$13,(I21-KATSAYILAR!$C$13)*KATSAYILAR!$B$14+(KATSAYILAR!$C$13-G21)*KATSAYILAR!$B$13,\nIF(G21>KATSAYILAR!$C$12,H21*KATSAYILAR!$B$13,\nIF(I21>KATSAYILAR!$C$12,(I21-KATSAYILAR!$C$12)*KATSAYILAR!$B$13+(KATSAYILAR!$C$12-G21)*KATSAYILAR!$B$12,\nIF(G21>KATSAYILAR!$C$11,H21*KATSAYILAR!$B$12,\nIF(I21>KATSAYILAR!$C$11,(I21-KATSAYILAR!$C$11)*KATSAYILAR!$B$12+(KATSAYILAR!$C$11-G21)*KATSAYILAR!$B$11,\nH21*KATSAYILAR!$B$11)))))),2)","v":0},{"$f":"KATSAYILAR!$C$6","v":17002.13},{"$f":"ROUND(K21*KATSAYILAR!$B$11,2)","v":2550.3200000000002},0,0,null,{"$f":"'EK DERS Ücret Hesaplama'!O24","v":0},{"$f":"ROUND(P21*KATSAYILAR!$C$20,2)","v":0},{"$f":"KATSAYILAR!$C$7","v":20002.5},{"$f":"ROUND(R21*KATSAYILAR!$C$20,2)","v":151.82},0,0,null,null,0,0,0,0,0,0,0,0,null,0,0]
[20,{"$f":"'BİLGİ GİRİŞİ'!F24","v":0},{"$f":"\nIF('BİLGİ GİRİŞİ'!G24=KATSAYILAR!$B$16,KATSAYILAR!$C$16,\nIF('BİLGİ GİRİŞİ'!G24=KATSAYILAR!$B$17,KATSAYILAR!$C$17,\nIF('BİLGİ GİRİŞİ'!G24=KATSAYILAR!$B$18,KATSAYILAR!$C$18,0)))","v":0},{"$f":"'BİLGİ GİRİŞİ'!H24","v":0},{"$f":"IF('EK DERS Ücret Hesaplama'!O25-C22-D22-'EK DERS Ücret Hesaplama'!AF25-'EK DERS Ücret Hesaplama'!AH25<=0,0,'EK DERS Ücret Hesaplama'!O25-C22-D22-'EK DERS Ücret Hesaplama'!AF25-'EK DERS Ücret Hesaplama'!AH25)","v":0},null,{"$f":"'EK DERS Ücret Hesaplama'!T25","v":0},0,0,{"$f":"ROUND(\nIF(G22>=KATSAYILAR!$C$13,H22*KATSAYILAR!$B$14,\nIF(I22>KATSAYILAR!$C$13,(I22-KATSAYILAR!$C$13)*KATSAYILAR!$B$14+(KATSAYILAR!$C$13-G22)*KATSAYILAR!$B$13,\nIF(G22>KATSAYILAR!$C$12,H22*KATSAYILAR!$B$13,\nIF(I22>KATSAYILAR!$C$12,(I22-KATSAYILAR!$C$12)*KATSAYILAR!$B$13+(KATSAYILAR!$C$12-G22)*KATSAYILAR!$B$12,\nIF(G22>KATSAYILAR!$C$11,H22*KATSAYILAR!$B$12,\nIF(I22>KATSAYILAR!$C$11,(I22-KATSAYILAR!$C$11)*KATSAYILAR!$B$12+(KATSAYILAR!$C$11-G22)*KATSAYILAR!$B$11,\nH22*KATSAYILAR!$B$11)))))),2)","v":0},{"$f":"KATSAYILAR!$C$6","v":17002.13},{"$f":"ROUND(K22*KATSAYILAR!$B$11,2)","v":2550.3200000000002},0,0,null,{"$f":"'EK DERS Ücret Hesaplama'!O25","v":0},{"$f":"ROUND(P22*KATSAYILAR!$C$20,2)","v":0},{"$f":"KATSAYILAR!$C$7","v":20002.5},{"$f":"ROUND(R22*KATSAYILAR!$C$20,2)","v":151.82},0,0,null,null,0,0,0,0,0,0,0,0,null,0,0]
[21,{"$f":"'BİLGİ GİRİŞİ'!F25","v":0},{"$f":"\nIF('BİLGİ GİRİŞİ'!G25=KATSAYILAR!$B$16,KATSAYILAR!$C$16,\nIF('BİLGİ GİRİŞİ'!G25=KATSAYILAR!$B$17,KATSAYILAR!$C$17,\nIF('BİLGİ GİRİŞİ'!G25=KATSAYILAR!$B$18,KATSAYILAR!$C$18,0)))","v":0},{"$f":"'BİLGİ GİRİŞİ'!H25","v":0},{"$f":"IF('EK DERS Ücret Hesaplama'!O26-C23-D23-'EK DERS Ücret Hesaplama'!AF26-'EK DERS Ücret Hesaplama'!AH26<=0,0,'EK DERS Ücret Hesaplama'!O26-C23-D23-'EK DERS Ücret Hesaplama'!AF26-'EK DERS Ücret Hesaplama'!AH26)","v":0},null,{"$f":"'EK DERS Ücret Hesaplama'!T26","v":0},0,0,{"$f":"ROUND(\nIF(G23>=KATSAYILAR!$C$13,H23*KATSAYILAR!$B$14,\nIF(I23>KATSAYILAR!$C$13,(I23-KATSAYILAR!$C$13)*KATSAYILAR!$B$14+(KATSAYILAR!$C$13-G23)*KATSAYILAR!$B$13,\nIF(G23>KATSAYILAR!$C$12,H23*KATSAYILAR!$B$13,\nIF(I23>KATSAYILAR!$C$12,(I23-KATSAYILAR!$C$12)*KATSAYILAR!$B$13+(KATSAYILAR!$C$12-G23)*KATSAYILAR!$B$12,\nIF(G23>KATSAYILAR!$C$11,H23*KATSAYILAR!$B$12,\nIF(I23>KATSAYILAR!$C$11,(I23-KATSAYILAR!$C$11)*KATSAYILAR!$B$12+(KATSAYILAR!$C$11-G23)*KATSAYILAR!$B$11,\nH23*KATSAYILAR!$B$11)))))),2)","v":0},{"$f":"KATSAYILAR!$C$6","v":17002.13},{"$f":"ROUND(K23*KATSAYILAR!$B$11,2)","v":2550.3200000000002},0,0,null,{"$f":"'EK DERS Ücret Hesaplama'!O26","v":0},{"$f":"ROUND(P23*KATSAYILAR!$C$20,2)","v":0},{"$f":"KATSAYILAR!$C$7","v":20002.5},{"$f":"ROUND(R23*KATSAYILAR!$C$20,2)","v":151.82},0,0,null,null,0,0,0,0,0,0,0,0,null,0,0]
[22,{"$f":"'BİLGİ GİRİŞİ'!F26","v":0},{"$f":"\nIF('BİLGİ GİRİŞİ'!G26=KATSAYILAR!$B$16,KATSAYILAR!$C$16,\nIF('BİLGİ GİRİŞİ'!G26=KATSAYILAR!$B$17,KATSAYILAR!$C$17,\nIF('BİLGİ GİRİŞİ'!G26=KATSAYILAR!$B$18,KATSAYILAR!$C$18,0)))","v":0},{"$f":"'BİLGİ GİRİŞİ'!H26","v":0},{"$f":"IF('EK DERS Ücret Hesaplama'!O27-C24-D24-'EK DERS Ücret Hesaplama'!AF27-'EK DERS Ücret Hesaplama'!AH27<=0,0,'EK DERS Ücret Hesaplama'!O27-C24-D24-'EK DERS Ücret Hesaplama'!AF27-'EK DERS Ücret Hesaplama'!AH27)","v":0},null,{"$f":"'EK DERS Ücret Hesaplama'!T27","v":0},0,0,{"$f":"ROUND(\nIF(G24>=KATSAYILAR!$C$13,H24*KATSAYILAR!$B$14,\nIF(I24>KATSAYILAR!$C$13,(I24-KATSAYILAR!$C$13)*KATSAYILAR!$B$14+(KATSAYILAR!$C$13-G24)*KATSAYILAR!$B$13,\nIF(G24>KATSAYILAR!$C$12,H24*KATSAYILAR!$B$13,\nIF(I24>KATSAYILAR!$C$12,(I24-KATSAYILAR!$C$12)*KATSAYILAR!$B$13+(KATSAYILAR!$C$12-G24)*KATSAYILAR!$B$12,\nIF(G24>KATSAYILAR!$C$11,H24*KATSAYILAR!$B$12,\nIF(I24>KATSAYILAR!$C$11,(I24-KATSAYILAR!$C$11)*KATSAYILAR!$B$12+(KATSAYILAR!$C$11-G24)*KATSAYILAR!$B$11,\nH24*KATSAYILAR!$B$11)))))),2)","v":0},{"$f":"KATSAYILAR!$C$6","v":17002.13},{"$f":"ROUND(K24*KATSAYILAR!$B$11,2)","v":2550.3200000000002},0,0,null,{"$f":"'EK DERS Ücret Hesaplama'!O27","v":0},{"$f":"ROUND(P24*KATSAYILAR!$C$20,2)","v":0},{"$f":"KATSAYILAR!$C$7","v":20002.5},{"$f":"ROUND(R24*KATSAYILAR!$C$20,2)","v":151.82},0,0,null,null,0,0,0,0,0,0,0,0,null,0,0]
[23,{"$f":"'BİLGİ GİRİŞİ'!F27","v":0},{"$f":"\nIF('BİLGİ GİRİŞİ'!G27=KATSAYILAR!$B$16,KATSAYILAR!$C$16,\nIF('BİLGİ GİRİŞİ'!G27=KATSAYILAR!$B$17,KATSAYILAR!$C$17,\nIF('BİLGİ GİRİŞİ'!G27=KATSAYILAR!$B$18,KATSAYILAR!$C$18,0)))","v":0},{"$f":"'BİLGİ GİRİŞİ'!H27","v":0},{"$f":"IF('EK DERS Ücret Hesaplama'!O28-C25-D25-'EK DERS Ücret Hesaplama'!AF28-'EK DERS Ücret Hesaplama'!AH28<=0,0,'EK DERS Ücret Hesaplama'!O28-C25-D25-'EK DERS Ücret Hesaplama'!AF28-'EK DERS Ücret Hesaplama'!AH28)","v":0},null,{"$f":"'EK DERS Ücret Hesaplama'!T28","v":0},0,0,{"$f":"ROUND(\nIF(G25>=KATSAYILAR!$C$13,H25*KATSAYILAR!$B$14,\nIF(I25>KATSAYILAR!$C$13,(I25-KATSAYILAR!$C$13)*KATSAYILAR!$B$14+(KATSAYILAR!$C$13-G25)*KATSAYILAR!$B$13,\nIF(G25>KATSAYILAR!$C$12,H25*KATSAYILAR!$B$13,\nIF(I25>KATSAYILAR!$C$12,(I25-KATSAYILAR!$C$12)*KATSAYILAR!$B$13+(KATSAYILAR!$C$12-G25)*KATSAYILAR!$B$12,\nIF(G25>KATSAYILAR!$C$11,H25*KATSAYILAR!$B$12,\nIF(I25>KATSAYILAR!$C$11,(I25-KATSAYILAR!$C$11)*KATSAYILAR!$B$12+(KATSAYILAR!$C$11-G25)*KATSAYILAR!$B$11,\nH25*KATSAYILAR!$B$11)))))),2)","v":0},{"$f":"KATSAYILAR!$C$6","v":17002.13},{"$f":"ROUND(K25*KATSAYILAR!$B$11,2)","v":2550.3200000000002},0,0,null,{"$f":"'EK DERS Ücret Hesaplama'!O28","v":0},{"$f":"ROUND(P25*KATSAYILAR!$C$20,2)","v":0},{"$f":"KATSAYILAR!$C$7","v":20002.5},{"$f":"ROUND(R25*KATSAYILAR!$C$20,2)","v":151.82},0,0,null,null,0,0,0,0,0,0,0,0,null,0,0]
[24,{"$f":"'BİLGİ GİRİŞİ'!F28","v":0},{"$f":"\nIF('BİLGİ GİRİŞİ'!G28=KATSAYILAR!$B$16,KATSAYILAR!$C$16,\nIF('BİLGİ GİRİŞİ'!G28=KATSAYILAR!$B$17,KATSAYILAR!$C$17,\nIF('BİLGİ GİRİŞİ'!G28=KATSAYILAR!$B$18,KATSAYILAR!$C$18,0)))","v":0},{"$f":"'BİLGİ GİRİŞİ'!H28","v":0},{"$f":"IF('EK DERS Ücret Hesaplama'!O29-C26-D26-'EK DERS Ücret Hesaplama'!AF29-'EK DERS Ücret Hesaplama'!AH29<=0,0,'EK DERS Ücret Hesaplama'!O29-C26-D26-'EK DERS Ücret Hesaplama'!AF29-'EK DERS Ücret Hesaplama'!AH29)","v":0},null,{"$f":"'EK DERS Ücret Hesaplama'!T29","v":0},0,0,{"$f":"ROUND(\nIF(G26>=KATSAYILAR!$C$13,H26*KATSAYILAR!$B$14,\nIF(I26>KATSAYILAR!$C$13,(I26-KATSAYILAR!$C$13)*KATSAYILAR!$B$14+(KATSAYILAR!$C$13-G26)*KATSAYILAR!$B$13,\nIF(G26>KATSAYILAR!$C$12,H26*KATSAYILAR!$B$13,\nIF(I26>KATSAYILAR!$C$12,(I26-KATSAYILAR!$C$12)*KATSAYILAR!$B$13+(KATSAYILAR!$C$12-G26)*KATSAYILAR!$B$12,\nIF(G26>KATSAYILAR!$C$11,H26*KATSAYILAR!$B$12,\nIF(I26>KATSAYILAR!$C$11,(I26-KATSAYILAR!$C$11)*KATSAYILAR!$B$12+(KATSAYILAR!$C$11-G26)*KATSAYILAR!$B$11,\nH26*KATSAYILAR!$B$11)))))),2)","v":0},{"$f":"KATSAYILAR!$C$6","v":17002.13},{"$f":"ROUND(K26*KATSAYILAR!$B$11,2)","v":2550.3200000000002},0,0,null,{"$f":"'EK DERS Ücret Hesaplama'!O29","v":0},{"$f":"ROUND(P26*KATSAYILAR!$C$20,2)","v":0},{"$f":"KATSAYILAR!$C$7","v":20002.5},{"$f":"ROUND(R26*KATSAYILAR!$C$20,2)","v":151.82},0,0,null,null,0,0,0,0,0,0,0,0,null,0,0]
[25,{"$f":"'BİLGİ GİRİŞİ'!F29","v":0},{"$f":"\nIF('BİLGİ GİRİŞİ'!G29=KATSAYILAR!$B$16,KATSAYILAR!$C$16,\nIF('BİLGİ GİRİŞİ'!G29=KATSAYILAR!$B$17,KATSAYILAR!$C$17,\nIF('BİLGİ GİRİŞİ'!G29=KATSAYILAR!$B$18,KATSAYILAR!$C$18,0)))","v":0},{"$f":"'BİLGİ GİRİŞİ'!H29","v":0},{"$f":"IF('EK DERS Ücret Hesaplama'!O30-C27-D27-'EK DERS Ücret Hesaplama'!AF30-'EK DERS Ücret Hesaplama'!AH30<=0,0,'EK DERS Ücret Hesaplama'!O30-C27-D27-'EK DERS Ücret Hesaplama'!AF30-'EK DERS Ücret Hesaplama'!AH30)","v":0},null,{"$f":"'EK DERS Ücret Hesaplama'!T30","v":0},0,0,{"$f":"ROUND(\nIF(G27>=KATSAYILAR!$C$13,H27*KATSAYILAR!$B$14,\nIF(I27>KATSAYILAR!$C$13,(I27-KATSAYILAR!$C$13)*KATSAYILAR!$B$14+(KATSAYILAR!$C$13-G27)*KATSAYILAR!$B$13,\nIF(G27>KATSAYILAR!$C$12,H27*KATSAYILAR!$B$13,\nIF(I27>KATSAYILAR!$C$12,(I27-KATSAYILAR!$C$12)*KATSAYILAR!$B$13+(KATSAYILAR!$C$12-G27)*KATSAYILAR!$B$12,\nIF(G27>KATSAYILAR!$C$11,H27*KATSAYILAR!$B$12,\nIF(I27>KATSAYILAR!$C$11,(I27-KATSAYILAR!$C$11)*KATSAYILAR!$B$12+(KATSAYILAR!$C$11-G27)*KATSAYILAR!$B$11,\nH27*KATSAYILAR!$B$11)))))),2)","v":0},{"$f":"KATSAYILAR!$C$6","v":17002.13},{"$f":"ROUND(K27*KATSAYILAR!$B$11,2)","v":2550.3200000000002},0,0,null,{"$f":"'EK DERS Ücret Hesaplama'!O30","v":0},{"$f":"ROUND(P27*KATSAYILAR!$C$20,2)","v":0},{"$f":"KATSAYILAR!$C$7","v":20002.5},{"$f":"ROUND(R27*KATSAYILAR!$C$20,2)","v":151.82},0,0,null,null,0,0,0,0,0,0,0,0,null,0,0]
[26,{"$f":"'BİLGİ GİRİŞİ'!F30","v":0},{"$f":"\nIF('BİLGİ GİRİŞİ'!G30=KATSAYILAR!$B$16,KATSAYILAR!$C$16,\nIF('BİLGİ GİRİŞİ'!G30=KATSAYILAR!$B$17,KATSAYILAR!$C$17,\nIF('BİLGİ GİRİŞİ'!G30=KATSAYILAR!$B$18,KATSAYILAR!$C$18,0)))","v":0},{"$f":"'BİLGİ GİRİŞİ'!H30","v":0},{"$f":"IF('EK DERS Ücret Hesaplama'!O31-C28-D28-'EK DERS Ücret Hesaplama'!AF31-'EK DERS Ücret Hesaplama'!AH31<=0,0,'EK DERS Ücret Hesaplama'!O31-C28-D28-'EK DERS Ücret Hesaplama'!AF31-'EK DERS Ücret Hesaplama'!AH31)","v":0},null,{"$f":"'EK DERS Ücret Hesaplama'!T31","v":0},0,0,{"$f":"ROUND(\nIF(G28>=KATSAYILAR!$C$13,H28*KATSAYILAR!$B$14,\nIF(I28>KATSAYILAR!$C$13,(I28-KATSAYILAR!$C$13)*KATSAYILAR!$B$14+(KATSAYILAR!$C$13-G28)*KATSAYILAR!$B$13,\nIF(G28>KATSAYILAR!$C$12,H28*KATSAYILAR!$B$13,\nIF(I28>KATSAYILAR!$C$12,(I28-KATSAYILAR!$C$12)*KATSAYILAR!$B$13+(KATSAYILAR!$C$12-G28)*KATSAYILAR!$B$12,\nIF(G28>KATSAYILAR!$C$11,H28*KATSAYILAR!$B$12,\nIF(I28>KATSAYILAR!$C$11,(I28-KATSAYILAR!$C$11)*KATSAYILAR!$B$12+(KATSAYILAR!$C$11-G28)*KATSAYILAR!$B$11,\nH28*KATSAYILAR!$B$11)))))),2)","v":0},{"$f":"KATSAYILAR!$C$6","v":17002.13},{"$f":"ROUND(K28*KATSAYILAR!$B$11,2)","v":2550.3200000000002},0,0,null,{"$f":"'EK DERS Ücret Hesaplama'!O31","v":0},{"$f":"ROUND(P28*KATSAYILAR!$C$20,2)","v":0},{"$f":"KATSAYILAR!$C$7","v":20002.5},{"$f":"ROUND(R28*KATSAYILAR!$C$20,2)","v":151.82},0,0,null,null,0,0,0,0,0,0,0,0,null,0,0]
[27,{"$f":"'BİLGİ GİRİŞİ'!F31","v":0},{"$f":"\nIF('BİLGİ GİRİŞİ'!G31=KATSAYILAR!$B$16,KATSAYILAR!$C$16,\nIF('BİLGİ GİRİŞİ'!G31=KATSAYILAR!$B$17,KATSAYILAR!$C$17,\nIF('BİLGİ GİRİŞİ'!G31=KATSAYILAR!$B$18,KATSAYILAR!$C$18,0)))","v":0},{"$f":"'BİLGİ GİRİŞİ'!H31","v":0},{"$f":"IF('EK DERS Ücret Hesaplama'!O32-C29-D29-'EK DERS Ücret Hesaplama'!AF32-'EK DERS Ücret Hesaplama'!AH32<=0,0,'EK DERS Ücret Hesaplama'!O32-C29-D29-'EK DERS Ücret Hesaplama'!AF32-'EK DERS Ücret Hesaplama'!AH32)","v":0},null,{"$f":"'EK DERS Ücret Hesaplama'!T32","v":0},0,0,{"$f":"ROUND(\nIF(G29>=KATSAYILAR!$C$13,H29*KATSAYILAR!$B$14,\nIF(I29>KATSAYILAR!$C$13,(I29-KATSAYILAR!$C$13)*KATSAYILAR!$B$14+(KATSAYILAR!$C$13-G29)*KATSAYILAR!$B$13,\nIF(G29>KATSAYILAR!$C$12,H29*KATSAYILAR!$B$13,\nIF(I29>KATSAYILAR!$C$12,(I29-KATSAYILAR!$C$12)*KATSAYILAR!$B$13+(KATSAYILAR!$C$12-G29)*KATSAYILAR!$B$12,\nIF(G29>KATSAYILAR!$C$11,H29*KATSAYILAR!$B$12,\nIF(I29>KATSAYILAR!$C$11,(I29-KATSAYILAR!$C$11)*KATSAYILAR!$B$12+(KATSAYILAR!$C$11-G29)*KATSAYILAR!$B$11,\nH29*KATSAYILAR!$B$11)))))),2)","v":0},{"$f":"KATSAYILAR!$C$6","v":17002.13},{"$f":"ROUND(K29*KATSAYILAR!$B$11,2)","v":2550.3200000000002},0,0,null,{"$f":"'EK DERS Ücret Hesaplama'!O32","v":0},{"$f":"ROUND(P29*KATSAYILAR!$C$20,2)","v":0},{"$f":"KATSAYILAR!$C$7","v":20002.5},{"$f":"ROUND(R29*KATSAYILAR!$C$20,2)","v":151.82},0,0,null,null,0,0,0,0,0,0,0,0,null,0,0]
[28,{"$f":"'BİLGİ GİRİŞİ'!F32","v":0},{"$f":"\nIF('BİLGİ GİRİŞİ'!G32=KATSAYILAR!$B$16,KATSAYILAR!$C$16,\nIF('BİLGİ GİRİŞİ'!G32=KATSAYILAR!$B$17,KATSAYILAR!$C$17,\nIF('BİLGİ GİRİŞİ'!G32=KATSAYILAR!$B$18,KATSAYILAR!$C$18,0)))","v":0},{"$f":"'BİLGİ GİRİŞİ'!H32","v":0},{"$f":"IF('EK DERS Ücret Hesaplama'!O33-C30-D30-'EK DERS Ücret Hesaplama'!AF33-'EK DERS Ücret Hesaplama'!AH33<=0,0,'EK DERS Ücret Hesaplama'!O33-C30-D30-'EK DERS Ücret Hesaplama'!AF33-'EK DERS Ücret Hesaplama'!AH33)","v":0},null,{"$f":"'EK DERS Ücret Hesaplama'!T33","v":0},0,0,{"$f":"ROUND(\nIF(G30>=KATSAYILAR!$C$13,H30*KATSAYILAR!$B$14,\nIF(I30>KATSAYILAR!$C$13,(I30-KATSAYILAR!$C$13)*KATSAYILAR!$B$14+(KATSAYILAR!$C$13-G30)*KATSAYILAR!$B$13,\nIF(G30>KATSAYILAR!$C$12,H30*KATSAYILAR!$B$13,\nIF(I30>KATSAYILAR!$C$12,(I30-KATSAYILAR!$C$12)*KATSAYILAR!$B$13+(KATSAYILAR!$C$12-G30)*KATSAYILAR!$B$12,\nIF(G30>KATSAYILAR!$C$11,H30*KATSAYILAR!$B$12,\nIF(I30>KATSAYILAR!$C$11,(I30-KATSAYILAR!$C$11)*KATSAYILAR!$B$12+(KATSAYILAR!$C$11-G30)*KATSAYILAR!$B$11,\nH30*KATSAYILAR!$B$11)))))),2)","v":0},{"$f":"KATSAYILAR!$C$6","v":17002.13},{"$f":"ROUND(K30*KATSAYILAR!$B$11,2)","v":2550.3200000000002},0,0,null,{"$f":"'EK DERS Ücret Hesaplama'!O33","v":0},{"$f":"ROUND(P30*KATSAYILAR!$C$20,2)","v":0},{"$f":"KATSAYILAR!$C$7","v":20002.5},{"$f":"ROUND(R30*KATSAYILAR!$C$20,2)","v":151.82},0,0,null,null,0,0,0,0,0,0,0,0,null,0,0]
[29,{"$f":"'BİLGİ GİRİŞİ'!F33","v":0},{"$f":"\nIF('BİLGİ GİRİŞİ'!G33=KATSAYILAR!$B$16,KATSAYILAR!$C$16,\nIF('BİLGİ GİRİŞİ'!G33=KATSAYILAR!$B$17,KATSAYILAR!$C$17,\nIF('BİLGİ GİRİŞİ'!G33=KATSAYILAR!$B$18,KATSAYILAR!$C$18,0)))","v":0},{"$f":"'BİLGİ GİRİŞİ'!H33","v":0},{"$f":"IF('EK DERS Ücret Hesaplama'!O34-C31-D31-'EK DERS Ücret Hesaplama'!AF34-'EK DERS Ücret Hesaplama'!AH34<=0,0,'EK DERS Ücret Hesaplama'!O34-C31-D31-'EK DERS Ücret Hesaplama'!AF34-'EK DERS Ücret Hesaplama'!AH34)","v":0},null,{"$f":"'EK DERS Ücret Hesaplama'!T34","v":0},0,0,{"$f":"ROUND(\nIF(G31>=KATSAYILAR!$C$13,H31*KATSAYILAR!$B$14,\nIF(I31>KATSAYILAR!$C$13,(I31-KATSAYILAR!$C$13)*KATSAYILAR!$B$14+(KATSAYILAR!$C$13-G31)*KATSAYILAR!$B$13,\nIF(G31>KATSAYILAR!$C$12,H31*KATSAYILAR!$B$13,\nIF(I31>KATSAYILAR!$C$12,(I31-KATSAYILAR!$C$12)*KATSAYILAR!$B$13+(KATSAYILAR!$C$12-G31)*KATSAYILAR!$B$12,\nIF(G31>KATSAYILAR!$C$11,H31*KATSAYILAR!$B$12,\nIF(I31>KATSAYILAR!$C$11,(I31-KATSAYILAR!$C$11)*KATSAYILAR!$B$12+(KATSAYILAR!$C$11-G31)*KATSAYILAR!$B$11,\nH31*KATSAYILAR!$B$11)))))),2)","v":0},{"$f":"KATSAYILAR!$C$6","v":17002.13},{"$f":"ROUND(K31*KATSAYILAR!$B$11,2)","v":2550.3200000000002},0,0,null,{"$f":"'EK DERS Ücret Hesaplama'!O34","v":0},{"$f":"ROUND(P31*KATSAYILAR!$C$20,2)","v":0},{"$f":"KATSAYILAR!$C$7","v":20002.5},{"$f":"ROUND(R31*KATSAYILAR!$C$20,2)","v":151.82},0,0,null,null,0,0,0,0,0,0,0,0,null,0,0]
[30,{"$f":"'BİLGİ GİRİŞİ'!F34","v":0},{"$f":"\nIF('BİLGİ GİRİŞİ'!G34=KATSAYILAR!$B$16,KATSAYILAR!$C$16,\nIF('BİLGİ GİRİŞİ'!G34=KATSAYILAR!$B$17,KATSAYILAR!$C$17,\nIF('BİLGİ GİRİŞİ'!G34=KATSAYILAR!$B$18,KATSAYILAR!$C$18,0)))","v":0},{"$f":"'BİLGİ GİRİŞİ'!H34","v":0},{"$f":"IF('EK DERS Ücret Hesaplama'!O35-C32-D32-'EK DERS Ücret Hesaplama'!AF35-'EK DERS Ücret Hesaplama'!AH35<=0,0,'EK DERS Ücret Hesaplama'!O35-C32-D32-'EK DERS Ücret Hesaplama'!AF35-'EK DERS Ücret Hesaplama'!AH35)","v":0},null,{"$f":"'EK DERS Ücret Hesaplama'!T35","v":0},0,0,{"$f":"ROUND(\nIF(G32>=KATSAYILAR!$C$13,H32*KATSAYILAR!$B$14,\nIF(I32>KATSAYILAR!$C$13,(I32-KATSAYILAR!$C$13)*KATSAYILAR!$B$14+(KATSAYILAR!$C$13-G32)*KATSAYILAR!$B$13,\nIF(G32>KATSAYILAR!$C$12,H32*KATSAYILAR!$B$13,\nIF(I32>KATSAYILAR!$C$12,(I32-KATSAYILAR!$C$12)*KATSAYILAR!$B$13+(KATSAYILAR!$C$12-G32)*KATSAYILAR!$B$12,\nIF(G32>KATSAYILAR!$C$11,H32*KATSAYILAR!$B$12,\nIF(I32>KATSAYILAR!$C$11,(I32-KATSAYILAR!$C$11)*KATSAYILAR!$B$12+(KATSAYILAR!$C$11-G32)*KATSAYILAR!$B$11,\nH32*KATSAYILAR!$B$11)))))),2)","v":0},{"$f":"KATSAYILAR!$C$6","v":17002.13},{"$f":"ROUND(K32*KATSAYILAR!$B$11,2)","v":2550.3200000000002},0,0,null,{"$f":"'EK DERS Ücret Hesaplama'!O35","v":0},{"$f":"ROUND(P32*KATSAYILAR!$C$20,2)","v":0},{"$f":"KATSAYILAR!$C$7","v":20002.5},{"$f":"ROUND(R32*KATSAYILAR!$C$20,2)","v":151.82},0,0,null,null,0,0,0,0,0,0,0,0,null,0,0]
[31,{"$f":"'BİLGİ GİRİŞİ'!F35","v":0},{"$f":"\nIF('BİLGİ GİRİŞİ'!G35=KATSAYILAR!$B$16,KATSAYILAR!$C$16,\nIF('BİLGİ GİRİŞİ'!G35=KATSAYILAR!$B$17,KATSAYILAR!$C$17,\nIF('BİLGİ GİRİŞİ'!G35=KATSAYILAR!$B$18,KATSAYILAR!$C$18,0)))","v":0},{"$f":"'BİLGİ GİRİŞİ'!H35","v":0},{"$f":"IF('EK DERS Ücret Hesaplama'!O36-C33-D33-'EK DERS Ücret Hesaplama'!AF36-'EK DERS Ücret Hesaplama'!AH36<=0,0,'EK DERS Ücret Hesaplama'!O36-C33-D33-'EK DERS Ücret Hesaplama'!AF36-'EK DERS Ücret Hesaplama'!AH36)","v":0},null,{"$f":"'EK DERS Ücret Hesaplama'!T36","v":0},0,0,{"$f":"ROUND(\nIF(G33>=KATSAYILAR!$C$13,H33*KATSAYILAR!$B$14,\nIF(I33>KATSAYILAR!$C$13,(I33-KATSAYILAR!$C$13)*KATSAYILAR!$B$14+(KATSAYILAR!$C$13-G33)*KATSAYILAR!$B$13,\nIF(G33>KATSAYILAR!$C$12,H33*KATSAYILAR!$B$13,\nIF(I33>KATSAYILAR!$C$12,(I33-KATSAYILAR!$C$12)*KATSAYILAR!$B$13+(KATSAYILAR!$C$12-G33)*KATSAYILAR!$B$12,\nIF(G33>KATSAYILAR!$C$11,H33*KATSAYILAR!$B$12,\nIF(I33>KATSAYILAR!$C$11,(I33-KATSAYILAR!$C$11)*KATSAYILAR!$B$12+(KATSAYILAR!$C$11-G33)*KATSAYILAR!$B$11,\nH33*KATSAYILAR!$B$11)))))),2)","v":0},{"$f":"KATSAYILAR!$C$6","v":17002.13},{"$f":"ROUND(K33*KATSAYILAR!$B$11,2)","v":2550.3200000000002},0,0,null,{"$f":"'EK DERS Ücret Hesaplama'!O36","v":0},{"$f":"ROUND(P33*KATSAYILAR!$C$20,2)","v":0},{"$f":"KATSAYILAR!$C$7","v":20002.5},{"$f":"ROUND(R33*KATSAYILAR!$C$20,2)","v":151.82},0,0,null,null,0,0,0,0,0,0,0,0,null,0,0]
[32,{"$f":"'BİLGİ GİRİŞİ'!F36","v":0},{"$f":"\nIF('BİLGİ GİRİŞİ'!G36=KATSAYILAR!$B$16,KATSAYILAR!$C$16,\nIF('BİLGİ GİRİŞİ'!G36=KATSAYILAR!$B$17,KATSAYILAR!$C$17,\nIF('BİLGİ GİRİŞİ'!G36=KATSAYILAR!$B$18,KATSAYILAR!$C$18,0)))","v":0},{"$f":"'BİLGİ GİRİŞİ'!H36","v":0},{"$f":"IF('EK DERS Ücret Hesaplama'!O37-C34-D34-'EK DERS Ücret Hesaplama'!AF37-'EK DERS Ücret Hesaplama'!AH37<=0,0,'EK DERS Ücret Hesaplama'!O37-C34-D34-'EK DERS Ücret Hesaplama'!AF37-'EK DERS Ücret Hesaplama'!AH37)","v":0},null,{"$f":"'EK DERS Ücret Hesaplama'!T37","v":0},0,0,{"$f":"ROUND(\nIF(G34>=KATSAYILAR!$C$13,H34*KATSAYILAR!$B$14,\nIF(I34>KATSAYILAR!$C$13,(I34-KATSAYILAR!$C$13)*KATSAYILAR!$B$14+(KATSAYILAR!$C$13-G34)*KATSAYILAR!$B$13,\nIF(G34>KATSAYILAR!$C$12,H34*KATSAYILAR!$B$13,\nIF(I34>KATSAYILAR!$C$12,(I34-KATSAYILAR!$C$12)*KATSAYILAR!$B$13+(KATSAYILAR!$C$12-G34)*KATSAYILAR!$B$12,\nIF(G34>KATSAYILAR!$C$11,H34*KATSAYILAR!$B$12,\nIF(I34>KATSAYILAR!$C$11,(I34-KATSAYILAR!$C$11)*KATSAYILAR!$B$12+(KATSAYILAR!$C$11-G34)*KATSAYILAR!$B$11,\nH34*KATSAYILAR!$B$11)))))),2)","v":0},{"$f":"KATSAYILAR!$C$6","v":17002.13},{"$f":"ROUND(K34*KATSAYILAR!$B$11,2)","v":2550.3200000000002},0,0,null,{"$f":"'EK DERS Ücret Hesaplama'!O37","v":0},{"$f":"ROUND(P34*KATSAYILAR!$C$20,2)","v":0},{"$f":"KATSAYILAR!$C$7","v":20002.5},{"$f":"ROUND(R34*KATSAYILAR!$C$20,2)","v":151.82},0,0,null,null,0,0,0,0,0,0,0,0,null,0,0]
[33,{"$f":"'BİLGİ GİRİŞİ'!F37","v":0},{"$f":"\nIF('BİLGİ GİRİŞİ'!G37=KATSAYILAR!$B$16,KATSAYILAR!$C$16,\nIF('BİLGİ GİRİŞİ'!G37=KATSAYILAR!$B$17,KATSAYILAR!$C$17,\nIF('BİLGİ GİRİŞİ'!G37=KATSAYILAR!$B$18,KATSAYILAR!$C$18,0)))","v":0},{"$f":"'BİLGİ GİRİŞİ'!H37","v":0},{"$f":"IF('EK DERS Ücret Hesaplama'!O38-C35-D35-'EK DERS Ücret Hesaplama'!AF38-'EK DERS Ücret Hesaplama'!AH38<=0,0,'EK DERS Ücret Hesaplama'!O38-C35-D35-'EK DERS Ücret Hesaplama'!AF38-'EK DERS Ücret Hesaplama'!AH38)","v":0},null,{"$f":"'EK DERS Ücret Hesaplama'!T38","v":0},0,0,{"$f":"ROUND(\nIF(G35>=KATSAYILAR!$C$13,H35*KATSAYILAR!$B$14,\nIF(I35>KATSAYILAR!$C$13,(I35-KATSAYILAR!$C$13)*KATSAYILAR!$B$14+(KATSAYILAR!$C$13-G35)*KATSAYILAR!$B$13,\nIF(G35>KATSAYILAR!$C$12,H35*KATSAYILAR!$B$13,\nIF(I35>KATSAYILAR!$C$12,(I35-KATSAYILAR!$C$12)*KATSAYILAR!$B$13+(KATSAYILAR!$C$12-G35)*KATSAYILAR!$B$12,\nIF(G35>KATSAYILAR!$C$11,H35*KATSAYILAR!$B$12,\nIF(I35>KATSAYILAR!$C$11,(I35-KATSAYILAR!$C$11)*KATSAYILAR!$B$12+(KATSAYILAR!$C$11-G35)*KATSAYILAR!$B$11,\nH35*KATSAYILAR!$B$11)))))),2)","v":0},{"$f":"KATSAYILAR!$C$6","v":17002.13},{"$f":"ROUND(K35*KATSAYILAR!$B$11,2)","v":2550.3200000000002},0,0,null,{"$f":"'EK DERS Ücret Hesaplama'!O38","v":0},{"$f":"ROUND(P35*KATSAYILAR!$C$20,2)","v":0},{"$f":"KATSAYILAR!$C$7","v":20002.5},{"$f":"ROUND(R35*KATSAYILAR!$C$20,2)","v":151.82},0,0,null,null,0,0,0,0,0,0,0,0,null,0,0]
[34,{"$f":"'BİLGİ GİRİŞİ'!F38","v":0},{"$f":"\nIF('BİLGİ GİRİŞİ'!G38=KATSAYILAR!$B$16,KATSAYILAR!$C$16,\nIF('BİLGİ GİRİŞİ'!G38=KATSAYILAR!$B$17,KATSAYILAR!$C$17,\nIF('BİLGİ GİRİŞİ'!G38=KATSAYILAR!$B$18,KATSAYILAR!$C$18,0)))","v":0},{"$f":"'BİLGİ GİRİŞİ'!H38","v":0},{"$f":"IF('EK DERS Ücret Hesaplama'!O39-C36-D36-'EK DERS Ücret Hesaplama'!AF39-'EK DERS Ücret Hesaplama'!AH39<=0,0,'EK DERS Ücret Hesaplama'!O39-C36-D36-'EK DERS Ücret Hesaplama'!AF39-'EK DERS Ücret Hesaplama'!AH39)","v":0},null,{"$f":"'EK DERS Ücret Hesaplama'!T39","v":0},0,0,{"$f":"ROUND(\nIF(G36>=KATSAYILAR!$C$13,H36*KATSAYILAR!$B$14,\nIF(I36>KATSAYILAR!$C$13,(I36-KATSAYILAR!$C$13)*KATSAYILAR!$B$14+(KATSAYILAR!$C$13-G36)*KATSAYILAR!$B$13,\nIF(G36>KATSAYILAR!$C$12,H36*KATSAYILAR!$B$13,\nIF(I36>KATSAYILAR!$C$12,(I36-KATSAYILAR!$C$12)*KATSAYILAR!$B$13+(KATSAYILAR!$C$12-G36)*KATSAYILAR!$B$12,\nIF(G36>KATSAYILAR!$C$11,H36*KATSAYILAR!$B$12,\nIF(I36>KATSAYILAR!$C$11,(I36-KATSAYILAR!$C$11)*KATSAYILAR!$B$12+(KATSAYILAR!$C$11-G36)*KATSAYILAR!$B$11,\nH36*KATSAYILAR!$B$11)))))),2)","v":0},{"$f":"KATSAYILAR!$C$6","v":17002.13},{"$f":"ROUND(K36*KATSAYILAR!$B$11,2)","v":2550.3200000000002},0,0,null,{"$f":"'EK DERS Ücret Hesaplama'!O39","v":0},{"$f":"ROUND(P36*KATSAYILAR!$C$20,2)","v":0},{"$f":"KATSAYILAR!$C$7","v":20002.5},{"$f":"ROUND(R36*KATSAYILAR!$C$20,2)","v":151.82},0,0,null,null,0,0,0,0,0,0,0,0,null,0,0]
[35,{"$f":"'BİLGİ GİRİŞİ'!F39","v":0},{"$f":"\nIF('BİLGİ GİRİŞİ'!G39=KATSAYILAR!$B$16,KATSAYILAR!$C$16,\nIF('BİLGİ GİRİŞİ'!G39=KATSAYILAR!$B$17,KATSAYILAR!$C$17,\nIF('BİLGİ GİRİŞİ'!G39=KATSAYILAR!$B$18,KATSAYILAR!$C$18,0)))","v":0},{"$f":"'BİLGİ GİRİŞİ'!H39","v":0},{"$f":"IF('EK DERS Ücret Hesaplama'!O40-C37-D37-'EK DERS Ücret Hesaplama'!AF40-'EK DERS Ücret Hesaplama'!AH40<=0,0,'EK DERS Ücret Hesaplama'!O40-C37-D37-'EK DERS Ücret Hesaplama'!AF40-'EK DERS Ücret Hesaplama'!AH40)","v":0},null,{"$f":"'EK DERS Ücret Hesaplama'!T40","v":0},0,0,{"$f":"ROUND(\nIF(G37>=KATSAYILAR!$C$13,H37*KATSAYILAR!$B$14,\nIF(I37>KATSAYILAR!$C$13,(I37-KATSAYILAR!$C$13)*KATSAYILAR!$B$14+(KATSAYILAR!$C$13-G37)*KATSAYILAR!$B$13,\nIF(G37>KATSAYILAR!$C$12,H37*KATSAYILAR!$B$13,\nIF(I37>KATSAYILAR!$C$12,(I37-KATSAYILAR!$C$12)*KATSAYILAR!$B$13+(KATSAYILAR!$C$12-G37)*KATSAYILAR!$B$12,\nIF(G37>KATSAYILAR!$C$11,H37*KATSAYILAR!$B$12,\nIF(I37>KATSAYILAR!$C$11,(I37-KATSAYILAR!$C$11)*KATSAYILAR!$B$12+(KATSAYILAR!$C$11-G37)*KATSAYILAR!$B$11,\nH37*KATSAYILAR!$B$11)))))),2)","v":0},{"$f":"KATSAYILAR!$C$6","v":17002.13},{"$f":"ROUND(K37*KATSAYILAR!$B$11,2)","v":2550.3200000000002},0,0,null,{"$f":"'EK DERS Ücret Hesaplama'!O40","v":0},{"$f":"ROUND(P37*KATSAYILAR!$C$20,2)","v":0},{"$f":"KATSAYILAR!$C$7","v":20002.5},{"$f":"ROUND(R37*KATSAYILAR!$C$20,2)","v":151.82},0,0,null,null,0,0,0,0,0,0,0,0,null,0,0]
[36,{"$f":"'BİLGİ GİRİŞİ'!F40","v":0},{"$f":"\nIF('BİLGİ GİRİŞİ'!G40=KATSAYILAR!$B$16,KATSAYILAR!$C$16,\nIF('BİLGİ GİRİŞİ'!G40=KATSAYILAR!$B$17,KATSAYILAR!$C$17,\nIF('BİLGİ GİRİŞİ'!G40=KATSAYILAR!$B$18,KATSAYILAR!$C$18,0)))","v":0},{"$f":"'BİLGİ GİRİŞİ'!H40","v":0},{"$f":"IF('EK DERS Ücret Hesaplama'!O41-C38-D38-'EK DERS Ücret Hesaplama'!AF41-'EK DERS Ücret Hesaplama'!AH41<=0,0,'EK DERS Ücret Hesaplama'!O41-C38-D38-'EK DERS Ücret Hesaplama'!AF41-'EK DERS Ücret Hesaplama'!AH41)","v":0},null,{"$f":"'EK DERS Ücret Hesaplama'!T41","v":0},0,0,{"$f":"ROUND(\nIF(G38>=KATSAYILAR!$C$13,H38*KATSAYILAR!$B$14,\nIF(I38>KATSAYILAR!$C$13,(I38-KATSAYILAR!$C$13)*KATSAYILAR!$B$14+(KATSAYILAR!$C$13-G38)*KATSAYILAR!$B$13,\nIF(G38>KATSAYILAR!$C$12,H38*KATSAYILAR!$B$13,\nIF(I38>KATSAYILAR!$C$12,(I38-KATSAYILAR!$C$12)*KATSAYILAR!$B$13+(KATSAYILAR!$C$12-G38)*KATSAYILAR!$B$12,\nIF(G38>KATSAYILAR!$C$11,H38*KATSAYILAR!$B$12,\nIF(I38>KATSAYILAR!$C$11,(I38-KATSAYILAR!$C$11)*KATSAYILAR!$B$12+(KATSAYILAR!$C$11-G38)*KATSAYILAR!$B$11,\nH38*KATSAYILAR!$B$11)))))),2)","v":0},{"$f":"KATSAYILAR!$C$6","v":17002.13},{"$f":"ROUND(K38*KATSAYILAR!$B$11,2)","v":2550.3200000000002},0,0,null,{"$f":"'EK DERS Ücret Hesaplama'!O41","v":0},{"$f":"ROUND(P38*KATSAYILAR!$C$20,2)","v":0},{"$f":"KATSAYILAR!$C$7","v":20002.5},{"$f":"ROUND(R38*KATSAYILAR!$C$20,2)","v":151.82},0,0,null,null,0,0,0,0,0,0,0,0,null,0,0]
[37,{"$f":"'BİLGİ GİRİŞİ'!F41","v":0},{"$f":"\nIF('BİLGİ GİRİŞİ'!G41=KATSAYILAR!$B$16,KATSAYILAR!$C$16,\nIF('BİLGİ GİRİŞİ'!G41=KATSAYILAR!$B$17,KATSAYILAR!$C$17,\nIF('BİLGİ GİRİŞİ'!G41=KATSAYILAR!$B$18,KATSAYILAR!$C$18,0)))","v":0},{"$f":"'BİLGİ GİRİŞİ'!H41","v":0},{"$f":"IF('EK DERS Ücret Hesaplama'!O42-C39-D39-'EK DERS Ücret Hesaplama'!AF42-'EK DERS Ücret Hesaplama'!AH42<=0,0,'EK DERS Ücret Hesaplama'!O42-C39-D39-'EK DERS Ücret Hesaplama'!AF42-'EK DERS Ücret Hesaplama'!AH42)","v":0},null,{"$f":"'EK DERS Ücret Hesaplama'!T42","v":0},0,0,{"$f":"ROUND(\nIF(G39>=KATSAYILAR!$C$13,H39*KATSAYILAR!$B$14,\nIF(I39>KATSAYILAR!$C$13,(I39-KATSAYILAR!$C$13)*KATSAYILAR!$B$14+(KATSAYILAR!$C$13-G39)*KATSAYILAR!$B$13,\nIF(G39>KATSAYILAR!$C$12,H39*KATSAYILAR!$B$13,\nIF(I39>KATSAYILAR!$C$12,(I39-KATSAYILAR!$C$12)*KATSAYILAR!$B$13+(KATSAYILAR!$C$12-G39)*KATSAYILAR!$B$12,\nIF(G39>KATSAYILAR!$C$11,H39*KATSAYILAR!$B$12,\nIF(I39>KATSAYILAR!$C$11,(I39-KATSAYILAR!$C$11)*KATSAYILAR!$B$12+(KATSAYILAR!$C$11-G39)*KATSAYILAR!$B$11,\nH39*KATSAYILAR!$B$11)))))),2)","v":0},{"$f":"KATSAYILAR!$C$6","v":17002.13},{"$f":"ROUND(K39*KATSAYILAR!$B$11,2)","v":2550.3200000000002},0,0,null,{"$f":"'EK DERS Ücret Hesaplama'!O42","v":0},{"$f":"ROUND(P39*KATSAYILAR!$C$20,2)","v":0},{"$f":"KATSAYILAR!$C$7","v":20002.5},{"$f":"ROUND(R39*KATSAYILAR!$C$20,2)","v":151.82},0,0,null,null,0,0,0,0,0,0,0,0,null,0,0]
[38,{"$f":"'BİLGİ GİRİŞİ'!F42","v":0},{"$f":"\nIF('BİLGİ GİRİŞİ'!G42=KATSAYILAR!$B$16,KATSAYILAR!$C$16,\nIF('BİLGİ GİRİŞİ'!G42=KATSAYILAR!$B$17,KATSAYILAR!$C$17,\nIF('BİLGİ GİRİŞİ'!G42=KATSAYILAR!$B$18,KATSAYILAR!$C$18,0)))","v":0},{"$f":"'BİLGİ GİRİŞİ'!H42","v":0},{"$f":"IF('EK DERS Ücret Hesaplama'!O43-C40-D40-'EK DERS Ücret Hesaplama'!AF43-'EK DERS Ücret Hesaplama'!AH43<=0,0,'EK DERS Ücret Hesaplama'!O43-C40-D40-'EK DERS Ücret Hesaplama'!AF43-'EK DERS Ücret Hesaplama'!AH43)","v":0},null,{"$f":"'EK DERS Ücret Hesaplama'!T43","v":0},0,0,{"$f":"ROUND(\nIF(G40>=KATSAYILAR!$C$13,H40*KATSAYILAR!$B$14,\nIF(I40>KATSAYILAR!$C$13,(I40-KATSAYILAR!$C$13)*KATSAYILAR!$B$14+(KATSAYILAR!$C$13-G40)*KATSAYILAR!$B$13,\nIF(G40>KATSAYILAR!$C$12,H40*KATSAYILAR!$B$13,\nIF(I40>KATSAYILAR!$C$12,(I40-KATSAYILAR!$C$12)*KATSAYILAR!$B$13+(KATSAYILAR!$C$12-G40)*KATSAYILAR!$B$12,\nIF(G40>KATSAYILAR!$C$11,H40*KATSAYILAR!$B$12,\nIF(I40>KATSAYILAR!$C$11,(I40-KATSAYILAR!$C$11)*KATSAYILAR!$B$12+(KATSAYILAR!$C$11-G40)*KATSAYILAR!$B$11,\nH40*KATSAYILAR!$B$11)))))),2)","v":0},{"$f":"KATSAYILAR!$C$6","v":17002.13},{"$f":"ROUND(K40*KATSAYILAR!$B$11,2)","v":2550.3200000000002},0,0,null,{"$f":"'EK DERS Ücret Hesaplama'!O43","v":0},{"$f":"ROUND(P40*KATSAYILAR!$C$20,2)","v":0},{"$f":"KATSAYILAR!$C$7","v":20002.5},{"$f":"ROUND(R40*KATSAYILAR!$C$20,2)","v":151.82},0,0,null,null,0,0,0,0,0,0,0,0,null,0,0]
[39,{"$f":"'BİLGİ GİRİŞİ'!F43","v":0},{"$f":"\nIF('BİLGİ GİRİŞİ'!G43=KATSAYILAR!$B$16,KATSAYILAR!$C$16,\nIF('BİLGİ GİRİŞİ'!G43=KATSAYILAR!$B$17,KATSAYILAR!$C$17,\nIF('BİLGİ GİRİŞİ'!G43=KATSAYILAR!$B$18,KATSAYILAR!$C$18,0)))","v":0},{"$f":"'BİLGİ GİRİŞİ'!H43","v":0},{"$f":"IF('EK DERS Ücret Hesaplama'!O44-C41-D41-'EK DERS Ücret Hesaplama'!AF44-'EK DERS Ücret Hesaplama'!AH44<=0,0,'EK DERS Ücret Hesaplama'!O44-C41-D41-'EK DERS Ücret Hesaplama'!AF44-'EK DERS Ücret Hesaplama'!AH44)","v":0},null,{"$f":"'EK DERS Ücret Hesaplama'!T44","v":0},0,0,{"$f":"ROUND(\nIF(G41>=KATSAYILAR!$C$13,H41*KATSAYILAR!$B$14,\nIF(I41>KATSAYILAR!$C$13,(I41-KATSAYILAR!$C$13)*KATSAYILAR!$B$14+(KATSAYILAR!$C$13-G41)*KATSAYILAR!$B$13,\nIF(G41>KATSAYILAR!$C$12,H41*KATSAYILAR!$B$13,\nIF(I41>KATSAYILAR!$C$12,(I41-KATSAYILAR!$C$12)*KATSAYILAR!$B$13+(KATSAYILAR!$C$12-G41)*KATSAYILAR!$B$12,\nIF(G41>KATSAYILAR!$C$11,H41*KATSAYILAR!$B$12,\nIF(I41>KATSAYILAR!$C$11,(I41-KATSAYILAR!$C$11)*KATSAYILAR!$B$12+(KATSAYILAR!$C$11-G41)*KATSAYILAR!$B$11,\nH41*KATSAYILAR!$B$11)))))),2)","v":0},{"$f":"KATSAYILAR!$C$6","v":17002.13},{"$f":"ROUND(K41*KATSAYILAR!$B$11,2)","v":2550.3200000000002},0,0,null,{"$f":"'EK DERS Ücret Hesaplama'!O44","v":0},{"$f":"ROUND(P41*KATSAYILAR!$C$20,2)","v":0},{"$f":"KATSAYILAR!$C$7","v":20002.5},{"$f":"ROUND(R41*KATSAYILAR!$C$20,2)","v":151.82},0,0,null,null,0,0,0,0,0,0,0,0,null,0,0]
[40,{"$f":"'BİLGİ GİRİŞİ'!F44","v":0},{"$f":"\nIF('BİLGİ GİRİŞİ'!G44=KATSAYILAR!$B$16,KATSAYILAR!$C$16,\nIF('BİLGİ GİRİŞİ'!G44=KATSAYILAR!$B$17,KATSAYILAR!$C$17,\nIF('BİLGİ GİRİŞİ'!G44=KATSAYILAR!$B$18,KATSAYILAR!$C$18,0)))","v":0},{"$f":"'BİLGİ GİRİŞİ'!H44","v":0},{"$f":"IF('EK DERS Ücret Hesaplama'!O45-C42-D42-'EK DERS Ücret Hesaplama'!AF45-'EK DERS Ücret Hesaplama'!AH45<=0,0,'EK DERS Ücret Hesaplama'!O45-C42-D42-'EK DERS Ücret Hesaplama'!AF45-'EK DERS Ücret Hesaplama'!AH45)","v":0},null,{"$f":"'EK DERS Ücret Hesaplama'!T45","v":0},0,0,{"$f":"ROUND(\nIF(G42>=KATSAYILAR!$C$13,H42*KATSAYILAR!$B$14,\nIF(I42>KATSAYILAR!$C$13,(I42-KATSAYILAR!$C$13)*KATSAYILAR!$B$14+(KATSAYILAR!$C$13-G42)*KATSAYILAR!$B$13,\nIF(G42>KATSAYILAR!$C$12,H42*KATSAYILAR!$B$13,\nIF(I42>KATSAYILAR!$C$12,(I42-KATSAYILAR!$C$12)*KATSAYILAR!$B$13+(KATSAYILAR!$C$12-G42)*KATSAYILAR!$B$12,\nIF(G42>KATSAYILAR!$C$11,H42*KATSAYILAR!$B$12,\nIF(I42>KATSAYILAR!$C$11,(I42-KATSAYILAR!$C$11)*KATSAYILAR!$B$12+(KATSAYILAR!$C$11-G42)*KATSAYILAR!$B$11,\nH42*KATSAYILAR!$B$11)))))),2)","v":0},{"$f":"KATSAYILAR!$C$6","v":17002.13},{"$f":"ROUND(K42*KATSAYILAR!$B$11,2)","v":2550.3200000000002},0,0,null,{"$f":"'EK DERS Ücret Hesaplama'!O45","v":0},{"$f":"ROUND(P42*KATSAYILAR!$C$20,2)","v":0},{"$f":"KATSAYILAR!$C$7","v":20002.5},{"$f":"ROUND(R42*KATSAYILAR!$C$20,2)","v":151.82},0,0,null,null,0,0,0,0,0,0,0,0,null,0,0]
[41,{"$f":"'BİLGİ GİRİŞİ'!F45","v":0},{"$f":"\nIF('BİLGİ GİRİŞİ'!G45=KATSAYILAR!$B$16,KATSAYILAR!$C$16,\nIF('BİLGİ GİRİŞİ'!G45=KATSAYILAR!$B$17,KATSAYILAR!$C$17,\nIF('BİLGİ GİRİŞİ'!G45=KATSAYILAR!$B$18,KATSAYILAR!$C$18,0)))","v":0},{"$f":"'BİLGİ GİRİŞİ'!H45","v":0},{"$f":"IF('EK DERS Ücret Hesaplama'!O46-C43-D43-'EK DERS Ücret Hesaplama'!AF46-'EK DERS Ücret Hesaplama'!AH46<=0,0,'EK DERS Ücret Hesaplama'!O46-C43-D43-'EK DERS Ücret Hesaplama'!AF46-'EK DERS Ücret Hesaplama'!AH46)","v":0},null,{"$f":"'EK DERS Ücret Hesaplama'!T46","v":0},0,0,{"$f":"ROUND(\nIF(G43>=KATSAYILAR!$C$13,H43*KATSAYILAR!$B$14,\nIF(I43>KATSAYILAR!$C$13,(I43-KATSAYILAR!$C$13)*KATSAYILAR!$B$14+(KATSAYILAR!$C$13-G43)*KATSAYILAR!$B$13,\nIF(G43>KATSAYILAR!$C$12,H43*KATSAYILAR!$B$13,\nIF(I43>KATSAYILAR!$C$12,(I43-KATSAYILAR!$C$12)*KATSAYILAR!$B$13+(KATSAYILAR!$C$12-G43)*KATSAYILAR!$B$12,\nIF(G43>KATSAYILAR!$C$11,H43*KATSAYILAR!$B$12,\nIF(I43>KATSAYILAR!$C$11,(I43-KATSAYILAR!$C$11)*KATSAYILAR!$B$12+(KATSAYILAR!$C$11-G43)*KATSAYILAR!$B$11,\nH43*KATSAYILAR!$B$11)))))),2)","v":0},{"$f":"KATSAYILAR!$C$6","v":17002.13},{"$f":"ROUND(K43*KATSAYILAR!$B$11,2)","v":2550.3200000000002},0,0,null,{"$f":"'EK DERS Ücret Hesaplama'!O46","v":0},{"$f":"ROUND(P43*KATSAYILAR!$C$20,2)","v":0},{"$f":"KATSAYILAR!$C$7","v":20002.5},{"$f":"ROUND(R43*KATSAYILAR!$C$20,2)","v":151.82},0,0,null,null,0,0,0,0,0,0,0,0,null,0,0]
[42,{"$f":"'BİLGİ GİRİŞİ'!F46","v":0},{"$f":"\nIF('BİLGİ GİRİŞİ'!G46=KATSAYILAR!$B$16,KATSAYILAR!$C$16,\nIF('BİLGİ GİRİŞİ'!G46=KATSAYILAR!$B$17,KATSAYILAR!$C$17,\nIF('BİLGİ GİRİŞİ'!G46=KATSAYILAR!$B$18,KATSAYILAR!$C$18,0)))","v":0},{"$f":"'BİLGİ GİRİŞİ'!H46","v":0},{"$f":"IF('EK DERS Ücret Hesaplama'!O47-C44-D44-'EK DERS Ücret Hesaplama'!AF47-'EK DERS Ücret Hesaplama'!AH47<=0,0,'EK DERS Ücret Hesaplama'!O47-C44-D44-'EK DERS Ücret Hesaplama'!AF47-'EK DERS Ücret Hesaplama'!AH47)","v":0},null,{"$f":"'EK DERS Ücret Hesaplama'!T47","v":0},0,0,{"$f":"ROUND(\nIF(G44>=KATSAYILAR!$C$13,H44*KATSAYILAR!$B$14,\nIF(I44>KATSAYILAR!$C$13,(I44-KATSAYILAR!$C$13)*KATSAYILAR!$B$14+(KATSAYILAR!$C$13-G44)*KATSAYILAR!$B$13,\nIF(G44>KATSAYILAR!$C$12,H44*KATSAYILAR!$B$13,\nIF(I44>KATSAYILAR!$C$12,(I44-KATSAYILAR!$C$12)*KATSAYILAR!$B$13+(KATSAYILAR!$C$12-G44)*KATSAYILAR!$B$12,\nIF(G44>KATSAYILAR!$C$11,H44*KATSAYILAR!$B$12,\nIF(I44>KATSAYILAR!$C$11,(I44-KATSAYILAR!$C$11)*KATSAYILAR!$B$12+(KATSAYILAR!$C$11-G44)*KATSAYILAR!$B$11,\nH44*KATSAYILAR!$B$11)))))),2)","v":0},{"$f":"KATSAYILAR!$C$6","v":17002.13},{"$f":"ROUND(K44*KATSAYILAR!$B$11,2)","v":2550.3200000000002},0,0,null,{"$f":"'EK DERS Ücret Hesaplama'!O47","v":0},{"$f":"ROUND(P44*KATSAYILAR!$C$20,2)","v":0},{"$f":"KATSAYILAR!$C$7","v":20002.5},{"$f":"ROUND(R44*KATSAYILAR!$C$20,2)","v":151.82},0,0,null,null,0,0,0,0,0,0,0,0,null,0,0]
[43,{"$f":"'BİLGİ GİRİŞİ'!F47","v":0},{"$f":"\nIF('BİLGİ GİRİŞİ'!G47=KATSAYILAR!$B$16,KATSAYILAR!$C$16,\nIF('BİLGİ GİRİŞİ'!G47=KATSAYILAR!$B$17,KATSAYILAR!$C$17,\nIF('BİLGİ GİRİŞİ'!G47=KATSAYILAR!$B$18,KATSAYILAR!$C$18,0)))","v":0},{"$f":"'BİLGİ GİRİŞİ'!H47","v":0},{"$f":"IF('EK DERS Ücret Hesaplama'!O48-C45-D45-'EK DERS Ücret Hesaplama'!AF48-'EK DERS Ücret Hesaplama'!AH48<=0,0,'EK DERS Ücret Hesaplama'!O48-C45-D45-'EK DERS Ücret Hesaplama'!AF48-'EK DERS Ücret Hesaplama'!AH48)","v":0},null,{"$f":"'EK DERS Ücret Hesaplama'!T48","v":0},0,0,{"$f":"ROUND(\nIF(G45>=KATSAYILAR!$C$13,H45*KATSAYILAR!$B$14,\nIF(I45>KATSAYILAR!$C$13,(I45-KATSAYILAR!$C$13)*KATSAYILAR!$B$14+(KATSAYILAR!$C$13-G45)*KATSAYILAR!$B$13,\nIF(G45>KATSAYILAR!$C$12,H45*KATSAYILAR!$B$13,\nIF(I45>KATSAYILAR!$C$12,(I45-KATSAYILAR!$C$12)*KATSAYILAR!$B$13+(KATSAYILAR!$C$12-G45)*KATSAYILAR!$B$12,\nIF(G45>KATSAYILAR!$C$11,H45*KATSAYILAR!$B$12,\nIF(I45>KATSAYILAR!$C$11,(I45-KATSAYILAR!$C$11)*KATSAYILAR!$B$12+(KATSAYILAR!$C$11-G45)*KATSAYILAR!$B$11,\nH45*KATSAYILAR!$B$11)))))),2)","v":0},{"$f":"KATSAYILAR!$C$6","v":17002.13},{"$f":"ROUND(K45*KATSAYILAR!$B$11,2)","v":2550.3200000000002},0,0,null,{"$f":"'EK DERS Ücret Hesaplama'!O48","v":0},{"$f":"ROUND(P45*KATSAYILAR!$C$20,2)","v":0},{"$f":"KATSAYILAR!$C$7","v":20002.5},{"$f":"ROUND(R45*KATSAYILAR!$C$20,2)","v":151.82},0,0,null,null,0,0,0,0,0,0,0,0,null,0,0]
[44,{"$f":"'BİLGİ GİRİŞİ'!F48","v":0},{"$f":"\nIF('BİLGİ GİRİŞİ'!G48=KATSAYILAR!$B$16,KATSAYILAR!$C$16,\nIF('BİLGİ GİRİŞİ'!G48=KATSAYILAR!$B$17,KATSAYILAR!$C$17,\nIF('BİLGİ GİRİŞİ'!G48=KATSAYILAR!$B$18,KATSAYILAR!$C$18,0)))","v":0},{"$f":"'BİLGİ GİRİŞİ'!H48","v":0},{"$f":"IF('EK DERS Ücret Hesaplama'!O49-C46-D46-'EK DERS Ücret Hesaplama'!AF49-'EK DERS Ücret Hesaplama'!AH49<=0,0,'EK DERS Ücret Hesaplama'!O49-C46-D46-'EK DERS Ücret Hesaplama'!AF49-'EK DERS Ücret Hesaplama'!AH49)","v":0},null,{"$f":"'EK DERS Ücret Hesaplama'!T49","v":0},0,0,{"$f":"ROUND(\nIF(G46>=KATSAYILAR!$C$13,H46*KATSAYILAR!$B$14,\nIF(I46>KATSAYILAR!$C$13,(I46-KATSAYILAR!$C$13)*KATSAYILAR!$B$14+(KATSAYILAR!$C$13-G46)*KATSAYILAR!$B$13,\nIF(G46>KATSAYILAR!$C$12,H46*KATSAYILAR!$B$13,\nIF(I46>KATSAYILAR!$C$12,(I46-KATSAYILAR!$C$12)*KATSAYILAR!$B$13+(KATSAYILAR!$C$12-G46)*KATSAYILAR!$B$12,\nIF(G46>KATSAYILAR!$C$11,H46*KATSAYILAR!$B$12,\nIF(I46>KATSAYILAR!$C$11,(I46-KATSAYILAR!$C$11)*KATSAYILAR!$B$12+(KATSAYILAR!$C$11-G46)*KATSAYILAR!$B$11,\nH46*KATSAYILAR!$B$11)))))),2)","v":0},{"$f":"KATSAYILAR!$C$6","v":17002.13},{"$f":"ROUND(K46*KATSAYILAR!$B$11,2)","v":2550.3200000000002},0,0,null,{"$f":"'EK DERS Ücret Hesaplama'!O49","v":0},{"$f":"ROUND(P46*KATSAYILAR!$C$20,2)","v":0},{"$f":"KATSAYILAR!$C$7","v":20002.5},{"$f":"ROUND(R46*KATSAYILAR!$C$20,2)","v":151.82},0,0,null,null,0,0,0,0,0,0,0,0,null,0,0]
[45,{"$f":"'BİLGİ GİRİŞİ'!F49","v":0},{"$f":"\nIF('BİLGİ GİRİŞİ'!G49=KATSAYILAR!$B$16,KATSAYILAR!$C$16,\nIF('BİLGİ GİRİŞİ'!G49=KATSAYILAR!$B$17,KATSAYILAR!$C$17,\nIF('BİLGİ GİRİŞİ'!G49=KATSAYILAR!$B$18,KATSAYILAR!$C$18,0)))","v":0},{"$f":"'BİLGİ GİRİŞİ'!H49","v":0},{"$f":"IF('EK DERS Ücret Hesaplama'!O50-C47-D47-'EK DERS Ücret Hesaplama'!AF50-'EK DERS Ücret Hesaplama'!AH50<=0,0,'EK DERS Ücret Hesaplama'!O50-C47-D47-'EK DERS Ücret Hesaplama'!AF50-'EK DERS Ücret Hesaplama'!AH50)","v":0},null,{"$f":"'EK DERS Ücret Hesaplama'!T50","v":0},0,0,{"$f":"ROUND(\nIF(G47>=KATSAYILAR!$C$13,H47*KATSAYILAR!$B$14,\nIF(I47>KATSAYILAR!$C$13,(I47-KATSAYILAR!$C$13)*KATSAYILAR!$B$14+(KATSAYILAR!$C$13-G47)*KATSAYILAR!$B$13,\nIF(G47>KATSAYILAR!$C$12,H47*KATSAYILAR!$B$13,\nIF(I47>KATSAYILAR!$C$12,(I47-KATSAYILAR!$C$12)*KATSAYILAR!$B$13+(KATSAYILAR!$C$12-G47)*KATSAYILAR!$B$12,\nIF(G47>KATSAYILAR!$C$11,H47*KATSAYILAR!$B$12,\nIF(I47>KATSAYILAR!$C$11,(I47-KATSAYILAR!$C$11)*KATSAYILAR!$B$12+(KATSAYILAR!$C$11-G47)*KATSAYILAR!$B$11,\nH47*KATSAYILAR!$B$11)))))),2)","v":0},{"$f":"KATSAYILAR!$C$6","v":17002.13},{"$f":"ROUND(K47*KATSAYILAR!$B$11,2)","v":2550.3200000000002},0,0,null,{"$f":"'EK DERS Ücret Hesaplama'!O50","v":0},{"$f":"ROUND(P47*KATSAYILAR!$C$20,2)","v":0},{"$f":"KATSAYILAR!$C$7","v":20002.5},{"$f":"ROUND(R47*KATSAYILAR!$C$20,2)","v":151.82},0,0,null,null,0,0,0,0,0,0,0,0,null,0,0]
[46,{"$f":"'BİLGİ GİRİŞİ'!F50","v":0},{"$f":"\nIF('BİLGİ GİRİŞİ'!G50=KATSAYILAR!$B$16,KATSAYILAR!$C$16,\nIF('BİLGİ GİRİŞİ'!G50=KATSAYILAR!$B$17,KATSAYILAR!$C$17,\nIF('BİLGİ GİRİŞİ'!G50=KATSAYILAR!$B$18,KATSAYILAR!$C$18,0)))","v":0},{"$f":"'BİLGİ GİRİŞİ'!H50","v":0},{"$f":"IF('EK DERS Ücret Hesaplama'!O51-C48-D48-'EK DERS Ücret Hesaplama'!AF51-'EK DERS Ücret Hesaplama'!AH51<=0,0,'EK DERS Ücret Hesaplama'!O51-C48-D48-'EK DERS Ücret Hesaplama'!AF51-'EK DERS Ücret Hesaplama'!AH51)","v":0},null,{"$f":"'EK DERS Ücret Hesaplama'!T51","v":0},0,0,{"$f":"ROUND(\nIF(G48>=KATSAYILAR!$C$13,H48*KATSAYILAR!$B$14,\nIF(I48>KATSAYILAR!$C$13,(I48-KATSAYILAR!$C$13)*KATSAYILAR!$B$14+(KATSAYILAR!$C$13-G48)*KATSAYILAR!$B$13,\nIF(G48>KATSAYILAR!$C$12,H48*KATSAYILAR!$B$13,\nIF(I48>KATSAYILAR!$C$12,(I48-KATSAYILAR!$C$12)*KATSAYILAR!$B$13+(KATSAYILAR!$C$12-G48)*KATSAYILAR!$B$12,\nIF(G48>KATSAYILAR!$C$11,H48*KATSAYILAR!$B$12,\nIF(I48>KATSAYILAR!$C$11,(I48-KATSAYILAR!$C$11)*KATSAYILAR!$B$12+(KATSAYILAR!$C$11-G48)*KATSAYILAR!$B$11,\nH48*KATSAYILAR!$B$11)))))),2)","v":0},{"$f":"KATSAYILAR!$C$6","v":17002.13},{"$f":"ROUND(K48*KATSAYILAR!$B$11,2)","v":2550.3200000000002},0,0,null,{"$f":"'EK DERS Ücret Hesaplama'!O51","v":0},{"$f":"ROUND(P48*KATSAYILAR!$C$20,2)","v":0},{"$f":"KATSAYILAR!$C$7","v":20002.5},{"$f":"ROUND(R48*KATSAYILAR!$C$20,2)","v":151.82},0,0,null,null,0,0,0,0,0,0,0,0,null,0,0]
[47,{"$f":"'BİLGİ GİRİŞİ'!F51","v":0},{"$f":"\nIF('BİLGİ GİRİŞİ'!G51=KATSAYILAR!$B$16,KATSAYILAR!$C$16,\nIF('BİLGİ GİRİŞİ'!G51=KATSAYILAR!$B$17,KATSAYILAR!$C$17,\nIF('BİLGİ GİRİŞİ'!G51=KATSAYILAR!$B$18,KATSAYILAR!$C$18,0)))","v":0},{"$f":"'BİLGİ GİRİŞİ'!H51","v":0},{"$f":"IF('EK DERS Ücret Hesaplama'!O52-C49-D49-'EK DERS Ücret Hesaplama'!AF52-'EK DERS Ücret Hesaplama'!AH52<=0,0,'EK DERS Ücret Hesaplama'!O52-C49-D49-'EK DERS Ücret Hesaplama'!AF52-'EK DERS Ücret Hesaplama'!AH52)","v":0},null,{"$f":"'EK DERS Ücret Hesaplama'!T52","v":0},0,0,{"$f":"ROUND(\nIF(G49>=KATSAYILAR!$C$13,H49*KATSAYILAR!$B$14,\nIF(I49>KATSAYILAR!$C$13,(I49-KATSAYILAR!$C$13)*KATSAYILAR!$B$14+(KATSAYILAR!$C$13-G49)*KATSAYILAR!$B$13,\nIF(G49>KATSAYILAR!$C$12,H49*KATSAYILAR!$B$13,\nIF(I49>KATSAYILAR!$C$12,(I49-KATSAYILAR!$C$12)*KATSAYILAR!$B$13+(KATSAYILAR!$C$12-G49)*KATSAYILAR!$B$12,\nIF(G49>KATSAYILAR!$C$11,H49*KATSAYILAR!$B$12,\nIF(I49>KATSAYILAR!$C$11,(I49-KATSAYILAR!$C$11)*KATSAYILAR!$B$12+(KATSAYILAR!$C$11-G49)*KATSAYILAR!$B$11,\nH49*KATSAYILAR!$B$11)))))),2)","v":0},{"$f":"KATSAYILAR!$C$6","v":17002.13},{"$f":"ROUND(K49*KATSAYILAR!$B$11,2)","v":2550.3200000000002},0,0,null,{"$f":"'EK DERS Ücret Hesaplama'!O52","v":0},{"$f":"ROUND(P49*KATSAYILAR!$C$20,2)","v":0},{"$f":"KATSAYILAR!$C$7","v":20002.5},{"$f":"ROUND(R49*KATSAYILAR!$C$20,2)","v":151.82},0,0,null,null,0,0,0,0,0,0,0,0,null,0,0]
[48,{"$f":"'BİLGİ GİRİŞİ'!F52","v":0},{"$f":"\nIF('BİLGİ GİRİŞİ'!G52=KATSAYILAR!$B$16,KATSAYILAR!$C$16,\nIF('BİLGİ GİRİŞİ'!G52=KATSAYILAR!$B$17,KATSAYILAR!$C$17,\nIF('BİLGİ GİRİŞİ'!G52=KATSAYILAR!$B$18,KATSAYILAR!$C$18,0)))","v":0},{"$f":"'BİLGİ GİRİŞİ'!H52","v":0},{"$f":"IF('EK DERS Ücret Hesaplama'!O53-C50-D50-'EK DERS Ücret Hesaplama'!AF53-'EK DERS Ücret Hesaplama'!AH53<=0,0,'EK DERS Ücret Hesaplama'!O53-C50-D50-'EK DERS Ücret Hesaplama'!AF53-'EK DERS Ücret Hesaplama'!AH53)","v":0},null,{"$f":"'EK DERS Ücret Hesaplama'!T53","v":0},0,0,{"$f":"ROUND(\nIF(G50>=KATSAYILAR!$C$13,H50*KATSAYILAR!$B$14,\nIF(I50>KATSAYILAR!$C$13,(I50-KATSAYILAR!$C$13)*KATSAYILAR!$B$14+(KATSAYILAR!$C$13-G50)*KATSAYILAR!$B$13,\nIF(G50>KATSAYILAR!$C$12,H50*KATSAYILAR!$B$13,\nIF(I50>KATSAYILAR!$C$12,(I50-KATSAYILAR!$C$12)*KATSAYILAR!$B$13+(KATSAYILAR!$C$12-G50)*KATSAYILAR!$B$12,\nIF(G50>KATSAYILAR!$C$11,H50*KATSAYILAR!$B$12,\nIF(I50>KATSAYILAR!$C$11,(I50-KATSAYILAR!$C$11)*KATSAYILAR!$B$12+(KATSAYILAR!$C$11-G50)*KATSAYILAR!$B$11,\nH50*KATSAYILAR!$B$11)))))),2)","v":0},{"$f":"KATSAYILAR!$C$6","v":17002.13},{"$f":"ROUND(K50*KATSAYILAR!$B$11,2)","v":2550.3200000000002},0,0,null,{"$f":"'EK DERS Ücret Hesaplama'!O53","v":0},{"$f":"ROUND(P50*KATSAYILAR!$C$20,2)","v":0},{"$f":"KATSAYILAR!$C$7","v":20002.5},{"$f":"ROUND(R50*KATSAYILAR!$C$20,2)","v":151.82},0,0,null,null,0,0,0,0,0,0,0,0,null,0,0]
[49,{"$f":"'BİLGİ GİRİŞİ'!F53","v":0},{"$f":"\nIF('BİLGİ GİRİŞİ'!G53=KATSAYILAR!$B$16,KATSAYILAR!$C$16,\nIF('BİLGİ GİRİŞİ'!G53=KATSAYILAR!$B$17,KATSAYILAR!$C$17,\nIF('BİLGİ GİRİŞİ'!G53=KATSAYILAR!$B$18,KATSAYILAR!$C$18,0)))","v":0},{"$f":"'BİLGİ GİRİŞİ'!H53","v":0},{"$f":"IF('EK DERS Ücret Hesaplama'!O54-C51-D51-'EK DERS Ücret Hesaplama'!AF54-'EK DERS Ücret Hesaplama'!AH54<=0,0,'EK DERS Ücret Hesaplama'!O54-C51-D51-'EK DERS Ücret Hesaplama'!AF54-'EK DERS Ücret Hesaplama'!AH54)","v":0},null,{"$f":"'EK DERS Ücret Hesaplama'!T54","v":0},0,0,{"$f":"ROUND(\nIF(G51>=KATSAYILAR!$C$13,H51*KATSAYILAR!$B$14,\nIF(I51>KATSAYILAR!$C$13,(I51-KATSAYILAR!$C$13)*KATSAYILAR!$B$14+(KATSAYILAR!$C$13-G51)*KATSAYILAR!$B$13,\nIF(G51>KATSAYILAR!$C$12,H51*KATSAYILAR!$B$13,\nIF(I51>KATSAYILAR!$C$12,(I51-KATSAYILAR!$C$12)*KATSAYILAR!$B$13+(KATSAYILAR!$C$12-G51)*KATSAYILAR!$B$12,\nIF(G51>KATSAYILAR!$C$11,H51*KATSAYILAR!$B$12,\nIF(I51>KATSAYILAR!$C$11,(I51-KATSAYILAR!$C$11)*KATSAYILAR!$B$12+(KATSAYILAR!$C$11-G51)*KATSAYILAR!$B$11,\nH51*KATSAYILAR!$B$11)))))),2)","v":0},{"$f":"KATSAYILAR!$C$6","v":17002.13},{"$f":"ROUND(K51*KATSAYILAR!$B$11,2)","v":2550.3200000000002},0,0,null,{"$f":"'EK DERS Ücret Hesaplama'!O54","v":0},{"$f":"ROUND(P51*KATSAYILAR!$C$20,2)","v":0},{"$f":"KATSAYILAR!$C$7","v":20002.5},{"$f":"ROUND(R51*KATSAYILAR!$C$20,2)","v":151.82},0,0,null,null,0,0,0,0,0,0,0,0,null,0,0]
[50,{"$f":"'BİLGİ GİRİŞİ'!F54","v":0},{"$f":"\nIF('BİLGİ GİRİŞİ'!G54=KATSAYILAR!$B$16,KATSAYILAR!$C$16,\nIF('BİLGİ GİRİŞİ'!G54=KATSAYILAR!$B$17,KATSAYILAR!$C$17,\nIF('BİLGİ GİRİŞİ'!G54=KATSAYILAR!$B$18,KATSAYILAR!$C$18,0)))","v":0},{"$f":"'BİLGİ GİRİŞİ'!H54","v":0},{"$f":"IF('EK DERS Ücret Hesaplama'!O55-C52-D52-'EK DERS Ücret Hesaplama'!AF55-'EK DERS Ücret Hesaplama'!AH55<=0,0,'EK DERS Ücret Hesaplama'!O55-C52-D52-'EK DERS Ücret Hesaplama'!AF55-'EK DERS Ücret Hesaplama'!AH55)","v":0},null,{"$f":"'EK DERS Ücret Hesaplama'!T55","v":0},0,0,{"$f":"ROUND(\nIF(G52>=KATSAYILAR!$C$13,H52*KATSAYILAR!$B$14,\nIF(I52>KATSAYILAR!$C$13,(I52-KATSAYILAR!$C$13)*KATSAYILAR!$B$14+(KATSAYILAR!$C$13-G52)*KATSAYILAR!$B$13,\nIF(G52>KATSAYILAR!$C$12,H52*KATSAYILAR!$B$13,\nIF(I52>KATSAYILAR!$C$12,(I52-KATSAYILAR!$C$12)*KATSAYILAR!$B$13+(KATSAYILAR!$C$12-G52)*KATSAYILAR!$B$12,\nIF(G52>KATSAYILAR!$C$11,H52*KATSAYILAR!$B$12,\nIF(I52>KATSAYILAR!$C$11,(I52-KATSAYILAR!$C$11)*KATSAYILAR!$B$12+(KATSAYILAR!$C$11-G52)*KATSAYILAR!$B$11,\nH52*KATSAYILAR!$B$11)))))),2)","v":0},{"$f":"KATSAYILAR!$C$6","v":17002.13},{"$f":"ROUND(K52*KATSAYILAR!$B$11,2)","v":2550.3200000000002},0,0,null,{"$f":"'EK DERS Ücret Hesaplama'!O55","v":0},{"$f":"ROUND(P52*KATSAYILAR!$C$20,2)","v":0},{"$f":"KATSAYILAR!$C$7","v":20002.5},{"$f":"ROUND(R52*KATSAYILAR!$C$20,2)","v":151.82},0,0,null,null,0,0,0,0,0,0,0,0,null,0,0]
[51,{"$f":"'BİLGİ GİRİŞİ'!F55","v":0},{"$f":"\nIF('BİLGİ GİRİŞİ'!G55=KATSAYILAR!$B$16,KATSAYILAR!$C$16,\nIF('BİLGİ GİRİŞİ'!G55=KATSAYILAR!$B$17,KATSAYILAR!$C$17,\nIF('BİLGİ GİRİŞİ'!G55=KATSAYILAR!$B$18,KATSAYILAR!$C$18,0)))","v":0},{"$f":"'BİLGİ GİRİŞİ'!H55","v":0},{"$f":"IF('EK DERS Ücret Hesaplama'!O56-C53-D53-'EK DERS Ücret Hesaplama'!AF56-'EK DERS Ücret Hesaplama'!AH56<=0,0,'EK DERS Ücret Hesaplama'!O56-C53-D53-'EK DERS Ücret Hesaplama'!AF56-'EK DERS Ücret Hesaplama'!AH56)","v":0},null,{"$f":"'EK DERS Ücret Hesaplama'!T56","v":0},0,0,{"$f":"ROUND(\nIF(G53>=KATSAYILAR!$C$13,H53*KATSAYILAR!$B$14,\nIF(I53>KATSAYILAR!$C$13,(I53-KATSAYILAR!$C$13)*KATSAYILAR!$B$14+(KATSAYILAR!$C$13-G53)*KATSAYILAR!$B$13,\nIF(G53>KATSAYILAR!$C$12,H53*KATSAYILAR!$B$13,\nIF(I53>KATSAYILAR!$C$12,(I53-KATSAYILAR!$C$12)*KATSAYILAR!$B$13+(KATSAYILAR!$C$12-G53)*KATSAYILAR!$B$12,\nIF(G53>KATSAYILAR!$C$11,H53*KATSAYILAR!$B$12,\nIF(I53>KATSAYILAR!$C$11,(I53-KATSAYILAR!$C$11)*KATSAYILAR!$B$12+(KATSAYILAR!$C$11-G53)*KATSAYILAR!$B$11,\nH53*KATSAYILAR!$B$11)))))),2)","v":0},{"$f":"KATSAYILAR!$C$6","v":17002.13},{"$f":"ROUND(K53*KATSAYILAR!$B$11,2)","v":2550.3200000000002},0,0,null,{"$f":"'EK DERS Ücret Hesaplama'!O56","v":0},{"$f":"ROUND(P53*KATSAYILAR!$C$20,2)","v":0},{"$f":"KATSAYILAR!$C$7","v":20002.5},{"$f":"ROUND(R53*KATSAYILAR!$C$20,2)","v":151.82},0,0,null,null,0,0,0,0,0,0,0,0,null,0,0]
[52,{"$f":"'BİLGİ GİRİŞİ'!F56","v":0},{"$f":"\nIF('BİLGİ GİRİŞİ'!G56=KATSAYILAR!$B$16,KATSAYILAR!$C$16,\nIF('BİLGİ GİRİŞİ'!G56=KATSAYILAR!$B$17,KATSAYILAR!$C$17,\nIF('BİLGİ GİRİŞİ'!G56=KATSAYILAR!$B$18,KATSAYILAR!$C$18,0)))","v":0},{"$f":"'BİLGİ GİRİŞİ'!H56","v":0},{"$f":"IF('EK DERS Ücret Hesaplama'!O57-C54-D54-'EK DERS Ücret Hesaplama'!AF57-'EK DERS Ücret Hesaplama'!AH57<=0,0,'EK DERS Ücret Hesaplama'!O57-C54-D54-'EK DERS Ücret Hesaplama'!AF57-'EK DERS Ücret Hesaplama'!AH57)","v":0},null,{"$f":"'EK DERS Ücret Hesaplama'!T57","v":0},0,0,{"$f":"ROUND(\nIF(G54>=KATSAYILAR!$C$13,H54*KATSAYILAR!$B$14,\nIF(I54>KATSAYILAR!$C$13,(I54-KATSAYILAR!$C$13)*KATSAYILAR!$B$14+(KATSAYILAR!$C$13-G54)*KATSAYILAR!$B$13,\nIF(G54>KATSAYILAR!$C$12,H54*KATSAYILAR!$B$13,\nIF(I54>KATSAYILAR!$C$12,(I54-KATSAYILAR!$C$12)*KATSAYILAR!$B$13+(KATSAYILAR!$C$12-G54)*KATSAYILAR!$B$12,\nIF(G54>KATSAYILAR!$C$11,H54*KATSAYILAR!$B$12,\nIF(I54>KATSAYILAR!$C$11,(I54-KATSAYILAR!$C$11)*KATSAYILAR!$B$12+(KATSAYILAR!$C$11-G54)*KATSAYILAR!$B$11,\nH54*KATSAYILAR!$B$11)))))),2)","v":0},{"$f":"KATSAYILAR!$C$6","v":17002.13},{"$f":"ROUND(K54*KATSAYILAR!$B$11,2)","v":2550.3200000000002},0,0,null,{"$f":"'EK DERS Ücret Hesaplama'!O57","v":0},{"$f":"ROUND(P54*KATSAYILAR!$C$20,2)","v":0},{"$f":"KATSAYILAR!$C$7","v":20002.5},{"$f":"ROUND(R54*KATSAYILAR!$C$20,2)","v":151.82},0,0,null,null,0,0,0,0,0,0,0,0,null,0,0]
[53,{"$f":"'BİLGİ GİRİŞİ'!F57","v":0},{"$f":"\nIF('BİLGİ GİRİŞİ'!G57=KATSAYILAR!$B$16,KATSAYILAR!$C$16,\nIF('BİLGİ GİRİŞİ'!G57=KATSAYILAR!$B$17,KATSAYILAR!$C$17,\nIF('BİLGİ GİRİŞİ'!G57=KATSAYILAR!$B$18,KATSAYILAR!$C$18,0)))","v":0},{"$f":"'BİLGİ GİRİŞİ'!H57","v":0},{"$f":"IF('EK DERS Ücret Hesaplama'!O58-C55-D55-'EK DERS Ücret Hesaplama'!AF58-'EK DERS Ücret Hesaplama'!AH58<=0,0,'EK DERS Ücret Hesaplama'!O58-C55-D55-'EK DERS Ücret Hesaplama'!AF58-'EK DERS Ücret Hesaplama'!AH58)","v":0},null,{"$f":"'EK DERS Ücret Hesaplama'!T58","v":0},0,0,{"$f":"ROUND(\nIF(G55>=KATSAYILAR!$C$13,H55*KATSAYILAR!$B$14,\nIF(I55>KATSAYILAR!$C$13,(I55-KATSAYILAR!$C$13)*KATSAYILAR!$B$14+(KATSAYILAR!$C$13-G55)*KATSAYILAR!$B$13,\nIF(G55>KATSAYILAR!$C$12,H55*KATSAYILAR!$B$13,\nIF(I55>KATSAYILAR!$C$12,(I55-KATSAYILAR!$C$12)*KATSAYILAR!$B$13+(KATSAYILAR!$C$12-G55)*KATSAYILAR!$B$12,\nIF(G55>KATSAYILAR!$C$11,H55*KATSAYILAR!$B$12,\nIF(I55>KATSAYILAR!$C$11,(I55-KATSAYILAR!$C$11)*KATSAYILAR!$B$12+(KATSAYILAR!$C$11-G55)*KATSAYILAR!$B$11,\nH55*KATSAYILAR!$B$11)))))),2)","v":0},{"$f":"KATSAYILAR!$C$6","v":17002.13},{"$f":"ROUND(K55*KATSAYILAR!$B$11,2)","v":2550.3200000000002},0,0,null,{"$f":"'EK DERS Ücret Hesaplama'!O58","v":0},{"$f":"ROUND(P55*KATSAYILAR!$C$20,2)","v":0},{"$f":"KATSAYILAR!$C$7","v":20002.5},{"$f":"ROUND(R55*KATSAYILAR!$C$20,2)","v":151.82},0,0,null,null,0,0,0,0,0,0,0,0,null,0,0]
[54,{"$f":"'BİLGİ GİRİŞİ'!F58","v":0},{"$f":"\nIF('BİLGİ GİRİŞİ'!G58=KATSAYILAR!$B$16,KATSAYILAR!$C$16,\nIF('BİLGİ GİRİŞİ'!G58=KATSAYILAR!$B$17,KATSAYILAR!$C$17,\nIF('BİLGİ GİRİŞİ'!G58=KATSAYILAR!$B$18,KATSAYILAR!$C$18,0)))","v":0},{"$f":"'BİLGİ GİRİŞİ'!H58","v":0},{"$f":"IF('EK DERS Ücret Hesaplama'!O59-C56-D56-'EK DERS Ücret Hesaplama'!AF59-'EK DERS Ücret Hesaplama'!AH59<=0,0,'EK DERS Ücret Hesaplama'!O59-C56-D56-'EK DERS Ücret Hesaplama'!AF59-'EK DERS Ücret Hesaplama'!AH59)","v":0},null,{"$f":"'EK DERS Ücret Hesaplama'!T59","v":0},0,0,{"$f":"ROUND(\nIF(G56>=KATSAYILAR!$C$13,H56*KATSAYILAR!$B$14,\nIF(I56>KATSAYILAR!$C$13,(I56-KATSAYILAR!$C$13)*KATSAYILAR!$B$14+(KATSAYILAR!$C$13-G56)*KATSAYILAR!$B$13,\nIF(G56>KATSAYILAR!$C$12,H56*KATSAYILAR!$B$13,\nIF(I56>KATSAYILAR!$C$12,(I56-KATSAYILAR!$C$12)*KATSAYILAR!$B$13+(KATSAYILAR!$C$12-G56)*KATSAYILAR!$B$12,\nIF(G56>KATSAYILAR!$C$11,H56*KATSAYILAR!$B$12,\nIF(I56>KATSAYILAR!$C$11,(I56-KATSAYILAR!$C$11)*KATSAYILAR!$B$12+(KATSAYILAR!$C$11-G56)*KATSAYILAR!$B$11,\nH56*KATSAYILAR!$B$11)))))),2)","v":0},{"$f":"KATSAYILAR!$C$6","v":17002.13},{"$f":"ROUND(K56*KATSAYILAR!$B$11,2)","v":2550.3200000000002},0,0,null,{"$f":"'EK DERS Ücret Hesaplama'!O59","v":0},{"$f":"ROUND(P56*KATSAYILAR!$C$20,2)","v":0},{"$f":"KATSAYILAR!$C$7","v":20002.5},{"$f":"ROUND(R56*KATSAYILAR!$C$20,2)","v":151.82},0,0,null,null,0,0,0,0,0,0,0,0,null,0,0]
[55,{"$f":"'BİLGİ GİRİŞİ'!F59","v":0},{"$f":"\nIF('BİLGİ GİRİŞİ'!G59=KATSAYILAR!$B$16,KATSAYILAR!$C$16,\nIF('BİLGİ GİRİŞİ'!G59=KATSAYILAR!$B$17,KATSAYILAR!$C$17,\nIF('BİLGİ GİRİŞİ'!G59=KATSAYILAR!$B$18,KATSAYILAR!$C$18,0)))","v":0},{"$f":"'BİLGİ GİRİŞİ'!H59","v":0},{"$f":"IF('EK DERS Ücret Hesaplama'!O60-C57-D57-'EK DERS Ücret Hesaplama'!AF60-'EK DERS Ücret Hesaplama'!AH60<=0,0,'EK DERS Ücret Hesaplama'!O60-C57-D57-'EK DERS Ücret Hesaplama'!AF60-'EK DERS Ücret Hesaplama'!AH60)","v":0},null,{"$f":"'EK DERS Ücret Hesaplama'!T60","v":0},0,0,{"$f":"ROUND(\nIF(G57>=KATSAYILAR!$C$13,H57*KATSAYILAR!$B$14,\nIF(I57>KATSAYILAR!$C$13,(I57-KATSAYILAR!$C$13)*KATSAYILAR!$B$14+(KATSAYILAR!$C$13-G57)*KATSAYILAR!$B$13,\nIF(G57>KATSAYILAR!$C$12,H57*KATSAYILAR!$B$13,\nIF(I57>KATSAYILAR!$C$12,(I57-KATSAYILAR!$C$12)*KATSAYILAR!$B$13+(KATSAYILAR!$C$12-G57)*KATSAYILAR!$B$12,\nIF(G57>KATSAYILAR!$C$11,H57*KATSAYILAR!$B$12,\nIF(I57>KATSAYILAR!$C$11,(I57-KATSAYILAR!$C$11)*KATSAYILAR!$B$12+(KATSAYILAR!$C$11-G57)*KATSAYILAR!$B$11,\nH57*KATSAYILAR!$B$11)))))),2)","v":0},{"$f":"KATSAYILAR!$C$6","v":17002.13},{"$f":"ROUND(K57*KATSAYILAR!$B$11,2)","v":2550.3200000000002},0,0,null,{"$f":"'EK DERS Ücret Hesaplama'!O60","v":0},{"$f":"ROUND(P57*KATSAYILAR!$C$20,2)","v":0},{"$f":"KATSAYILAR!$C$7","v":20002.5},{"$f":"ROUND(R57*KATSAYILAR!$C$20,2)","v":151.82},0,0,null,null,0,0,0,0,0,0,0,0,null,0,0]
[56,{"$f":"'BİLGİ GİRİŞİ'!F60","v":0},{"$f":"\nIF('BİLGİ GİRİŞİ'!G60=KATSAYILAR!$B$16,KATSAYILAR!$C$16,\nIF('BİLGİ GİRİŞİ'!G60=KATSAYILAR!$B$17,KATSAYILAR!$C$17,\nIF('BİLGİ GİRİŞİ'!G60=KATSAYILAR!$B$18,KATSAYILAR!$C$18,0)))","v":0},{"$f":"'BİLGİ GİRİŞİ'!H60","v":0},{"$f":"IF('EK DERS Ücret Hesaplama'!O61-C58-D58-'EK DERS Ücret Hesaplama'!AF61-'EK DERS Ücret Hesaplama'!AH61<=0,0,'EK DERS Ücret Hesaplama'!O61-C58-D58-'EK DERS Ücret Hesaplama'!AF61-'EK DERS Ücret Hesaplama'!AH61)","v":0},null,{"$f":"'EK DERS Ücret Hesaplama'!T61","v":0},0,0,{"$f":"ROUND(\nIF(G58>=KATSAYILAR!$C$13,H58*KATSAYILAR!$B$14,\nIF(I58>KATSAYILAR!$C$13,(I58-KATSAYILAR!$C$13)*KATSAYILAR!$B$14+(KATSAYILAR!$C$13-G58)*KATSAYILAR!$B$13,\nIF(G58>KATSAYILAR!$C$12,H58*KATSAYILAR!$B$13,\nIF(I58>KATSAYILAR!$C$12,(I58-KATSAYILAR!$C$12)*KATSAYILAR!$B$13+(KATSAYILAR!$C$12-G58)*KATSAYILAR!$B$12,\nIF(G58>KATSAYILAR!$C$11,H58*KATSAYILAR!$B$12,\nIF(I58>KATSAYILAR!$C$11,(I58-KATSAYILAR!$C$11)*KATSAYILAR!$B$12+(KATSAYILAR!$C$11-G58)*KATSAYILAR!$B$11,\nH58*KATSAYILAR!$B$11)))))),2)","v":0},{"$f":"KATSAYILAR!$C$6","v":17002.13},{"$f":"ROUND(K58*KATSAYILAR!$B$11,2)","v":2550.3200000000002},0,0,null,{"$f":"'EK DERS Ücret Hesaplama'!O61","v":0},{"$f":"ROUND(P58*KATSAYILAR!$C$20,2)","v":0},{"$f":"KATSAYILAR!$C$7","v":20002.5},{"$f":"ROUND(R58*KATSAYILAR!$C$20,2)","v":151.82},0,0,null,null,0,0,0,0,0,0,0,0,null,0,0]
[57,{"$f":"'BİLGİ GİRİŞİ'!F61","v":0},{"$f":"\nIF('BİLGİ GİRİŞİ'!G61=KATSAYILAR!$B$16,KATSAYILAR!$C$16,\nIF('BİLGİ GİRİŞİ'!G61=KATSAYILAR!$B$17,KATSAYILAR!$C$17,\nIF('BİLGİ GİRİŞİ'!G61=KATSAYILAR!$B$18,KATSAYILAR!$C$18,0)))","v":0},{"$f":"'BİLGİ GİRİŞİ'!H61","v":0},{"$f":"IF('EK DERS Ücret Hesaplama'!O62-C59-D59-'EK DERS Ücret Hesaplama'!AF62-'EK DERS Ücret Hesaplama'!AH62<=0,0,'EK DERS Ücret Hesaplama'!O62-C59-D59-'EK DERS Ücret Hesaplama'!AF62-'EK DERS Ücret Hesaplama'!AH62)","v":0},null,{"$f":"'EK DERS Ücret Hesaplama'!T62","v":0},0,0,{"$f":"ROUND(\nIF(G59>=KATSAYILAR!$C$13,H59*KATSAYILAR!$B$14,\nIF(I59>KATSAYILAR!$C$13,(I59-KATSAYILAR!$C$13)*KATSAYILAR!$B$14+(KATSAYILAR!$C$13-G59)*KATSAYILAR!$B$13,\nIF(G59>KATSAYILAR!$C$12,H59*KATSAYILAR!$B$13,\nIF(I59>KATSAYILAR!$C$12,(I59-KATSAYILAR!$C$12)*KATSAYILAR!$B$13+(KATSAYILAR!$C$12-G59)*KATSAYILAR!$B$12,\nIF(G59>KATSAYILAR!$C$11,H59*KATSAYILAR!$B$12,\nIF(I59>KATSAYILAR!$C$11,(I59-KATSAYILAR!$C$11)*KATSAYILAR!$B$12+(KATSAYILAR!$C$11-G59)*KATSAYILAR!$B$11,\nH59*KATSAYILAR!$B$11)))))),2)","v":0},{"$f":"KATSAYILAR!$C$6","v":17002.13},{"$f":"ROUND(K59*KATSAYILAR!$B$11,2)","v":2550.3200000000002},0,0,null,{"$f":"'EK DERS Ücret Hesaplama'!O62","v":0},{"$f":"ROUND(P59*KATSAYILAR!$C$20,2)","v":0},{"$f":"KATSAYILAR!$C$7","v":20002.5},{"$f":"ROUND(R59*KATSAYILAR!$C$20,2)","v":151.82},0,0,null,null,0,0,0,0,0,0,0,0,null,0,0]
[58,{"$f":"'BİLGİ GİRİŞİ'!F62","v":0},{"$f":"\nIF('BİLGİ GİRİŞİ'!G62=KATSAYILAR!$B$16,KATSAYILAR!$C$16,\nIF('BİLGİ GİRİŞİ'!G62=KATSAYILAR!$B$17,KATSAYILAR!$C$17,\nIF('BİLGİ GİRİŞİ'!G62=KATSAYILAR!$B$18,KATSAYILAR!$C$18,0)))","v":0},{"$f":"'BİLGİ GİRİŞİ'!H62","v":0},{"$f":"IF('EK DERS Ücret Hesaplama'!O63-C60-D60-'EK DERS Ücret Hesaplama'!AF63-'EK DERS Ücret Hesaplama'!AH63<=0,0,'EK DERS Ücret Hesaplama'!O63-C60-D60-'EK DERS Ücret Hesaplama'!AF63-'EK DERS Ücret Hesaplama'!AH63)","v":0},null,{"$f":"'EK DERS Ücret Hesaplama'!T63","v":0},0,0,{"$f":"ROUND(\nIF(G60>=KATSAYILAR!$C$13,H60*KATSAYILAR!$B$14,\nIF(I60>KATSAYILAR!$C$13,(I60-KATSAYILAR!$C$13)*KATSAYILAR!$B$14+(KATSAYILAR!$C$13-G60)*KATSAYILAR!$B$13,\nIF(G60>KATSAYILAR!$C$12,H60*KATSAYILAR!$B$13,\nIF(I60>KATSAYILAR!$C$12,(I60-KATSAYILAR!$C$12)*KATSAYILAR!$B$13+(KATSAYILAR!$C$12-G60)*KATSAYILAR!$B$12,\nIF(G60>KATSAYILAR!$C$11,H60*KATSAYILAR!$B$12,\nIF(I60>KATSAYILAR!$C$11,(I60-KATSAYILAR!$C$11)*KATSAYILAR!$B$12+(KATSAYILAR!$C$11-G60)*KATSAYILAR!$B$11,\nH60*KATSAYILAR!$B$11)))))),2)","v":0},{"$f":"KATSAYILAR!$C$6","v":17002.13},{"$f":"ROUND(K60*KATSAYILAR!$B$11,2)","v":2550.3200000000002},0,0,null,{"$f":"'EK DERS Ücret Hesaplama'!O63","v":0},{"$f":"ROUND(P60*KATSAYILAR!$C$20,2)","v":0},{"$f":"KATSAYILAR!$C$7","v":20002.5},{"$f":"ROUND(R60*KATSAYILAR!$C$20,2)","v":151.82},0,0,null,null,0,0,0,0,0,0,0,0,null,0,0]
[59,{"$f":"'BİLGİ GİRİŞİ'!F63","v":0},{"$f":"\nIF('BİLGİ GİRİŞİ'!G63=KATSAYILAR!$B$16,KATSAYILAR!$C$16,\nIF('BİLGİ GİRİŞİ'!G63=KATSAYILAR!$B$17,KATSAYILAR!$C$17,\nIF('BİLGİ GİRİŞİ'!G63=KATSAYILAR!$B$18,KATSAYILAR!$C$18,0)))","v":0},{"$f":"'BİLGİ GİRİŞİ'!H63","v":0},{"$f":"IF('EK DERS Ücret Hesaplama'!O64-C61-D61-'EK DERS Ücret Hesaplama'!AF64-'EK DERS Ücret Hesaplama'!AH64<=0,0,'EK DERS Ücret Hesaplama'!O64-C61-D61-'EK DERS Ücret Hesaplama'!AF64-'EK DERS Ücret Hesaplama'!AH64)","v":0},null,{"$f":"'EK DERS Ücret Hesaplama'!T64","v":0},0,0,{"$f":"ROUND(\nIF(G61>=KATSAYILAR!$C$13,H61*KATSAYILAR!$B$14,\nIF(I61>KATSAYILAR!$C$13,(I61-KATSAYILAR!$C$13)*KATSAYILAR!$B$14+(KATSAYILAR!$C$13-G61)*KATSAYILAR!$B$13,\nIF(G61>KATSAYILAR!$C$12,H61*KATSAYILAR!$B$13,\nIF(I61>KATSAYILAR!$C$12,(I61-KATSAYILAR!$C$12)*KATSAYILAR!$B$13+(KATSAYILAR!$C$12-G61)*KATSAYILAR!$B$12,\nIF(G61>KATSAYILAR!$C$11,H61*KATSAYILAR!$B$12,\nIF(I61>KATSAYILAR!$C$11,(I61-KATSAYILAR!$C$11)*KATSAYILAR!$B$12+(KATSAYILAR!$C$11-G61)*KATSAYILAR!$B$11,\nH61*KATSAYILAR!$B$11)))))),2)","v":0},{"$f":"KATSAYILAR!$C$6","v":17002.13},{"$f":"ROUND(K61*KATSAYILAR!$B$11,2)","v":2550.3200000000002},0,0,null,{"$f":"'EK DERS Ücret Hesaplama'!O64","v":0},{"$f":"ROUND(P61*KATSAYILAR!$C$20,2)","v":0},{"$f":"KATSAYILAR!$C$7","v":20002.5},{"$f":"ROUND(R61*KATSAYILAR!$C$20,2)","v":151.82},0,0,null,null,0,0,0,0,0,0,0,0,null,0,0]
[60,{"$f":"'BİLGİ GİRİŞİ'!F64","v":0},{"$f":"\nIF('BİLGİ GİRİŞİ'!G64=KATSAYILAR!$B$16,KATSAYILAR!$C$16,\nIF('BİLGİ GİRİŞİ'!G64=KATSAYILAR!$B$17,KATSAYILAR!$C$17,\nIF('BİLGİ GİRİŞİ'!G64=KATSAYILAR!$B$18,KATSAYILAR!$C$18,0)))","v":0},{"$f":"'BİLGİ GİRİŞİ'!H64","v":0},{"$f":"IF('EK DERS Ücret Hesaplama'!O65-C62-D62-'EK DERS Ücret Hesaplama'!AF65-'EK DERS Ücret Hesaplama'!AH65<=0,0,'EK DERS Ücret Hesaplama'!O65-C62-D62-'EK DERS Ücret Hesaplama'!AF65-'EK DERS Ücret Hesaplama'!AH65)","v":0},null,{"$f":"'EK DERS Ücret Hesaplama'!T65","v":0},0,0,{"$f":"ROUND(\nIF(G62>=KATSAYILAR!$C$13,H62*KATSAYILAR!$B$14,\nIF(I62>KATSAYILAR!$C$13,(I62-KATSAYILAR!$C$13)*KATSAYILAR!$B$14+(KATSAYILAR!$C$13-G62)*KATSAYILAR!$B$13,\nIF(G62>KATSAYILAR!$C$12,H62*KATSAYILAR!$B$13,\nIF(I62>KATSAYILAR!$C$12,(I62-KATSAYILAR!$C$12)*KATSAYILAR!$B$13+(KATSAYILAR!$C$12-G62)*KATSAYILAR!$B$12,\nIF(G62>KATSAYILAR!$C$11,H62*KATSAYILAR!$B$12,\nIF(I62>KATSAYILAR!$C$11,(I62-KATSAYILAR!$C$11)*KATSAYILAR!$B$12+(KATSAYILAR!$C$11-G62)*KATSAYILAR!$B$11,\nH62*KATSAYILAR!$B$11)))))),2)","v":0},{"$f":"KATSAYILAR!$C$6","v":17002.13},{"$f":"ROUND(K62*KATSAYILAR!$B$11,2)","v":2550.3200000000002},0,0,null,{"$f":"'EK DERS Ücret Hesaplama'!O65","v":0},{"$f":"ROUND(P62*KATSAYILAR!$C$20,2)","v":0},{"$f":"KATSAYILAR!$C$7","v":20002.5},{"$f":"ROUND(R62*KATSAYILAR!$C$20,2)","v":151.82},0,0,null,null,0,0,0,0,0,0,0,0,null,0,0]
[61,{"$f":"'BİLGİ GİRİŞİ'!F65","v":0},{"$f":"\nIF('BİLGİ GİRİŞİ'!G65=KATSAYILAR!$B$16,KATSAYILAR!$C$16,\nIF('BİLGİ GİRİŞİ'!G65=KATSAYILAR!$B$17,KATSAYILAR!$C$17,\nIF('BİLGİ GİRİŞİ'!G65=KATSAYILAR!$B$18,KATSAYILAR!$C$18,0)))","v":0},{"$f":"'BİLGİ GİRİŞİ'!H65","v":0},{"$f":"IF('EK DERS Ücret Hesaplama'!O66-C63-D63-'EK DERS Ücret Hesaplama'!AF66-'EK DERS Ücret Hesaplama'!AH66<=0,0,'EK DERS Ücret Hesaplama'!O66-C63-D63-'EK DERS Ücret Hesaplama'!AF66-'EK DERS Ücret Hesaplama'!AH66)","v":0},null,{"$f":"'EK DERS Ücret Hesaplama'!T66","v":0},0,0,{"$f":"ROUND(\nIF(G63>=KATSAYILAR!$C$13,H63*KATSAYILAR!$B$14,\nIF(I63>KATSAYILAR!$C$13,(I63-KATSAYILAR!$C$13)*KATSAYILAR!$B$14+(KATSAYILAR!$C$13-G63)*KATSAYILAR!$B$13,\nIF(G63>KATSAYILAR!$C$12,H63*KATSAYILAR!$B$13,\nIF(I63>KATSAYILAR!$C$12,(I63-KATSAYILAR!$C$12)*KATSAYILAR!$B$13+(KATSAYILAR!$C$12-G63)*KATSAYILAR!$B$12,\nIF(G63>KATSAYILAR!$C$11,H63*KATSAYILAR!$B$12,\nIF(I63>KATSAYILAR!$C$11,(I63-KATSAYILAR!$C$11)*KATSAYILAR!$B$12+(KATSAYILAR!$C$11-G63)*KATSAYILAR!$B$11,\nH63*KATSAYILAR!$B$11)))))),2)","v":0},{"$f":"KATSAYILAR!$C$6","v":17002.13},{"$f":"ROUND(K63*KATSAYILAR!$B$11,2)","v":2550.3200000000002},0,0,null,{"$f":"'EK DERS Ücret Hesaplama'!O66","v":0},{"$f":"ROUND(P63*KATSAYILAR!$C$20,2)","v":0},{"$f":"KATSAYILAR!$C$7","v":20002.5},{"$f":"ROUND(R63*KATSAYILAR!$C$20,2)","v":151.82},0,0,null,null,0,0,0,0,0,0,0,0,null,0,0]
[62,{"$f":"'BİLGİ GİRİŞİ'!F66","v":0},{"$f":"\nIF('BİLGİ GİRİŞİ'!G66=KATSAYILAR!$B$16,KATSAYILAR!$C$16,\nIF('BİLGİ GİRİŞİ'!G66=KATSAYILAR!$B$17,KATSAYILAR!$C$17,\nIF('BİLGİ GİRİŞİ'!G66=KATSAYILAR!$B$18,KATSAYILAR!$C$18,0)))","v":0},{"$f":"'BİLGİ GİRİŞİ'!H66","v":0},{"$f":"IF('EK DERS Ücret Hesaplama'!O67-C64-D64-'EK DERS Ücret Hesaplama'!AF67-'EK DERS Ücret Hesaplama'!AH67<=0,0,'EK DERS Ücret Hesaplama'!O67-C64-D64-'EK DERS Ücret Hesaplama'!AF67-'EK DERS Ücret Hesaplama'!AH67)","v":0},null,{"$f":"'EK DERS Ücret Hesaplama'!T67","v":0},0,0,{"$f":"ROUND(\nIF(G64>=KATSAYILAR!$C$13,H64*KATSAYILAR!$B$14,\nIF(I64>KATSAYILAR!$C$13,(I64-KATSAYILAR!$C$13)*KATSAYILAR!$B$14+(KATSAYILAR!$C$13-G64)*KATSAYILAR!$B$13,\nIF(G64>KATSAYILAR!$C$12,H64*KATSAYILAR!$B$13,\nIF(I64>KATSAYILAR!$C$12,(I64-KATSAYILAR!$C$12)*KATSAYILAR!$B$13+(KATSAYILAR!$C$12-G64)*KATSAYILAR!$B$12,\nIF(G64>KATSAYILAR!$C$11,H64*KATSAYILAR!$B$12,\nIF(I64>KATSAYILAR!$C$11,(I64-KATSAYILAR!$C$11)*KATSAYILAR!$B$12+(KATSAYILAR!$C$11-G64)*KATSAYILAR!$B$11,\nH64*KATSAYILAR!$B$11)))))),2)","v":0},{"$f":"KATSAYILAR!$C$6","v":17002.13},{"$f":"ROUND(K64*KATSAYILAR!$B$11,2)","v":2550.3200000000002},0,0,null,{"$f":"'EK DERS Ücret Hesaplama'!O67","v":0},{"$f":"ROUND(P64*KATSAYILAR!$C$20,2)","v":0},{"$f":"KATSAYILAR!$C$7","v":20002.5},{"$f":"ROUND(R64*KATSAYILAR!$C$20,2)","v":151.82},0,0,null,null,0,0,0,0,0,0,0,0,null,0,0]
[63,{"$f":"'BİLGİ GİRİŞİ'!F67","v":0},{"$f":"\nIF('BİLGİ GİRİŞİ'!G67=KATSAYILAR!$B$16,KATSAYILAR!$C$16,\nIF('BİLGİ GİRİŞİ'!G67=KATSAYILAR!$B$17,KATSAYILAR!$C$17,\nIF('BİLGİ GİRİŞİ'!G67=KATSAYILAR!$B$18,KATSAYILAR!$C$18,0)))","v":0},{"$f":"'BİLGİ GİRİŞİ'!H67","v":0},{"$f":"IF('EK DERS Ücret Hesaplama'!O68-C65-D65-'EK DERS Ücret Hesaplama'!AF68-'EK DERS Ücret Hesaplama'!AH68<=0,0,'EK DERS Ücret Hesaplama'!O68-C65-D65-'EK DERS Ücret Hesaplama'!AF68-'EK DERS Ücret Hesaplama'!AH68)","v":0},null,{"$f":"'EK DERS Ücret Hesaplama'!T68","v":0},0,0,{"$f":"ROUND(\nIF(G65>=KATSAYILAR!$C$13,H65*KATSAYILAR!$B$14,\nIF(I65>KATSAYILAR!$C$13,(I65-KATSAYILAR!$C$13)*KATSAYILAR!$B$14+(KATSAYILAR!$C$13-G65)*KATSAYILAR!$B$13,\nIF(G65>KATSAYILAR!$C$12,H65*KATSAYILAR!$B$13,\nIF(I65>KATSAYILAR!$C$12,(I65-KATSAYILAR!$C$12)*KATSAYILAR!$B$13+(KATSAYILAR!$C$12-G65)*KATSAYILAR!$B$12,\nIF(G65>KATSAYILAR!$C$11,H65*KATSAYILAR!$B$12,\nIF(I65>KATSAYILAR!$C$11,(I65-KATSAYILAR!$C$11)*KATSAYILAR!$B$12+(KATSAYILAR!$C$11-G65)*KATSAYILAR!$B$11,\nH65*KATSAYILAR!$B$11)))))),2)","v":0},{"$f":"KATSAYILAR!$C$6","v":17002.13},{"$f":"ROUND(K65*KATSAYILAR!$B$11,2)","v":2550.3200000000002},0,0,null,{"$f":"'EK DERS Ücret Hesaplama'!O68","v":0},{"$f":"ROUND(P65*KATSAYILAR!$C$20,2)","v":0},{"$f":"KATSAYILAR!$C$7","v":20002.5},{"$f":"ROUND(R65*KATSAYILAR!$C$20,2)","v":151.82},0,0,null,null,0,0,0,0,0,0,0,0,null,0,0]
[64,{"$f":"'BİLGİ GİRİŞİ'!F68","v":0},{"$f":"\nIF('BİLGİ GİRİŞİ'!G68=KATSAYILAR!$B$16,KATSAYILAR!$C$16,\nIF('BİLGİ GİRİŞİ'!G68=KATSAYILAR!$B$17,KATSAYILAR!$C$17,\nIF('BİLGİ GİRİŞİ'!G68=KATSAYILAR!$B$18,KATSAYILAR!$C$18,0)))","v":0},{"$f":"'BİLGİ GİRİŞİ'!H68","v":0},{"$f":"IF('EK DERS Ücret Hesaplama'!O69-C66-D66-'EK DERS Ücret Hesaplama'!AF69-'EK DERS Ücret Hesaplama'!AH69<=0,0,'EK DERS Ücret Hesaplama'!O69-C66-D66-'EK DERS Ücret Hesaplama'!AF69-'EK DERS Ücret Hesaplama'!AH69)","v":0},null,{"$f":"'EK DERS Ücret Hesaplama'!T69","v":0},0,0,{"$f":"ROUND(\nIF(G66>=KATSAYILAR!$C$13,H66*KATSAYILAR!$B$14,\nIF(I66>KATSAYILAR!$C$13,(I66-KATSAYILAR!$C$13)*KATSAYILAR!$B$14+(KATSAYILAR!$C$13-G66)*KATSAYILAR!$B$13,\nIF(G66>KATSAYILAR!$C$12,H66*KATSAYILAR!$B$13,\nIF(I66>KATSAYILAR!$C$12,(I66-KATSAYILAR!$C$12)*KATSAYILAR!$B$13+(KATSAYILAR!$C$12-G66)*KATSAYILAR!$B$12,\nIF(G66>KATSAYILAR!$C$11,H66*KATSAYILAR!$B$12,\nIF(I66>KATSAYILAR!$C$11,(I66-KATSAYILAR!$C$11)*KATSAYILAR!$B$12+(KATSAYILAR!$C$11-G66)*KATSAYILAR!$B$11,\nH66*KATSAYILAR!$B$11)))))),2)","v":0},{"$f":"KATSAYILAR!$C$6","v":17002.13},{"$f":"ROUND(K66*KATSAYILAR!$B$11,2)","v":2550.3200000000002},0,0,null,{"$f":"'EK DERS Ücret Hesaplama'!O69","v":0},{"$f":"ROUND(P66*KATSAYILAR!$C$20,2)","v":0},{"$f":"KATSAYILAR!$C$7","v":20002.5},{"$f":"ROUND(R66*KATSAYILAR!$C$20,2)","v":151.82},0,0,null,null,0,0,0,0,0,0,0,0,null,0,0]
[65,{"$f":"'BİLGİ GİRİŞİ'!F69","v":0},{"$f":"\nIF('BİLGİ GİRİŞİ'!G69=KATSAYILAR!$B$16,KATSAYILAR!$C$16,\nIF('BİLGİ GİRİŞİ'!G69=KATSAYILAR!$B$17,KATSAYILAR!$C$17,\nIF('BİLGİ GİRİŞİ'!G69=KATSAYILAR!$B$18,KATSAYILAR!$C$18,0)))","v":0},{"$f":"'BİLGİ GİRİŞİ'!H69","v":0},{"$f":"IF('EK DERS Ücret Hesaplama'!O70-C67-D67-'EK DERS Ücret Hesaplama'!AF70-'EK DERS Ücret Hesaplama'!AH70<=0,0,'EK DERS Ücret Hesaplama'!O70-C67-D67-'EK DERS Ücret Hesaplama'!AF70-'EK DERS Ücret Hesaplama'!AH70)","v":0},null,{"$f":"'EK DERS Ücret Hesaplama'!T70","v":0},0,0,{"$f":"ROUND(\nIF(G67>=KATSAYILAR!$C$13,H67*KATSAYILAR!$B$14,\nIF(I67>KATSAYILAR!$C$13,(I67-KATSAYILAR!$C$13)*KATSAYILAR!$B$14+(KATSAYILAR!$C$13-G67)*KATSAYILAR!$B$13,\nIF(G67>KATSAYILAR!$C$12,H67*KATSAYILAR!$B$13,\nIF(I67>KATSAYILAR!$C$12,(I67-KATSAYILAR!$C$12)*KATSAYILAR!$B$13+(KATSAYILAR!$C$12-G67)*KATSAYILAR!$B$12,\nIF(G67>KATSAYILAR!$C$11,H67*KATSAYILAR!$B$12,\nIF(I67>KATSAYILAR!$C$11,(I67-KATSAYILAR!$C$11)*KATSAYILAR!$B$12+(KATSAYILAR!$C$11-G67)*KATSAYILAR!$B$11,\nH67*KATSAYILAR!$B$11)))))),2)","v":0},{"$f":"KATSAYILAR!$C$6","v":17002.13},{"$f":"ROUND(K67*KATSAYILAR!$B$11,2)","v":2550.3200000000002},0,0,null,{"$f":"'EK DERS Ücret Hesaplama'!O70","v":0},{"$f":"ROUND(P67*KATSAYILAR!$C$20,2)","v":0},{"$f":"KATSAYILAR!$C$7","v":20002.5},{"$f":"ROUND(R67*KATSAYILAR!$C$20,2)","v":151.82},0,0,null,null,0,0,0,0,0,0,0,0,null,0,0]
[66,{"$f":"'BİLGİ GİRİŞİ'!F70","v":0},{"$f":"\nIF('BİLGİ GİRİŞİ'!G70=KATSAYILAR!$B$16,KATSAYILAR!$C$16,\nIF('BİLGİ GİRİŞİ'!G70=KATSAYILAR!$B$17,KATSAYILAR!$C$17,\nIF('BİLGİ GİRİŞİ'!G70=KATSAYILAR!$B$18,KATSAYILAR!$C$18,0)))","v":0},{"$f":"'BİLGİ GİRİŞİ'!H70","v":0},{"$f":"IF('EK DERS Ücret Hesaplama'!O71-C68-D68-'EK DERS Ücret Hesaplama'!AF71-'EK DERS Ücret Hesaplama'!AH71<=0,0,'EK DERS Ücret Hesaplama'!O71-C68-D68-'EK DERS Ücret Hesaplama'!AF71-'EK DERS Ücret Hesaplama'!AH71)","v":0},null,{"$f":"'EK DERS Ücret Hesaplama'!T71","v":0},{"$f":"E68","v":0},{"$f":"G68+H68","v":0},{"$f":"ROUND(\nIF(G68>=KATSAYILAR!$C$13,H68*KATSAYILAR!$B$14,\nIF(I68>KATSAYILAR!$C$13,(I68-KATSAYILAR!$C$13)*KATSAYILAR!$B$14+(KATSAYILAR!$C$13-G68)*KATSAYILAR!$B$13,\nIF(G68>KATSAYILAR!$C$12,H68*KATSAYILAR!$B$13,\nIF(I68>KATSAYILAR!$C$12,(I68-KATSAYILAR!$C$12)*KATSAYILAR!$B$13+(KATSAYILAR!$C$12-G68)*KATSAYILAR!$B$12,\nIF(G68>KATSAYILAR!$C$11,H68*KATSAYILAR!$B$12,\nIF(I68>KATSAYILAR!$C$11,(I68-KATSAYILAR!$C$11)*KATSAYILAR!$B$12+(KATSAYILAR!$C$11-G68)*KATSAYILAR!$B$11,\nH68*KATSAYILAR!$B$11)))))),2)","v":0},{"$f":"KATSAYILAR!$C$6","v":17002.13},{"$f":"ROUND(K68*KATSAYILAR!$B$11,2)","v":2550.3200000000002},{"$f":"IF(J68<=L68,J68,L68)","v":0},{"$f":"J68-M68","v":0},null,{"$f":"'EK DERS Ücret Hesaplama'!O71","v":0},{"$f":"ROUND(P68*KATSAYILAR!$C$20,2)","v":0},{"$f":"KATSAYILAR!$C$7","v":20002.5},{"$f":"ROUND(R68*KATSAYILAR!$C$20,2)","v":151.82},{"$f":"IF(Q68<=S68,Q68,S68)","v":0},{"$f":"Q68-T68","v":0},null,null,{"$f":"G68","v":0},{"$f":"C68+D68","v":0},{"$f":"E68","v":0},{"$f":"J68","v":0},{"$f":"M68","v":0},{"$f":"P68","v":0},{"$f":"Q68","v":0},{"$f":"T68","v":0},null,{"$f":"N68","v":0},{"$f":"U68","v":0}]
[67,{"$f":"'BİLGİ GİRİŞİ'!F71","v":0},{"$f":"\nIF('BİLGİ GİRİŞİ'!G71=KATSAYILAR!$B$16,KATSAYILAR!$C$16,\nIF('BİLGİ GİRİŞİ'!G71=KATSAYILAR!$B$17,KATSAYILAR!$C$17,\nIF('BİLGİ GİRİŞİ'!G71=KATSAYILAR!$B$18,KATSAYILAR!$C$18,0)))","v":0},{"$f":"'BİLGİ GİRİŞİ'!H71","v":0},{"$f":"IF('EK DERS Ücret Hesaplama'!O72-C69-D69-'EK DERS Ücret Hesaplama'!AF72-'EK DERS Ücret Hesaplama'!AH72<=0,0,'EK DERS Ücret Hesaplama'!O72-C69-D69-'EK DERS Ücret Hesaplama'!AF72-'EK DERS Ücret Hesaplama'!AH72)","v":0},null,{"$f":"'EK DERS Ücret Hesaplama'!T72","v":0},0,0,{"$f":"ROUND(\nIF(G69>=KATSAYILAR!$C$13,H69*KATSAYILAR!$B$14,\nIF(I69>KATSAYILAR!$C$13,(I69-KATSAYILAR!$C$13)*KATSAYILAR!$B$14+(KATSAYILAR!$C$13-G69)*KATSAYILAR!$B$13,\nIF(G69>KATSAYILAR!$C$12,H69*KATSAYILAR!$B$13,\nIF(I69>KATSAYILAR!$C$12,(I69-KATSAYILAR!$C$12)*KATSAYILAR!$B$13+(KATSAYILAR!$C$12-G69)*KATSAYILAR!$B$12,\nIF(G69>KATSAYILAR!$C$11,H69*KATSAYILAR!$B$12,\nIF(I69>KATSAYILAR!$C$11,(I69-KATSAYILAR!$C$11)*KATSAYILAR!$B$12+(KATSAYILAR!$C$11-G69)*KATSAYILAR!$B$11,\nH69*KATSAYILAR!$B$11)))))),2)","v":0},{"$f":"KATSAYILAR!$C$6","v":17002.13},{"$f":"ROUND(K69*KATSAYILAR!$B$11,2)","v":2550.3200000000002},0,0,null,{"$f":"'EK DERS Ücret Hesaplama'!O72","v":0},{"$f":"ROUND(P69*KATSAYILAR!$C$20,2)","v":0},{"$f":"KATSAYILAR!$C$7","v":20002.5},{"$f":"ROUND(R69*KATSAYILAR!$C$20,2)","v":151.82},0,0,null,null,0,0,0,0,0,0,0,0,null,0,0]
[68,{"$f":"'BİLGİ GİRİŞİ'!F72","v":0},{"$f":"\nIF('BİLGİ GİRİŞİ'!G72=KATSAYILAR!$B$16,KATSAYILAR!$C$16,\nIF('BİLGİ GİRİŞİ'!G72=KATSAYILAR!$B$17,KATSAYILAR!$C$17,\nIF('BİLGİ GİRİŞİ'!G72=KATSAYILAR!$B$18,KATSAYILAR!$C$18,0)))","v":0},{"$f":"'BİLGİ GİRİŞİ'!H72","v":0},{"$f":"IF('EK DERS Ücret Hesaplama'!O73-C70-D70-'EK DERS Ücret Hesaplama'!AF73-'EK DERS Ücret Hesaplama'!AH73<=0,0,'EK DERS Ücret Hesaplama'!O73-C70-D70-'EK DERS Ücret Hesaplama'!AF73-'EK DERS Ücret Hesaplama'!AH73)","v":0},null,{"$f":"'EK DERS Ücret Hesaplama'!T73","v":0},0,0,{"$f":"ROUND(\nIF(G70>=KATSAYILAR!$C$13,H70*KATSAYILAR!$B$14,\nIF(I70>KATSAYILAR!$C$13,(I70-KATSAYILAR!$C$13)*KATSAYILAR!$B$14+(KATSAYILAR!$C$13-G70)*KATSAYILAR!$B$13,\nIF(G70>KATSAYILAR!$C$12,H70*KATSAYILAR!$B$13,\nIF(I70>KATSAYILAR!$C$12,(I70-KATSAYILAR!$C$12)*KATSAYILAR!$B$13+(KATSAYILAR!$C$12-G70)*KATSAYILAR!$B$12,\nIF(G70>KATSAYILAR!$C$11,H70*KATSAYILAR!$B$12,\nIF(I70>KATSAYILAR!$C$11,(I70-KATSAYILAR!$C$11)*KATSAYILAR!$B$12+(KATSAYILAR!$C$11-G70)*KATSAYILAR!$B$11,\nH70*KATSAYILAR!$B$11)))))),2)","v":0},{"$f":"KATSAYILAR!$C$6","v":17002.13},{"$f":"ROUND(K70*KATSAYILAR!$B$11,2)","v":2550.3200000000002},0,0,null,{"$f":"'EK DERS Ücret Hesaplama'!O73","v":0},{"$f":"ROUND(P70*KATSAYILAR!$C$20,2)","v":0},{"$f":"KATSAYILAR!$C$7","v":20002.5},{"$f":"ROUND(R70*KATSAYILAR!$C$20,2)","v":151.82},0,0,null,null,0,0,0,0,0,0,0,0,null,0,0]
[69,{"$f":"'BİLGİ GİRİŞİ'!F73","v":0},{"$f":"\nIF('BİLGİ GİRİŞİ'!G73=KATSAYILAR!$B$16,KATSAYILAR!$C$16,\nIF('BİLGİ GİRİŞİ'!G73=KATSAYILAR!$B$17,KATSAYILAR!$C$17,\nIF('BİLGİ GİRİŞİ'!G73=KATSAYILAR!$B$18,KATSAYILAR!$C$18,0)))","v":0},{"$f":"'BİLGİ GİRİŞİ'!H73","v":0},{"$f":"IF('EK DERS Ücret Hesaplama'!O74-C71-D71-'EK DERS Ücret Hesaplama'!AF74-'EK DERS Ücret Hesaplama'!AH74<=0,0,'EK DERS Ücret Hesaplama'!O74-C71-D71-'EK DERS Ücret Hesaplama'!AF74-'EK DERS Ücret Hesaplama'!AH74)","v":0},null,{"$f":"'EK DERS Ücret Hesaplama'!T74","v":0},0,0,{"$f":"ROUND(\nIF(G71>=KATSAYILAR!$C$13,H71*KATSAYILAR!$B$14,\nIF(I71>KATSAYILAR!$C$13,(I71-KATSAYILAR!$C$13)*KATSAYILAR!$B$14+(KATSAYILAR!$C$13-G71)*KATSAYILAR!$B$13,\nIF(G71>KATSAYILAR!$C$12,H71*KATSAYILAR!$B$13,\nIF(I71>KATSAYILAR!$C$12,(I71-KATSAYILAR!$C$12)*KATSAYILAR!$B$13+(KATSAYILAR!$C$12-G71)*KATSAYILAR!$B$12,\nIF(G71>KATSAYILAR!$C$11,H71*KATSAYILAR!$B$12,\nIF(I71>KATSAYILAR!$C$11,(I71-KATSAYILAR!$C$11)*KATSAYILAR!$B$12+(KATSAYILAR!$C$11-G71)*KATSAYILAR!$B$11,\nH71*KATSAYILAR!$B$11)))))),2)","v":0},{"$f":"KATSAYILAR!$C$6","v":17002.13},{"$f":"ROUND(K71*KATSAYILAR!$B$11,2)","v":2550.3200000000002},0,0,null,{"$f":"'EK DERS Ücret Hesaplama'!O74","v":0},{"$f":"ROUND(P71*KATSAYILAR!$C$20,2)","v":0},{"$f":"KATSAYILAR!$C$7","v":20002.5},{"$f":"ROUND(R71*KATSAYILAR!$C$20,2)","v":151.82},0,0,null,null,0,0,0,0,0,0,0,0,null,0,0]
[70,{"$f":"'BİLGİ GİRİŞİ'!F74","v":0},{"$f":"\nIF('BİLGİ GİRİŞİ'!G74=KATSAYILAR!$B$16,KATSAYILAR!$C$16,\nIF('BİLGİ GİRİŞİ'!G74=KATSAYILAR!$B$17,KATSAYILAR!$C$17,\nIF('BİLGİ GİRİŞİ'!G74=KATSAYILAR!$B$18,KATSAYILAR!$C$18,0)))","v":0},{"$f":"'BİLGİ GİRİŞİ'!H74","v":0},{"$f":"IF('EK DERS Ücret Hesaplama'!O75-C72-D72-'EK DERS Ücret Hesaplama'!AF75-'EK DERS Ücret Hesaplama'!AH75<=0,0,'EK DERS Ücret Hesaplama'!O75-C72-D72-'EK DERS Ücret Hesaplama'!AF75-'EK DERS Ücret Hesaplama'!AH75)","v":0},null,{"$f":"'EK DERS Ücret Hesaplama'!T75","v":0},0,0,{"$f":"ROUND(\nIF(G72>=KATSAYILAR!$C$13,H72*KATSAYILAR!$B$14,\nIF(I72>KATSAYILAR!$C$13,(I72-KATSAYILAR!$C$13)*KATSAYILAR!$B$14+(KATSAYILAR!$C$13-G72)*KATSAYILAR!$B$13,\nIF(G72>KATSAYILAR!$C$12,H72*KATSAYILAR!$B$13,\nIF(I72>KATSAYILAR!$C$12,(I72-KATSAYILAR!$C$12)*KATSAYILAR!$B$13+(KATSAYILAR!$C$12-G72)*KATSAYILAR!$B$12,\nIF(G72>KATSAYILAR!$C$11,H72*KATSAYILAR!$B$12,\nIF(I72>KATSAYILAR!$C$11,(I72-KATSAYILAR!$C$11)*KATSAYILAR!$B$12+(KATSAYILAR!$C$11-G72)*KATSAYILAR!$B$11,\nH72*KATSAYILAR!$B$11)))))),2)","v":0},{"$f":"KATSAYILAR!$C$6","v":17002.13},{"$f":"ROUND(K72*KATSAYILAR!$B$11,2)","v":2550.3200000000002},0,0,null,{"$f":"'EK DERS Ücret Hesaplama'!O75","v":0},{"$f":"ROUND(P72*KATSAYILAR!$C$20,2)","v":0},{"$f":"KATSAYILAR!$C$7","v":20002.5},{"$f":"ROUND(R72*KATSAYILAR!$C$20,2)","v":151.82},0,0,null,null,0,0,0,0,0,0,0,0,null,0,0]
[71,{"$f":"'BİLGİ GİRİŞİ'!F75","v":0},{"$f":"\nIF('BİLGİ GİRİŞİ'!G75=KATSAYILAR!$B$16,KATSAYILAR!$C$16,\nIF('BİLGİ GİRİŞİ'!G75=KATSAYILAR!$B$17,KATSAYILAR!$C$17,\nIF('BİLGİ GİRİŞİ'!G75=KATSAYILAR!$B$18,KATSAYILAR!$C$18,0)))","v":0},{"$f":"'BİLGİ GİRİŞİ'!H75","v":0},{"$f":"IF('EK DERS Ücret Hesaplama'!O76-C73-D73-'EK DERS Ücret Hesaplama'!AF76-'EK DERS Ücret Hesaplama'!AH76<=0,0,'EK DERS Ücret Hesaplama'!O76-C73-D73-'EK DERS Ücret Hesaplama'!AF76-'EK DERS Ücret Hesaplama'!AH76)","v":0},null,{"$f":"'EK DERS Ücret Hesaplama'!T76","v":0},0,0,{"$f":"ROUND(\nIF(G73>=KATSAYILAR!$C$13,H73*KATSAYILAR!$B$14,\nIF(I73>KATSAYILAR!$C$13,(I73-KATSAYILAR!$C$13)*KATSAYILAR!$B$14+(KATSAYILAR!$C$13-G73)*KATSAYILAR!$B$13,\nIF(G73>KATSAYILAR!$C$12,H73*KATSAYILAR!$B$13,\nIF(I73>KATSAYILAR!$C$12,(I73-KATSAYILAR!$C$12)*KATSAYILAR!$B$13+(KATSAYILAR!$C$12-G73)*KATSAYILAR!$B$12,\nIF(G73>KATSAYILAR!$C$11,H73*KATSAYILAR!$B$12,\nIF(I73>KATSAYILAR!$C$11,(I73-KATSAYILAR!$C$11)*KATSAYILAR!$B$12+(KATSAYILAR!$C$11-G73)*KATSAYILAR!$B$11,\nH73*KATSAYILAR!$B$11)))))),2)","v":0},{"$f":"KATSAYILAR!$C$6","v":17002.13},{"$f":"ROUND(K73*KATSAYILAR!$B$11,2)","v":2550.3200000000002},0,0,null,{"$f":"'EK DERS Ücret Hesaplama'!O76","v":0},{"$f":"ROUND(P73*KATSAYILAR!$C$20,2)","v":0},{"$f":"KATSAYILAR!$C$7","v":20002.5},{"$f":"ROUND(R73*KATSAYILAR!$C$20,2)","v":151.82},0,0,null,null,0,0,0,0,0,0,0,0,null,0,0]
[72,{"$f":"'BİLGİ GİRİŞİ'!F76","v":0},{"$f":"\nIF('BİLGİ GİRİŞİ'!G76=KATSAYILAR!$B$16,KATSAYILAR!$C$16,\nIF('BİLGİ GİRİŞİ'!G76=KATSAYILAR!$B$17,KATSAYILAR!$C$17,\nIF('BİLGİ GİRİŞİ'!G76=KATSAYILAR!$B$18,KATSAYILAR!$C$18,0)))","v":0},{"$f":"'BİLGİ GİRİŞİ'!H76","v":0},{"$f":"IF('EK DERS Ücret Hesaplama'!O77-C74-D74-'EK DERS Ücret Hesaplama'!AF77-'EK DERS Ücret Hesaplama'!AH77<=0,0,'EK DERS Ücret Hesaplama'!O77-C74-D74-'EK DERS Ücret Hesaplama'!AF77-'EK DERS Ücret Hesaplama'!AH77)","v":0},null,{"$f":"'EK DERS Ücret Hesaplama'!T77","v":0},0,0,{"$f":"ROUND(\nIF(G74>=KATSAYILAR!$C$13,H74*KATSAYILAR!$B$14,\nIF(I74>KATSAYILAR!$C$13,(I74-KATSAYILAR!$C$13)*KATSAYILAR!$B$14+(KATSAYILAR!$C$13-G74)*KATSAYILAR!$B$13,\nIF(G74>KATSAYILAR!$C$12,H74*KATSAYILAR!$B$13,\nIF(I74>KATSAYILAR!$C$12,(I74-KATSAYILAR!$C$12)*KATSAYILAR!$B$13+(KATSAYILAR!$C$12-G74)*KATSAYILAR!$B$12,\nIF(G74>KATSAYILAR!$C$11,H74*KATSAYILAR!$B$12,\nIF(I74>KATSAYILAR!$C$11,(I74-KATSAYILAR!$C$11)*KATSAYILAR!$B$12+(KATSAYILAR!$C$11-G74)*KATSAYILAR!$B$11,\nH74*KATSAYILAR!$B$11)))))),2)","v":0},{"$f":"KATSAYILAR!$C$6","v":17002.13},{"$f":"ROUND(K74*KATSAYILAR!$B$11,2)","v":2550.3200000000002},0,0,null,{"$f":"'EK DERS Ücret Hesaplama'!O77","v":0},{"$f":"ROUND(P74*KATSAYILAR!$C$20,2)","v":0},{"$f":"KATSAYILAR!$C$7","v":20002.5},{"$f":"ROUND(R74*KATSAYILAR!$C$20,2)","v":151.82},0,0,null,null,0,0,0,0,0,0,0,0,null,0,0]
[73,{"$f":"'BİLGİ GİRİŞİ'!F77","v":0},{"$f":"\nIF('BİLGİ GİRİŞİ'!G77=KATSAYILAR!$B$16,KATSAYILAR!$C$16,\nIF('BİLGİ GİRİŞİ'!G77=KATSAYILAR!$B$17,KATSAYILAR!$C$17,\nIF('BİLGİ GİRİŞİ'!G77=KATSAYILAR!$B$18,KATSAYILAR!$C$18,0)))","v":0},{"$f":"'BİLGİ GİRİŞİ'!H77","v":0},{"$f":"IF('EK DERS Ücret Hesaplama'!O78-C75-D75-'EK DERS Ücret Hesaplama'!AF78-'EK DERS Ücret Hesaplama'!AH78<=0,0,'EK DERS Ücret Hesaplama'!O78-C75-D75-'EK DERS Ücret Hesaplama'!AF78-'EK DERS Ücret Hesaplama'!AH78)","v":0},null,{"$f":"'EK DERS Ücret Hesaplama'!T78","v":0},0,0,{"$f":"ROUND(\nIF(G75>=KATSAYILAR!$C$13,H75*KATSAYILAR!$B$14,\nIF(I75>KATSAYILAR!$C$13,(I75-KATSAYILAR!$C$13)*KATSAYILAR!$B$14+(KATSAYILAR!$C$13-G75)*KATSAYILAR!$B$13,\nIF(G75>KATSAYILAR!$C$12,H75*KATSAYILAR!$B$13,\nIF(I75>KATSAYILAR!$C$12,(I75-KATSAYILAR!$C$12)*KATSAYILAR!$B$13+(KATSAYILAR!$C$12-G75)*KATSAYILAR!$B$12,\nIF(G75>KATSAYILAR!$C$11,H75*KATSAYILAR!$B$12,\nIF(I75>KATSAYILAR!$C$11,(I75-KATSAYILAR!$C$11)*KATSAYILAR!$B$12+(KATSAYILAR!$C$11-G75)*KATSAYILAR!$B$11,\nH75*KATSAYILAR!$B$11)))))),2)","v":0},{"$f":"KATSAYILAR!$C$6","v":17002.13},{"$f":"ROUND(K75*KATSAYILAR!$B$11,2)","v":2550.3200000000002},0,0,null,{"$f":"'EK DERS Ücret Hesaplama'!O78","v":0},{"$f":"ROUND(P75*KATSAYILAR!$C$20,2)","v":0},{"$f":"KATSAYILAR!$C$7","v":20002.5},{"$f":"ROUND(R75*KATSAYILAR!$C$20,2)","v":151.82},0,0,null,null,0,0,0,0,0,0,0,0,null,0,0]
[74,{"$f":"'BİLGİ GİRİŞİ'!F78","v":0},{"$f":"\nIF('BİLGİ GİRİŞİ'!G78=KATSAYILAR!$B$16,KATSAYILAR!$C$16,\nIF('BİLGİ GİRİŞİ'!G78=KATSAYILAR!$B$17,KATSAYILAR!$C$17,\nIF('BİLGİ GİRİŞİ'!G78=KATSAYILAR!$B$18,KATSAYILAR!$C$18,0)))","v":0},{"$f":"'BİLGİ GİRİŞİ'!H78","v":0},{"$f":"IF('EK DERS Ücret Hesaplama'!O79-C76-D76-'EK DERS Ücret Hesaplama'!AF79-'EK DERS Ücret Hesaplama'!AH79<=0,0,'EK DERS Ücret Hesaplama'!O79-C76-D76-'EK DERS Ücret Hesaplama'!AF79-'EK DERS Ücret Hesaplama'!AH79)","v":0},null,{"$f":"'EK DERS Ücret Hesaplama'!T79","v":0},0,0,{"$f":"ROUND(\nIF(G76>=KATSAYILAR!$C$13,H76*KATSAYILAR!$B$14,\nIF(I76>KATSAYILAR!$C$13,(I76-KATSAYILAR!$C$13)*KATSAYILAR!$B$14+(KATSAYILAR!$C$13-G76)*KATSAYILAR!$B$13,\nIF(G76>KATSAYILAR!$C$12,H76*KATSAYILAR!$B$13,\nIF(I76>KATSAYILAR!$C$12,(I76-KATSAYILAR!$C$12)*KATSAYILAR!$B$13+(KATSAYILAR!$C$12-G76)*KATSAYILAR!$B$12,\nIF(G76>KATSAYILAR!$C$11,H76*KATSAYILAR!$B$12,\nIF(I76>KATSAYILAR!$C$11,(I76-KATSAYILAR!$C$11)*KATSAYILAR!$B$12+(KATSAYILAR!$C$11-G76)*KATSAYILAR!$B$11,\nH76*KATSAYILAR!$B$11)))))),2)","v":0},{"$f":"KATSAYILAR!$C$6","v":17002.13},{"$f":"ROUND(K76*KATSAYILAR!$B$11,2)","v":2550.3200000000002},0,0,null,{"$f":"'EK DERS Ücret Hesaplama'!O79","v":0},{"$f":"ROUND(P76*KATSAYILAR!$C$20,2)","v":0},{"$f":"KATSAYILAR!$C$7","v":20002.5},{"$f":"ROUND(R76*KATSAYILAR!$C$20,2)","v":151.82},0,0,null,null,0,0,0,0,0,0,0,0,null,0,0]
[75,{"$f":"'BİLGİ GİRİŞİ'!F79","v":0},{"$f":"\nIF('BİLGİ GİRİŞİ'!G79=KATSAYILAR!$B$16,KATSAYILAR!$C$16,\nIF('BİLGİ GİRİŞİ'!G79=KATSAYILAR!$B$17,KATSAYILAR!$C$17,\nIF('BİLGİ GİRİŞİ'!G79=KATSAYILAR!$B$18,KATSAYILAR!$C$18,0)))","v":0},{"$f":"'BİLGİ GİRİŞİ'!H79","v":0},{"$f":"IF('EK DERS Ücret Hesaplama'!O80-C77-D77-'EK DERS Ücret Hesaplama'!AF80-'EK DERS Ücret Hesaplama'!AH80<=0,0,'EK DERS Ücret Hesaplama'!O80-C77-D77-'EK DERS Ücret Hesaplama'!AF80-'EK DERS Ücret Hesaplama'!AH80)","v":0},null,{"$f":"'EK DERS Ücret Hesaplama'!T80","v":0},0,0,{"$f":"ROUND(\nIF(G77>=KATSAYILAR!$C$13,H77*KATSAYILAR!$B$14,\nIF(I77>KATSAYILAR!$C$13,(I77-KATSAYILAR!$C$13)*KATSAYILAR!$B$14+(KATSAYILAR!$C$13-G77)*KATSAYILAR!$B$13,\nIF(G77>KATSAYILAR!$C$12,H77*KATSAYILAR!$B$13,\nIF(I77>KATSAYILAR!$C$12,(I77-KATSAYILAR!$C$12)*KATSAYILAR!$B$13+(KATSAYILAR!$C$12-G77)*KATSAYILAR!$B$12,\nIF(G77>KATSAYILAR!$C$11,H77*KATSAYILAR!$B$12,\nIF(I77>KATSAYILAR!$C$11,(I77-KATSAYILAR!$C$11)*KATSAYILAR!$B$12+(KATSAYILAR!$C$11-G77)*KATSAYILAR!$B$11,\nH77*KATSAYILAR!$B$11)))))),2)","v":0},{"$f":"KATSAYILAR!$C$6","v":17002.13},{"$f":"ROUND(K77*KATSAYILAR!$B$11,2)","v":2550.3200000000002},0,0,null,{"$f":"'EK DERS Ücret Hesaplama'!O80","v":0},{"$f":"ROUND(P77*KATSAYILAR!$C$20,2)","v":0},{"$f":"KATSAYILAR!$C$7","v":20002.5},{"$f":"ROUND(R77*KATSAYILAR!$C$20,2)","v":151.82},0,0,null,null,0,0,0,0,0,0,0,0,null,0,0]
[76,{"$f":"'BİLGİ GİRİŞİ'!F80","v":0},{"$f":"\nIF('BİLGİ GİRİŞİ'!G80=KATSAYILAR!$B$16,KATSAYILAR!$C$16,\nIF('BİLGİ GİRİŞİ'!G80=KATSAYILAR!$B$17,KATSAYILAR!$C$17,\nIF('BİLGİ GİRİŞİ'!G80=KATSAYILAR!$B$18,KATSAYILAR!$C$18,0)))","v":0},{"$f":"'BİLGİ GİRİŞİ'!H80","v":0},{"$f":"IF('EK DERS Ücret Hesaplama'!O81-C78-D78-'EK DERS Ücret Hesaplama'!AF81-'EK DERS Ücret Hesaplama'!AH81<=0,0,'EK DERS Ücret Hesaplama'!O81-C78-D78-'EK DERS Ücret Hesaplama'!AF81-'EK DERS Ücret Hesaplama'!AH81)","v":0},null,{"$f":"'EK DERS Ücret Hesaplama'!T81","v":0},0,0,{"$f":"ROUND(\nIF(G78>=KATSAYILAR!$C$13,H78*KATSAYILAR!$B$14,\nIF(I78>KATSAYILAR!$C$13,(I78-KATSAYILAR!$C$13)*KATSAYILAR!$B$14+(KATSAYILAR!$C$13-G78)*KATSAYILAR!$B$13,\nIF(G78>KATSAYILAR!$C$12,H78*KATSAYILAR!$B$13,\nIF(I78>KATSAYILAR!$C$12,(I78-KATSAYILAR!$C$12)*KATSAYILAR!$B$13+(KATSAYILAR!$C$12-G78)*KATSAYILAR!$B$12,\nIF(G78>KATSAYILAR!$C$11,H78*KATSAYILAR!$B$12,\nIF(I78>KATSAYILAR!$C$11,(I78-KATSAYILAR!$C$11)*KATSAYILAR!$B$12+(KATSAYILAR!$C$11-G78)*KATSAYILAR!$B$11,\nH78*KATSAYILAR!$B$11)))))),2)","v":0},{"$f":"KATSAYILAR!$C$6","v":17002.13},{"$f":"ROUND(K78*KATSAYILAR!$B$11,2)","v":2550.3200000000002},0,0,null,{"$f":"'EK DERS Ücret Hesaplama'!O81","v":0},{"$f":"ROUND(P78*KATSAYILAR!$C$20,2)","v":0},{"$f":"KATSAYILAR!$C$7","v":20002.5},{"$f":"ROUND(R78*KATSAYILAR!$C$20,2)","v":151.82},0,0,null,null,0,0,0,0,0,0,0,0,null,0,0]
[77,{"$f":"'BİLGİ GİRİŞİ'!F81","v":0},{"$f":"\nIF('BİLGİ GİRİŞİ'!G81=KATSAYILAR!$B$16,KATSAYILAR!$C$16,\nIF('BİLGİ GİRİŞİ'!G81=KATSAYILAR!$B$17,KATSAYILAR!$C$17,\nIF('BİLGİ GİRİŞİ'!G81=KATSAYILAR!$B$18,KATSAYILAR!$C$18,0)))","v":0},{"$f":"'BİLGİ GİRİŞİ'!H81","v":0},{"$f":"IF('EK DERS Ücret Hesaplama'!O82-C79-D79-'EK DERS Ücret Hesaplama'!AF82-'EK DERS Ücret Hesaplama'!AH82<=0,0,'EK DERS Ücret Hesaplama'!O82-C79-D79-'EK DERS Ücret Hesaplama'!AF82-'EK DERS Ücret Hesaplama'!AH82)","v":0},null,{"$f":"'EK DERS Ücret Hesaplama'!T82","v":0},0,0,{"$f":"ROUND(\nIF(G79>=KATSAYILAR!$C$13,H79*KATSAYILAR!$B$14,\nIF(I79>KATSAYILAR!$C$13,(I79-KATSAYILAR!$C$13)*KATSAYILAR!$B$14+(KATSAYILAR!$C$13-G79)*KATSAYILAR!$B$13,\nIF(G79>KATSAYILAR!$C$12,H79*KATSAYILAR!$B$13,\nIF(I79>KATSAYILAR!$C$12,(I79-KATSAYILAR!$C$12)*KATSAYILAR!$B$13+(KATSAYILAR!$C$12-G79)*KATSAYILAR!$B$12,\nIF(G79>KATSAYILAR!$C$11,H79*KATSAYILAR!$B$12,\nIF(I79>KATSAYILAR!$C$11,(I79-KATSAYILAR!$C$11)*KATSAYILAR!$B$12+(KATSAYILAR!$C$11-G79)*KATSAYILAR!$B$11,\nH79*KATSAYILAR!$B$11)))))),2)","v":0},{"$f":"KATSAYILAR!$C$6","v":17002.13},{"$f":"ROUND(K79*KATSAYILAR!$B$11,2)","v":2550.3200000000002},0,0,null,{"$f":"'EK DERS Ücret Hesaplama'!O82","v":0},{"$f":"ROUND(P79*KATSAYILAR!$C$20,2)","v":0},{"$f":"KATSAYILAR!$C$7","v":20002.5},{"$f":"ROUND(R79*KATSAYILAR!$C$20,2)","v":151.82},0,0,null,null,0,0,0,0,0,0,0,0,null,0,0]
[78,{"$f":"'BİLGİ GİRİŞİ'!F82","v":0},{"$f":"\nIF('BİLGİ GİRİŞİ'!G82=KATSAYILAR!$B$16,KATSAYILAR!$C$16,\nIF('BİLGİ GİRİŞİ'!G82=KATSAYILAR!$B$17,KATSAYILAR!$C$17,\nIF('BİLGİ GİRİŞİ'!G82=KATSAYILAR!$B$18,KATSAYILAR!$C$18,0)))","v":0},{"$f":"'BİLGİ GİRİŞİ'!H82","v":0},{"$f":"IF('EK DERS Ücret Hesaplama'!O83-C80-D80-'EK DERS Ücret Hesaplama'!AF83-'EK DERS Ücret Hesaplama'!AH83<=0,0,'EK DERS Ücret Hesaplama'!O83-C80-D80-'EK DERS Ücret Hesaplama'!AF83-'EK DERS Ücret Hesaplama'!AH83)","v":0},null,{"$f":"'EK DERS Ücret Hesaplama'!T83","v":0},0,0,{"$f":"ROUND(\nIF(G80>=KATSAYILAR!$C$13,H80*KATSAYILAR!$B$14,\nIF(I80>KATSAYILAR!$C$13,(I80-KATSAYILAR!$C$13)*KATSAYILAR!$B$14+(KATSAYILAR!$C$13-G80)*KATSAYILAR!$B$13,\nIF(G80>KATSAYILAR!$C$12,H80*KATSAYILAR!$B$13,\nIF(I80>KATSAYILAR!$C$12,(I80-KATSAYILAR!$C$12)*KATSAYILAR!$B$13+(KATSAYILAR!$C$12-G80)*KATSAYILAR!$B$12,\nIF(G80>KATSAYILAR!$C$11,H80*KATSAYILAR!$B$12,\nIF(I80>KATSAYILAR!$C$11,(I80-KATSAYILAR!$C$11)*KATSAYILAR!$B$12+(KATSAYILAR!$C$11-G80)*KATSAYILAR!$B$11,\nH80*KATSAYILAR!$B$11)))))),2)","v":0},{"$f":"KATSAYILAR!$C$6","v":17002.13},{"$f":"ROUND(K80*KATSAYILAR!$B$11,2)","v":2550.3200000000002},0,0,null,{"$f":"'EK DERS Ücret Hesaplama'!O83","v":0},{"$f":"ROUND(P80*KATSAYILAR!$C$20,2)","v":0},{"$f":"KATSAYILAR!$C$7","v":20002.5},{"$f":"ROUND(R80*KATSAYILAR!$C$20,2)","v":151.82},0,0,null,null,0,0,0,0,0,0,0,0,null,0,0]
[79,{"$f":"'BİLGİ GİRİŞİ'!F83","v":0},{"$f":"\nIF('BİLGİ GİRİŞİ'!G83=KATSAYILAR!$B$16,KATSAYILAR!$C$16,\nIF('BİLGİ GİRİŞİ'!G83=KATSAYILAR!$B$17,KATSAYILAR!$C$17,\nIF('BİLGİ GİRİŞİ'!G83=KATSAYILAR!$B$18,KATSAYILAR!$C$18,0)))","v":0},{"$f":"'BİLGİ GİRİŞİ'!H83","v":0},{"$f":"IF('EK DERS Ücret Hesaplama'!O84-C81-D81-'EK DERS Ücret Hesaplama'!AF84-'EK DERS Ücret Hesaplama'!AH84<=0,0,'EK DERS Ücret Hesaplama'!O84-C81-D81-'EK DERS Ücret Hesaplama'!AF84-'EK DERS Ücret Hesaplama'!AH84)","v":0},null,{"$f":"'EK DERS Ücret Hesaplama'!T84","v":0},0,0,{"$f":"ROUND(\nIF(G81>=KATSAYILAR!$C$13,H81*KATSAYILAR!$B$14,\nIF(I81>KATSAYILAR!$C$13,(I81-KATSAYILAR!$C$13)*KATSAYILAR!$B$14+(KATSAYILAR!$C$13-G81)*KATSAYILAR!$B$13,\nIF(G81>KATSAYILAR!$C$12,H81*KATSAYILAR!$B$13,\nIF(I81>KATSAYILAR!$C$12,(I81-KATSAYILAR!$C$12)*KATSAYILAR!$B$13+(KATSAYILAR!$C$12-G81)*KATSAYILAR!$B$12,\nIF(G81>KATSAYILAR!$C$11,H81*KATSAYILAR!$B$12,\nIF(I81>KATSAYILAR!$C$11,(I81-KATSAYILAR!$C$11)*KATSAYILAR!$B$12+(KATSAYILAR!$C$11-G81)*KATSAYILAR!$B$11,\nH81*KATSAYILAR!$B$11)))))),2)","v":0},{"$f":"KATSAYILAR!$C$6","v":17002.13},{"$f":"ROUND(K81*KATSAYILAR!$B$11,2)","v":2550.3200000000002},0,0,null,{"$f":"'EK DERS Ücret Hesaplama'!O84","v":0},{"$f":"ROUND(P81*KATSAYILAR!$C$20,2)","v":0},{"$f":"KATSAYILAR!$C$7","v":20002.5},{"$f":"ROUND(R81*KATSAYILAR!$C$20,2)","v":151.82},0,0,null,null,0,0,0,0,0,0,0,0,null,0,0]
[80,{"$f":"'BİLGİ GİRİŞİ'!F84","v":0},{"$f":"\nIF('BİLGİ GİRİŞİ'!G84=KATSAYILAR!$B$16,KATSAYILAR!$C$16,\nIF('BİLGİ GİRİŞİ'!G84=KATSAYILAR!$B$17,KATSAYILAR!$C$17,\nIF('BİLGİ GİRİŞİ'!G84=KATSAYILAR!$B$18,KATSAYILAR!$C$18,0)))","v":0},{"$f":"'BİLGİ GİRİŞİ'!H84","v":0},{"$f":"IF('EK DERS Ücret Hesaplama'!O85-C82-D82-'EK DERS Ücret Hesaplama'!AF85-'EK DERS Ücret Hesaplama'!AH85<=0,0,'EK DERS Ücret Hesaplama'!O85-C82-D82-'EK DERS Ücret Hesaplama'!AF85-'EK DERS Ücret Hesaplama'!AH85)","v":0},null,{"$f":"'EK DERS Ücret Hesaplama'!T85","v":0},0,0,{"$f":"ROUND(\nIF(G82>=KATSAYILAR!$C$13,H82*KATSAYILAR!$B$14,\nIF(I82>KATSAYILAR!$C$13,(I82-KATSAYILAR!$C$13)*KATSAYILAR!$B$14+(KATSAYILAR!$C$13-G82)*KATSAYILAR!$B$13,\nIF(G82>KATSAYILAR!$C$12,H82*KATSAYILAR!$B$13,\nIF(I82>KATSAYILAR!$C$12,(I82-KATSAYILAR!$C$12)*KATSAYILAR!$B$13+(KATSAYILAR!$C$12-G82)*KATSAYILAR!$B$12,\nIF(G82>KATSAYILAR!$C$11,H82*KATSAYILAR!$B$12,\nIF(I82>KATSAYILAR!$C$11,(I82-KATSAYILAR!$C$11)*KATSAYILAR!$B$12+(KATSAYILAR!$C$11-G82)*KATSAYILAR!$B$11,\nH82*KATSAYILAR!$B$11)))))),2)","v":0},{"$f":"KATSAYILAR!$C$6","v":17002.13},{"$f":"ROUND(K82*KATSAYILAR!$B$11,2)","v":2550.3200000000002},0,0,null,{"$f":"'EK DERS Ücret Hesaplama'!O85","v":0},{"$f":"ROUND(P82*KATSAYILAR!$C$20,2)","v":0},{"$f":"KATSAYILAR!$C$7","v":20002.5},{"$f":"ROUND(R82*KATSAYILAR!$C$20,2)","v":151.82},0,0,null,null,0,0,0,0,0,0,0,0,null,0,0]
[81,{"$f":"'BİLGİ GİRİŞİ'!F85","v":0},{"$f":"\nIF('BİLGİ GİRİŞİ'!G85=KATSAYILAR!$B$16,KATSAYILAR!$C$16,\nIF('BİLGİ GİRİŞİ'!G85=KATSAYILAR!$B$17,KATSAYILAR!$C$17,\nIF('BİLGİ GİRİŞİ'!G85=KATSAYILAR!$B$18,KATSAYILAR!$C$18,0)))","v":0},{"$f":"'BİLGİ GİRİŞİ'!H85","v":0},{"$f":"IF('EK DERS Ücret Hesaplama'!O86-C83-D83-'EK DERS Ücret Hesaplama'!AF86-'EK DERS Ücret Hesaplama'!AH86<=0,0,'EK DERS Ücret Hesaplama'!O86-C83-D83-'EK DERS Ücret Hesaplama'!AF86-'EK DERS Ücret Hesaplama'!AH86)","v":0},null,{"$f":"'EK DERS Ücret Hesaplama'!T86","v":0},0,0,{"$f":"ROUND(\nIF(G83>=KATSAYILAR!$C$13,H83*KATSAYILAR!$B$14,\nIF(I83>KATSAYILAR!$C$13,(I83-KATSAYILAR!$C$13)*KATSAYILAR!$B$14+(KATSAYILAR!$C$13-G83)*KATSAYILAR!$B$13,\nIF(G83>KATSAYILAR!$C$12,H83*KATSAYILAR!$B$13,\nIF(I83>KATSAYILAR!$C$12,(I83-KATSAYILAR!$C$12)*KATSAYILAR!$B$13+(KATSAYILAR!$C$12-G83)*KATSAYILAR!$B$12,\nIF(G83>KATSAYILAR!$C$11,H83*KATSAYILAR!$B$12,\nIF(I83>KATSAYILAR!$C$11,(I83-KATSAYILAR!$C$11)*KATSAYILAR!$B$12+(KATSAYILAR!$C$11-G83)*KATSAYILAR!$B$11,\nH83*KATSAYILAR!$B$11)))))),2)","v":0},{"$f":"KATSAYILAR!$C$6","v":17002.13},{"$f":"ROUND(K83*KATSAYILAR!$B$11,2)","v":2550.3200000000002},0,0,null,{"$f":"'EK DERS Ücret Hesaplama'!O86","v":0},{"$f":"ROUND(P83*KATSAYILAR!$C$20,2)","v":0},{"$f":"KATSAYILAR!$C$7","v":20002.5},{"$f":"ROUND(R83*KATSAYILAR!$C$20,2)","v":151.82},0,0,null,null,0,0,0,0,0,0,0,0,null,0,0]
[82,{"$f":"'BİLGİ GİRİŞİ'!F86","v":0},{"$f":"\nIF('BİLGİ GİRİŞİ'!G86=KATSAYILAR!$B$16,KATSAYILAR!$C$16,\nIF('BİLGİ GİRİŞİ'!G86=KATSAYILAR!$B$17,KATSAYILAR!$C$17,\nIF('BİLGİ GİRİŞİ'!G86=KATSAYILAR!$B$18,KATSAYILAR!$C$18,0)))","v":0},{"$f":"'BİLGİ GİRİŞİ'!H86","v":0},{"$f":"IF('EK DERS Ücret Hesaplama'!O87-C84-D84-'EK DERS Ücret Hesaplama'!AF87-'EK DERS Ücret Hesaplama'!AH87<=0,0,'EK DERS Ücret Hesaplama'!O87-C84-D84-'EK DERS Ücret Hesaplama'!AF87-'EK DERS Ücret Hesaplama'!AH87)","v":0},null,{"$f":"'EK DERS Ücret Hesaplama'!T87","v":0},0,0,{"$f":"ROUND(\nIF(G84>=KATSAYILAR!$C$13,H84*KATSAYILAR!$B$14,\nIF(I84>KATSAYILAR!$C$13,(I84-KATSAYILAR!$C$13)*KATSAYILAR!$B$14+(KATSAYILAR!$C$13-G84)*KATSAYILAR!$B$13,\nIF(G84>KATSAYILAR!$C$12,H84*KATSAYILAR!$B$13,\nIF(I84>KATSAYILAR!$C$12,(I84-KATSAYILAR!$C$12)*KATSAYILAR!$B$13+(KATSAYILAR!$C$12-G84)*KATSAYILAR!$B$12,\nIF(G84>KATSAYILAR!$C$11,H84*KATSAYILAR!$B$12,\nIF(I84>KATSAYILAR!$C$11,(I84-KATSAYILAR!$C$11)*KATSAYILAR!$B$12+(KATSAYILAR!$C$11-G84)*KATSAYILAR!$B$11,\nH84*KATSAYILAR!$B$11)))))),2)","v":0},{"$f":"KATSAYILAR!$C$6","v":17002.13},{"$f":"ROUND(K84*KATSAYILAR!$B$11,2)","v":2550.3200000000002},0,0,null,{"$f":"'EK DERS Ücret Hesaplama'!O87","v":0},{"$f":"ROUND(P84*KATSAYILAR!$C$20,2)","v":0},{"$f":"KATSAYILAR!$C$7","v":20002.5},{"$f":"ROUND(R84*KATSAYILAR!$C$20,2)","v":151.82},0,0,null,null,0,0,0,0,0,0,0,0,null,0,0]
[83,{"$f":"'BİLGİ GİRİŞİ'!F87","v":0},{"$f":"\nIF('BİLGİ GİRİŞİ'!G87=KATSAYILAR!$B$16,KATSAYILAR!$C$16,\nIF('BİLGİ GİRİŞİ'!G87=KATSAYILAR!$B$17,KATSAYILAR!$C$17,\nIF('BİLGİ GİRİŞİ'!G87=KATSAYILAR!$B$18,KATSAYILAR!$C$18,0)))","v":0},{"$f":"'BİLGİ GİRİŞİ'!H87","v":0},{"$f":"IF('EK DERS Ücret Hesaplama'!O88-C85-D85-'EK DERS Ücret Hesaplama'!AF88-'EK DERS Ücret Hesaplama'!AH88<=0,0,'EK DERS Ücret Hesaplama'!O88-C85-D85-'EK DERS Ücret Hesaplama'!AF88-'EK DERS Ücret Hesaplama'!AH88)","v":0},null,{"$f":"'EK DERS Ücret Hesaplama'!T88","v":0},0,0,{"$f":"ROUND(\nIF(G85>=KATSAYILAR!$C$13,H85*KATSAYILAR!$B$14,\nIF(I85>KATSAYILAR!$C$13,(I85-KATSAYILAR!$C$13)*KATSAYILAR!$B$14+(KATSAYILAR!$C$13-G85)*KATSAYILAR!$B$13,\nIF(G85>KATSAYILAR!$C$12,H85*KATSAYILAR!$B$13,\nIF(I85>KATSAYILAR!$C$12,(I85-KATSAYILAR!$C$12)*KATSAYILAR!$B$13+(KATSAYILAR!$C$12-G85)*KATSAYILAR!$B$12,\nIF(G85>KATSAYILAR!$C$11,H85*KATSAYILAR!$B$12,\nIF(I85>KATSAYILAR!$C$11,(I85-KATSAYILAR!$C$11)*KATSAYILAR!$B$12+(KATSAYILAR!$C$11-G85)*KATSAYILAR!$B$11,\nH85*KATSAYILAR!$B$11)))))),2)","v":0},{"$f":"KATSAYILAR!$C$6","v":17002.13},{"$f":"ROUND(K85*KATSAYILAR!$B$11,2)","v":2550.3200000000002},0,0,null,{"$f":"'EK DERS Ücret Hesaplama'!O88","v":0},{"$f":"ROUND(P85*KATSAYILAR!$C$20,2)","v":0},{"$f":"KATSAYILAR!$C$7","v":20002.5},{"$f":"ROUND(R85*KATSAYILAR!$C$20,2)","v":151.82},0,0,null,null,0,0,0,0,0,0,0,0,null,0,0]
[84,{"$f":"'BİLGİ GİRİŞİ'!F88","v":0},{"$f":"\nIF('BİLGİ GİRİŞİ'!G88=KATSAYILAR!$B$16,KATSAYILAR!$C$16,\nIF('BİLGİ GİRİŞİ'!G88=KATSAYILAR!$B$17,KATSAYILAR!$C$17,\nIF('BİLGİ GİRİŞİ'!G88=KATSAYILAR!$B$18,KATSAYILAR!$C$18,0)))","v":0},{"$f":"'BİLGİ GİRİŞİ'!H88","v":0},{"$f":"IF('EK DERS Ücret Hesaplama'!O89-C86-D86-'EK DERS Ücret Hesaplama'!AF89-'EK DERS Ücret Hesaplama'!AH89<=0,0,'EK DERS Ücret Hesaplama'!O89-C86-D86-'EK DERS Ücret Hesaplama'!AF89-'EK DERS Ücret Hesaplama'!AH89)","v":0},null,{"$f":"'EK DERS Ücret Hesaplama'!T89","v":0},0,0,{"$f":"ROUND(\nIF(G86>=KATSAYILAR!$C$13,H86*KATSAYILAR!$B$14,\nIF(I86>KATSAYILAR!$C$13,(I86-KATSAYILAR!$C$13)*KATSAYILAR!$B$14+(KATSAYILAR!$C$13-G86)*KATSAYILAR!$B$13,\nIF(G86>KATSAYILAR!$C$12,H86*KATSAYILAR!$B$13,\nIF(I86>KATSAYILAR!$C$12,(I86-KATSAYILAR!$C$12)*KATSAYILAR!$B$13+(KATSAYILAR!$C$12-G86)*KATSAYILAR!$B$12,\nIF(G86>KATSAYILAR!$C$11,H86*KATSAYILAR!$B$12,\nIF(I86>KATSAYILAR!$C$11,(I86-KATSAYILAR!$C$11)*KATSAYILAR!$B$12+(KATSAYILAR!$C$11-G86)*KATSAYILAR!$B$11,\nH86*KATSAYILAR!$B$11)))))),2)","v":0},{"$f":"KATSAYILAR!$C$6","v":17002.13},{"$f":"ROUND(K86*KATSAYILAR!$B$11,2)","v":2550.3200000000002},0,0,null,{"$f":"'EK DERS Ücret Hesaplama'!O89","v":0},{"$f":"ROUND(P86*KATSAYILAR!$C$20,2)","v":0},{"$f":"KATSAYILAR!$C$7","v":20002.5},{"$f":"ROUND(R86*KATSAYILAR!$C$20,2)","v":151.82},0,0,null,null,0,0,0,0,0,0,0,0,null,0,0]
[85,{"$f":"'BİLGİ GİRİŞİ'!F89","v":0},{"$f":"\nIF('BİLGİ GİRİŞİ'!G89=KATSAYILAR!$B$16,KATSAYILAR!$C$16,\nIF('BİLGİ GİRİŞİ'!G89=KATSAYILAR!$B$17,KATSAYILAR!$C$17,\nIF('BİLGİ GİRİŞİ'!G89=KATSAYILAR!$B$18,KATSAYILAR!$C$18,0)))","v":0},{"$f":"'BİLGİ GİRİŞİ'!H89","v":0},{"$f":"IF('EK DERS Ücret Hesaplama'!O90-C87-D87-'EK DERS Ücret Hesaplama'!AF90-'EK DERS Ücret Hesaplama'!AH90<=0,0,'EK DERS Ücret Hesaplama'!O90-C87-D87-'EK DERS Ücret Hesaplama'!AF90-'EK DERS Ücret Hesaplama'!AH90)","v":0},null,{"$f":"'EK DERS Ücret Hesaplama'!T90","v":0},0,0,{"$f":"ROUND(\nIF(G87>=KATSAYILAR!$C$13,H87*KATSAYILAR!$B$14,\nIF(I87>KATSAYILAR!$C$13,(I87-KATSAYILAR!$C$13)*KATSAYILAR!$B$14+(KATSAYILAR!$C$13-G87)*KATSAYILAR!$B$13,\nIF(G87>KATSAYILAR!$C$12,H87*KATSAYILAR!$B$13,\nIF(I87>KATSAYILAR!$C$12,(I87-KATSAYILAR!$C$12)*KATSAYILAR!$B$13+(KATSAYILAR!$C$12-G87)*KATSAYILAR!$B$12,\nIF(G87>KATSAYILAR!$C$11,H87*KATSAYILAR!$B$12,\nIF(I87>KATSAYILAR!$C$11,(I87-KATSAYILAR!$C$11)*KATSAYILAR!$B$12+(KATSAYILAR!$C$11-G87)*KATSAYILAR!$B$11,\nH87*KATSAYILAR!$B$11)))))),2)","v":0},{"$f":"KATSAYILAR!$C$6","v":17002.13},{"$f":"ROUND(K87*KATSAYILAR!$B$11,2)","v":2550.3200000000002},0,0,null,{"$f":"'EK DERS Ücret Hesaplama'!O90","v":0},{"$f":"ROUND(P87*KATSAYILAR!$C$20,2)","v":0},{"$f":"KATSAYILAR!$C$7","v":20002.5},{"$f":"ROUND(R87*KATSAYILAR!$C$20,2)","v":151.82},0,0,null,null,0,0,0,0,0,0,0,0,null,0,0]
[86,{"$f":"'BİLGİ GİRİŞİ'!F90","v":0},{"$f":"\nIF('BİLGİ GİRİŞİ'!G90=KATSAYILAR!$B$16,KATSAYILAR!$C$16,\nIF('BİLGİ GİRİŞİ'!G90=KATSAYILAR!$B$17,KATSAYILAR!$C$17,\nIF('BİLGİ GİRİŞİ'!G90=KATSAYILAR!$B$18,KATSAYILAR!$C$18,0)))","v":0},{"$f":"'BİLGİ GİRİŞİ'!H90","v":0},{"$f":"IF('EK DERS Ücret Hesaplama'!O91-C88-D88-'EK DERS Ücret Hesaplama'!AF91-'EK DERS Ücret Hesaplama'!AH91<=0,0,'EK DERS Ücret Hesaplama'!O91-C88-D88-'EK DERS Ücret Hesaplama'!AF91-'EK DERS Ücret Hesaplama'!AH91)","v":0},null,{"$f":"'EK DERS Ücret Hesaplama'!T91","v":0},0,0,{"$f":"ROUND(\nIF(G88>=KATSAYILAR!$C$13,H88*KATSAYILAR!$B$14,\nIF(I88>KATSAYILAR!$C$13,(I88-KATSAYILAR!$C$13)*KATSAYILAR!$B$14+(KATSAYILAR!$C$13-G88)*KATSAYILAR!$B$13,\nIF(G88>KATSAYILAR!$C$12,H88*KATSAYILAR!$B$13,\nIF(I88>KATSAYILAR!$C$12,(I88-KATSAYILAR!$C$12)*KATSAYILAR!$B$13+(KATSAYILAR!$C$12-G88)*KATSAYILAR!$B$12,\nIF(G88>KATSAYILAR!$C$11,H88*KATSAYILAR!$B$12,\nIF(I88>KATSAYILAR!$C$11,(I88-KATSAYILAR!$C$11)*KATSAYILAR!$B$12+(KATSAYILAR!$C$11-G88)*KATSAYILAR!$B$11,\nH88*KATSAYILAR!$B$11)))))),2)","v":0},{"$f":"KATSAYILAR!$C$6","v":17002.13},{"$f":"ROUND(K88*KATSAYILAR!$B$11,2)","v":2550.3200000000002},0,0,null,{"$f":"'EK DERS Ücret Hesaplama'!O91","v":0},{"$f":"ROUND(P88*KATSAYILAR!$C$20,2)","v":0},{"$f":"KATSAYILAR!$C$7","v":20002.5},{"$f":"ROUND(R88*KATSAYILAR!$C$20,2)","v":151.82},0,0,null,null,0,0,0,0,0,0,0,0,null,0,0]
[87,{"$f":"'BİLGİ GİRİŞİ'!F91","v":0},{"$f":"\nIF('BİLGİ GİRİŞİ'!G91=KATSAYILAR!$B$16,KATSAYILAR!$C$16,\nIF('BİLGİ GİRİŞİ'!G91=KATSAYILAR!$B$17,KATSAYILAR!$C$17,\nIF('BİLGİ GİRİŞİ'!G91=KATSAYILAR!$B$18,KATSAYILAR!$C$18,0)))","v":0},{"$f":"'BİLGİ GİRİŞİ'!H91","v":0},{"$f":"IF('EK DERS Ücret Hesaplama'!O92-C89-D89-'EK DERS Ücret Hesaplama'!AF92-'EK DERS Ücret Hesaplama'!AH92<=0,0,'EK DERS Ücret Hesaplama'!O92-C89-D89-'EK DERS Ücret Hesaplama'!AF92-'EK DERS Ücret Hesaplama'!AH92)","v":0},null,{"$f":"'EK DERS Ücret Hesaplama'!T92","v":0},0,0,{"$f":"ROUND(\nIF(G89>=KATSAYILAR!$C$13,H89*KATSAYILAR!$B$14,\nIF(I89>KATSAYILAR!$C$13,(I89-KATSAYILAR!$C$13)*KATSAYILAR!$B$14+(KATSAYILAR!$C$13-G89)*KATSAYILAR!$B$13,\nIF(G89>KATSAYILAR!$C$12,H89*KATSAYILAR!$B$13,\nIF(I89>KATSAYILAR!$C$12,(I89-KATSAYILAR!$C$12)*KATSAYILAR!$B$13+(KATSAYILAR!$C$12-G89)*KATSAYILAR!$B$12,\nIF(G89>KATSAYILAR!$C$11,H89*KATSAYILAR!$B$12,\nIF(I89>KATSAYILAR!$C$11,(I89-KATSAYILAR!$C$11)*KATSAYILAR!$B$12+(KATSAYILAR!$C$11-G89)*KATSAYILAR!$B$11,\nH89*KATSAYILAR!$B$11)))))),2)","v":0},{"$f":"KATSAYILAR!$C$6","v":17002.13},{"$f":"ROUND(K89*KATSAYILAR!$B$11,2)","v":2550.3200000000002},0,0,null,{"$f":"'EK DERS Ücret Hesaplama'!O92","v":0},{"$f":"ROUND(P89*KATSAYILAR!$C$20,2)","v":0},{"$f":"KATSAYILAR!$C$7","v":20002.5},{"$f":"ROUND(R89*KATSAYILAR!$C$20,2)","v":151.82},0,0,null,null,0,0,0,0,0,0,0,0,null,0,0]
[88,{"$f":"'BİLGİ GİRİŞİ'!F92","v":0},{"$f":"\nIF('BİLGİ GİRİŞİ'!G92=KATSAYILAR!$B$16,KATSAYILAR!$C$16,\nIF('BİLGİ GİRİŞİ'!G92=KATSAYILAR!$B$17,KATSAYILAR!$C$17,\nIF('BİLGİ GİRİŞİ'!G92=KATSAYILAR!$B$18,KATSAYILAR!$C$18,0)))","v":0},{"$f":"'BİLGİ GİRİŞİ'!H92","v":0},{"$f":"IF('EK DERS Ücret Hesaplama'!O93-C90-D90-'EK DERS Ücret Hesaplama'!AF93-'EK DERS Ücret Hesaplama'!AH93<=0,0,'EK DERS Ücret Hesaplama'!O93-C90-D90-'EK DERS Ücret Hesaplama'!AF93-'EK DERS Ücret Hesaplama'!AH93)","v":0},null,{"$f":"'EK DERS Ücret Hesaplama'!T93","v":0},0,0,{"$f":"ROUND(\nIF(G90>=KATSAYILAR!$C$13,H90*KATSAYILAR!$B$14,\nIF(I90>KATSAYILAR!$C$13,(I90-KATSAYILAR!$C$13)*KATSAYILAR!$B$14+(KATSAYILAR!$C$13-G90)*KATSAYILAR!$B$13,\nIF(G90>KATSAYILAR!$C$12,H90*KATSAYILAR!$B$13,\nIF(I90>KATSAYILAR!$C$12,(I90-KATSAYILAR!$C$12)*KATSAYILAR!$B$13+(KATSAYILAR!$C$12-G90)*KATSAYILAR!$B$12,\nIF(G90>KATSAYILAR!$C$11,H90*KATSAYILAR!$B$12,\nIF(I90>KATSAYILAR!$C$11,(I90-KATSAYILAR!$C$11)*KATSAYILAR!$B$12+(KATSAYILAR!$C$11-G90)*KATSAYILAR!$B$11,\nH90*KATSAYILAR!$B$11)))))),2)","v":0},{"$f":"KATSAYILAR!$C$6","v":17002.13},{"$f":"ROUND(K90*KATSAYILAR!$B$11,2)","v":2550.3200000000002},0,0,null,{"$f":"'EK DERS Ücret Hesaplama'!O93","v":0},{"$f":"ROUND(P90*KATSAYILAR!$C$20,2)","v":0},{"$f":"KATSAYILAR!$C$7","v":20002.5},{"$f":"ROUND(R90*KATSAYILAR!$C$20,2)","v":151.82},0,0,null,null,0,0,0,0,0,0,0,0,null,0,0]
[89,{"$f":"'BİLGİ GİRİŞİ'!F93","v":0},{"$f":"\nIF('BİLGİ GİRİŞİ'!G93=KATSAYILAR!$B$16,KATSAYILAR!$C$16,\nIF('BİLGİ GİRİŞİ'!G93=KATSAYILAR!$B$17,KATSAYILAR!$C$17,\nIF('BİLGİ GİRİŞİ'!G93=KATSAYILAR!$B$18,KATSAYILAR!$C$18,0)))","v":0},{"$f":"'BİLGİ GİRİŞİ'!H93","v":0},{"$f":"IF('EK DERS Ücret Hesaplama'!O94-C91-D91-'EK DERS Ücret Hesaplama'!AF94-'EK DERS Ücret Hesaplama'!AH94<=0,0,'EK DERS Ücret Hesaplama'!O94-C91-D91-'EK DERS Ücret Hesaplama'!AF94-'EK DERS Ücret Hesaplama'!AH94)","v":0},null,{"$f":"'EK DERS Ücret Hesaplama'!T94","v":0},0,0,{"$f":"ROUND(\nIF(G91>=KATSAYILAR!$C$13,H91*KATSAYILAR!$B$14,\nIF(I91>KATSAYILAR!$C$13,(I91-KATSAYILAR!$C$13)*KATSAYILAR!$B$14+(KATSAYILAR!$C$13-G91)*KATSAYILAR!$B$13,\nIF(G91>KATSAYILAR!$C$12,H91*KATSAYILAR!$B$13,\nIF(I91>KATSAYILAR!$C$12,(I91-KATSAYILAR!$C$12)*KATSAYILAR!$B$13+(KATSAYILAR!$C$12-G91)*KATSAYILAR!$B$12,\nIF(G91>KATSAYILAR!$C$11,H91*KATSAYILAR!$B$12,\nIF(I91>KATSAYILAR!$C$11,(I91-KATSAYILAR!$C$11)*KATSAYILAR!$B$12+(KATSAYILAR!$C$11-G91)*KATSAYILAR!$B$11,\nH91*KATSAYILAR!$B$11)))))),2)","v":0},{"$f":"KATSAYILAR!$C$6","v":17002.13},{"$f":"ROUND(K91*KATSAYILAR!$B$11,2)","v":2550.3200000000002},0,0,null,{"$f":"'EK DERS Ücret Hesaplama'!O94","v":0},{"$f":"ROUND(P91*KATSAYILAR!$C$20,2)","v":0},{"$f":"KATSAYILAR!$C$7","v":20002.5},{"$f":"ROUND(R91*KATSAYILAR!$C$20,2)","v":151.82},0,0,null,null,0,0,0,0,0,0,0,0,null,0,0]
[90,{"$f":"'BİLGİ GİRİŞİ'!F94","v":0},{"$f":"\nIF('BİLGİ GİRİŞİ'!G94=KATSAYILAR!$B$16,KATSAYILAR!$C$16,\nIF('BİLGİ GİRİŞİ'!G94=KATSAYILAR!$B$17,KATSAYILAR!$C$17,\nIF('BİLGİ GİRİŞİ'!G94=KATSAYILAR!$B$18,KATSAYILAR!$C$18,0)))","v":0},{"$f":"'BİLGİ GİRİŞİ'!H94","v":0},{"$f":"IF('EK DERS Ücret Hesaplama'!O95-C92-D92-'EK DERS Ücret Hesaplama'!AF95-'EK DERS Ücret Hesaplama'!AH95<=0,0,'EK DERS Ücret Hesaplama'!O95-C92-D92-'EK DERS Ücret Hesaplama'!AF95-'EK DERS Ücret Hesaplama'!AH95)","v":0},null,{"$f":"'EK DERS Ücret Hesaplama'!T95","v":0},0,0,{"$f":"ROUND(\nIF(G92>=KATSAYILAR!$C$13,H92*KATSAYILAR!$B$14,\nIF(I92>KATSAYILAR!$C$13,(I92-KATSAYILAR!$C$13)*KATSAYILAR!$B$14+(KATSAYILAR!$C$13-G92)*KATSAYILAR!$B$13,\nIF(G92>KATSAYILAR!$C$12,H92*KATSAYILAR!$B$13,\nIF(I92>KATSAYILAR!$C$12,(I92-KATSAYILAR!$C$12)*KATSAYILAR!$B$13+(KATSAYILAR!$C$12-G92)*KATSAYILAR!$B$12,\nIF(G92>KATSAYILAR!$C$11,H92*KATSAYILAR!$B$12,\nIF(I92>KATSAYILAR!$C$11,(I92-KATSAYILAR!$C$11)*KATSAYILAR!$B$12+(KATSAYILAR!$C$11-G92)*KATSAYILAR!$B$11,\nH92*KATSAYILAR!$B$11)))))),2)","v":0},{"$f":"KATSAYILAR!$C$6","v":17002.13},{"$f":"ROUND(K92*KATSAYILAR!$B$11,2)","v":2550.3200000000002},0,0,null,{"$f":"'EK DERS Ücret Hesaplama'!O95","v":0},{"$f":"ROUND(P92*KATSAYILAR!$C$20,2)","v":0},{"$f":"KATSAYILAR!$C$7","v":20002.5},{"$f":"ROUND(R92*KATSAYILAR!$C$20,2)","v":151.82},0,0,null,null,0,0,0,0,0,0,0,0,null,0,0]
[91,{"$f":"'BİLGİ GİRİŞİ'!F95","v":0},{"$f":"\nIF('BİLGİ GİRİŞİ'!G95=KATSAYILAR!$B$16,KATSAYILAR!$C$16,\nIF('BİLGİ GİRİŞİ'!G95=KATSAYILAR!$B$17,KATSAYILAR!$C$17,\nIF('BİLGİ GİRİŞİ'!G95=KATSAYILAR!$B$18,KATSAYILAR!$C$18,0)))","v":0},{"$f":"'BİLGİ GİRİŞİ'!H95","v":0},{"$f":"IF('EK DERS Ücret Hesaplama'!O96-C93-D93-'EK DERS Ücret Hesaplama'!AF96-'EK DERS Ücret Hesaplama'!AH96<=0,0,'EK DERS Ücret Hesaplama'!O96-C93-D93-'EK DERS Ücret Hesaplama'!AF96-'EK DERS Ücret Hesaplama'!AH96)","v":0},null,{"$f":"'EK DERS Ücret Hesaplama'!T96","v":0},0,0,{"$f":"ROUND(\nIF(G93>=KATSAYILAR!$C$13,H93*KATSAYILAR!$B$14,\nIF(I93>KATSAYILAR!$C$13,(I93-KATSAYILAR!$C$13)*KATSAYILAR!$B$14+(KATSAYILAR!$C$13-G93)*KATSAYILAR!$B$13,\nIF(G93>KATSAYILAR!$C$12,H93*KATSAYILAR!$B$13,\nIF(I93>KATSAYILAR!$C$12,(I93-KATSAYILAR!$C$12)*KATSAYILAR!$B$13+(KATSAYILAR!$C$12-G93)*KATSAYILAR!$B$12,\nIF(G93>KATSAYILAR!$C$11,H93*KATSAYILAR!$B$12,\nIF(I93>KATSAYILAR!$C$11,(I93-KATSAYILAR!$C$11)*KATSAYILAR!$B$12+(KATSAYILAR!$C$11-G93)*KATSAYILAR!$B$11,\nH93*KATSAYILAR!$B$11)))))),2)","v":0},{"$f":"KATSAYILAR!$C$6","v":17002.13},{"$f":"ROUND(K93*KATSAYILAR!$B$11,2)","v":2550.3200000000002},0,0,null,{"$f":"'EK DERS Ücret Hesaplama'!O96","v":0},{"$f":"ROUND(P93*KATSAYILAR!$C$20,2)","v":0},{"$f":"KATSAYILAR!$C$7","v":20002.5},{"$f":"ROUND(R93*KATSAYILAR!$C$20,2)","v":151.82},0,0,null,null,0,0,0,0,0,0,0,0,null,0,0]
[92,{"$f":"'BİLGİ GİRİŞİ'!F96","v":0},{"$f":"\nIF('BİLGİ GİRİŞİ'!G96=KATSAYILAR!$B$16,KATSAYILAR!$C$16,\nIF('BİLGİ GİRİŞİ'!G96=KATSAYILAR!$B$17,KATSAYILAR!$C$17,\nIF('BİLGİ GİRİŞİ'!G96=KATSAYILAR!$B$18,KATSAYILAR!$C$18,0)))","v":0},{"$f":"'BİLGİ GİRİŞİ'!H96","v":0},{"$f":"IF('EK DERS Ücret Hesaplama'!O97-C94-D94-'EK DERS Ücret Hesaplama'!AF97-'EK DERS Ücret Hesaplama'!AH97<=0,0,'EK DERS Ücret Hesaplama'!O97-C94-D94-'EK DERS Ücret Hesaplama'!AF97-'EK DERS Ücret Hesaplama'!AH97)","v":0},null,{"$f":"'EK DERS Ücret Hesaplama'!T97","v":0},0,0,{"$f":"ROUND(\nIF(G94>=KATSAYILAR!$C$13,H94*KATSAYILAR!$B$14,\nIF(I94>KATSAYILAR!$C$13,(I94-KATSAYILAR!$C$13)*KATSAYILAR!$B$14+(KATSAYILAR!$C$13-G94)*KATSAYILAR!$B$13,\nIF(G94>KATSAYILAR!$C$12,H94*KATSAYILAR!$B$13,\nIF(I94>KATSAYILAR!$C$12,(I94-KATSAYILAR!$C$12)*KATSAYILAR!$B$13+(KATSAYILAR!$C$12-G94)*KATSAYILAR!$B$12,\nIF(G94>KATSAYILAR!$C$11,H94*KATSAYILAR!$B$12,\nIF(I94>KATSAYILAR!$C$11,(I94-KATSAYILAR!$C$11)*KATSAYILAR!$B$12+(KATSAYILAR!$C$11-G94)*KATSAYILAR!$B$11,\nH94*KATSAYILAR!$B$11)))))),2)","v":0},{"$f":"KATSAYILAR!$C$6","v":17002.13},{"$f":"ROUND(K94*KATSAYILAR!$B$11,2)","v":2550.3200000000002},0,0,null,{"$f":"'EK DERS Ücret Hesaplama'!O97","v":0},{"$f":"ROUND(P94*KATSAYILAR!$C$20,2)","v":0},{"$f":"KATSAYILAR!$C$7","v":20002.5},{"$f":"ROUND(R94*KATSAYILAR!$C$20,2)","v":151.82},0,0,null,null,0,0,0,0,0,0,0,0,null,0,0]
[93,{"$f":"'BİLGİ GİRİŞİ'!F97","v":0},{"$f":"\nIF('BİLGİ GİRİŞİ'!G97=KATSAYILAR!$B$16,KATSAYILAR!$C$16,\nIF('BİLGİ GİRİŞİ'!G97=KATSAYILAR!$B$17,KATSAYILAR!$C$17,\nIF('BİLGİ GİRİŞİ'!G97=KATSAYILAR!$B$18,KATSAYILAR!$C$18,0)))","v":0},{"$f":"'BİLGİ GİRİŞİ'!H97","v":0},{"$f":"IF('EK DERS Ücret Hesaplama'!O98-C95-D95-'EK DERS Ücret Hesaplama'!AF98-'EK DERS Ücret Hesaplama'!AH98<=0,0,'EK DERS Ücret Hesaplama'!O98-C95-D95-'EK DERS Ücret Hesaplama'!AF98-'EK DERS Ücret Hesaplama'!AH98)","v":0},null,{"$f":"'EK DERS Ücret Hesaplama'!T98","v":0},0,0,{"$f":"ROUND(\nIF(G95>=KATSAYILAR!$C$13,H95*KATSAYILAR!$B$14,\nIF(I95>KATSAYILAR!$C$13,(I95-KATSAYILAR!$C$13)*KATSAYILAR!$B$14+(KATSAYILAR!$C$13-G95)*KATSAYILAR!$B$13,\nIF(G95>KATSAYILAR!$C$12,H95*KATSAYILAR!$B$13,\nIF(I95>KATSAYILAR!$C$12,(I95-KATSAYILAR!$C$12)*KATSAYILAR!$B$13+(KATSAYILAR!$C$12-G95)*KATSAYILAR!$B$12,\nIF(G95>KATSAYILAR!$C$11,H95*KATSAYILAR!$B$12,\nIF(I95>KATSAYILAR!$C$11,(I95-KATSAYILAR!$C$11)*KATSAYILAR!$B$12+(KATSAYILAR!$C$11-G95)*KATSAYILAR!$B$11,\nH95*KATSAYILAR!$B$11)))))),2)","v":0},{"$f":"KATSAYILAR!$C$6","v":17002.13},{"$f":"ROUND(K95*KATSAYILAR!$B$11,2)","v":2550.3200000000002},0,0,null,{"$f":"'EK DERS Ücret Hesaplama'!O98","v":0},{"$f":"ROUND(P95*KATSAYILAR!$C$20,2)","v":0},{"$f":"KATSAYILAR!$C$7","v":20002.5},{"$f":"ROUND(R95*KATSAYILAR!$C$20,2)","v":151.82},0,0,null,null,0,0,0,0,0,0,0,0,null,0,0]
[94,{"$f":"'BİLGİ GİRİŞİ'!F98","v":0},{"$f":"\nIF('BİLGİ GİRİŞİ'!G98=KATSAYILAR!$B$16,KATSAYILAR!$C$16,\nIF('BİLGİ GİRİŞİ'!G98=KATSAYILAR!$B$17,KATSAYILAR!$C$17,\nIF('BİLGİ GİRİŞİ'!G98=KATSAYILAR!$B$18,KATSAYILAR!$C$18,0)))","v":0},{"$f":"'BİLGİ GİRİŞİ'!H98","v":0},{"$f":"IF('EK DERS Ücret Hesaplama'!O99-C96-D96-'EK DERS Ücret Hesaplama'!AF99-'EK DERS Ücret Hesaplama'!AH99<=0,0,'EK DERS Ücret Hesaplama'!O99-C96-D96-'EK DERS Ücret Hesaplama'!AF99-'EK DERS Ücret Hesaplama'!AH99)","v":0},null,{"$f":"'EK DERS Ücret Hesaplama'!T99","v":0},0,0,{"$f":"ROUND(\nIF(G96>=KATSAYILAR!$C$13,H96*KATSAYILAR!$B$14,\nIF(I96>KATSAYILAR!$C$13,(I96-KATSAYILAR!$C$13)*KATSAYILAR!$B$14+(KATSAYILAR!$C$13-G96)*KATSAYILAR!$B$13,\nIF(G96>KATSAYILAR!$C$12,H96*KATSAYILAR!$B$13,\nIF(I96>KATSAYILAR!$C$12,(I96-KATSAYILAR!$C$12)*KATSAYILAR!$B$13+(KATSAYILAR!$C$12-G96)*KATSAYILAR!$B$12,\nIF(G96>KATSAYILAR!$C$11,H96*KATSAYILAR!$B$12,\nIF(I96>KATSAYILAR!$C$11,(I96-KATSAYILAR!$C$11)*KATSAYILAR!$B$12+(KATSAYILAR!$C$11-G96)*KATSAYILAR!$B$11,\nH96*KATSAYILAR!$B$11)))))),2)","v":0},{"$f":"KATSAYILAR!$C$6","v":17002.13},{"$f":"ROUND(K96*KATSAYILAR!$B$11,2)","v":2550.3200000000002},0,0,null,{"$f":"'EK DERS Ücret Hesaplama'!O99","v":0},{"$f":"ROUND(P96*KATSAYILAR!$C$20,2)","v":0},{"$f":"KATSAYILAR!$C$7","v":20002.5},{"$f":"ROUND(R96*KATSAYILAR!$C$20,2)","v":151.82},0,0,null,null,0,0,0,0,0,0,0,0,null,0,0]
[95,{"$f":"'BİLGİ GİRİŞİ'!F99","v":0},{"$f":"\nIF('BİLGİ GİRİŞİ'!G99=KATSAYILAR!$B$16,KATSAYILAR!$C$16,\nIF('BİLGİ GİRİŞİ'!G99=KATSAYILAR!$B$17,KATSAYILAR!$C$17,\nIF('BİLGİ GİRİŞİ'!G99=KATSAYILAR!$B$18,KATSAYILAR!$C$18,0)))","v":0},{"$f":"'BİLGİ GİRİŞİ'!H99","v":0},{"$f":"IF('EK DERS Ücret Hesaplama'!O100-C97-D97-'EK DERS Ücret Hesaplama'!AF100-'EK DERS Ücret Hesaplama'!AH100<=0,0,'EK DERS Ücret Hesaplama'!O100-C97-D97-'EK DERS Ücret Hesaplama'!AF100-'EK DERS Ücret Hesaplama'!AH100)","v":0},null,{"$f":"'EK DERS Ücret Hesaplama'!T100","v":0},0,0,{"$f":"ROUND(\nIF(G97>=KATSAYILAR!$C$13,H97*KATSAYILAR!$B$14,\nIF(I97>KATSAYILAR!$C$13,(I97-KATSAYILAR!$C$13)*KATSAYILAR!$B$14+(KATSAYILAR!$C$13-G97)*KATSAYILAR!$B$13,\nIF(G97>KATSAYILAR!$C$12,H97*KATSAYILAR!$B$13,\nIF(I97>KATSAYILAR!$C$12,(I97-KATSAYILAR!$C$12)*KATSAYILAR!$B$13+(KATSAYILAR!$C$12-G97)*KATSAYILAR!$B$12,\nIF(G97>KATSAYILAR!$C$11,H97*KATSAYILAR!$B$12,\nIF(I97>KATSAYILAR!$C$11,(I97-KATSAYILAR!$C$11)*KATSAYILAR!$B$12+(KATSAYILAR!$C$11-G97)*KATSAYILAR!$B$11,\nH97*KATSAYILAR!$B$11)))))),2)","v":0},{"$f":"KATSAYILAR!$C$6","v":17002.13},{"$f":"ROUND(K97*KATSAYILAR!$B$11,2)","v":2550.3200000000002},0,0,null,{"$f":"'EK DERS Ücret Hesaplama'!O100","v":0},{"$f":"ROUND(P97*KATSAYILAR!$C$20,2)","v":0},{"$f":"KATSAYILAR!$C$7","v":20002.5},{"$f":"ROUND(R97*KATSAYILAR!$C$20,2)","v":151.82},0,0,null,null,0,0,0,0,0,0,0,0,null,0,0]
[96,{"$f":"'BİLGİ GİRİŞİ'!F100","v":0},{"$f":"\nIF('BİLGİ GİRİŞİ'!G100=KATSAYILAR!$B$16,KATSAYILAR!$C$16,\nIF('BİLGİ GİRİŞİ'!G100=KATSAYILAR!$B$17,KATSAYILAR!$C$17,\nIF('BİLGİ GİRİŞİ'!G100=KATSAYILAR!$B$18,KATSAYILAR!$C$18,0)))","v":0},{"$f":"'BİLGİ GİRİŞİ'!H100","v":0},{"$f":"IF('EK DERS Ücret Hesaplama'!O101-C98-D98-'EK DERS Ücret Hesaplama'!AF101-'EK DERS Ücret Hesaplama'!AH101<=0,0,'EK DERS Ücret Hesaplama'!O101-C98-D98-'EK DERS Ücret Hesaplama'!AF101-'EK DERS Ücret Hesaplama'!AH101)","v":0},null,{"$f":"'EK DERS Ücret Hesaplama'!T101","v":0},0,0,{"$f":"ROUND(\nIF(G98>=KATSAYILAR!$C$13,H98*KATSAYILAR!$B$14,\nIF(I98>KATSAYILAR!$C$13,(I98-KATSAYILAR!$C$13)*KATSAYILAR!$B$14+(KATSAYILAR!$C$13-G98)*KATSAYILAR!$B$13,\nIF(G98>KATSAYILAR!$C$12,H98*KATSAYILAR!$B$13,\nIF(I98>KATSAYILAR!$C$12,(I98-KATSAYILAR!$C$12)*KATSAYILAR!$B$13+(KATSAYILAR!$C$12-G98)*KATSAYILAR!$B$12,\nIF(G98>KATSAYILAR!$C$11,H98*KATSAYILAR!$B$12,\nIF(I98>KATSAYILAR!$C$11,(I98-KATSAYILAR!$C$11)*KATSAYILAR!$B$12+(KATSAYILAR!$C$11-G98)*KATSAYILAR!$B$11,\nH98*KATSAYILAR!$B$11)))))),2)","v":0},{"$f":"KATSAYILAR!$C$6","v":17002.13},{"$f":"ROUND(K98*KATSAYILAR!$B$11,2)","v":2550.3200000000002},0,0,null,{"$f":"'EK DERS Ücret Hesaplama'!O101","v":0},{"$f":"ROUND(P98*KATSAYILAR!$C$20,2)","v":0},{"$f":"KATSAYILAR!$C$7","v":20002.5},{"$f":"ROUND(R98*KATSAYILAR!$C$20,2)","v":151.82},0,0,null,null,0,0,0,0,0,0,0,0,null,0,0]
[97,{"$f":"'BİLGİ GİRİŞİ'!F101","v":0},{"$f":"\nIF('BİLGİ GİRİŞİ'!G101=KATSAYILAR!$B$16,KATSAYILAR!$C$16,\nIF('BİLGİ GİRİŞİ'!G101=KATSAYILAR!$B$17,KATSAYILAR!$C$17,\nIF('BİLGİ GİRİŞİ'!G101=KATSAYILAR!$B$18,KATSAYILAR!$C$18,0)))","v":0},{"$f":"'BİLGİ GİRİŞİ'!H101","v":0},{"$f":"IF('EK DERS Ücret Hesaplama'!O102-C99-D99-'EK DERS Ücret Hesaplama'!AF102-'EK DERS Ücret Hesaplama'!AH102<=0,0,'EK DERS Ücret Hesaplama'!O102-C99-D99-'EK DERS Ücret Hesaplama'!AF102-'EK DERS Ücret Hesaplama'!AH102)","v":0},null,{"$f":"'EK DERS Ücret Hesaplama'!T102","v":0},0,0,{"$f":"ROUND(\nIF(G99>=KATSAYILAR!$C$13,H99*KATSAYILAR!$B$14,\nIF(I99>KATSAYILAR!$C$13,(I99-KATSAYILAR!$C$13)*KATSAYILAR!$B$14+(KATSAYILAR!$C$13-G99)*KATSAYILAR!$B$13,\nIF(G99>KATSAYILAR!$C$12,H99*KATSAYILAR!$B$13,\nIF(I99>KATSAYILAR!$C$12,(I99-KATSAYILAR!$C$12)*KATSAYILAR!$B$13+(KATSAYILAR!$C$12-G99)*KATSAYILAR!$B$12,\nIF(G99>KATSAYILAR!$C$11,H99*KATSAYILAR!$B$12,\nIF(I99>KATSAYILAR!$C$11,(I99-KATSAYILAR!$C$11)*KATSAYILAR!$B$12+(KATSAYILAR!$C$11-G99)*KATSAYILAR!$B$11,\nH99*KATSAYILAR!$B$11)))))),2)","v":0},{"$f":"KATSAYILAR!$C$6","v":17002.13},{"$f":"ROUND(K99*KATSAYILAR!$B$11,2)","v":2550.3200000000002},0,0,null,{"$f":"'EK DERS Ücret Hesaplama'!O102","v":0},{"$f":"ROUND(P99*KATSAYILAR!$C$20,2)","v":0},{"$f":"KATSAYILAR!$C$7","v":20002.5},{"$f":"ROUND(R99*KATSAYILAR!$C$20,2)","v":151.82},0,0,null,null,0,0,0,0,0,0,0,0,null,0,0]
[98,{"$f":"'BİLGİ GİRİŞİ'!F102","v":0},{"$f":"\nIF('BİLGİ GİRİŞİ'!G102=KATSAYILAR!$B$16,KATSAYILAR!$C$16,\nIF('BİLGİ GİRİŞİ'!G102=KATSAYILAR!$B$17,KATSAYILAR!$C$17,\nIF('BİLGİ GİRİŞİ'!G102=KATSAYILAR!$B$18,KATSAYILAR!$C$18,0)))","v":0},{"$f":"'BİLGİ GİRİŞİ'!H102","v":0},{"$f":"IF('EK DERS Ücret Hesaplama'!O103-C100-D100-'EK DERS Ücret Hesaplama'!AF103-'EK DERS Ücret Hesaplama'!AH103<=0,0,'EK DERS Ücret Hesaplama'!O103-C100-D100-'EK DERS Ücret Hesaplama'!AF103-'EK DERS Ücret Hesaplama'!AH103)","v":0},null,{"$f":"'EK DERS Ücret Hesaplama'!T103","v":0},0,0,{"$f":"ROUND(\nIF(G100>=KATSAYILAR!$C$13,H100*KATSAYILAR!$B$14,\nIF(I100>KATSAYILAR!$C$13,(I100-KATSAYILAR!$C$13)*KATSAYILAR!$B$14+(KATSAYILAR!$C$13-G100)*KATSAYILAR!$B$13,\nIF(G100>KATSAYILAR!$C$12,H100*KATSAYILAR!$B$13,\nIF(I100>KATSAYILAR!$C$12,(I100-KATSAYILAR!$C$12)*KATSAYILAR!$B$13+(KATSAYILAR!$C$12-G100)*KATSAYILAR!$B$12,\nIF(G100>KATSAYILAR!$C$11,H100*KATSAYILAR!$B$12,\nIF(I100>KATSAYILAR!$C$11,(I100-KATSAYILAR!$C$11)*KATSAYILAR!$B$12+(KATSAYILAR!$C$11-G100)*KATSAYILAR!$B$11,\nH100*KATSAYILAR!$B$11)))))),2)","v":0},{"$f":"KATSAYILAR!$C$6","v":17002.13},{"$f":"ROUND(K100*KATSAYILAR!$B$11,2)","v":2550.3200000000002},0,0,null,{"$f":"'EK DERS Ücret Hesaplama'!O103","v":0},{"$f":"ROUND(P100*KATSAYILAR!$C$20,2)","v":0},{"$f":"KATSAYILAR!$C$7","v":20002.5},{"$f":"ROUND(R100*KATSAYILAR!$C$20,2)","v":151.82},0,0,null,null,0,0,0,0,0,0,0,0,null,0,0]
[99,{"$f":"'BİLGİ GİRİŞİ'!F103","v":0},{"$f":"\nIF('BİLGİ GİRİŞİ'!G103=KATSAYILAR!$B$16,KATSAYILAR!$C$16,\nIF('BİLGİ GİRİŞİ'!G103=KATSAYILAR!$B$17,KATSAYILAR!$C$17,\nIF('BİLGİ GİRİŞİ'!G103=KATSAYILAR!$B$18,KATSAYILAR!$C$18,0)))","v":0},{"$f":"'BİLGİ GİRİŞİ'!H103","v":0},{"$f":"IF('EK DERS Ücret Hesaplama'!O104-C101-D101-'EK DERS Ücret Hesaplama'!AF104-'EK DERS Ücret Hesaplama'!AH104<=0,0,'EK DERS Ücret Hesaplama'!O104-C101-D101-'EK DERS Ücret Hesaplama'!AF104-'EK DERS Ücret Hesaplama'!AH104)","v":0},null,{"$f":"'EK DERS Ücret Hesaplama'!T104","v":0},0,0,{"$f":"ROUND(\nIF(G101>=KATSAYILAR!$C$13,H101*KATSAYILAR!$B$14,\nIF(I101>KATSAYILAR!$C$13,(I101-KATSAYILAR!$C$13)*KATSAYILAR!$B$14+(KATSAYILAR!$C$13-G101)*KATSAYILAR!$B$13,\nIF(G101>KATSAYILAR!$C$12,H101*KATSAYILAR!$B$13,\nIF(I101>KATSAYILAR!$C$12,(I101-KATSAYILAR!$C$12)*KATSAYILAR!$B$13+(KATSAYILAR!$C$12-G101)*KATSAYILAR!$B$12,\nIF(G101>KATSAYILAR!$C$11,H101*KATSAYILAR!$B$12,\nIF(I101>KATSAYILAR!$C$11,(I101-KATSAYILAR!$C$11)*KATSAYILAR!$B$12+(KATSAYILAR!$C$11-G101)*KATSAYILAR!$B$11,\nH101*KATSAYILAR!$B$11)))))),2)","v":0},{"$f":"KATSAYILAR!$C$6","v":17002.13},{"$f":"ROUND(K101*KATSAYILAR!$B$11,2)","v":2550.3200000000002},0,0,null,{"$f":"'EK DERS Ücret Hesaplama'!O104","v":0},{"$f":"ROUND(P101*KATSAYILAR!$C$20,2)","v":0},{"$f":"KATSAYILAR!$C$7","v":20002.5},{"$f":"ROUND(R101*KATSAYILAR!$C$20,2)","v":151.82},0,0,null,null,0,0,0,0,0,0,0,0,null,0,0]
[100,{"$f":"'BİLGİ GİRİŞİ'!F104","v":0},{"$f":"\nIF('BİLGİ GİRİŞİ'!G104=KATSAYILAR!$B$16,KATSAYILAR!$C$16,\nIF('BİLGİ GİRİŞİ'!G104=KATSAYILAR!$B$17,KATSAYILAR!$C$17,\nIF('BİLGİ GİRİŞİ'!G104=KATSAYILAR!$B$18,KATSAYILAR!$C$18,0)))","v":0},{"$f":"'BİLGİ GİRİŞİ'!H104","v":0},{"$f":"IF('EK DERS Ücret Hesaplama'!O105-C102-D102-'EK DERS Ücret Hesaplama'!AF105-'EK DERS Ücret Hesaplama'!AH105<=0,0,'EK DERS Ücret Hesaplama'!O105-C102-D102-'EK DERS Ücret Hesaplama'!AF105-'EK DERS Ücret Hesaplama'!AH105)","v":0},null,{"$f":"'EK DERS Ücret Hesaplama'!T105","v":0},0,0,{"$f":"ROUND(\nIF(G102>=KATSAYILAR!$C$13,H102*KATSAYILAR!$B$14,\nIF(I102>KATSAYILAR!$C$13,(I102-KATSAYILAR!$C$13)*KATSAYILAR!$B$14+(KATSAYILAR!$C$13-G102)*KATSAYILAR!$B$13,\nIF(G102>KATSAYILAR!$C$12,H102*KATSAYILAR!$B$13,\nIF(I102>KATSAYILAR!$C$12,(I102-KATSAYILAR!$C$12)*KATSAYILAR!$B$13+(KATSAYILAR!$C$12-G102)*KATSAYILAR!$B$12,\nIF(G102>KATSAYILAR!$C$11,H102*KATSAYILAR!$B$12,\nIF(I102>KATSAYILAR!$C$11,(I102-KATSAYILAR!$C$11)*KATSAYILAR!$B$12+(KATSAYILAR!$C$11-G102)*KATSAYILAR!$B$11,\nH102*KATSAYILAR!$B$11)))))),2)","v":0},{"$f":"KATSAYILAR!$C$6","v":17002.13},{"$f":"ROUND(K102*KATSAYILAR!$B$11,2)","v":2550.3200000000002},0,0,null,{"$f":"'EK DERS Ücret Hesaplama'!O105","v":0},{"$f":"ROUND(P102*KATSAYILAR!$C$20,2)","v":0},{"$f":"KATSAYILAR!$C$7","v":20002.5},{"$f":"ROUND(R102*KATSAYILAR!$C$20,2)","v":151.82},0,0,null,null,0,0,0,0,0,0,0,0,null,0,0]

{"sheet":"BANKA LİSTESİ","index":5,"n_rows":109,"n_cols":9,"rows_kept":109,"cut":false,"hidden":false,"merged":[[0,0,0,6],[3,2,4,4]]}
["ÜCRETLİ ÖĞRETMEN EK DERS ÜCRETİ   ---   BANKA ÖDEME LİSTESİ"]
[]
["Muhasebe Birimi :",null,{"$f":"KATSAYILAR!F10","v":"KARABAĞLAR MAL MÜDÜRLÜĞÜ"},null,null,"AY : ",{"$f":"'EK DERS VERİ GİRİŞİ'!I1","v":1}]
["Kurum Kodu/Adı :",null,{"$f":"CONCATENATE(KATSAYILAR!F4,\"   -   \",KATSAYILAR!F3)","v":"   -   OKUL KURUM ADI GİRİNİZ!!!"},null,null,"YIL : ",{"$f":"'EK DERS VERİ GİRİŞİ'!I2","v":2024}]
[]
["Banka Adı:",null,{"$f":"CONCATENATE(KATSAYILAR!F7,\"  -  \",KATSAYILAR!F8)","v":"ZİRAAT BANKASI  -  İZMİR"}]
["VKN/VKN Adı :",null,{"$f":"KATSAYILAR!F5","v":0}]
["SIRA NO","TC KİMLİK NO","ADI SOYADI","UNVANI","HESAP NO","IBAN","HESABA GECECEK TUTAR (TL)",null,"a"]
[{"$f":"IF(G9=\"\",\"\",SUBTOTAL(103,$G$9:G9))","v":1},{"$f":"IF('EK DERS Ücret Hesaplama'!$AM6=1,'EK DERS Ücret Hesaplama'!B6,\"\")","v":12345678910},{"$f":"IF('EK DERS Ücret Hesaplama'!$AM6=1,'EK DERS Ücret Hesaplama'!C6,\"\")","v":"İBRAHİM KUTLUDAĞ"},{"$f":"IF('EK DERS Ücret Hesaplama'!$AM6=1,IF('EK DERS Ücret Hesaplama'!D6=\"Ücretli Öğretmen\",\"Ücretli Öğr.\",\"Ücr.Öğr. (Emekli)\"),\"\")","v":"Ücretli Öğr."},{"$f":"IF('EK DERS Ücret Hesaplama'!$AM6=1,RIGHT('EK DERS Ücret Hesaplama'!AO6,8),\"\")","v":"00000000"},{"$f":"IF('EK DERS Ücret Hesaplama'!$AM6=1,'EK DERS Ücret Hesaplama'!AO6,\"\")","v":"TR150000000000000000000000"},{"$f":"IF('EK DERS Ücret Hesaplama'!$AM6=1,'EK DERS Ücret Hesaplama'!AK6,\"\")","v":16489.599999999999},null,{"$f":"IF(G9=\"\",0,1)","v":1}]
[{"$f":"IF(G10=\"\",\"\",SUBTOTAL(103,$G$9:G10))","v":2},{"$f":"IF('EK DERS Ücret Hesaplama'!$AM7=1,'EK DERS Ücret Hesaplama'!B7,\"\")","v":12345678910},{"$f":"IF('EK DERS Ücret Hesaplama'!$AM7=1,'EK DERS Ücret Hesaplama'!C7,\"\")","v":"SAMET YAĞMUR"},{"$f":"IF('EK DERS Ücret Hesaplama'!$AM7=1,IF('EK DERS Ücret Hesaplama'!D7=\"Ücretli Öğretmen\",\"Ücretli Öğr.\",\"Ücr.Öğr. (Emekli)\"),\"\")","v":"Ücretli Öğr."},{"$f":"IF('EK DERS Ücret Hesaplama'!$AM7=1,RIGHT('EK DERS Ücret Hesaplama'!AO7,8),\"\")","v":"00000000"},{"$f":"IF('EK DERS Ücret Hesaplama'!$AM7=1,'EK DERS Ücret Hesaplama'!AO7,\"\")","v":"TR150000000000000000000000"},{"$f":"IF('EK DERS Ücret Hesaplama'!$AM7=1,'EK DERS Ücret Hesaplama'!AK7,\"\")","v":16489.599999999999},null,{"$f":"IF(G10=\"\",0,1)","v":1}]
[{"$f":"IF(G11=\"\",\"\",SUBTOTAL(103,$G$9:G11))","v":3},{"$f":"IF('EK DERS Ücret Hesaplama'!$AM8=1,'EK DERS Ücret Hesaplama'!B8,\"\")","v":12345678910},{"$f":"IF('EK DERS Ücret Hesaplama'!$AM8=1,'EK DERS Ücret Hesaplama'!C8,\"\")","v":"SAMET YAĞMUR"},{"$f":"IF('EK DERS Ücret Hesaplama'!$AM8=1,IF('EK DERS Ücret Hesaplama'!D8=\"Ücretli Öğretmen\",\"Ücretli Öğr.\",\"Ücr.Öğr. (Emekli)\"),\"\")","v":"Ücretli Öğr."},{"$f":"IF('EK DERS Ücret Hesaplama'!$AM8=1,RIGHT('EK DERS Ücret Hesaplama'!AO8,8),\"\")","v":"00000000"},{"$f":"IF('EK DERS Ücret Hesaplama'!$AM8=1,'EK DERS Ücret Hesaplama'!AO8,\"\")","v":"TR150000000000000000000000"},{"$f":"IF('EK DERS Ücret Hesaplama'!$AM8=1,'EK DERS Ücret Hesaplama'!AK8,\"\")","v":14199.37},null,1]
[{"$f":"IF(G12=\"\",\"\",SUBTOTAL(103,$G$9:G12))","v":4},{"$f":"IF('EK DERS Ücret Hesaplama'!$AM9=1,'EK DERS Ücret Hesaplama'!B9,\"\")","v":12345678910},{"$f":"IF('EK DERS Ücret Hesaplama'!$AM9=1,'EK DERS Ücret Hesaplama'!C9,\"\")","v":"SAMET YAĞMUR"},{"$f":"IF('EK DERS Ücret Hesaplama'!$AM9=1,IF('EK DERS Ücret Hesaplama'!D9=\"Ücretli Öğretmen\",\"Ücretli Öğr.\",\"Ücr.Öğr. (Emekli)\"),\"\")","v":"Ücretli Öğr."},{"$f":"IF('EK DERS Ücret Hesaplama'!$AM9=1,RIGHT('EK DERS Ücret Hesaplama'!AO9,8),\"\")","v":"00000000"},{"$f":"IF('EK DERS Ücret Hesaplama'!$AM9=1,'EK DERS Ücret Hesaplama'!AO9,\"\")","v":"TR150000000000000000000000"},{"$f":"IF('EK DERS Ücret Hesaplama'!$AM9=1,'EK DERS Ücret Hesaplama'!AK9,\"\")","v":9160.8799999999992},null,1]
[{"$f":"IF(G13=\"\",\"\",SUBTOTAL(103,$G$9:G13))","v":""},{"$f":"IF('EK DERS Ücret Hesaplama'!$AM10=1,'EK DERS Ücret Hesaplama'!B10,\"\")","v":""},{"$f":"IF('EK DERS Ücret Hesaplama'!$AM10=1,'EK DERS Ücret Hesaplama'!C10,\"\")","v":""},{"$f":"IF('EK DERS Ücret Hesaplama'!$AM10=1,IF('EK DERS Ücret Hesaplama'!D10=\"Ücretli Öğretmen\",\"Ücretli Öğr.\",\"Ücr.Öğr. (Emekli)\"),\"\")","v":""},{"$f":"IF('EK DERS Ücret Hesaplama'!$AM10=1,RIGHT('EK DERS Ücret Hesaplama'!AO10,8),\"\")","v":""},{"$f":"IF('EK DERS Ücret Hesaplama'!$AM10=1,'EK DERS Ücret Hesaplama'!AO10,\"\")","v":""},{"$f":"IF('EK DERS Ücret Hesaplama'!$AM10=1,'EK DERS Ücret Hesaplama'!AK10,\"\")","v":""},null,0]
[{"$f":"IF(G14=\"\",\"\",SUBTOTAL(103,$G$9:G14))","v":""},{"$f":"IF('EK DERS Ücret Hesaplama'!$AM11=1,'EK DERS Ücret Hesaplama'!B11,\"\")","v":""},{"$f":"IF('EK DERS Ücret Hesaplama'!$AM11=1,'EK DERS Ücret Hesaplama'!C11,\"\")","v":""},{"$f":"IF('EK DERS Ücret Hesaplama'!$AM11=1,IF('EK DERS Ücret Hesaplama'!D11=\"Ücretli Öğretmen\",\"Ücretli Öğr.\",\"Ücr.Öğr. (Emekli)\"),\"\")","v":""},{"$f":"IF('EK DERS Ücret Hesaplama'!$AM11=1,RIGHT('EK DERS Ücret Hesaplama'!AO11,8),\"\")","v":""},{"$f":"IF('EK DERS Ücret Hesaplama'!$AM11=1,'EK DERS Ücret Hesaplama'!AO11,\"\")","v":""},{"$f":"IF('EK DERS Ücret Hesaplama'!$AM11=1,'EK DERS Ücret Hesaplama'!AK11,\"\")","v":""},null,0]
[{"$f":"IF(G15=\"\",\"\",SUBTOTAL(103,$G$9:G15))","v":""},{"$f":"IF('EK DERS Ücret Hesaplama'!$AM12=1,'EK DERS Ücret Hesaplama'!B12,\"\")","v":""},{"$f":"IF('EK DERS Ücret Hesaplama'!$AM12=1,'EK DERS Ücret Hesaplama'!C12,\"\")","v":""},{"$f":"IF('EK DERS Ücret Hesaplama'!$AM12=1,IF('EK DERS Ücret Hesaplama'!D12=\"Ücretli Öğretmen\",\"Ücretli Öğr.\",\"Ücr.Öğr. (Emekli)\"),\"\")","v":""},{"$f":"IF('EK DERS Ücret Hesaplama'!$AM12=1,RIGHT('EK DERS Ücret Hesaplama'!AO12,8),\"\")","v":""},{"$f":"IF('EK DERS Ücret Hesaplama'!$AM12=1,'EK DERS Ücret Hesaplama'!AO12,\"\")","v":""},{"$f":"IF('EK DERS Ücret Hesaplama'!$AM12=1,'EK DERS Ücret Hesaplama'!AK12,\"\")","v":""},null,0]
[{"$f":"IF(G16=\"\",\"\",SUBTOTAL(103,$G$9:G16))","v":""},{"$f":"IF('EK DERS Ücret Hesaplama'!$AM13=1,'EK DERS Ücret Hesaplama'!B13,\"\")","v":""},{"$f":"IF('EK DERS Ücret Hesaplama'!$AM13=1,'EK DERS Ücret Hesaplama'!C13,\"\")","v":""},{"$f":"IF('EK DERS Ücret Hesaplama'!$AM13=1,IF('EK DERS Ücret Hesaplama'!D13=\"Ücretli Öğretmen\",\"Ücretli Öğr.\",\"Ücr.Öğr. (Emekli)\"),\"\")","v":""},{"$f":"IF('EK DERS Ücret Hesaplama'!$AM13=1,RIGHT('EK DERS Ücret Hesaplama'!AO13,8),\"\")","v":""},{"$f":"IF('EK DERS Ücret Hesaplama'!$AM13=1,'EK DERS Ücret Hesaplama'!AO13,\"\")","v":""},{"$f":"IF('EK DERS Ücret Hesaplama'!$AM13=1,'EK DERS Ücret Hesaplama'!AK13,\"\")","v":""},null,0]
[{"$f":"IF(G17=\"\",\"\",SUBTOTAL(103,$G$9:G17))","v":""},{"$f":"IF('EK DERS Ücret Hesaplama'!$AM14=1,'EK DERS Ücret Hesaplama'!B14,\"\")","v":""},{"$f":"IF('EK DERS Ücret Hesaplama'!$AM14=1,'EK DERS Ücret Hesaplama'!C14,\"\")","v":""},{"$f":"IF('EK DERS Ücret Hesaplama'!$AM14=1,IF('EK DERS Ücret Hesaplama'!D14=\"Ücretli Öğretmen\",\"Ücretli Öğr.\",\"Ücr.Öğr. (Emekli)\"),\"\")","v":""},{"$f":"IF('EK DERS Ücret Hesaplama'!$AM14=1,RIGHT('EK DERS Ücret Hesaplama'!AO14,8),\"\")","v":""},{"$f":"IF('EK DERS Ücret Hesaplama'!$AM14=1,'EK DERS Ücret Hesaplama'!AO14,\"\")","v":""},{"$f":"IF('EK DERS Ücret Hesaplama'!$AM14=1,'EK DERS Ücret Hesaplama'!AK14,\"\")","v":""},null,0]
[{"$f":"IF(G18=\"\",\"\",SUBTOTAL(103,$G$9:G18))","v":""},{"$f":"IF('EK DERS Ücret Hesaplama'!$AM15=1,'EK DERS Ücret Hesaplama'!B15,\"\")","v":""},{"$f":"IF('EK DERS Ücret Hesaplama'!$AM15=1,'EK DERS Ücret Hesaplama'!C15,\"\")","v":""},{"$f":"IF('EK DERS Ücret Hesaplama'!$AM15=1,IF('EK DERS Ücret Hesaplama'!D15=\"Ücretli Öğretmen\",\"Ücretli Öğr.\",\"Ücr.Öğr. (Emekli)\"),\"\")","v":""},{"$f":"IF('EK DERS Ücret Hesaplama'!$AM15=1,RIGHT('EK DERS Ücret Hesaplama'!AO15,8),\"\")","v":""},{"$f":"IF('EK DERS Ücret Hesaplama'!$AM15=1,'EK DERS Ücret Hesaplama'!AO15,\"\")","v":""},{"$f":"IF('EK DERS Ücret Hesaplama'!$AM15=1,'EK DERS Ücret Hesaplama'!AK15,\"\")","v":""},null,0]
[{"$f":"IF(G19=\"\",\"\",SUBTOTAL(103,$G$9:G19))","v":""},{"$f":"IF('EK DERS Ücret Hesaplama'!$AM16=1,'EK DERS Ücret Hesaplama'!B16,\"\")","v":""},{"$f":"IF('EK DERS Ücret Hesaplama'!$AM16=1,'EK DERS Ücret Hesaplama'!C16,\"\")","v":""},{"$f":"IF('EK DERS Ücret Hesaplama'!$AM16=1,IF('EK DERS Ücret Hesaplama'!D16=\"Ücretli Öğretmen\",\"Ücretli Öğr.\",\"Ücr.Öğr. (Emekli)\"),\"\")","v":""},{"$f":"IF('EK DERS Ücret Hesaplama'!$AM16=1,RIGHT('EK DERS Ücret Hesaplama'!AO16,8),\"\")","v":""},{"$f":"IF('EK DERS Ücret Hesaplama'!$AM16=1,'EK DERS Ücret Hesaplama'!AO16,\"\")","v":""},{"$f":"IF('EK DERS Ücret Hesaplama'!$AM16=1,'EK DERS Ücret Hesaplama'!AK16,\"\")","v":""},null,0]
[{"$f":"IF(G20=\"\",\"\",SUBTOTAL(103,$G$9:G20))","v":""},{"$f":"IF('EK DERS Ücret Hesaplama'!$AM17=1,'EK DERS Ücret Hesaplama'!B17,\"\")","v":""},{"$f":"IF('EK DERS Ücret Hesaplama'!$AM17=1,'EK DERS Ücret Hesaplama'!C17,\"\")","v":""},{"$f":"IF('EK DERS Ücret Hesaplama'!$AM17=1,IF('EK DERS Ücret Hesaplama'!D17=\"Ücretli Öğretmen\",\"Ücretli Öğr.\",\"Ücr.Öğr. (Emekli)\"),\"\")","v":""},{"$f":"IF('EK DERS Ücret Hesaplama'!$AM17=1,RIGHT('EK DERS Ücret Hesaplama'!AO17,8),\"\")","v":""},{"$f":"IF('EK DERS Ücret Hesaplama'!$AM17=1,'EK DERS Ücret Hesaplama'!AO17,\"\")","v":""},{"$f":"IF('EK DERS Ücret Hesaplama'!$AM17=1,'EK DERS Ücret Hesaplama'!AK17,\"\")","v":""},null,0]
[{"$f":"IF(G21=\"\",\"\",SUBTOTAL(103,$G$9:G21))","v":""},{"$f":"IF('EK DERS Ücret Hesaplama'!$AM18=1,'EK DERS Ücret Hesaplama'!B18,\"\")","v":""},{"$f":"IF('EK DERS Ücret Hesaplama'!$AM18=1,'EK DERS Ücret Hesaplama'!C18,\"\")","v":""},{"$f":"IF('EK DERS Ücret Hesaplama'!$AM18=1,IF('EK DERS Ücret Hesaplama'!D18=\"Ücretli Öğretmen\",\"Ücretli Öğr.\",\"Ücr.Öğr. (Emekli)\"),\"\")","v":""},{"$f":"IF('EK DERS Ücret Hesaplama'!$AM18=1,RIGHT('EK DERS Ücret Hesaplama'!AO18,8),\"\")","v":""},{"$f":"IF('EK DERS Ücret Hesaplama'!$AM18=1,'EK DERS Ücret Hesaplama'!AO18,\"\")","v":""},{"$f":"IF('EK DERS Ücret Hesaplama'!$AM18=1,'EK DERS Ücret Hesaplama'!AK18,\"\")","v":""},null,0]
[{"$f":"IF(G22=\"\",\"\",SUBTOTAL(103,$G$9:G22))","v":""},{"$f":"IF('EK DERS Ücret Hesaplama'!$AM19=1,'EK DERS Ücret Hesaplama'!B19,\"\")","v":""},{"$f":"IF('EK DERS Ücret Hesaplama'!$AM19=1,'EK DERS Ücret Hesaplama'!C19,\"\")","v":""},{"$f":"IF('EK DERS Ücret Hesaplama'!$AM19=1,IF('EK DERS Ücret Hesaplama'!D19=\"Ücretli Öğretmen\",\"Ücretli Öğr.\",\"Ücr.Öğr. (Emekli)\"),\"\")","v":""},{"$f":"IF('EK DERS Ücret Hesaplama'!$AM19=1,RIGHT('EK DERS Ücret Hesaplama'!AO19,8),\"\")","v":""},{"$f":"IF('EK DERS Ücret Hesaplama'!$AM19=1,'EK DERS Ücret Hesaplama'!AO19,\"\")","v":""},{"$f":"IF('EK DERS Ücret Hesaplama'!$AM19=1,'EK DERS Ücret Hesaplama'!AK19,\"\")","v":""},null,0]
[{"$f":"IF(G23=\"\",\"\",SUBTOTAL(103,$G$9:G23))","v":""},{"$f":"IF('EK DERS Ücret Hesaplama'!$AM20=1,'EK DERS Ücret Hesaplama'!B20,\"\")","v":""},{"$f":"IF('EK DERS Ücret Hesaplama'!$AM20=1,'EK DERS Ücret Hesaplama'!C20,\"\")","v":""},{"$f":"IF('EK DERS Ücret Hesaplama'!$AM20=1,IF('EK DERS Ücret Hesaplama'!D20=\"Ücretli Öğretmen\",\"Ücretli Öğr.\",\"Ücr.Öğr. (Emekli)\"),\"\")","v":""},{"$f":"IF('EK DERS Ücret Hesaplama'!$AM20=1,RIGHT('EK DERS Ücret Hesaplama'!AO20,8),\"\")","v":""},{"$f":"IF('EK DERS Ücret Hesaplama'!$AM20=1,'EK DERS Ücret Hesaplama'!AO20,\"\")","v":""},{"$f":"IF('EK DERS Ücret Hesaplama'!$AM20=1,'EK DERS Ücret Hesaplama'!AK20,\"\")","v":""},null,0]
[{"$f":"IF(G24=\"\",\"\",SUBTOTAL(103,$G$9:G24))","v":""},{"$f":"IF('EK DERS Ücret Hesaplama'!$AM21=1,'EK DERS Ücret Hesaplama'!B21,\"\")","v":""},{"$f":"IF('EK DERS Ücret Hesaplama'!$AM21=1,'EK DERS Ücret Hesaplama'!C21,\"\")","v":""},{"$f":"IF('EK DERS Ücret Hesaplama'!$AM21=1,IF('EK DERS Ücret Hesaplama'!D21=\"Ücretli Öğretmen\",\"Ücretli Öğr.\",\"Ücr.Öğr. (Emekli)\"),\"\")","v":""},{"$f":"IF('EK DERS Ücret Hesaplama'!$AM21=1,RIGHT('EK DERS Ücret Hesaplama'!AO21,8),\"\")","v":""},{"$f":"IF('EK DERS Ücret Hesaplama'!$AM21=1,'EK DERS Ücret Hesaplama'!AO21,\"\")","v":""},{"$f":"IF('EK DERS Ücret Hesaplama'!$AM21=1,'EK DERS Ücret Hesaplama'!AK21,\"\")","v":""},null,0]
[{"$f":"IF(G25=\"\",\"\",SUBTOTAL(103,$G$9:G25))","v":""},{"$f":"IF('EK DERS Ücret Hesaplama'!$AM22=1,'EK DERS Ücret Hesaplama'!B22,\"\")","v":""},{"$f":"IF('EK DERS Ücret Hesaplama'!$AM22=1,'EK DERS Ücret Hesaplama'!C22,\"\")","v":""},{"$f":"IF('EK DERS Ücret Hesaplama'!$AM22=1,IF('EK DERS Ücret Hesaplama'!D22=\"Ücretli Öğretmen\",\"Ücretli Öğr.\",\"Ücr.Öğr. (Emekli)\"),\"\")","v":""},{"$f":"IF('EK DERS Ücret Hesaplama'!$AM22=1,RIGHT('EK DERS Ücret Hesaplama'!AO22,8),\"\")","v":""},{"$f":"IF('EK DERS Ücret Hesaplama'!$AM22=1,'EK DERS Ücret Hesaplama'!AO22,\"\")","v":""},{"$f":"IF('EK DERS Ücret Hesaplama'!$AM22=1,'EK DERS Ücret Hesaplama'!AK22,\"\")","v":""},null,0]
[{"$f":"IF(G26=\"\",\"\",SUBTOTAL(103,$G$9:G26))","v":""},{"$f":"IF('EK DERS Ücret Hesaplama'!$AM23=1,'EK DERS Ücret Hesaplama'!B23,\"\")","v":""},{"$f":"IF('EK DERS Ücret Hesaplama'!$AM23=1,'EK DERS Ücret Hesaplama'!C23,\"\")","v":""},{"$f":"IF('EK DERS Ücret Hesaplama'!$AM23=1,IF('EK DERS Ücret Hesaplama'!D23=\"Ücretli Öğretmen\",\"Ücretli Öğr.\",\"Ücr.Öğr. (Emekli)\"),\"\")","v":""},{"$f":"IF('EK DERS Ücret Hesaplama'!$AM23=1,RIGHT('EK DERS Ücret Hesaplama'!AO23,8),\"\")","v":""},{"$f":"IF('EK DERS Ücret Hesaplama'!$AM23=1,'EK DERS Ücret Hesaplama'!AO23,\"\")","v":""},{"$f":"IF('EK DERS Ücret Hesaplama'!$AM23=1,'EK DERS Ücret Hesaplama'!AK23,\"\")","v":""},null,0]
[{"$f":"IF(G27=\"\",\"\",SUBTOTAL(103,$G$9:G27))","v":""},{"$f":"IF('EK DERS Ücret Hesaplama'!$AM24=1,'EK DERS Ücret Hesaplama'!B24,\"\")","v":""},{"$f":"IF('EK DERS Ücret Hesaplama'!$AM24=1,'EK DERS Ücret Hesaplama'!C24,\"\")","v":""},{"$f":"IF('EK DERS Ücret Hesaplama'!$AM24=1,IF('EK DERS Ücret Hesaplama'!D24=\"Ücretli Öğretmen\",\"Ücretli Öğr.\",\"Ücr.Öğr. (Emekli)\"),\"\")","v":""},{"$f":"IF('EK DERS Ücret Hesaplama'!$AM24=1,RIGHT('EK DERS Ücret Hesaplama'!AO24,8),\"\")","v":""},{"$f":"IF('EK DERS Ücret Hesaplama'!$AM24=1,'EK DERS Ücret Hesaplama'!AO24,\"\")","v":""},{"$f":"IF('EK DERS Ücret Hesaplama'!$AM24=1,'EK DERS Ücret Hesaplama'!AK24,\"\")","v":""},null,0]
[{"$f":"IF(G28=\"\",\"\",SUBTOTAL(103,$G$9:G28))","v":""},{"$f":"IF('EK DERS Ücret Hesaplama'!$AM25=1,'EK DERS Ücret Hesaplama'!B25,\"\")","v":""},{"$f":"IF('EK DERS Ücret Hesaplama'!$AM25=1,'EK DERS Ücret Hesaplama'!C25,\"\")","v":""},{"$f":"IF('EK DERS Ücret Hesaplama'!$AM25=1,IF('EK DERS Ücret Hesaplama'!D25=\"Ücretli Öğretmen\",\"Ücretli Öğr.\",\"Ücr.Öğr. (Emekli)\"),\"\")","v":""},{"$f":"IF('EK DERS Ücret Hesaplama'!$AM25=1,RIGHT('EK DERS Ücret Hesaplama'!AO25,8),\"\")","v":""},{"$f":"IF('EK DERS Ücret Hesaplama'!$AM25=1,'EK DERS Ücret Hesaplama'!AO25,\"\")","v":""},{"$f":"IF('EK DERS Ücret Hesaplama'!$AM25=1,'EK DERS Ücret Hesaplama'!AK25,\"\")","v":""},null,0]
[{"$f":"IF(G29=\"\",\"\",SUBTOTAL(103,$G$9:G29))","v":""},{"$f":"IF('EK DERS Ücret Hesaplama'!$AM26=1,'EK DERS Ücret Hesaplama'!B26,\"\")","v":""},{"$f":"IF('EK DERS Ücret Hesaplama'!$AM26=1,'EK DERS Ücret Hesaplama'!C26,\"\")","v":""},{"$f":"IF('EK DERS Ücret Hesaplama'!$AM26=1,IF('EK DERS Ücret Hesaplama'!D26=\"Ücretli Öğretmen\",\"Ücretli Öğr.\",\"Ücr.Öğr. (Emekli)\"),\"\")","v":""},{"$f":"IF('EK DERS Ücret Hesaplama'!$AM26=1,RIGHT('EK DERS Ücret Hesaplama'!AO26,8),\"\")","v":""},{"$f":"IF('EK DERS Ücret Hesaplama'!$AM26=1,'EK DERS Ücret Hesaplama'!AO26,\"\")","v":""},{"$f":"IF('EK DERS Ücret Hesaplama'!$AM26=1,'EK DERS Ücret Hesaplama'!AK26,\"\")","v":""},null,0]
[{"$f":"IF(G30=\"\",\"\",SUBTOTAL(103,$G$9:G30))","v":""},{"$f":"IF('EK DERS Ücret Hesaplama'!$AM27=1,'EK DERS Ücret Hesaplama'!B27,\"\")","v":""},{"$f":"IF('EK DERS Ücret Hesaplama'!$AM27=1,'EK DERS Ücret Hesaplama'!C27,\"\")","v":""},{"$f":"IF('EK DERS Ücret Hesaplama'!$AM27=1,IF('EK DERS Ücret Hesaplama'!D27=\"Ücretli Öğretmen\",\"Ücretli Öğr.\",\"Ücr.Öğr. (Emekli)\"),\"\")","v":""},{"$f":"IF('EK DERS Ücret Hesaplama'!$AM27=1,RIGHT('EK DERS Ücret Hesaplama'!AO27,8),\"\")","v":""},{"$f":"IF('EK DERS Ücret Hesaplama'!$AM27=1,'EK DERS Ücret Hesaplama'!AO27,\"\")","v":""},{"$f":"IF('EK DERS Ücret Hesaplama'!$AM27=1,'EK DERS Ücret Hesaplama'!AK27,\"\")","v":""},null,0]
[{"$f":"IF(G31=\"\",\"\",SUBTOTAL(103,$G$9:G31))","v":""},{"$f":"IF('EK DERS Ücret Hesaplama'!$AM28=1,'EK DERS Ücret Hesaplama'!B28,\"\")","v":""},{"$f":"IF('EK DERS Ücret Hesaplama'!$AM28=1,'EK DERS Ücret Hesaplama'!C28,\"\")","v":""},{"$f":"IF('EK DERS Ücret Hesaplama'!$AM28=1,IF('EK DERS Ücret Hesaplama'!D28=\"Ücretli Öğretmen\",\"Ücretli Öğr.\",\"Ücr.Öğr. (Emekli)\"),\"\")","v":""},{"$f":"IF('EK DERS Ücret Hesaplama'!$AM28=1,RIGHT('EK DERS Ücret Hesaplama'!AO28,8),\"\")","v":""},{"$f":"IF('EK DERS Ücret Hesaplama'!$AM28=1,'EK DERS Ücret Hesaplama'!AO28,\"\")","v":""},{"$f":"IF('EK DERS Ücret Hesaplama'!$AM28=1,'EK DERS Ücret Hesaplama'!AK28,\"\")","v":""},null,0]
[{"$f":"IF(G32=\"\",\"\",SUBTOTAL(103,$G$9:G32))","v":""},{"$f":"IF('EK DERS Ücret Hesaplama'!$AM29=1,'EK DERS Ücret Hesaplama'!B29,\"\")","v":""},{"$f":"IF('EK DERS Ücret Hesaplama'!$AM29=1,'EK DERS Ücret Hesaplama'!C29,\"\")","v":""},{"$f":"IF('EK DERS Ücret Hesaplama'!$AM29=1,IF('EK DERS Ücret Hesaplama'!D29=\"Ücretli Öğretmen\",\"Ücretli Öğr.\",\"Ücr.Öğr. (Emekli)\"),\"\")","v":""},{"$f":"IF('EK DERS Ücret Hesaplama'!$AM29=1,RIGHT('EK DERS Ücret Hesaplama'!AO29,8),\"\")","v":""},{"$f":"IF('EK DERS Ücret Hesaplama'!$AM29=1,'EK DERS Ücret Hesaplama'!AO29,\"\")","v":""},{"$f":"IF('EK DERS Ücret Hesaplama'!$AM29=1,'EK DERS Ücret Hesaplama'!AK29,\"\")","v":""},null,0]
[{"$f":"IF(G33=\"\",\"\",SUBTOTAL(103,$G$9:G33))","v":""},{"$f":"IF('EK DERS Ücret Hesaplama'!$AM30=1,'EK DERS Ücret Hesaplama'!B30,\"\")","v":""},{"$f":"IF('EK DERS Ücret Hesaplama'!$AM30=1,'EK DERS Ücret Hesaplama'!C30,\"\")","v":""},{"$f":"IF('EK DERS Ücret Hesaplama'!$AM30=1,IF('EK DERS Ücret Hesaplama'!D30=\"Ücretli Öğretmen\",\"Ücretli Öğr.\",\"Ücr.Öğr. (Emekli)\"),\"\")","v":""},{"$f":"IF('EK DERS Ücret Hesaplama'!$AM30=1,RIGHT('EK DERS Ücret Hesaplama'!AO30,8),\"\")","v":""},{"$f":"IF('EK DERS Ücret Hesaplama'!$AM30=1,'EK DERS Ücret Hesaplama'!AO30,\"\")","v":""},{"$f":"IF('EK DERS Ücret Hesaplama'!$AM30=1,'EK DERS Ücret Hesaplama'!AK30,\"\")","v":""},null,0]
[{"$f":"IF(G34=\"\",\"\",SUBTOTAL(103,$G$9:G34))","v":""},{"$f":"IF('EK DERS Ücret Hesaplama'!$AM31=1,'EK DERS Ücret Hesaplama'!B31,\"\")","v":""},{"$f":"IF('EK DERS Ücret Hesaplama'!$AM31=1,'EK DERS Ücret Hesaplama'!C31,\"\")","v":""},{"$f":"IF('EK DERS Ücret Hesaplama'!$AM31=1,IF('EK DERS Ücret Hesaplama'!D31=\"Ücretli Öğretmen\",\"Ücretli Öğr.\",\"Ücr.Öğr. (Emekli)\"),\"\")","v":""},{"$f":"IF('EK DERS Ücret Hesaplama'!$AM31=1,RIGHT('EK DERS Ücret Hesaplama'!AO31,8),\"\")","v":""},{"$f":"IF('EK DERS Ücret Hesaplama'!$AM31=1,'EK DERS Ücret Hesaplama'!AO31,\"\")","v":""},{"$f":"IF('EK DERS Ücret Hesaplama'!$AM31=1,'EK DERS Ücret Hesaplama'!AK31,\"\")","v":""},null,0]
[{"$f":"IF(G35=\"\",\"\",SUBTOTAL(103,$G$9:G35))","v":""},{"$f":"IF('EK DERS Ücret Hesaplama'!$AM32=1,'EK DERS Ücret Hesaplama'!B32,\"\")","v":""},{"$f":"IF('EK DERS Ücret Hesaplama'!$AM32=1,'EK DERS Ücret Hesaplama'!C32,\"\")","v":""},{"$f":"IF('EK DERS Ücret Hesaplama'!$AM32=1,IF('EK DERS Ücret Hesaplama'!D32=\"Ücretli Öğretmen\",\"Ücretli Öğr.\",\"Ücr.Öğr. (Emekli)\"),\"\")","v":""},{"$f":"IF('EK DERS Ücret Hesaplama'!$AM32=1,RIGHT('EK DERS Ücret Hesaplama'!AO32,8),\"\")","v":""},{"$f":"IF('EK DERS Ücret Hesaplama'!$AM32=1,'EK DERS Ücret Hesaplama'!AO32,\"\")","v":""},{"$f":"IF('EK DERS Ücret Hesaplama'!$AM32=1,'EK DERS Ücret Hesaplama'!AK32,\"\")","v":""},null,0]
[{"$f":"IF(G36=\"\",\"\",SUBTOTAL(103,$G$9:G36))","v":""},{"$f":"IF('EK DERS Ücret Hesaplama'!$AM33=1,'EK DERS Ücret Hesaplama'!B33,\"\")","v":""},{"$f":"IF('EK DERS Ücret Hesaplama'!$AM33=1,'EK DERS Ücret Hesaplama'!C33,\"\")","v":""},{"$f":"IF('EK DERS Ücret Hesaplama'!$AM33=1,IF('EK DERS Ücret Hesaplama'!D33=\"Ücretli Öğretmen\",\"Ücretli Öğr.\",\"Ücr.Öğr. (Emekli)\"),\"\")","v":""},{"$f":"IF('EK DERS Ücret Hesaplama'!$AM33=1,RIGHT('EK DERS Ücret Hesaplama'!AO33,8),\"\")","v":""},{"$f":"IF('EK DERS Ücret Hesaplama'!$AM33=1,'EK DERS Ücret Hesaplama'!AO33,\"\")","v":""},{"$f":"IF('EK DERS Ücret Hesaplama'!$AM33=1,'EK DERS Ücret Hesaplama'!AK33,\"\")","v":""},null,0]
[{"$f":"IF(G37=\"\",\"\",SUBTOTAL(103,$G$9:G37))","v":""},{"$f":"IF('EK DERS Ücret Hesaplama'!$AM34=1,'EK DERS Ücret Hesaplama'!B34,\"\")","v":""},{"$f":"IF('EK DERS Ücret Hesaplama'!$AM34=1,'EK DERS Ücret Hesaplama'!C34,\"\")","v":""},{"$f":"IF('EK DERS Ücret Hesaplama'!$AM34=1,IF('EK DERS Ücret Hesaplama'!D34=\"Ücretli Öğretmen\",\"Ücretli Öğr.\",\"Ücr.Öğr. (Emekli)\"),\"\")","v":""},{"$f":"IF('EK DERS Ücret Hesaplama'!$AM34=1,RIGHT('EK DERS Ücret Hesaplama'!AO34,8),\"\")","v":""},{"$f":"IF('EK DERS Ücret Hesaplama'!$AM34=1,'EK DERS Ücret Hesaplama'!AO34,\"\")","v":""},{"$f":"IF('EK DERS Ücret Hesaplama'!$AM34=1,'EK DERS Ücret Hesaplama'!AK34,\"\")","v":""},null,0]
[{"$f":"IF(G38=\"\",\"\",SUBTOTAL(103,$G$9:G38))","v":""},{"$f":"IF('EK DERS Ücret Hesaplama'!$AM35=1,'EK DERS Ücret Hesaplama'!B35,\"\")","v":""},{"$f":"IF('EK DERS Ücret Hesaplama'!$AM35=1,'EK DERS Ücret Hesaplama'!C35,\"\")","v":""},{"$f":"IF('EK DERS Ücret Hesaplama'!$AM35=1,IF('EK DERS Ücret Hesaplama'!D35=\"Ücretli Öğretmen\",\"Ücretli Öğr.\",\"Ücr.Öğr. (Emekli)\"),\"\")","v":""},{"$f":"IF('EK DERS Ücret Hesaplama'!$AM35=1,RIGHT('EK DERS Ücret Hesaplama'!AO35,8),\"\")","v":""},{"$f":"IF('EK DERS Ücret Hesaplama'!$AM35=1,'EK DERS Ücret Hesaplama'!AO35,\"\")","v":""},{"$f":"IF('EK DERS Ücret Hesaplama'!$AM35=1,'EK DERS Ücret Hesaplama'!AK35,\"\")","v":""},null,0]
[{"$f":"IF(G39=\"\",\"\",SUBTOTAL(103,$G$9:G39))","v":""},{"$f":"IF('EK DERS Ücret Hesaplama'!$AM36=1,'EK DERS Ücret Hesaplama'!B36,\"\")","v":""},{"$f":"IF('EK DERS Ücret Hesaplama'!$AM36=1,'EK DERS Ücret Hesaplama'!C36,\"\")","v":""},{"$f":"IF('EK DERS Ücret Hesaplama'!$AM36=1,IF('EK DERS Ücret Hesaplama'!D36=\"Ücretli Öğretmen\",\"Ücretli Öğr.\",\"Ücr.Öğr. (Emekli)\"),\"\")","v":""},{"$f":"IF('EK DERS Ücret Hesaplama'!$AM36=1,RIGHT('EK DERS Ücret Hesaplama'!AO36,8),\"\")","v":""},{"$f":"IF('EK DERS Ücret Hesaplama'!$AM36=1,'EK DERS Ücret Hesaplama'!AO36,\"\")","v":""},{"$f":"IF('EK DERS Ücret Hesaplama'!$AM36=1,'EK DERS Ücret Hesaplama'!AK36,\"\")","v":""},null,0]
[{"$f":"IF(G40=\"\",\"\",SUBTOTAL(103,$G$9:G40))","v":""},{"$f":"IF('EK DERS Ücret Hesaplama'!$AM37=1,'EK DERS Ücret Hesaplama'!B37,\"\")","v":""},{"$f":"IF('EK DERS Ücret Hesaplama'!$AM37=1,'EK DERS Ücret Hesaplama'!C37,\"\")","v":""},{"$f":"IF('EK DERS Ücret Hesaplama'!$AM37=1,IF('EK DERS Ücret Hesaplama'!D37=\"Ücretli Öğretmen\",\"Ücretli Öğr.\",\"Ücr.Öğr. (Emekli)\"),\"\")","v":""},{"$f":"IF('EK DERS Ücret Hesaplama'!$AM37=1,RIGHT('EK DERS Ücret Hesaplama'!AO37,8),\"\")","v":""},{"$f":"IF('EK DERS Ücret Hesaplama'!$AM37=1,'EK DERS Ücret Hesaplama'!AO37,\"\")","v":""},{"$f":"IF('EK DERS Ücret Hesaplama'!$AM37=1,'EK DERS Ücret Hesaplama'!AK37,\"\")","v":""},null,0]
[{"$f":"IF(G41=\"\",\"\",SUBTOTAL(103,$G$9:G41))","v":""},{"$f":"IF('EK DERS Ücret Hesaplama'!$AM38=1,'EK DERS Ücret Hesaplama'!B38,\"\")","v":""},{"$f":"IF('EK DERS Ücret Hesaplama'!$AM38=1,'EK DERS Ücret Hesaplama'!C38,\"\")","v":""},{"$f":"IF('EK DERS Ücret Hesaplama'!$AM38=1,IF('EK DERS Ücret Hesaplama'!D38=\"Ücretli Öğretmen\",\"Ücretli Öğr.\",\"Ücr.Öğr. (Emekli)\"),\"\")","v":""},{"$f":"IF('EK DERS Ücret Hesaplama'!$AM38=1,RIGHT('EK DERS Ücret Hesaplama'!AO38,8),\"\")","v":""},{"$f":"IF('EK DERS Ücret Hesaplama'!$AM38=1,'EK DERS Ücret Hesaplama'!AO38,\"\")","v":""},{"$f":"IF('EK DERS Ücret Hesaplama'!$AM38=1,'EK DERS Ücret Hesaplama'!AK38,\"\")","v":""},null,0]
[{"$f":"IF(G42=\"\",\"\",SUBTOTAL(103,$G$9:G42))","v":""},{"$f":"IF('EK DERS Ücret Hesaplama'!$AM39=1,'EK DERS Ücret Hesaplama'!B39,\"\")","v":""},{"$f":"IF('EK DERS Ücret Hesaplama'!$AM39=1,'EK DERS Ücret Hesaplama'!C39,\"\")","v":""},{"$f":"IF('EK DERS Ücret Hesaplama'!$AM39=1,IF('EK DERS Ücret Hesaplama'!D39=\"Ücretli Öğretmen\",\"Ücretli Öğr.\",\"Ücr.Öğr. (Emekli)\"),\"\")","v":""},{"$f":"IF('EK DERS Ücret Hesaplama'!$AM39=1,RIGHT('EK DERS Ücret Hesaplama'!AO39,8),\"\")","v":""},{"$f":"IF('EK DERS Ücret Hesaplama'!$AM39=1,'EK DERS Ücret Hesaplama'!AO39,\"\")","v":""},{"$f":"IF('EK DERS Ücret Hesaplama'!$AM39=1,'EK DERS Ücret Hesaplama'!AK39,\"\")","v":""},null,0]
[{"$f":"IF(G43=\"\",\"\",SUBTOTAL(103,$G$9:G43))","v":""},{"$f":"IF('EK DERS Ücret Hesaplama'!$AM40=1,'EK DERS Ücret Hesaplama'!B40,\"\")","v":""},{"$f":"IF('EK DERS Ücret Hesaplama'!$AM40=1,'EK DERS Ücret Hesaplama'!C40,\"\")","v":""},{"$f":"IF('EK DERS Ücret Hesaplama'!$AM40=1,IF('EK DERS Ücret Hesaplama'!D40=\"Ücretli Öğretmen\",\"Ücretli Öğr.\",\"Ücr.Öğr. (Emekli)\"),\"\")","v":""},{"$f":"IF('EK DERS Ücret Hesaplama'!$AM40=1,RIGHT('EK DERS Ücret Hesaplama'!AO40,8),\"\")","v":""},{"$f":"IF('EK DERS Ücret Hesaplama'!$AM40=1,'EK DERS Ücret Hesaplama'!AO40,\"\")","v":""},{"$f":"IF('EK DERS Ücret Hesaplama'!$AM40=1,'EK DERS Ücret Hesaplama'!AK40,\"\")","v":""},null,0]
[{"$f":"IF(G44=\"\",\"\",SUBTOTAL(103,$G$9:G44))","v":""},{"$f":"IF('EK DERS Ücret Hesaplama'!$AM41=1,'EK DERS Ücret Hesaplama'!B41,\"\")","v":""},{"$f":"IF('EK DERS Ücret Hesaplama'!$AM41=1,'EK DERS Ücret Hesaplama'!C41,\"\")","v":""},{"$f":"IF('EK DERS Ücret Hesaplama'!$AM41=1,IF('EK DERS Ücret Hesaplama'!D41=\"Ücretli Öğretmen\",\"Ücretli Öğr.\",\"Ücr.Öğr. (Emekli)\"),\"\")","v":""},{"$f":"IF('EK DERS Ücret Hesaplama'!$AM41=1,RIGHT('EK DERS Ücret Hesaplama'!AO41,8),\"\")","v":""},{"$f":"IF('EK DERS Ücret Hesaplama'!$AM41=1,'EK DERS Ücret Hesaplama'!AO41,\"\")","v":""},{"$f":"IF('EK DERS Ücret Hesaplama'!$AM41=1,'EK DERS Ücret Hesaplama'!AK41,\"\")","v":""},null,0]
[{"$f":"IF(G45=\"\",\"\",SUBTOTAL(103,$G$9:G45))","v":""},{"$f":"IF('EK DERS Ücret Hesaplama'!$AM42=1,'EK DERS Ücret Hesaplama'!B42,\"\")","v":""},{"$f":"IF('EK DERS Ücret Hesaplama'!$AM42=1,'EK DERS Ücret Hesaplama'!C42,\"\")","v":""},{"$f":"IF('EK DERS Ücret Hesaplama'!$AM42=1,IF('EK DERS Ücret Hesaplama'!D42=\"Ücretli Öğretmen\",\"Ücretli Öğr.\",\"Ücr.Öğr. (Emekli)\"),\"\")","v":""},{"$f":"IF('EK DERS Ücret Hesaplama'!$AM42=1,RIGHT('EK DERS Ücret Hesaplama'!AO42,8),\"\")","v":""},{"$f":"IF('EK DERS Ücret Hesaplama'!$AM42=1,'EK DERS Ücret Hesaplama'!AO42,\"\")","v":""},{"$f":"IF('EK DERS Ücret Hesaplama'!$AM42=1,'EK DERS Ücret Hesaplama'!AK42,\"\")","v":""},null,0]
[{"$f":"IF(G46=\"\",\"\",SUBTOTAL(103,$G$9:G46))","v":""},{"$f":"IF('EK DERS Ücret Hesaplama'!$AM43=1,'EK DERS Ücret Hesaplama'!B43,\"\")","v":""},{"$f":"IF('EK DERS Ücret Hesaplama'!$AM43=1,'EK DERS Ücret Hesaplama'!C43,\"\")","v":""},{"$f":"IF('EK DERS Ücret Hesaplama'!$AM43=1,IF('EK DERS Ücret Hesaplama'!D43=\"Ücretli Öğretmen\",\"Ücretli Öğr.\",\"Ücr.Öğr. (Emekli)\"),\"\")","v":""},{"$f":"IF('EK DERS Ücret Hesaplama'!$AM43=1,RIGHT('EK DERS Ücret Hesaplama'!AO43,8),\"\")","v":""},{"$f":"IF('EK DERS Ücret Hesaplama'!$AM43=1,'EK DERS Ücret Hesaplama'!AO43,\"\")","v":""},{"$f":"IF('EK DERS Ücret Hesaplama'!$AM43=1,'EK DERS Ücret Hesaplama'!AK43,\"\")","v":""},null,0]
[{"$f":"IF(G47=\"\",\"\",SUBTOTAL(103,$G$9:G47))","v":""},{"$f":"IF('EK DERS Ücret Hesaplama'!$AM44=1,'EK DERS Ücret Hesaplama'!B44,\"\")","v":""},{"$f":"IF('EK DERS Ücret Hesaplama'!$AM44=1,'EK DERS Ücret Hesaplama'!C44,\"\")","v":""},{"$f":"IF('EK DERS Ücret Hesaplama'!$AM44=1,IF('EK DERS Ücret Hesaplama'!D44=\"Ücretli Öğretmen\",\"Ücretli Öğr.\",\"Ücr.Öğr. (Emekli)\"),\"\")","v":""},{"$f":"IF('EK DERS Ücret Hesaplama'!$AM44=1,RIGHT('EK DERS Ücret Hesaplama'!AO44,8),\"\")","v":""},{"$f":"IF('EK DERS Ücret Hesaplama'!$AM44=1,'EK DERS Ücret Hesaplama'!AO44,\"\")","v":""},{"$f":"IF('EK DERS Ücret Hesaplama'!$AM44=1,'EK DERS Ücret Hesaplama'!AK44,\"\")","v":""},null,0]
[{"$f":"IF(G48=\"\",\"\",SUBTOTAL(103,$G$9:G48))","v":""},{"$f":"IF('EK DERS Ücret Hesaplama'!$AM45=1,'EK DERS Ücret Hesaplama'!B45,\"\")","v":""},{"$f":"IF('EK DERS Ücret Hesaplama'!$AM45=1,'EK DERS Ücret Hesaplama'!C45,\"\")","v":""},{"$f":"IF('EK DERS Ücret Hesaplama'!$AM45=1,IF('EK DERS Ücret Hesaplama'!D45=\"Ücretli Öğretmen\",\"Ücretli Öğr.\",\"Ücr.Öğr. (Emekli)\"),\"\")","v":""},{"$f":"IF('EK DERS Ücret Hesaplama'!$AM45=1,RIGHT('EK DERS Ücret Hesaplama'!AO45,8),\"\")","v":""},{"$f":"IF('EK DERS Ücret Hesaplama'!$AM45=1,'EK DERS Ücret Hesaplama'!AO45,\"\")","v":""},{"$f":"IF('EK DERS Ücret Hesaplama'!$AM45=1,'EK DERS Ücret Hesaplama'!AK45,\"\")","v":""},null,0]
[{"$f":"IF(G49=\"\",\"\",SUBTOTAL(103,$G$9:G49))","v":""},{"$f":"IF('EK DERS Ücret Hesaplama'!$AM46=1,'EK DERS Ücret Hesaplama'!B46,\"\")","v":""},{"$f":"IF('EK DERS Ücret Hesaplama'!$AM46=1,'EK DERS Ücret Hesaplama'!C46,\"\")","v":""},{"$f":"IF('EK DERS Ücret Hesaplama'!$AM46=1,IF('EK DERS Ücret Hesaplama'!D46=\"Ücretli Öğretmen\",\"Ücretli Öğr.\",\"Ücr.Öğr. (Emekli)\"),\"\")","v":""},{"$f":"IF('EK DERS Ücret Hesaplama'!$AM46=1,RIGHT('EK DERS Ücret Hesaplama'!AO46,8),\"\")","v":""},{"$f":"IF('EK DERS Ücret Hesaplama'!$AM46=1,'EK DERS Ücret Hesaplama'!AO46,\"\")","v":""},{"$f":"IF('EK DERS Ücret Hesaplama'!$AM46=1,'EK DERS Ücret Hesaplama'!AK46,\"\")","v":""},null,0]
[{"$f":"IF(G50=\"\",\"\",SUBTOTAL(103,$G$9:G50))","v":""},{"$f":"IF('EK DERS Ücret Hesaplama'!$AM47=1,'EK DERS Ücret Hesaplama'!B47,\"\")","v":""},{"$f":"IF('EK DERS Ücret Hesaplama'!$AM47=1,'EK DERS Ücret Hesaplama'!C47,\"\")","v":""},{"$f":"IF('EK DERS Ücret Hesaplama'!$AM47=1,IF('EK DERS Ücret Hesaplama'!D47=\"Ücretli Öğretmen\",\"Ücretli Öğr.\",\"Ücr.Öğr. (Emekli)\"),\"\")","v":""},{"$f":"IF('EK DERS Ücret Hesaplama'!$AM47=1,RIGHT('EK DERS Ücret Hesaplama'!AO47,8),\"\")","v":""},{"$f":"IF('EK DERS Ücret Hesaplama'!$AM47=1,'EK DERS Ücret Hesaplama'!AO47,\"\")","v":""},{"$f":"IF('EK DERS Ücret Hesaplama'!$AM47=1,'EK DERS Ücret Hesaplama'!AK47,\"\")","v":""},null,0]
[{"$f":"IF(G51=\"\",\"\",SUBTOTAL(103,$G$9:G51))","v":""},{"$f":"IF('EK DERS Ücret Hesaplama'!$AM48=1,'EK DERS Ücret Hesaplama'!B48,\"\")","v":""},{"$f":"IF('EK DERS Ücret Hesaplama'!$AM48=1,'EK DERS Ücret Hesaplama'!C48,\"\")","v":""},{"$f":"IF('EK DERS Ücret Hesaplama'!$AM48=1,IF('EK DERS Ücret Hesaplama'!D48=\"Ücretli Öğretmen\",\"Ücretli Öğr.\",\"Ücr.Öğr. (Emekli)\"),\"\")","v":""},{"$f":"IF('EK DERS Ücret Hesaplama'!$AM48=1,RIGHT('EK DERS Ücret Hesaplama'!AO48,8),\"\")","v":""},{"$f":"IF('EK DERS Ücret Hesaplama'!$AM48=1,'EK DERS Ücret Hesaplama'!AO48,\"\")","v":""},{"$f":"IF('EK DERS Ücret Hesaplama'!$AM48=1,'EK DERS Ücret Hesaplama'!AK48,\"\")","v":""},null,0]
[{"$f":"IF(G52=\"\",\"\",SUBTOTAL(103,$G$9:G52))","v":""},{"$f":"IF('EK DERS Ücret Hesaplama'!$AM49=1,'EK DERS Ücret Hesaplama'!B49,\"\")","v":""},{"$f":"IF('EK DERS Ücret Hesaplama'!$AM49=1,'EK DERS Ücret Hesaplama'!C49,\"\")","v":""},{"$f":"IF('EK DERS Ücret Hesaplama'!$AM49=1,IF('EK DERS Ücret Hesaplama'!D49=\"Ücretli Öğretmen\",\"Ücretli Öğr.\",\"Ücr.Öğr. (Emekli)\"),\"\")","v":""},{"$f":"IF('EK DERS Ücret Hesaplama'!$AM49=1,RIGHT('EK DERS Ücret Hesaplama'!AO49,8),\"\")","v":""},{"$f":"IF('EK DERS Ücret Hesaplama'!$AM49=1,'EK DERS Ücret Hesaplama'!AO49,\"\")","v":""},{"$f":"IF('EK DERS Ücret Hesaplama'!$AM49=1,'EK DERS Ücret Hesaplama'!AK49,\"\")","v":""},null,0]
[{"$f":"IF(G53=\"\",\"\",SUBTOTAL(103,$G$9:G53))","v":""},{"$f":"IF('EK DERS Ücret Hesaplama'!$AM50=1,'EK DERS Ücret Hesaplama'!B50,\"\")","v":""},{"$f":"IF('EK DERS Ücret Hesaplama'!$AM50=1,'EK DERS Ücret Hesaplama'!C50,\"\")","v":""},{"$f":"IF('EK DERS Ücret Hesaplama'!$AM50=1,IF('EK DERS Ücret Hesaplama'!D50=\"Ücretli Öğretmen\",\"Ücretli Öğr.\",\"Ücr.Öğr. (Emekli)\"),\"\")","v":""},{"$f":"IF('EK DERS Ücret Hesaplama'!$AM50=1,RIGHT('EK DERS Ücret Hesaplama'!AO50,8),\"\")","v":""},{"$f":"IF('EK DERS Ücret Hesaplama'!$AM50=1,'EK DERS Ücret Hesaplama'!AO50,\"\")","v":""},{"$f":"IF('EK DERS Ücret Hesaplama'!$AM50=1,'EK DERS Ücret Hesaplama'!AK50,\"\")","v":""},null,0]
[{"$f":"IF(G54=\"\",\"\",SUBTOTAL(103,$G$9:G54))","v":""},{"$f":"IF('EK DERS Ücret Hesaplama'!$AM51=1,'EK DERS Ücret Hesaplama'!B51,\"\")","v":""},{"$f":"IF('EK DERS Ücret Hesaplama'!$AM51=1,'EK DERS Ücret Hesaplama'!C51,\"\")","v":""},{"$f":"IF('EK DERS Ücret Hesaplama'!$AM51=1,IF('EK DERS Ücret Hesaplama'!D51=\"Ücretli Öğretmen\",\"Ücretli Öğr.\",\"Ücr.Öğr. (Emekli)\"),\"\")","v":""},{"$f":"IF('EK DERS Ücret Hesaplama'!$AM51=1,RIGHT('EK DERS Ücret Hesaplama'!AO51,8),\"\")","v":""},{"$f":"IF('EK DERS Ücret Hesaplama'!$AM51=1,'EK DERS Ücret Hesaplama'!AO51,\"\")","v":""},{"$f":"IF('EK DERS Ücret Hesaplama'!$AM51=1,'EK DERS Ücret Hesaplama'!AK51,\"\")","v":""},null,0]
[{"$f":"IF(G55=\"\",\"\",SUBTOTAL(103,$G$9:G55))","v":""},{"$f":"IF('EK DERS Ücret Hesaplama'!$AM52=1,'EK DERS Ücret Hesaplama'!B52,\"\")","v":""},{"$f":"IF('EK DERS Ücret Hesaplama'!$AM52=1,'EK DERS Ücret Hesaplama'!C52,\"\")","v":""},{"$f":"IF('EK DERS Ücret Hesaplama'!$AM52=1,IF('EK DERS Ücret Hesaplama'!D52=\"Ücretli Öğretmen\",\"Ücretli Öğr.\",\"Ücr.Öğr. (Emekli)\"),\"\")","v":""},{"$f":"IF('EK DERS Ücret Hesaplama'!$AM52=1,RIGHT('EK DERS Ücret Hesaplama'!AO52,8),\"\")","v":""},{"$f":"IF('EK DERS Ücret Hesaplama'!$AM52=1,'EK DERS Ücret Hesaplama'!AO52,\"\")","v":""},{"$f":"IF('EK DERS Ücret Hesaplama'!$AM52=1,'EK DERS Ücret Hesaplama'!AK52,\"\")","v":""},null,0]
[{"$f":"IF(G56=\"\",\"\",SUBTOTAL(103,$G$9:G56))","v":""},{"$f":"IF('EK DERS Ücret Hesaplama'!$AM53=1,'EK DERS Ücret Hesaplama'!B53,\"\")","v":""},{"$f":"IF('EK DERS Ücret Hesaplama'!$AM53=1,'EK DERS Ücret Hesaplama'!C53,\"\")","v":""},{"$f":"IF('EK DERS Ücret Hesaplama'!$AM53=1,IF('EK DERS Ücret Hesaplama'!D53=\"Ücretli Öğretmen\",\"Ücretli Öğr.\",\"Ücr.Öğr. (Emekli)\"),\"\")","v":""},{"$f":"IF('EK DERS Ücret Hesaplama'!$AM53=1,RIGHT('EK DERS Ücret Hesaplama'!AO53,8),\"\")","v":""},{"$f":"IF('EK DERS Ücret Hesaplama'!$AM53=1,'EK DERS Ücret Hesaplama'!AO53,\"\")","v":""},{"$f":"IF('EK DERS Ücret Hesaplama'!$AM53=1,'EK DERS Ücret Hesaplama'!AK53,\"\")","v":""},null,0]
[{"$f":"IF(G57=\"\",\"\",SUBTOTAL(103,$G$9:G57))","v":""},{"$f":"IF('EK DERS Ücret Hesaplama'!$AM54=1,'EK DERS Ücret Hesaplama'!B54,\"\")","v":""},{"$f":"IF('EK DERS Ücret Hesaplama'!$AM54=1,'EK DERS Ücret Hesaplama'!C54,\"\")","v":""},{"$f":"IF('EK DERS Ücret Hesaplama'!$AM54=1,IF('EK DERS Ücret Hesaplama'!D54=\"Ücretli Öğretmen\",\"Ücretli Öğr.\",\"Ücr.Öğr. (Emekli)\"),\"\")","v":""},{"$f":"IF('EK DERS Ücret Hesaplama'!$AM54=1,RIGHT('EK DERS Ücret Hesaplama'!AO54,8),\"\")","v":""},{"$f":"IF('EK DERS Ücret Hesaplama'!$AM54=1,'EK DERS Ücret Hesaplama'!AO54,\"\")","v":""},{"$f":"IF('EK DERS Ücret Hesaplama'!$AM54=1,'EK DERS Ücret Hesaplama'!AK54,\"\")","v":""},null,0]
[{"$f":"IF(G58=\"\",\"\",SUBTOTAL(103,$G$9:G58))","v":""},{"$f":"IF('EK DERS Ücret Hesaplama'!$AM55=1,'EK DERS Ücret Hesaplama'!B55,\"\")","v":""},{"$f":"IF('EK DERS Ücret Hesaplama'!$AM55=1,'EK DERS Ücret Hesaplama'!C55,\"\")","v":""},{"$f":"IF('EK DERS Ücret Hesaplama'!$AM55=1,IF('EK DERS Ücret Hesaplama'!D55=\"Ücretli Öğretmen\",\"Ücretli Öğr.\",\"Ücr.Öğr. (Emekli)\"),\"\")","v":""},{"$f":"IF('EK DERS Ücret Hesaplama'!$AM55=1,RIGHT('EK DERS Ücret Hesaplama'!AO55,8),\"\")","v":""},{"$f":"IF('EK DERS Ücret Hesaplama'!$AM55=1,'EK DERS Ücret Hesaplama'!AO55,\"\")","v":""},{"$f":"IF('EK DERS Ücret Hesaplama'!$AM55=1,'EK DERS Ücret Hesaplama'!AK55,\"\")","v":""},null,0]
[{"$f":"IF(G59=\"\",\"\",SUBTOTAL(103,$G$9:G59))","v":""},{"$f":"IF('EK DERS Ücret Hesaplama'!$AM56=1,'EK DERS Ücret Hesaplama'!B56,\"\")","v":""},{"$f":"IF('EK DERS Ücret Hesaplama'!$AM56=1,'EK DERS Ücret Hesaplama'!C56,\"\")","v":""},{"$f":"IF('EK DERS Ücret Hesaplama'!$AM56=1,IF('EK DERS Ücret Hesaplama'!D56=\"Ücretli Öğretmen\",\"Ücretli Öğr.\",\"Ücr.Öğr. (Emekli)\"),\"\")","v":""},{"$f":"IF('EK DERS Ücret Hesaplama'!$AM56=1,RIGHT('EK DERS Ücret Hesaplama'!AO56,8),\"\")","v":""},{"$f":"IF('EK DERS Ücret Hesaplama'!$AM56=1,'EK DERS Ücret Hesaplama'!AO56,\"\")","v":""},{"$f":"IF('EK DERS Ücret Hesaplama'!$AM56=1,'EK DERS Ücret Hesaplama'!AK56,\"\")","v":""},null,0]
[{"$f":"IF(G60=\"\",\"\",SUBTOTAL(103,$G$9:G60))","v":""},{"$f":"IF('EK DERS Ücret Hesaplama'!$AM57=1,'EK DERS Ücret Hesaplama'!B57,\"\")","v":""},{"$f":"IF('EK DERS Ücret Hesaplama'!$AM57=1,'EK DERS Ücret Hesaplama'!C57,\"\")","v":""},{"$f":"IF('EK DERS Ücret Hesaplama'!$AM57=1,IF('EK DERS Ücret Hesaplama'!D57=\"Ücretli Öğretmen\",\"Ücretli Öğr.\",\"Ücr.Öğr. (Emekli)\"),\"\")","v":""},{"$f":"IF('EK DERS Ücret Hesaplama'!$AM57=1,RIGHT('EK DERS Ücret Hesaplama'!AO57,8),\"\")","v":""},{"$f":"IF('EK DERS Ücret Hesaplama'!$AM57=1,'EK DERS Ücret Hesaplama'!AO57,\"\")","v":""},{"$f":"IF('EK DERS Ücret Hesaplama'!$AM57=1,'EK DERS Ücret Hesaplama'!AK57,\"\")","v":""},null,0]
[{"$f":"IF(G61=\"\",\"\",SUBTOTAL(103,$G$9:G61))","v":""},{"$f":"IF('EK DERS Ücret Hesaplama'!$AM58=1,'EK DERS Ücret Hesaplama'!B58,\"\")","v":""},{"$f":"IF('EK DERS Ücret Hesaplama'!$AM58=1,'EK DERS Ücret Hesaplama'!C58,\"\")","v":""},{"$f":"IF('EK DERS Ücret Hesaplama'!$AM58=1,IF('EK DERS Ücret Hesaplama'!D58=\"Ücretli Öğretmen\",\"Ücretli Öğr.\",\"Ücr.Öğr. (Emekli)\"),\"\")","v":""},{"$f":"IF('EK DERS Ücret Hesaplama'!$AM58=1,RIGHT('EK DERS Ücret Hesaplama'!AO58,8),\"\")","v":""},{"$f":"IF('EK DERS Ücret Hesaplama'!$AM58=1,'EK DERS Ücret Hesaplama'!AO58,\"\")","v":""},{"$f":"IF('EK DERS Ücret Hesaplama'!$AM58=1,'EK DERS Ücret Hesaplama'!AK58,\"\")","v":""},null,0]
[{"$f":"IF(G62=\"\",\"\",SUBTOTAL(103,$G$9:G62))","v":""},{"$f":"IF('EK DERS Ücret Hesaplama'!$AM59=1,'EK DERS Ücret Hesaplama'!B59,\"\")","v":""},{"$f":"IF('EK DERS Ücret Hesaplama'!$AM59=1,'EK DERS Ücret Hesaplama'!C59,\"\")","v":""},{"$f":"IF('EK DERS Ücret Hesaplama'!$AM59=1,IF('EK DERS Ücret Hesaplama'!D59=\"Ücretli Öğretmen\",\"Ücretli Öğr.\",\"Ücr.Öğr. (Emekli)\"),\"\")","v":""},{"$f":"IF('EK DERS Ücret Hesaplama'!$AM59=1,RIGHT('EK DERS Ücret Hesaplama'!AO59,8),\"\")","v":""},{"$f":"IF('EK DERS Ücret Hesaplama'!$AM59=1,'EK DERS Ücret Hesaplama'!AO59,\"\")","v":""},{"$f":"IF('EK DERS Ücret Hesaplama'!$AM59=1,'EK DERS Ücret Hesaplama'!AK59,\"\")","v":""},null,0]
[{"$f":"IF(G63=\"\",\"\",SUBTOTAL(103,$G$9:G63))","v":""},{"$f":"IF('EK DERS Ücret Hesaplama'!$AM60=1,'EK DERS Ücret Hesaplama'!B60,\"\")","v":""},{"$f":"IF('EK DERS Ücret Hesaplama'!$AM60=1,'EK DERS Ücret Hesaplama'!C60,\"\")","v":""},{"$f":"IF('EK DERS Ücret Hesaplama'!$AM60=1,IF('EK DERS Ücret Hesaplama'!D60=\"Ücretli Öğretmen\",\"Ücretli Öğr.\",\"Ücr.Öğr. (Emekli)\"),\"\")","v":""},{"$f":"IF('EK DERS Ücret Hesaplama'!$AM60=1,RIGHT('EK DERS Ücret Hesaplama'!AO60,8),\"\")","v":""},{"$f":"IF('EK DERS Ücret Hesaplama'!$AM60=1,'EK DERS Ücret Hesaplama'!AO60,\"\")","v":""},{"$f":"IF('EK DERS Ücret Hesaplama'!$AM60=1,'EK DERS Ücret Hesaplama'!AK60,\"\")","v":""},null,0]
[{"$f":"IF(G64=\"\",\"\",SUBTOTAL(103,$G$9:G64))","v":""},{"$f":"IF('EK DERS Ücret Hesaplama'!$AM61=1,'EK DERS Ücret Hesaplama'!B61,\"\")","v":""},{"$f":"IF('EK DERS Ücret Hesaplama'!$AM61=1,'EK DERS Ücret Hesaplama'!C61,\"\")","v":""},{"$f":"IF('EK DERS Ücret Hesaplama'!$AM61=1,IF('EK DERS Ücret Hesaplama'!D61=\"Ücretli Öğretmen\",\"Ücretli Öğr.\",\"Ücr.Öğr. (Emekli)\"),\"\")","v":""},{"$f":"IF('EK DERS Ücret Hesaplama'!$AM61=1,RIGHT('EK DERS Ücret Hesaplama'!AO61,8),\"\")","v":""},{"$f":"IF('EK DERS Ücret Hesaplama'!$AM61=1,'EK DERS Ücret Hesaplama'!AO61,\"\")","v":""},{"$f":"IF('EK DERS Ücret Hesaplama'!$AM61=1,'EK DERS Ücret Hesaplama'!AK61,\"\")","v":""},null,0]
[{"$f":"IF(G65=\"\",\"\",SUBTOTAL(103,$G$9:G65))","v":""},{"$f":"IF('EK DERS Ücret Hesaplama'!$AM62=1,'EK DERS Ücret Hesaplama'!B62,\"\")","v":""},{"$f":"IF('EK DERS Ücret Hesaplama'!$AM62=1,'EK DERS Ücret Hesaplama'!C62,\"\")","v":""},{"$f":"IF('EK DERS Ücret Hesaplama'!$AM62=1,IF('EK DERS Ücret Hesaplama'!D62=\"Ücretli Öğretmen\",\"Ücretli Öğr.\",\"Ücr.Öğr. (Emekli)\"),\"\")","v":""},{"$f":"IF('EK DERS Ücret Hesaplama'!$AM62=1,RIGHT('EK DERS Ücret Hesaplama'!AO62,8),\"\")","v":""},{"$f":"IF('EK DERS Ücret Hesaplama'!$AM62=1,'EK DERS Ücret Hesaplama'!AO62,\"\")","v":""},{"$f":"IF('EK DERS Ücret Hesaplama'!$AM62=1,'EK DERS Ücret Hesaplama'!AK62,\"\")","v":""},null,0]
[{"$f":"IF(G66=\"\",\"\",SUBTOTAL(103,$G$9:G66))","v":""},{"$f":"IF('EK DERS Ücret Hesaplama'!$AM63=1,'EK DERS Ücret Hesaplama'!B63,\"\")","v":""},{"$f":"IF('EK DERS Ücret Hesaplama'!$AM63=1,'EK DERS Ücret Hesaplama'!C63,\"\")","v":""},{"$f":"IF('EK DERS Ücret Hesaplama'!$AM63=1,IF('EK DERS Ücret Hesaplama'!D63=\"Ücretli Öğretmen\",\"Ücretli Öğr.\",\"Ücr.Öğr. (Emekli)\"),\"\")","v":""},{"$f":"IF('EK DERS Ücret Hesaplama'!$AM63=1,RIGHT('EK DERS Ücret Hesaplama'!AO63,8),\"\")","v":""},{"$f":"IF('EK DERS Ücret Hesaplama'!$AM63=1,'EK DERS Ücret Hesaplama'!AO63,\"\")","v":""},{"$f":"IF('EK DERS Ücret Hesaplama'!$AM63=1,'EK DERS Ücret Hesaplama'!AK63,\"\")","v":""},null,0]
[{"$f":"IF(G67=\"\",\"\",SUBTOTAL(103,$G$9:G67))","v":""},{"$f":"IF('EK DERS Ücret Hesaplama'!$AM64=1,'EK DERS Ücret Hesaplama'!B64,\"\")","v":""},{"$f":"IF('EK DERS Ücret Hesaplama'!$AM64=1,'EK DERS Ücret Hesaplama'!C64,\"\")","v":""},{"$f":"IF('EK DERS Ücret Hesaplama'!$AM64=1,IF('EK DERS Ücret Hesaplama'!D64=\"Ücretli Öğretmen\",\"Ücretli Öğr.\",\"Ücr.Öğr. (Emekli)\"),\"\")","v":""},{"$f":"IF('EK DERS Ücret Hesaplama'!$AM64=1,RIGHT('EK DERS Ücret Hesaplama'!AO64,8),\"\")","v":""},{"$f":"IF('EK DERS Ücret Hesaplama'!$AM64=1,'EK DERS Ücret Hesaplama'!AO64,\"\")","v":""},{"$f":"IF('EK DERS Ücret Hesaplama'!$AM64=1,'EK DERS Ücret Hesaplama'!AK64,\"\")","v":""},null,0]
[{"$f":"IF(G68=\"\",\"\",SUBTOTAL(103,$G$9:G68))","v":""},{"$f":"IF('EK DERS Ücret Hesaplama'!$AM65=1,'EK DERS Ücret Hesaplama'!B65,\"\")","v":""},{"$f":"IF('EK DERS Ücret Hesaplama'!$AM65=1,'EK DERS Ücret Hesaplama'!C65,\"\")","v":""},{"$f":"IF('EK DERS Ücret Hesaplama'!$AM65=1,IF('EK DERS Ücret Hesaplama'!D65=\"Ücretli Öğretmen\",\"Ücretli Öğr.\",\"Ücr.Öğr. (Emekli)\"),\"\")","v":""},{"$f":"IF('EK DERS Ücret Hesaplama'!$AM65=1,RIGHT('EK DERS Ücret Hesaplama'!AO65,8),\"\")","v":""},{"$f":"IF('EK DERS Ücret Hesaplama'!$AM65=1,'EK DERS Ücret Hesaplama'!AO65,\"\")","v":""},{"$f":"IF('EK DERS Ücret Hesaplama'!$AM65=1,'EK DERS Ücret Hesaplama'!AK65,\"\")","v":""},null,0]
[{"$f":"IF(G69=\"\",\"\",SUBTOTAL(103,$G$9:G69))","v":""},{"$f":"IF('EK DERS Ücret Hesaplama'!$AM66=1,'EK DERS Ücret Hesaplama'!B66,\"\")","v":""},{"$f":"IF('EK DERS Ücret Hesaplama'!$AM66=1,'EK DERS Ücret Hesaplama'!C66,\"\")","v":""},{"$f":"IF('EK DERS Ücret Hesaplama'!$AM66=1,IF('EK DERS Ücret Hesaplama'!D66=\"Ücretli Öğretmen\",\"Ücretli Öğr.\",\"Ücr.Öğr. (Emekli)\"),\"\")","v":""},{"$f":"IF('EK DERS Ücret Hesaplama'!$AM66=1,RIGHT('EK DERS Ücret Hesaplama'!AO66,8),\"\")","v":""},{"$f":"IF('EK DERS Ücret Hesaplama'!$AM66=1,'EK DERS Ücret Hesaplama'!AO66,\"\")","v":""},{"$f":"IF('EK DERS Ücret Hesaplama'!$AM66=1,'EK DERS Ücret Hesaplama'!AK66,\"\")","v":""},null,0]
[{"$f":"IF(G70=\"\",\"\",SUBTOTAL(103,$G$9:G70))","v":""},{"$f":"IF('EK DERS Ücret Hesaplama'!$AM67=1,'EK DERS Ücret Hesaplama'!B67,\"\")","v":""},{"$f":"IF('EK DERS Ücret Hesaplama'!$AM67=1,'EK DERS Ücret Hesaplama'!C67,\"\")","v":""},{"$f":"IF('EK DERS Ücret Hesaplama'!$AM67=1,IF('EK DERS Ücret Hesaplama'!D67=\"Ücretli Öğretmen\",\"Ücretli Öğr.\",\"Ücr.Öğr. (Emekli)\"),\"\")","v":""},{"$f":"IF('EK DERS Ücret Hesaplama'!$AM67=1,RIGHT('EK DERS Ücret Hesaplama'!AO67,8),\"\")","v":""},{"$f":"IF('EK DERS Ücret Hesaplama'!$AM67=1,'EK DERS Ücret Hesaplama'!AO67,\"\")","v":""},{"$f":"IF('EK DERS Ücret Hesaplama'!$AM67=1,'EK DERS Ücret Hesaplama'!AK67,\"\")","v":""},null,0]
[{"$f":"IF(G71=\"\",\"\",SUBTOTAL(103,$G$9:G71))","v":""},{"$f":"IF('EK DERS Ücret Hesaplama'!$AM68=1,'EK DERS Ücret Hesaplama'!B68,\"\")","v":""},{"$f":"IF('EK DERS Ücret Hesaplama'!$AM68=1,'EK DERS Ücret Hesaplama'!C68,\"\")","v":""},{"$f":"IF('EK DERS Ücret Hesaplama'!$AM68=1,IF('EK DERS Ücret Hesaplama'!D68=\"Ücretli Öğretmen\",\"Ücretli Öğr.\",\"Ücr.Öğr. (Emekli)\"),\"\")","v":""},{"$f":"IF('EK DERS Ücret Hesaplama'!$AM68=1,RIGHT('EK DERS Ücret Hesaplama'!AO68,8),\"\")","v":""},{"$f":"IF('EK DERS Ücret Hesaplama'!$AM68=1,'EK DERS Ücret Hesaplama'!AO68,\"\")","v":""},{"$f":"IF('EK DERS Ücret Hesaplama'!$AM68=1,'EK DERS Ücret Hesaplama'!AK68,\"\")","v":""},null,0]
[{"$f":"IF(G72=\"\",\"\",SUBTOTAL(103,$G$9:G72))","v":""},{"$f":"IF('EK DERS Ücret Hesaplama'!$AM69=1,'EK DERS Ücret Hesaplama'!B69,\"\")","v":""},{"$f":"IF('EK DERS Ücret Hesaplama'!$AM69=1,'EK DERS Ücret Hesaplama'!C69,\"\")","v":""},{"$f":"IF('EK DERS Ücret Hesaplama'!$AM69=1,IF('EK DERS Ücret Hesaplama'!D69=\"Ücretli Öğretmen\",\"Ücretli Öğr.\",\"Ücr.Öğr. (Emekli)\"),\"\")","v":""},{"$f":"IF('EK DERS Ücret Hesaplama'!$AM69=1,RIGHT('EK DERS Ücret Hesaplama'!AO69,8),\"\")","v":""},{"$f":"IF('EK DERS Ücret Hesaplama'!$AM69=1,'EK DERS Ücret Hesaplama'!AO69,\"\")","v":""},{"$f":"IF('EK DERS Ücret Hesaplama'!$AM69=1,'EK DERS Ücret Hesaplama'!AK69,\"\")","v":""},null,0]
[{"$f":"IF(G73=\"\",\"\",SUBTOTAL(103,$G$9:G73))","v":""},{"$f":"IF('EK DERS Ücret Hesaplama'!$AM70=1,'EK DERS Ücret Hesaplama'!B70,\"\")","v":""},{"$f":"IF('EK DERS Ücret Hesaplama'!$AM70=1,'EK DERS Ücret Hesaplama'!C70,\"\")","v":""},{"$f":"IF('EK DERS Ücret Hesaplama'!$AM70=1,IF('EK DERS Ücret Hesaplama'!D70=\"Ücretli Öğretmen\",\"Ücretli Öğr.\",\"Ücr.Öğr. (Emekli)\"),\"\")","v":""},{"$f":"IF('EK DERS Ücret Hesaplama'!$AM70=1,RIGHT('EK DERS Ücret Hesaplama'!AO70,8),\"\")","v":""},{"$f":"IF('EK DERS Ücret Hesaplama'!$AM70=1,'EK DERS Ücret Hesaplama'!AO70,\"\")","v":""},{"$f":"IF('EK DERS Ücret Hesaplama'!$AM70=1,'EK DERS Ücret Hesaplama'!AK70,\"\")","v":""},null,0]
[{"$f":"IF(G74=\"\",\"\",SUBTOTAL(103,$G$9:G74))","v":""},{"$f":"IF('EK DERS Ücret Hesaplama'!$AM71=1,'EK DERS Ücret Hesaplama'!B71,\"\")","v":""},{"$f":"IF('EK DERS Ücret Hesaplama'!$AM71=1,'EK DERS Ücret Hesaplama'!C71,\"\")","v":""},{"$f":"IF('EK DERS Ücret Hesaplama'!$AM71=1,IF('EK DERS Ücret Hesaplama'!D71=\"Ücretli Öğretmen\",\"Ücretli Öğr.\",\"Ücr.Öğr. (Emekli)\"),\"\")","v":""},{"$f":"IF('EK DERS Ücret Hesaplama'!$AM71=1,RIGHT('EK DERS Ücret Hesaplama'!AO71,8),\"\")","v":""},{"$f":"IF('EK DERS Ücret Hesaplama'!$AM71=1,'EK DERS Ücret Hesaplama'!AO71,\"\")","v":""},{"$f":"IF('EK DERS Ücret Hesaplama'!$AM71=1,'EK DERS Ücret Hesaplama'!AK71,\"\")","v":""},null,{"$f":"IF(G74=\"\",0,1)","v":0}]
[{"$f":"IF(G75=\"\",\"\",SUBTOTAL(103,$G$9:G75))","v":""},{"$f":"IF('EK DERS Ücret Hesaplama'!$AM72=1,'EK DERS Ücret Hesaplama'!B72,\"\")","v":""},{"$f":"IF('EK DERS Ücret Hesaplama'!$AM72=1,'EK DERS Ücret Hesaplama'!C72,\"\")","v":""},{"$f":"IF('EK DERS Ücret Hesaplama'!$AM72=1,IF('EK DERS Ücret Hesaplama'!D72=\"Ücretli Öğretmen\",\"Ücretli Öğr.\",\"Ücr.Öğr. (Emekli)\"),\"\")","v":""},{"$f":"IF('EK DERS Ücret Hesaplama'!$AM72=1,RIGHT('EK DERS Ücret Hesaplama'!AO72,8),\"\")","v":""},{"$f":"IF('EK DERS Ücret Hesaplama'!$AM72=1,'EK DERS Ücret Hesaplama'!AO72,\"\")","v":""},{"$f":"IF('EK DERS Ücret Hesaplama'!$AM72=1,'EK DERS Ücret Hesaplama'!AK72,\"\")","v":""},null,0]
[{"$f":"IF(G76=\"\",\"\",SUBTOTAL(103,$G$9:G76))","v":""},{"$f":"IF('EK DERS Ücret Hesaplama'!$AM73=1,'EK DERS Ücret Hesaplama'!B73,\"\")","v":""},{"$f":"IF('EK DERS Ücret Hesaplama'!$AM73=1,'EK DERS Ücret Hesaplama'!C73,\"\")","v":""},{"$f":"IF('EK DERS Ücret Hesaplama'!$AM73=1,IF('EK DERS Ücret Hesaplama'!D73=\"Ücretli Öğretmen\",\"Ücretli Öğr.\",\"Ücr.Öğr. (Emekli)\"),\"\")","v":""},{"$f":"IF('EK DERS Ücret Hesaplama'!$AM73=1,RIGHT('EK DERS Ücret Hesaplama'!AO73,8),\"\")","v":""},{"$f":"IF('EK DERS Ücret Hesaplama'!$AM73=1,'EK DERS Ücret Hesaplama'!AO73,\"\")","v":""},{"$f":"IF('EK DERS Ücret Hesaplama'!$AM73=1,'EK DERS Ücret Hesaplama'!AK73,\"\")","v":""},null,0]
[{"$f":"IF(G77=\"\",\"\",SUBTOTAL(103,$G$9:G77))","v":""},{"$f":"IF('EK DERS Ücret Hesaplama'!$AM74=1,'EK DERS Ücret Hesaplama'!B74,\"\")","v":""},{"$f":"IF('EK DERS Ücret Hesaplama'!$AM74=1,'EK DERS Ücret Hesaplama'!C74,\"\")","v":""},{"$f":"IF('EK DERS Ücret Hesaplama'!$AM74=1,IF('EK DERS Ücret Hesaplama'!D74=\"Ücretli Öğretmen\",\"Ücretli Öğr.\",\"Ücr.Öğr. (Emekli)\"),\"\")","v":""},{"$f":"IF('EK DERS Ücret Hesaplama'!$AM74=1,RIGHT('EK DERS Ücret Hesaplama'!AO74,8),\"\")","v":""},{"$f":"IF('EK DERS Ücret Hesaplama'!$AM74=1,'EK DERS Ücret Hesaplama'!AO74,\"\")","v":""},{"$f":"IF('EK DERS Ücret Hesaplama'!$AM74=1,'EK DERS Ücret Hesaplama'!AK74,\"\")","v":""},null,0]
[{"$f":"IF(G78=\"\",\"\",SUBTOTAL(103,$G$9:G78))","v":""},{"$f":"IF('EK DERS Ücret Hesaplama'!$AM75=1,'EK DERS Ücret Hesaplama'!B75,\"\")","v":""},{"$f":"IF('EK DERS Ücret Hesaplama'!$AM75=1,'EK DERS Ücret Hesaplama'!C75,\"\")","v":""},{"$f":"IF('EK DERS Ücret Hesaplama'!$AM75=1,IF('EK DERS Ücret Hesaplama'!D75=\"Ücretli Öğretmen\",\"Ücretli Öğr.\",\"Ücr.Öğr. (Emekli)\"),\"\")","v":""},{"$f":"IF('EK DERS Ücret Hesaplama'!$AM75=1,RIGHT('EK DERS Ücret Hesaplama'!AO75,8),\"\")","v":""},{"$f":"IF('EK DERS Ücret Hesaplama'!$AM75=1,'EK DERS Ücret Hesaplama'!AO75,\"\")","v":""},{"$f":"IF('EK DERS Ücret Hesaplama'!$AM75=1,'EK DERS Ücret Hesaplama'!AK75,\"\")","v":""},null,0]
[{"$f":"IF(G79=\"\",\"\",SUBTOTAL(103,$G$9:G79))","v":""},{"$f":"IF('EK DERS Ücret Hesaplama'!$AM76=1,'EK DERS Ücret Hesaplama'!B76,\"\")","v":""},{"$f":"IF('EK DERS Ücret Hesaplama'!$AM76=1,'EK DERS Ücret Hesaplama'!C76,\"\")","v":""},{"$f":"IF('EK DERS Ücret Hesaplama'!$AM76=1,IF('EK DERS Ücret Hesaplama'!D76=\"Ücretli Öğretmen\",\"Ücretli Öğr.\",\"Ücr.Öğr. (Emekli)\"),\"\")","v":""},{"$f":"IF('EK DERS Ücret Hesaplama'!$AM76=1,RIGHT('EK DERS Ücret Hesaplama'!AO76,8),\"\")","v":""},{"$f":"IF('EK DERS Ücret Hesaplama'!$AM76=1,'EK DERS Ücret Hesaplama'!AO76,\"\")","v":""},{"$f":"IF('EK DERS Ücret Hesaplama'!$AM76=1,'EK DERS Ücret Hesaplama'!AK76,\"\")","v":""},null,0]
[{"$f":"IF(G80=\"\",\"\",SUBTOTAL(103,$G$9:G80))","v":""},{"$f":"IF('EK DERS Ücret Hesaplama'!$AM77=1,'EK DERS Ücret Hesaplama'!B77,\"\")","v":""},{"$f":"IF('EK DERS Ücret Hesaplama'!$AM77=1,'EK DERS Ücret Hesaplama'!C77,\"\")","v":""},{"$f":"IF('EK DERS Ücret Hesaplama'!$AM77=1,IF('EK DERS Ücret Hesaplama'!D77=\"Ücretli Öğretmen\",\"Ücretli Öğr.\",\"Ücr.Öğr. (Emekli)\"),\"\")","v":""},{"$f":"IF('EK DERS Ücret Hesaplama'!$AM77=1,RIGHT('EK DERS Ücret Hesaplama'!AO77,8),\"\")","v":""},{"$f":"IF('EK DERS Ücret Hesaplama'!$AM77=1,'EK DERS Ücret Hesaplama'!AO77,\"\")","v":""},{"$f":"IF('EK DERS Ücret Hesaplama'!$AM77=1,'EK DERS Ücret Hesaplama'!AK77,\"\")","v":""},null,0]
[{"$f":"IF(G81=\"\",\"\",SUBTOTAL(103,$G$9:G81))","v":""},{"$f":"IF('EK DERS Ücret Hesaplama'!$AM78=1,'EK DERS Ücret Hesaplama'!B78,\"\")","v":""},{"$f":"IF('EK DERS Ücret Hesaplama'!$AM78=1,'EK DERS Ücret Hesaplama'!C78,\"\")","v":""},{"$f":"IF('EK DERS Ücret Hesaplama'!$AM78=1,IF('EK DERS Ücret Hesaplama'!D78=\"Ücretli Öğretmen\",\"Ücretli Öğr.\",\"Ücr.Öğr. (Emekli)\"),\"\")","v":""},{"$f":"IF('EK DERS Ücret Hesaplama'!$AM78=1,RIGHT('EK DERS Ücret Hesaplama'!AO78,8),\"\")","v":""},{"$f":"IF('EK DERS Ücret Hesaplama'!$AM78=1,'EK DERS Ücret Hesaplama'!AO78,\"\")","v":""},{"$f":"IF('EK DERS Ücret Hesaplama'!$AM78=1,'EK DERS Ücret Hesaplama'!AK78,\"\")","v":""},null,0]
[{"$f":"IF(G82=\"\",\"\",SUBTOTAL(103,$G$9:G82))","v":""},{"$f":"IF('EK DERS Ücret Hesaplama'!$AM79=1,'EK DERS Ücret Hesaplama'!B79,\"\")","v":""},{"$f":"IF('EK DERS Ücret Hesaplama'!$AM79=1,'EK DERS Ücret Hesaplama'!C79,\"\")","v":""},{"$f":"IF('EK DERS Ücret Hesaplama'!$AM79=1,IF('EK DERS Ücret Hesaplama'!D79=\"Ücretli Öğretmen\",\"Ücretli Öğr.\",\"Ücr.Öğr. (Emekli)\"),\"\")","v":""},{"$f":"IF('EK DERS Ücret Hesaplama'!$AM79=1,RIGHT('EK DERS Ücret Hesaplama'!AO79,8),\"\")","v":""},{"$f":"IF('EK DERS Ücret Hesaplama'!$AM79=1,'EK DERS Ücret Hesaplama'!AO79,\"\")","v":""},{"$f":"IF('EK DERS Ücret Hesaplama'!$AM79=1,'EK DERS Ücret Hesaplama'!AK79,\"\")","v":""},null,0]
[{"$f":"IF(G83=\"\",\"\",SUBTOTAL(103,$G$9:G83))","v":""},{"$f":"IF('EK DERS Ücret Hesaplama'!$AM80=1,'EK DERS Ücret Hesaplama'!B80,\"\")","v":""},{"$f":"IF('EK DERS Ücret Hesaplama'!$AM80=1,'EK DERS Ücret Hesaplama'!C80,\"\")","v":""},{"$f":"IF('EK DERS Ücret Hesaplama'!$AM80=1,IF('EK DERS Ücret Hesaplama'!D80=\"Ücretli Öğretmen\",\"Ücretli Öğr.\",\"Ücr.Öğr. (Emekli)\"),\"\")","v":""},{"$f":"IF('EK DERS Ücret Hesaplama'!$AM80=1,RIGHT('EK DERS Ücret Hesaplama'!AO80,8),\"\")","v":""},{"$f":"IF('EK DERS Ücret Hesaplama'!$AM80=1,'EK DERS Ücret Hesaplama'!AO80,\"\")","v":""},{"$f":"IF('EK DERS Ücret Hesaplama'!$AM80=1,'EK DERS Ücret Hesaplama'!AK80,\"\")","v":""},null,0]
[{"$f":"IF(G84=\"\",\"\",SUBTOTAL(103,$G$9:G84))","v":""},{"$f":"IF('EK DERS Ücret Hesaplama'!$AM81=1,'EK DERS Ücret Hesaplama'!B81,\"\")","v":""},{"$f":"IF('EK DERS Ücret Hesaplama'!$AM81=1,'EK DERS Ücret Hesaplama'!C81,\"\")","v":""},{"$f":"IF('EK DERS Ücret Hesaplama'!$AM81=1,IF('EK DERS Ücret Hesaplama'!D81=\"Ücretli Öğretmen\",\"Ücretli Öğr.\",\"Ücr.Öğr. (Emekli)\"),\"\")","v":""},{"$f":"IF('EK DERS Ücret Hesaplama'!$AM81=1,RIGHT('EK DERS Ücret Hesaplama'!AO81,8),\"\")","v":""},{"$f":"IF('EK DERS Ücret Hesaplama'!$AM81=1,'EK DERS Ücret Hesaplama'!AO81,\"\")","v":""},{"$f":"IF('EK DERS Ücret Hesaplama'!$AM81=1,'EK DERS Ücret Hesaplama'!AK81,\"\")","v":""},null,0]
[{"$f":"IF(G85=\"\",\"\",SUBTOTAL(103,$G$9:G85))","v":""},{"$f":"IF('EK DERS Ücret Hesaplama'!$AM82=1,'EK DERS Ücret Hesaplama'!B82,\"\")","v":""},{"$f":"IF('EK DERS Ücret Hesaplama'!$AM82=1,'EK DERS Ücret Hesaplama'!C82,\"\")","v":""},{"$f":"IF('EK DERS Ücret Hesaplama'!$AM82=1,IF('EK DERS Ücret Hesaplama'!D82=\"Ücretli Öğretmen\",\"Ücretli Öğr.\",\"Ücr.Öğr. (Emekli)\"),\"\")","v":""},{"$f":"IF('EK DERS Ücret Hesaplama'!$AM82=1,RIGHT('EK DERS Ücret Hesaplama'!AO82,8),\"\")","v":""},{"$f":"IF('EK DERS Ücret Hesaplama'!$AM82=1,'EK DERS Ücret Hesaplama'!AO82,\"\")","v":""},{"$f":"IF('EK DERS Ücret Hesaplama'!$AM82=1,'EK DERS Ücret Hesaplama'!AK82,\"\")","v":""},null,0]
[{"$f":"IF(G86=\"\",\"\",SUBTOTAL(103,$G$9:G86))","v":""},{"$f":"IF('EK DERS Ücret Hesaplama'!$AM83=1,'EK DERS Ücret Hesaplama'!B83,\"\")","v":""},{"$f":"IF('EK DERS Ücret Hesaplama'!$AM83=1,'EK DERS Ücret Hesaplama'!C83,\"\")","v":""},{"$f":"IF('EK DERS Ücret Hesaplama'!$AM83=1,IF('EK DERS Ücret Hesaplama'!D83=\"Ücretli Öğretmen\",\"Ücretli Öğr.\",\"Ücr.Öğr. (Emekli)\"),\"\")","v":""},{"$f":"IF('EK DERS Ücret Hesaplama'!$AM83=1,RIGHT('EK DERS Ücret Hesaplama'!AO83,8),\"\")","v":""},{"$f":"IF('EK DERS Ücret Hesaplama'!$AM83=1,'EK DERS Ücret Hesaplama'!AO83,\"\")","v":""},{"$f":"IF('EK DERS Ücret Hesaplama'!$AM83=1,'EK DERS Ücret Hesaplama'!AK83,\"\")","v":""},null,0]
[{"$f":"IF(G87=\"\",\"\",SUBTOTAL(103,$G$9:G87))","v":""},{"$f":"IF('EK DERS Ücret Hesaplama'!$AM84=1,'EK DERS Ücret Hesaplama'!B84,\"\")","v":""},{"$f":"IF('EK DERS Ücret Hesaplama'!$AM84=1,'EK DERS Ücret Hesaplama'!C84,\"\")","v":""},{"$f":"IF('EK DERS Ücret Hesaplama'!$AM84=1,IF('EK DERS Ücret Hesaplama'!D84=\"Ücretli Öğretmen\",\"Ücretli Öğr.\",\"Ücr.Öğr. (Emekli)\"),\"\")","v":""},{"$f":"IF('EK DERS Ücret Hesaplama'!$AM84=1,RIGHT('EK DERS Ücret Hesaplama'!AO84,8),\"\")","v":""},{"$f":"IF('EK DERS Ücret Hesaplama'!$AM84=1,'EK DERS Ücret Hesaplama'!AO84,\"\")","v":""},{"$f":"IF('EK DERS Ücret Hesaplama'!$AM84=1,'EK DERS Ücret Hesaplama'!AK84,\"\")","v":""},null,0]
[{"$f":"IF(G88=\"\",\"\",SUBTOTAL(103,$G$9:G88))","v":""},{"$f":"IF('EK DERS Ücret Hesaplama'!$AM85=1,'EK DERS Ücret Hesaplama'!B85,\"\")","v":""},{"$f":"IF('EK DERS Ücret Hesaplama'!$AM85=1,'EK DERS Ücret Hesaplama'!C85,\"\")","v":""},{"$f":"IF('EK DERS Ücret Hesaplama'!$AM85=1,IF('EK DERS Ücret Hesaplama'!D85=\"Ücretli Öğretmen\",\"Ücretli Öğr.\",\"Ücr.Öğr. (Emekli)\"),\"\")","v":""},{"$f":"IF('EK DERS Ücret Hesaplama'!$AM85=1,RIGHT('EK DERS Ücret Hesaplama'!AO85,8),\"\")","v":""},{"$f":"IF('EK DERS Ücret Hesaplama'!$AM85=1,'EK DERS Ücret Hesaplama'!AO85,\"\")","v":""},{"$f":"IF('EK DERS Ücret Hesaplama'!$AM85=1,'EK DERS Ücret Hesaplama'!AK85,\"\")","v":""},null,0]
[{"$f":"IF(G89=\"\",\"\",SUBTOTAL(103,$G$9:G89))","v":""},{"$f":"IF('EK DERS Ücret Hesaplama'!$AM86=1,'EK DERS Ücret Hesaplama'!B86,\"\")","v":""},{"$f":"IF('EK DERS Ücret Hesaplama'!$AM86=1,'EK DERS Ücret Hesaplama'!C86,\"\")","v":""},{"$f":"IF('EK DERS Ücret Hesaplama'!$AM86=1,IF('EK DERS Ücret Hesaplama'!D86=\"Ücretli Öğretmen\",\"Ücretli Öğr.\",\"Ücr.Öğr. (Emekli)\"),\"\")","v":""},{"$f":"IF('EK DERS Ücret Hesaplama'!$AM86=1,RIGHT('EK DERS Ücret Hesaplama'!AO86,8),\"\")","v":""},{"$f":"IF('EK DERS Ücret Hesaplama'!$AM86=1,'EK DERS Ücret Hesaplama'!AO86,\"\")","v":""},{"$f":"IF('EK DERS Ücret Hesaplama'!$AM86=1,'EK DERS Ücret Hesaplama'!AK86,\"\")","v":""},null,0]
[{"$f":"IF(G90=\"\",\"\",SUBTOTAL(103,$G$9:G90))","v":""},{"$f":"IF('EK DERS Ücret Hesaplama'!$AM87=1,'EK DERS Ücret Hesaplama'!B87,\"\")","v":""},{"$f":"IF('EK DERS Ücret Hesaplama'!$AM87=1,'EK DERS Ücret Hesaplama'!C87,\"\")","v":""},{"$f":"IF('EK DERS Ücret Hesaplama'!$AM87=1,IF('EK DERS Ücret Hesaplama'!D87=\"Ücretli Öğretmen\",\"Ücretli Öğr.\",\"Ücr.Öğr. (Emekli)\"),\"\")","v":""},{"$f":"IF('EK DERS Ücret Hesaplama'!$AM87=1,RIGHT('EK DERS Ücret Hesaplama'!AO87,8),\"\")","v":""},{"$f":"IF('EK DERS Ücret Hesaplama'!$AM87=1,'EK DERS Ücret Hesaplama'!AO87,\"\")","v":""},{"$f":"IF('EK DERS Ücret Hesaplama'!$AM87=1,'EK DERS Ücret Hesaplama'!AK87,\"\")","v":""},null,0]
[{"$f":"IF(G91=\"\",\"\",SUBTOTAL(103,$G$9:G91))","v":""},{"$f":"IF('EK DERS Ücret Hesaplama'!$AM88=1,'EK DERS Ücret Hesaplama'!B88,\"\")","v":""},{"$f":"IF('EK DERS Ücret Hesaplama'!$AM88=1,'EK DERS Ücret Hesaplama'!C88,\"\")","v":""},{"$f":"IF('EK DERS Ücret Hesaplama'!$AM88=1,IF('EK DERS Ücret Hesaplama'!D88=\"Ücretli Öğretmen\",\"Ücretli Öğr.\",\"Ücr.Öğr. (Emekli)\"),\"\")","v":""},{"$f":"IF('EK DERS Ücret Hesaplama'!$AM88=1,RIGHT('EK DERS Ücret Hesaplama'!AO88,8),\"\")","v":""},{"$f":"IF('EK DERS Ücret Hesaplama'!$AM88=1,'EK DERS Ücret Hesaplama'!AO88,\"\")","v":""},{"$f":"IF('EK DERS Ücret Hesaplama'!$AM88=1,'EK DERS Ücret Hesaplama'!AK88,\"\")","v":""},null,0]
[{"$f":"IF(G92=\"\",\"\",SUBTOTAL(103,$G$9:G92))","v":""},{"$f":"IF('EK DERS Ücret Hesaplama'!$AM89=1,'EK DERS Ücret Hesaplama'!B89,\"\")","v":""},{"$f":"IF('EK DERS Ücret Hesaplama'!$AM89=1,'EK DERS Ücret Hesaplama'!C89,\"\")","v":""},{"$f":"IF('EK DERS Ücret Hesaplama'!$AM89=1,IF('EK DERS Ücret Hesaplama'!D89=\"Ücretli Öğretmen\",\"Ücretli Öğr.\",\"Ücr.Öğr. (Emekli)\"),\"\")","v":""},{"$f":"IF('EK DERS Ücret Hesaplama'!$AM89=1,RIGHT('EK DERS Ücret Hesaplama'!AO89,8),\"\")","v":""},{"$f":"IF('EK DERS Ücret Hesaplama'!$AM89=1,'EK DERS Ücret Hesaplama'!AO89,\"\")","v":""},{"$f":"IF('EK DERS Ücret Hesaplama'!$AM89=1,'EK DERS Ücret Hesaplama'!AK89,\"\")","v":""},null,0]
[{"$f":"IF(G93=\"\",\"\",SUBTOTAL(103,$G$9:G93))","v":""},{"$f":"IF('EK DERS Ücret Hesaplama'!$AM90=1,'EK DERS Ücret Hesaplama'!B90,\"\")","v":""},{"$f":"IF('EK DERS Ücret Hesaplama'!$AM90=1,'EK DERS Ücret Hesaplama'!C90,\"\")","v":""},{"$f":"IF('EK DERS Ücret Hesaplama'!$AM90=1,IF('EK DERS Ücret Hesaplama'!D90=\"Ücretli Öğretmen\",\"Ücretli Öğr.\",\"Ücr.Öğr. (Emekli)\"),\"\")","v":""},{"$f":"IF('EK DERS Ücret Hesaplama'!$AM90=1,RIGHT('EK DERS Ücret Hesaplama'!AO90,8),\"\")","v":""},{"$f":"IF('EK DERS Ücret Hesaplama'!$AM90=1,'EK DERS Ücret Hesaplama'!AO90,\"\")","v":""},{"$f":"IF('EK DERS Ücret Hesaplama'!$AM90=1,'EK DERS Ücret Hesaplama'!AK90,\"\")","v":""},null,0]
[{"$f":"IF(G94=\"\",\"\",SUBTOTAL(103,$G$9:G94))","v":""},{"$f":"IF('EK DERS Ücret Hesaplama'!$AM91=1,'EK DERS Ücret Hesaplama'!B91,\"\")","v":""},{"$f":"IF('EK DERS Ücret Hesaplama'!$AM91=1,'EK DERS Ücret Hesaplama'!C91,\"\")","v":""},{"$f":"IF('EK DERS Ücret Hesaplama'!$AM91=1,IF('EK DERS Ücret Hesaplama'!D91=\"Ücretli Öğretmen\",\"Ücretli Öğr.\",\"Ücr.Öğr. (Emekli)\"),\"\")","v":""},{"$f":"IF('EK DERS Ücret Hesaplama'!$AM91=1,RIGHT('EK DERS Ücret Hesaplama'!AO91,8),\"\")","v":""},{"$f":"IF('EK DERS Ücret Hesaplama'!$AM91=1,'EK DERS Ücret Hesaplama'!AO91,\"\")","v":""},{"$f":"IF('EK DERS Ücret Hesaplama'!$AM91=1,'EK DERS Ücret Hesaplama'!AK91,\"\")","v":""},null,0]
[{"$f":"IF(G95=\"\",\"\",SUBTOTAL(103,$G$9:G95))","v":""},{"$f":"IF('EK DERS Ücret Hesaplama'!$AM92=1,'EK DERS Ücret Hesaplama'!B92,\"\")","v":""},{"$f":"IF('EK DERS Ücret Hesaplama'!$AM92=1,'EK DERS Ücret Hesaplama'!C92,\"\")","v":""},{"$f":"IF('EK DERS Ücret Hesaplama'!$AM92=1,IF('EK DERS Ücret Hesaplama'!D92=\"Ücretli Öğretmen\",\"Ücretli Öğr.\",\"Ücr.Öğr. (Emekli)\"),\"\")","v":""},{"$f":"IF('EK DERS Ücret Hesaplama'!$AM92=1,RIGHT('EK DERS Ücret Hesaplama'!AO92,8),\"\")","v":""},{"$f":"IF('EK DERS Ücret Hesaplama'!$AM92=1,'EK DERS Ücret Hesaplama'!AO92,\"\")","v":""},{"$f":"IF('EK DERS Ücret Hesaplama'!$AM92=1,'EK DERS Ücret Hesaplama'!AK92,\"\")","v":""},null,0]
[{"$f":"IF(G96=\"\",\"\",SUBTOTAL(103,$G$9:G96))","v":""},{"$f":"IF('EK DERS Ücret Hesaplama'!$AM93=1,'EK DERS Ücret Hesaplama'!B93,\"\")","v":""},{"$f":"IF('EK DERS Ücret Hesaplama'!$AM93=1,'EK DERS Ücret Hesaplama'!C93,\"\")","v":""},{"$f":"IF('EK DERS Ücret Hesaplama'!$AM93=1,IF('EK DERS Ücret Hesaplama'!D93=\"Ücretli Öğretmen\",\"Ücretli Öğr.\",\"Ücr.Öğr. (Emekli)\"),\"\")","v":""},{"$f":"IF('EK DERS Ücret Hesaplama'!$AM93=1,RIGHT('EK DERS Ücret Hesaplama'!AO93,8),\"\")","v":""},{"$f":"IF('EK DERS Ücret Hesaplama'!$AM93=1,'EK DERS Ücret Hesaplama'!AO93,\"\")","v":""},{"$f":"IF('EK DERS Ücret Hesaplama'!$AM93=1,'EK DERS Ücret Hesaplama'!AK93,\"\")","v":""},null,0]
[{"$f":"IF(G97=\"\",\"\",SUBTOTAL(103,$G$9:G97))","v":""},{"$f":"IF('EK DERS Ücret Hesaplama'!$AM94=1,'EK DERS Ücret Hesaplama'!B94,\"\")","v":""},{"$f":"IF('EK DERS Ücret Hesaplama'!$AM94=1,'EK DERS Ücret Hesaplama'!C94,\"\")","v":""},{"$f":"IF('EK DERS Ücret Hesaplama'!$AM94=1,IF('EK DERS Ücret Hesaplama'!D94=\"Ücretli Öğretmen\",\"Ücretli Öğr.\",\"Ücr.Öğr. (Emekli)\"),\"\")","v":""},{"$f":"IF('EK DERS Ücret Hesaplama'!$AM94=1,RIGHT('EK DERS Ücret Hesaplama'!AO94,8),\"\")","v":""},{"$f":"IF('EK DERS Ücret Hesaplama'!$AM94=1,'EK DERS Ücret Hesaplama'!AO94,\"\")","v":""},{"$f":"IF('EK DERS Ücret Hesaplama'!$AM94=1,'EK DERS Ücret Hesaplama'!AK94,\"\")","v":""},null,0]
[{"$f":"IF(G98=\"\",\"\",SUBTOTAL(103,$G$9:G98))","v":""},{"$f":"IF('EK DERS Ücret Hesaplama'!$AM95=1,'EK DERS Ücret Hesaplama'!B95,\"\")","v":""},{"$f":"IF('EK DERS Ücret Hesaplama'!$AM95=1,'EK DERS Ücret Hesaplama'!C95,\"\")","v":""},{"$f":"IF('EK DERS Ücret Hesaplama'!$AM95=1,IF('EK DERS Ücret Hesaplama'!D95=\"Ücretli Öğretmen\",\"Ücretli Öğr.\",\"Ücr.Öğr. (Emekli)\"),\"\")","v":""},{"$f":"IF('EK DERS Ücret Hesaplama'!$AM95=1,RIGHT('EK DERS Ücret Hesaplama'!AO95,8),\"\")","v":""},{"$f":"IF('EK DERS Ücret Hesaplama'!$AM95=1,'EK DERS Ücret Hesaplama'!AO95,\"\")","v":""},{"$f":"IF('EK DERS Ücret Hesaplama'!$AM95=1,'EK DERS Ücret Hesaplama'!AK95,\"\")","v":""},null,0]
[{"$f":"IF(G99=\"\",\"\",SUBTOTAL(103,$G$9:G99))","v":""},{"$f":"IF('EK DERS Ücret Hesaplama'!$AM96=1,'EK DERS Ücret Hesaplama'!B96,\"\")","v":""},{"$f":"IF('EK DERS Ücret Hesaplama'!$AM96=1,'EK DERS Ücret Hesaplama'!C96,\"\")","v":""},{"$f":"IF('EK DERS Ücret Hesaplama'!$AM96=1,IF('EK DERS Ücret Hesaplama'!D96=\"Ücretli Öğretmen\",\"Ücretli Öğr.\",\"Ücr.Öğr. (Emekli)\"),\"\")","v":""},{"$f":"IF('EK DERS Ücret Hesaplama'!$AM96=1,RIGHT('EK DERS Ücret Hesaplama'!AO96,8),\"\")","v":""},{"$f":"IF('EK DERS Ücret Hesaplama'!$AM96=1,'EK DERS Ücret Hesaplama'!AO96,\"\")","v":""},{"$f":"IF('EK DERS Ücret Hesaplama'!$AM96=1,'EK DERS Ücret Hesaplama'!AK96,\"\")","v":""},null,0]
[{"$f":"IF(G100=\"\",\"\",SUBTOTAL(103,$G$9:G100))","v":""},{"$f":"IF('EK DERS Ücret Hesaplama'!$AM97=1,'EK DERS Ücret Hesaplama'!B97,\"\")","v":""},{"$f":"IF('EK DERS Ücret Hesaplama'!$AM97=1,'EK DERS Ücret Hesaplama'!C97,\"\")","v":""},{"$f":"IF('EK DERS Ücret Hesaplama'!$AM97=1,IF('EK DERS Ücret Hesaplama'!D97=\"Ücretli Öğretmen\",\"Ücretli Öğr.\",\"Ücr.Öğr. (Emekli)\"),\"\")","v":""},{"$f":"IF('EK DERS Ücret Hesaplama'!$AM97=1,RIGHT('EK DERS Ücret Hesaplama'!AO97,8),\"\")","v":""},{"$f":"IF('EK DERS Ücret Hesaplama'!$AM97=1,'EK DERS Ücret Hesaplama'!AO97,\"\")","v":""},{"$f":"IF('EK DERS Ücret Hesaplama'!$AM97=1,'EK DERS Ücret Hesaplama'!AK97,\"\")","v":""},null,0]
[{"$f":"IF(G101=\"\",\"\",SUBTOTAL(103,$G$9:G101))","v":""},{"$f":"IF('EK DERS Ücret Hesaplama'!$AM98=1,'EK DERS Ücret Hesaplama'!B98,\"\")","v":""},{"$f":"IF('EK DERS Ücret Hesaplama'!$AM98=1,'EK DERS Ücret Hesaplama'!C98,\"\")","v":""},{"$f":"IF('EK DERS Ücret Hesaplama'!$AM98=1,IF('EK DERS Ücret Hesaplama'!D98=\"Ücretli Öğretmen\",\"Ücretli Öğr.\",\"Ücr.Öğr. (Emekli)\"),\"\")","v":""},{"$f":"IF('EK DERS Ücret Hesaplama'!$AM98=1,RIGHT('EK DERS Ücret Hesaplama'!AO98,8),\"\")","v":""},{"$f":"IF('EK DERS Ücret Hesaplama'!$AM98=1,'EK DERS Ücret Hesaplama'!AO98,\"\")","v":""},{"$f":"IF('EK DERS Ücret Hesaplama'!$AM98=1,'EK DERS Ücret Hesaplama'!AK98,\"\")","v":""},null,0]
[{"$f":"IF(G102=\"\",\"\",SUBTOTAL(103,$G$9:G102))","v":""},{"$f":"IF('EK DERS Ücret Hesaplama'!$AM99=1,'EK DERS Ücret Hesaplama'!B99,\"\")","v":""},{"$f":"IF('EK DERS Ücret Hesaplama'!$AM99=1,'EK DERS Ücret Hesaplama'!C99,\"\")","v":""},{"$f":"IF('EK DERS Ücret Hesaplama'!$AM99=1,IF('EK DERS Ücret Hesaplama'!D99=\"Ücretli Öğretmen\",\"Ücretli Öğr.\",\"Ücr.Öğr. (Emekli)\"),\"\")","v":""},{"$f":"IF('EK DERS Ücret Hesaplama'!$AM99=1,RIGHT('EK DERS Ücret Hesaplama'!AO99,8),\"\")","v":""},{"$f":"IF('EK DERS Ücret Hesaplama'!$AM99=1,'EK DERS Ücret Hesaplama'!AO99,\"\")","v":""},{"$f":"IF('EK DERS Ücret Hesaplama'!$AM99=1,'EK DERS Ücret Hesaplama'!AK99,\"\")","v":""},null,0]
[{"$f":"IF(G103=\"\",\"\",SUBTOTAL(103,$G$9:G103))","v":""},{"$f":"IF('EK DERS Ücret Hesaplama'!$AM100=1,'EK DERS Ücret Hesaplama'!B100,\"\")","v":""},{"$f":"IF('EK DERS Ücret Hesaplama'!$AM100=1,'EK DERS Ücret Hesaplama'!C100,\"\")","v":""},{"$f":"IF('EK DERS Ücret Hesaplama'!$AM100=1,IF('EK DERS Ücret Hesaplama'!D100=\"Ücretli Öğretmen\",\"Ücretli Öğr.\",\"Ücr.Öğr. (Emekli)\"),\"\")","v":""},{"$f":"IF('EK DERS Ücret Hesaplama'!$AM100=1,RIGHT('EK DERS Ücret Hesaplama'!AO100,8),\"\")","v":""},{"$f":"IF('EK DERS Ücret Hesaplama'!$AM100=1,'EK DERS Ücret Hesaplama'!AO100,\"\")","v":""},{"$f":"IF('EK DERS Ücret Hesaplama'!$AM100=1,'EK DERS Ücret Hesaplama'!AK100,\"\")","v":""},null,0]
[{"$f":"IF(G104=\"\",\"\",SUBTOTAL(103,$G$9:G104))","v":""},{"$f":"IF('EK DERS Ücret Hesaplama'!$AM101=1,'EK DERS Ücret Hesaplama'!B101,\"\")","v":""},{"$f":"IF('EK DERS Ücret Hesaplama'!$AM101=1,'EK DERS Ücret Hesaplama'!C101,\"\")","v":""},{"$f":"IF('EK DERS Ücret Hesaplama'!$AM101=1,IF('EK DERS Ücret Hesaplama'!D101=\"Ücretli Öğretmen\",\"Ücretli Öğr.\",\"Ücr.Öğr. (Emekli)\"),\"\")","v":""},{"$f":"IF('EK DERS Ücret Hesaplama'!$AM101=1,RIGHT('EK DERS Ücret Hesaplama'!AO101,8),\"\")","v":""},{"$f":"IF('EK DERS Ücret Hesaplama'!$AM101=1,'EK DERS Ücret Hesaplama'!AO101,\"\")","v":""},{"$f":"IF('EK DERS Ücret Hesaplama'!$AM101=1,'EK DERS Ücret Hesaplama'!AK101,\"\")","v":""},null,0]
[{"$f":"IF(G105=\"\",\"\",SUBTOTAL(103,$G$9:G105))","v":""},{"$f":"IF('EK DERS Ücret Hesaplama'!$AM102=1,'EK DERS Ücret Hesaplama'!B102,\"\")","v":""},{"$f":"IF('EK DERS Ücret Hesaplama'!$AM102=1,'EK DERS Ücret Hesaplama'!C102,\"\")","v":""},{"$f":"IF('EK DERS Ücret Hesaplama'!$AM102=1,IF('EK DERS Ücret Hesaplama'!D102=\"Ücretli Öğretmen\",\"Ücretli Öğr.\",\"Ücr.Öğr. (Emekli)\"),\"\")","v":""},{"$f":"IF('EK DERS Ücret Hesaplama'!$AM102=1,RIGHT('EK DERS Ücret Hesaplama'!AO102,8),\"\")","v":""},{"$f":"IF('EK DERS Ücret Hesaplama'!$AM102=1,'EK DERS Ücret Hesaplama'!AO102,\"\")","v":""},{"$f":"IF('EK DERS Ücret Hesaplama'!$AM102=1,'EK DERS Ücret Hesaplama'!AK102,\"\")","v":""},null,0]
[{"$f":"IF(G106=\"\",\"\",SUBTOTAL(103,$G$9:G106))","v":""},{"$f":"IF('EK DERS Ücret Hesaplama'!$AM103=1,'EK DERS Ücret Hesaplama'!B103,\"\")","v":""},{"$f":"IF('EK DERS Ücret Hesaplama'!$AM103=1,'EK DERS Ücret Hesaplama'!C103,\"\")","v":""},{"$f":"IF('EK DERS Ücret Hesaplama'!$AM103=1,IF('EK DERS Ücret Hesaplama'!D103=\"Ücretli Öğretmen\",\"Ücretli Öğr.\",\"Ücr.Öğr. (Emekli)\"),\"\")","v":""},{"$f":"IF('EK DERS Ücret Hesaplama'!$AM103=1,RIGHT('EK DERS Ücret Hesaplama'!AO103,8),\"\")","v":""},{"$f":"IF('EK DERS Ücret Hesaplama'!$AM103=1,'EK DERS Ücret Hesaplama'!AO103,\"\")","v":""},{"$f":"IF('EK DERS Ücret Hesaplama'!$AM103=1,'EK DERS Ücret Hesaplama'!AK103,\"\")","v":""},null,0]
[{"$f":"IF(G107=\"\",\"\",SUBTOTAL(103,$G$9:G107))","v":""},{"$f":"IF('EK DERS Ücret Hesaplama'!$AM104=1,'EK DERS Ücret Hesaplama'!B104,\"\")","v":""},{"$f":"IF('EK DERS Ücret Hesaplama'!$AM104=1,'EK DERS Ücret Hesaplama'!C104,\"\")","v":""},{"$f":"IF('EK DERS Ücret Hesaplama'!$AM104=1,IF('EK DERS Ücret Hesaplama'!D104=\"Ücretli Öğretmen\",\"Ücretli Öğr.\",\"Ücr.Öğr. (Emekli)\"),\"\")","v":""},{"$f":"IF('EK DERS Ücret Hesaplama'!$AM104=1,RIGHT('EK DERS Ücret Hesaplama'!AO104,8),\"\")","v":""},{"$f":"IF('EK DERS Ücret Hesaplama'!$AM104=1,'EK DERS Ücret Hesaplama'!AO104,\"\")","v":""},{"$f":"IF('EK DERS Ücret Hesaplama'!$AM104=1,'EK DERS Ücret Hesaplama'!AK104,\"\")","v":""},null,0]
[{"$f":"IF(G108=\"\",\"\",SUBTOTAL(103,$G$9:G108))","v":""},{"$f":"IF('EK DERS Ücret Hesaplama'!$AM105=1,'EK DERS Ücret Hesaplama'!B105,\"\")","v":""},{"$f":"IF('EK DERS Ücret Hesaplama'!$AM105=1,'EK DERS Ücret Hesaplama'!C105,\"\")","v":""},{"$f":"IF('EK DERS Ücret Hesaplama'!$AM105=1,IF('EK DERS Ücret Hesaplama'!D105=\"Ücretli Öğretmen\",\"Ücretli Öğr.\",\"Ücr.Öğr. (Emekli)\"),\"\")","v":""},{"$f":"IF('EK DERS Ücret Hesaplama'!$AM105=1,RIGHT('EK DERS Ücret Hesaplama'!AO105,8),\"\")","v":""},{"$f":"IF('EK DERS Ücret Hesaplama'!$AM105=1,'EK DERS Ücret Hesaplama'!AO105,\"\")","v":""},{"$f":"IF('EK DERS Ücret Hesaplama'!$AM105=1,'EK DERS Ücret Hesaplama'!AK105,\"\")","v":""},null,0]
[null,null,null,null,null,"TOPLAM",{"$f":"SUM(G9:G108)","v":56339.45}]

{"sheet":"KESİNTİ LİSTESİ","index":6,"n_rows":108,"n_cols":9,"rows_kept":108,"cut":false,"hidden":false,"merged":[[0,0,0,6],[3,2,5,4]]}
["ÜCRETLİ ÖĞRETMEN EK DERS ÜCRETİ   ---   İCRA KESİNTİ LİSTESİ"]
[]
["Muhasebe Birimi :",null,{"$f":"KATSAYILAR!F10","v":"KARABAĞLAR MAL MÜDÜRLÜĞÜ"},null,null,"AY :",{"$f":"'EK DERS VERİ GİRİŞİ'!I1","v":1}]
["Kurum Kodu/Adı :",null,{"$f":"CONCATENATE(KATSAYILAR!F4,\"   -   \",KATSAYILAR!F3)","v":"   -   OKUL KURUM ADI GİRİNİZ!!!"},null,null,"YIL :",{"$f":"'EK DERS VERİ GİRİŞİ'!I2","v":2024}]
[]
[]
["SIRA","TCKN","ADI SOYADI","UNVANI","İCRA DAİRESİ ADI","DOSYA NO","TUTAR       (TL)",null,"a"]
[{"$f":"IF(G8=\"\",\"\",SUBTOTAL(103,$G$8:G8))","v":0},{"$f":"IF('EK DERS Ücret Hesaplama'!$AM6=1,'EK DERS Ücret Hesaplama'!B6,\"\")","v":12345678910},{"$f":"IF('EK DERS Ücret Hesaplama'!$AM6=1,'EK DERS Ücret Hesaplama'!C6,\"\")","v":"İBRAHİM KUTLUDAĞ"},{"$f":"IF('EK DERS Ücret Hesaplama'!$AM6=1,IF('EK DERS Ücret Hesaplama'!D6=\"Ücretli Öğretmen\",\"Ücretli Öğr.\",\"Ücr.Öğr. (Emekli)\"),\"\")","v":"Ücretli Öğr."},{"$f":"IF('EK DERS Ücret Hesaplama'!$AM6=1,'BİLGİ GİRİŞİ'!J5,\"\")","v":0},{"$f":"IF('EK DERS Ücret Hesaplama'!$AM6=1,'BİLGİ GİRİŞİ'!K5,\"\")","v":0},{"$f":"IF('EK DERS Ücret Hesaplama'!$AM6=1,'BİLGİ GİRİŞİ'!I5,\"\")","v":0},null,{"$f":"IF(OR(G8=0,G8=\"\"),0,1)","v":0}]
[{"$f":"IF(G9=\"\",\"\",SUBTOTAL(103,$G$8:G9))","v":0},{"$f":"IF('EK DERS Ücret Hesaplama'!$AM7=1,'EK DERS Ücret Hesaplama'!B7,\"\")","v":12345678910},{"$f":"IF('EK DERS Ücret Hesaplama'!$AM7=1,'EK DERS Ücret Hesaplama'!C7,\"\")","v":"SAMET YAĞMUR"},{"$f":"IF('EK DERS Ücret Hesaplama'!$AM7=1,IF('EK DERS Ücret Hesaplama'!D7=\"Ücretli Öğretmen\",\"Ücretli Öğr.\",\"Ücr.Öğr. (Emekli)\"),\"\")","v":"Ücretli Öğr."},{"$f":"IF('EK DERS Ücret Hesaplama'!$AM7=1,'BİLGİ GİRİŞİ'!J6,\"\")","v":0},{"$f":"IF('EK DERS Ücret Hesaplama'!$AM7=1,'BİLGİ GİRİŞİ'!K6,\"\")","v":0},{"$f":"IF('EK DERS Ücret Hesaplama'!$AM7=1,'BİLGİ GİRİŞİ'!I6,\"\")","v":0},null,{"$f":"IF(OR(G9=0,G9=\"\"),0,1)","v":0}]
[{"$f":"IF(G10=\"\",\"\",SUBTOTAL(103,$G$8:G10))","v":0},{"$f":"IF('EK DERS Ücret Hesaplama'!$AM8=1,'EK DERS Ücret Hesaplama'!B8,\"\")","v":12345678910},{"$f":"IF('EK DERS Ücret Hesaplama'!$AM8=1,'EK DERS Ücret Hesaplama'!C8,\"\")","v":"SAMET YAĞMUR"},{"$f":"IF('EK DERS Ücret Hesaplama'!$AM8=1,IF('EK DERS Ücret Hesaplama'!D8=\"Ücretli Öğretmen\",\"Ücretli Öğr.\",\"Ücr.Öğr. (Emekli)\"),\"\")","v":"Ücretli Öğr."},{"$f":"IF('EK DERS Ücret Hesaplama'!$AM8=1,'BİLGİ GİRİŞİ'!J7,\"\")","v":0},{"$f":"IF('EK DERS Ücret Hesaplama'!$AM8=1,'BİLGİ GİRİŞİ'!K7,\"\")","v":0},{"$f":"IF('EK DERS Ücret Hesaplama'!$AM8=1,'BİLGİ GİRİŞİ'!I7,\"\")","v":0},null,0]
[{"$f":"IF(G11=\"\",\"\",SUBTOTAL(103,$G$8:G11))","v":0},{"$f":"IF('EK DERS Ücret Hesaplama'!$AM9=1,'EK DERS Ücret Hesaplama'!B9,\"\")","v":12345678910},{"$f":"IF('EK DERS Ücret Hesaplama'!$AM9=1,'EK DERS Ücret Hesaplama'!C9,\"\")","v":"SAMET YAĞMUR"},{"$f":"IF('EK DERS Ücret Hesaplama'!$AM9=1,IF('EK DERS Ücret Hesaplama'!D9=\"Ücretli Öğretmen\",\"Ücretli Öğr.\",\"Ücr.Öğr. (Emekli)\"),\"\")","v":"Ücretli Öğr."},{"$f":"IF('EK DERS Ücret Hesaplama'!$AM9=1,'BİLGİ GİRİŞİ'!J8,\"\")","v":0},{"$f":"IF('EK DERS Ücret Hesaplama'!$AM9=1,'BİLGİ GİRİŞİ'!K8,\"\")","v":0},{"$f":"IF('EK DERS Ücret Hesaplama'!$AM9=1,'BİLGİ GİRİŞİ'!I8,\"\")","v":0},null,0]
[{"$f":"IF(G12=\"\",\"\",SUBTOTAL(103,$G$8:G12))","v":""},{"$f":"IF('EK DERS Ücret Hesaplama'!$AM10=1,'EK DERS Ücret Hesaplama'!B10,\"\")","v":""},{"$f":"IF('EK DERS Ücret Hesaplama'!$AM10=1,'EK DERS Ücret Hesaplama'!C10,\"\")","v":""},{"$f":"IF('EK DERS Ücret Hesaplama'!$AM10=1,IF('EK DERS Ücret Hesaplama'!D10=\"Ücretli Öğretmen\",\"Ücretli Öğr.\",\"Ücr.Öğr. (Emekli)\"),\"\")","v":""},{"$f":"IF('EK DERS Ücret Hesaplama'!$AM10=1,'BİLGİ GİRİŞİ'!J9,\"\")","v":""},{"$f":"IF('EK DERS Ücret Hesaplama'!$AM10=1,'BİLGİ GİRİŞİ'!K9,\"\")","v":""},{"$f":"IF('EK DERS Ücret Hesaplama'!$AM10=1,'BİLGİ GİRİŞİ'!I9,\"\")","v":""},null,0]
[{"$f":"IF(G13=\"\",\"\",SUBTOTAL(103,$G$8:G13))","v":""},{"$f":"IF('EK DERS Ücret Hesaplama'!$AM11=1,'EK DERS Ücret Hesaplama'!B11,\"\")","v":""},{"$f":"IF('EK DERS Ücret Hesaplama'!$AM11=1,'EK DERS Ücret Hesaplama'!C11,\"\")","v":""},{"$f":"IF('EK DERS Ücret Hesaplama'!$AM11=1,IF('EK DERS Ücret Hesaplama'!D11=\"Ücretli Öğretmen\",\"Ücretli Öğr.\",\"Ücr.Öğr. (Emekli)\"),\"\")","v":""},{"$f":"IF('EK DERS Ücret Hesaplama'!$AM11=1,'BİLGİ GİRİŞİ'!J10,\"\")","v":""},{"$f":"IF('EK DERS Ücret Hesaplama'!$AM11=1,'BİLGİ GİRİŞİ'!K10,\"\")","v":""},{"$f":"IF('EK DERS Ücret Hesaplama'!$AM11=1,'BİLGİ GİRİŞİ'!I10,\"\")","v":""},null,0]
[{"$f":"IF(G14=\"\",\"\",SUBTOTAL(103,$G$8:G14))","v":""},{"$f":"IF('EK DERS Ücret Hesaplama'!$AM12=1,'EK DERS Ücret Hesaplama'!B12,\"\")","v":""},{"$f":"IF('EK DERS Ücret Hesaplama'!$AM12=1,'EK DERS Ücret Hesaplama'!C12,\"\")","v":""},{"$f":"IF('EK DERS Ücret Hesaplama'!$AM12=1,IF('EK DERS Ücret Hesaplama'!D12=\"Ücretli Öğretmen\",\"Ücretli Öğr.\",\"Ücr.Öğr. (Emekli)\"),\"\")","v":""},{"$f":"IF('EK DERS Ücret Hesaplama'!$AM12=1,'BİLGİ GİRİŞİ'!J11,\"\")","v":""},{"$f":"IF('EK DERS Ücret Hesaplama'!$AM12=1,'BİLGİ GİRİŞİ'!K11,\"\")","v":""},{"$f":"IF('EK DERS Ücret Hesaplama'!$AM12=1,'BİLGİ GİRİŞİ'!I11,\"\")","v":""},null,0]
[{"$f":"IF(G15=\"\",\"\",SUBTOTAL(103,$G$8:G15))","v":""},{"$f":"IF('EK DERS Ücret Hesaplama'!$AM13=1,'EK DERS Ücret Hesaplama'!B13,\"\")","v":""},{"$f":"IF('EK DERS Ücret Hesaplama'!$AM13=1,'EK DERS Ücret Hesaplama'!C13,\"\")","v":""},{"$f":"IF('EK DERS Ücret Hesaplama'!$AM13=1,IF('EK DERS Ücret Hesaplama'!D13=\"Ücretli Öğretmen\",\"Ücretli Öğr.\",\"Ücr.Öğr. (Emekli)\"),\"\")","v":""},{"$f":"IF('EK DERS Ücret Hesaplama'!$AM13=1,'BİLGİ GİRİŞİ'!J12,\"\")","v":""},{"$f":"IF('EK DERS Ücret Hesaplama'!$AM13=1,'BİLGİ GİRİŞİ'!K12,\"\")","v":""},{"$f":"IF('EK DERS Ücret Hesaplama'!$AM13=1,'BİLGİ GİRİŞİ'!I12,\"\")","v":""},null,0]
[{"$f":"IF(G16=\"\",\"\",SUBTOTAL(103,$G$8:G16))","v":""},{"$f":"IF('EK DERS Ücret Hesaplama'!$AM14=1,'EK DERS Ücret Hesaplama'!B14,\"\")","v":""},{"$f":"IF('EK DERS Ücret Hesaplama'!$AM14=1,'EK DERS Ücret Hesaplama'!C14,\"\")","v":""},{"$f":"IF('EK DERS Ücret Hesaplama'!$AM14=1,IF('EK DERS Ücret Hesaplama'!D14=\"Ücretli Öğretmen\",\"Ücretli Öğr.\",\"Ücr.Öğr. (Emekli)\"),\"\")","v":""},{"$f":"IF('EK DERS Ücret Hesaplama'!$AM14=1,'BİLGİ GİRİŞİ'!J13,\"\")","v":""},{"$f":"IF('EK DERS Ücret Hesaplama'!$AM14=1,'BİLGİ GİRİŞİ'!K13,\"\")","v":""},{"$f":"IF('EK DERS Ücret Hesaplama'!$AM14=1,'BİLGİ GİRİŞİ'!I13,\"\")","v":""},null,0]
[{"$f":"IF(G17=\"\",\"\",SUBTOTAL(103,$G$8:G17))","v":""},{"$f":"IF('EK DERS Ücret Hesaplama'!$AM15=1,'EK DERS Ücret Hesaplama'!B15,\"\")","v":""},{"$f":"IF('EK DERS Ücret Hesaplama'!$AM15=1,'EK DERS Ücret Hesaplama'!C15,\"\")","v":""},{"$f":"IF('EK DERS Ücret Hesaplama'!$AM15=1,IF('EK DERS Ücret Hesaplama'!D15=\"Ücretli Öğretmen\",\"Ücretli Öğr.\",\"Ücr.Öğr. (Emekli)\"),\"\")","v":""},{"$f":"IF('EK DERS Ücret Hesaplama'!$AM15=1,'BİLGİ GİRİŞİ'!J14,\"\")","v":""},{"$f":"IF('EK DERS Ücret Hesaplama'!$AM15=1,'BİLGİ GİRİŞİ'!K14,\"\")","v":""},{"$f":"IF('EK DERS Ücret Hesaplama'!$AM15=1,'BİLGİ GİRİŞİ'!I14,\"\")","v":""},null,0]
[{"$f":"IF(G18=\"\",\"\",SUBTOTAL(103,$G$8:G18))","v":""},{"$f":"IF('EK DERS Ücret Hesaplama'!$AM16=1,'EK DERS Ücret Hesaplama'!B16,\"\")","v":""},{"$f":"IF('EK DERS Ücret Hesaplama'!$AM16=1,'EK DERS Ücret Hesaplama'!C16,\"\")","v":""},{"$f":"IF('EK DERS Ücret Hesaplama'!$AM16=1,IF('EK DERS Ücret Hesaplama'!D16=\"Ücretli Öğretmen\",\"Ücretli Öğr.\",\"Ücr.Öğr. (Emekli)\"),\"\")","v":""},{"$f":"IF('EK DERS Ücret Hesaplama'!$AM16=1,'BİLGİ GİRİŞİ'!J15,\"\")","v":""},{"$f":"IF('EK DERS Ücret Hesaplama'!$AM16=1,'BİLGİ GİRİŞİ'!K15,\"\")","v":""},{"$f":"IF('EK DERS Ücret Hesaplama'!$AM16=1,'BİLGİ GİRİŞİ'!I15,\"\")","v":""},null,0]
[{"$f":"IF(G19=\"\",\"\",SUBTOTAL(103,$G$8:G19))","v":""},{"$f":"IF('EK DERS Ücret Hesaplama'!$AM17=1,'EK DERS Ücret Hesaplama'!B17,\"\")","v":""},{"$f":"IF('EK DERS Ücret Hesaplama'!$AM17=1,'EK DERS Ücret Hesaplama'!C17,\"\")","v":""},{"$f":"IF('EK DERS Ücret Hesaplama'!$AM17=1,IF('EK DERS Ücret Hesaplama'!D17=\"Ücretli Öğretmen\",\"Ücretli Öğr.\",\"Ücr.Öğr. (Emekli)\"),\"\")","v":""},{"$f":"IF('EK DERS Ücret Hesaplama'!$AM17=1,'BİLGİ GİRİŞİ'!J16,\"\")","v":""},{"$f":"IF('EK DERS Ücret Hesaplama'!$AM17=1,'BİLGİ GİRİŞİ'!K16,\"\")","v":""},{"$f":"IF('EK DERS Ücret Hesaplama'!$AM17=1,'BİLGİ GİRİŞİ'!I16,\"\")","v":""},null,0]
[{"$f":"IF(G20=\"\",\"\",SUBTOTAL(103,$G$8:G20))","v":""},{"$f":"IF('EK DERS Ücret Hesaplama'!$AM18=1,'EK DERS Ücret Hesaplama'!B18,\"\")","v":""},{"$f":"IF('EK DERS Ücret Hesaplama'!$AM18=1,'EK DERS Ücret Hesaplama'!C18,\"\")","v":""},{"$f":"IF('EK DERS Ücret Hesaplama'!$AM18=1,IF('EK DERS Ücret Hesaplama'!D18=\"Ücretli Öğretmen\",\"Ücretli Öğr.\",\"Ücr.Öğr. (Emekli)\"),\"\")","v":""},{"$f":"IF('EK DERS Ücret Hesaplama'!$AM18=1,'BİLGİ GİRİŞİ'!J17,\"\")","v":""},{"$f":"IF('EK DERS Ücret Hesaplama'!$AM18=1,'BİLGİ GİRİŞİ'!K17,\"\")","v":""},{"$f":"IF('EK DERS Ücret Hesaplama'!$AM18=1,'BİLGİ GİRİŞİ'!I17,\"\")","v":""},null,0]
[{"$f":"IF(G21=\"\",\"\",SUBTOTAL(103,$G$8:G21))","v":""},{"$f":"IF('EK DERS Ücret Hesaplama'!$AM19=1,'EK DERS Ücret Hesaplama'!B19,\"\")","v":""},{"$f":"IF('EK DERS Ücret Hesaplama'!$AM19=1,'EK DERS Ücret Hesaplama'!C19,\"\")","v":""},{"$f":"IF('EK DERS Ücret Hesaplama'!$AM19=1,IF('EK DERS Ücret Hesaplama'!D19=\"Ücretli Öğretmen\",\"Ücretli Öğr.\",\"Ücr.Öğr. (Emekli)\"),\"\")","v":""},{"$f":"IF('EK DERS Ücret Hesaplama'!$AM19=1,'BİLGİ GİRİŞİ'!J18,\"\")","v":""},{"$f":"IF('EK DERS Ücret Hesaplama'!$AM19=1,'BİLGİ GİRİŞİ'!K18,\"\")","v":""},{"$f":"IF('EK DERS Ücret Hesaplama'!$AM19=1,'BİLGİ GİRİŞİ'!I18,\"\")","v":""},null,0]
[{"$f":"IF(G22=\"\",\"\",SUBTOTAL(103,$G$8:G22))","v":""},{"$f":"IF('EK DERS Ücret Hesaplama'!$AM20=1,'EK DERS Ücret Hesaplama'!B20,\"\")","v":""},{"$f":"IF('EK DERS Ücret Hesaplama'!$AM20=1,'EK DERS Ücret Hesaplama'!C20,\"\")","v":""},{"$f":"IF('EK DERS Ücret Hesaplama'!$AM20=1,IF('EK DERS Ücret Hesaplama'!D20=\"Ücretli Öğretmen\",\"Ücretli Öğr.\",\"Ücr.Öğr. (Emekli)\"),\"\")","v":""},{"$f":"IF('EK DERS Ücret Hesaplama'!$AM20=1,'BİLGİ GİRİŞİ'!J19,\"\")","v":""},{"$f":"IF('EK DERS Ücret Hesaplama'!$AM20=1,'BİLGİ GİRİŞİ'!K19,\"\")","v":""},{"$f":"IF('EK DERS Ücret Hesaplama'!$AM20=1,'BİLGİ GİRİŞİ'!I19,\"\")","v":""},null,0]
[{"$f":"IF(G23=\"\",\"\",SUBTOTAL(103,$G$8:G23))","v":""},{"$f":"IF('EK DERS Ücret Hesaplama'!$AM21=1,'EK DERS Ücret Hesaplama'!B21,\"\")","v":""},{"$f":"IF('EK DERS Ücret Hesaplama'!$AM21=1,'EK DERS Ücret Hesaplama'!C21,\"\")","v":""},{"$f":"IF('EK DERS Ücret Hesaplama'!$AM21=1,IF('EK DERS Ücret Hesaplama'!D21=\"Ücretli Öğretmen\",\"Ücretli Öğr.\",\"Ücr.Öğr. (Emekli)\"),\"\")","v":""},{"$f":"IF('EK DERS Ücret Hesaplama'!$AM21=1,'BİLGİ GİRİŞİ'!J20,\"\")","v":""},{"$f":"IF('EK DERS Ücret Hesaplama'!$AM21=1,'BİLGİ GİRİŞİ'!K20,\"\")","v":""},{"$f":"IF('EK DERS Ücret Hesaplama'!$AM21=1,'BİLGİ GİRİŞİ'!I20,\"\")","v":""},null,0]
[{"$f":"IF(G24=\"\",\"\",SUBTOTAL(103,$G$8:G24))","v":""},{"$f":"IF('EK DERS Ücret Hesaplama'!$AM22=1,'EK DERS Ücret Hesaplama'!B22,\"\")","v":""},{"$f":"IF('EK DERS Ücret Hesaplama'!$AM22=1,'EK DERS Ücret Hesaplama'!C22,\"\")","v":""},{"$f":"IF('EK DERS Ücret Hesaplama'!$AM22=1,IF('EK DERS Ücret Hesaplama'!D22=\"Ücretli Öğretmen\",\"Ücretli Öğr.\",\"Ücr.Öğr. (Emekli)\"),\"\")","v":""},{"$f":"IF('EK DERS Ücret Hesaplama'!$AM22=1,'BİLGİ GİRİŞİ'!J21,\"\")","v":""},{"$f":"IF('EK DERS Ücret Hesaplama'!$AM22=1,'BİLGİ GİRİŞİ'!K21,\"\")","v":""},{"$f":"IF('EK DERS Ücret Hesaplama'!$AM22=1,'BİLGİ GİRİŞİ'!I21,\"\")","v":""},null,0]
[{"$f":"IF(G25=\"\",\"\",SUBTOTAL(103,$G$8:G25))","v":""},{"$f":"IF('EK DERS Ücret Hesaplama'!$AM23=1,'EK DERS Ücret Hesaplama'!B23,\"\")","v":""},{"$f":"IF('EK DERS Ücret Hesaplama'!$AM23=1,'EK DERS Ücret Hesaplama'!C23,\"\")","v":""},{"$f":"IF('EK DERS Ücret Hesaplama'!$AM23=1,IF('EK DERS Ücret Hesaplama'!D23=\"Ücretli Öğretmen\",\"Ücretli Öğr.\",\"Ücr.Öğr. (Emekli)\"),\"\")","v":""},{"$f":"IF('EK DERS Ücret Hesaplama'!$AM23=1,'BİLGİ GİRİŞİ'!J22,\"\")","v":""},{"$f":"IF('EK DERS Ücret Hesaplama'!$AM23=1,'BİLGİ GİRİŞİ'!K22,\"\")","v":""},{"$f":"IF('EK DERS Ücret Hesaplama'!$AM23=1,'BİLGİ GİRİŞİ'!I22,\"\")","v":""},null,0]
[{"$f":"IF(G26=\"\",\"\",SUBTOTAL(103,$G$8:G26))","v":""},{"$f":"IF('EK DERS Ücret Hesaplama'!$AM24=1,'EK DERS Ücret Hesaplama'!B24,\"\")","v":""},{"$f":"IF('EK DERS Ücret Hesaplama'!$AM24=1,'EK DERS Ücret Hesaplama'!C24,\"\")","v":""},{"$f":"IF('EK DERS Ücret Hesaplama'!$AM24=1,IF('EK DERS Ücret Hesaplama'!D24=\"Ücretli Öğretmen\",\"Ücretli Öğr.\",\"Ücr.Öğr. (Emekli)\"),\"\")","v":""},{"$f":"IF('EK DERS Ücret Hesaplama'!$AM24=1,'BİLGİ GİRİŞİ'!J23,\"\")","v":""},{"$f":"IF('EK DERS Ücret Hesaplama'!$AM24=1,'BİLGİ GİRİŞİ'!K23,\"\")","v":""},{"$f":"IF('EK DERS Ücret Hesaplama'!$AM24=1,'BİLGİ GİRİŞİ'!I23,\"\")","v":""},null,0]
[{"$f":"IF(G27=\"\",\"\",SUBTOTAL(103,$G$8:G27))","v":""},{"$f":"IF('EK DERS Ücret Hesaplama'!$AM25=1,'EK DERS Ücret Hesaplama'!B25,\"\")","v":""},{"$f":"IF('EK DERS Ücret Hesaplama'!$AM25=1,'EK DERS Ücret Hesaplama'!C25,\"\")","v":""},{"$f":"IF('EK DERS Ücret Hesaplama'!$AM25=1,IF('EK DERS Ücret Hesaplama'!D25=\"Ücretli Öğretmen\",\"Ücretli Öğr.\",\"Ücr.Öğr. (Emekli)\"),\"\")","v":""},{"$f":"IF('EK DERS Ücret Hesaplama'!$AM25=1,'BİLGİ GİRİŞİ'!J24,\"\")","v":""},{"$f":"IF('EK DERS Ücret Hesaplama'!$AM25=1,'BİLGİ GİRİŞİ'!K24,\"\")","v":""},{"$f":"IF('EK DERS Ücret Hesaplama'!$AM25=1,'BİLGİ GİRİŞİ'!I24,\"\")","v":""},null,0]
[{"$f":"IF(G28=\"\",\"\",SUBTOTAL(103,$G$8:G28))","v":""},{"$f":"IF('EK DERS Ücret Hesaplama'!$AM26=1,'EK DERS Ücret Hesaplama'!B26,\"\")","v":""},{"$f":"IF('EK DERS Ücret Hesaplama'!$AM26=1,'EK DERS Ücret Hesaplama'!C26,\"\")","v":""},{"$f":"IF('EK DERS Ücret Hesaplama'!$AM26=1,IF('EK DERS Ücret Hesaplama'!D26=\"Ücretli Öğretmen\",\"Ücretli Öğr.\",\"Ücr.Öğr. (Emekli)\"),\"\")","v":""},{"$f":"IF('EK DERS Ücret Hesaplama'!$AM26=1,'BİLGİ GİRİŞİ'!J25,\"\")","v":""},{"$f":"IF('EK DERS Ücret Hesaplama'!$AM26=1,'BİLGİ GİRİŞİ'!K25,\"\")","v":""},{"$f":"IF('EK DERS Ücret Hesaplama'!$AM26=1,'BİLGİ GİRİŞİ'!I25,\"\")","v":""},null,0]
[{"$f":"IF(G29=\"\",\"\",SUBTOTAL(103,$G$8:G29))","v":""},{"$f":"IF('EK DERS Ücret Hesaplama'!$AM27=1,'EK DERS Ücret Hesaplama'!B27,\"\")","v":""},{"$f":"IF('EK DERS Ücret Hesaplama'!$AM27=1,'EK DERS Ücret Hesaplama'!C27,\"\")","v":""},{"$f":"IF('EK DERS Ücret Hesaplama'!$AM27=1,IF('EK DERS Ücret Hesaplama'!D27=\"Ücretli Öğretmen\",\"Ücretli Öğr.\",\"Ücr.Öğr. (Emekli)\"),\"\")","v":""},{"$f":"IF('EK DERS Ücret Hesaplama'!$AM27=1,'BİLGİ GİRİŞİ'!J26,\"\")","v":""},{"$f":"IF('EK DERS Ücret Hesaplama'!$AM27=1,'BİLGİ GİRİŞİ'!K26,\"\")","v":""},{"$f":"IF('EK DERS Ücret Hesaplama'!$AM27=1,'BİLGİ GİRİŞİ'!I26,\"\")","v":""},null,0]
[{"$f":"IF(G30=\"\",\"\",SUBTOTAL(103,$G$8:G30))","v":""},{"$f":"IF('EK DERS Ücret Hesaplama'!$AM28=1,'EK DERS Ücret Hesaplama'!B28,\"\")","v":""},{"$f":"IF('EK DERS Ücret Hesaplama'!$AM28=1,'EK DERS Ücret Hesaplama'!C28,\"\")","v":""},{"$f":"IF('EK DERS Ücret Hesaplama'!$AM28=1,IF('EK DERS Ücret Hesaplama'!D28=\"Ücretli Öğretmen\",\"Ücretli Öğr.\",\"Ücr.Öğr. (Emekli)\"),\"\")","v":""},{"$f":"IF('EK DERS Ücret Hesaplama'!$AM28=1,'BİLGİ GİRİŞİ'!J27,\"\")","v":""},{"$f":"IF('EK DERS Ücret Hesaplama'!$AM28=1,'BİLGİ GİRİŞİ'!K27,\"\")","v":""},{"$f":"IF('EK DERS Ücret Hesaplama'!$AM28=1,'BİLGİ GİRİŞİ'!I27,\"\")","v":""},null,0]
[{"$f":"IF(G31=\"\",\"\",SUBTOTAL(103,$G$8:G31))","v":""},{"$f":"IF('EK DERS Ücret Hesaplama'!$AM29=1,'EK DERS Ücret Hesaplama'!B29,\"\")","v":""},{"$f":"IF('EK DERS Ücret Hesaplama'!$AM29=1,'EK DERS Ücret Hesaplama'!C29,\"\")","v":""},{"$f":"IF('EK DERS Ücret Hesaplama'!$AM29=1,IF('EK DERS Ücret Hesaplama'!D29=\"Ücretli Öğretmen\",\"Ücretli Öğr.\",\"Ücr.Öğr. (Emekli)\"),\"\")","v":""},{"$f":"IF('EK DERS Ücret Hesaplama'!$AM29=1,'BİLGİ GİRİŞİ'!J28,\"\")","v":""},{"$f":"IF('EK DERS Ücret Hesaplama'!$AM29=1,'BİLGİ GİRİŞİ'!K28,\"\")","v":""},{"$f":"IF('EK DERS Ücret Hesaplama'!$AM29=1,'BİLGİ GİRİŞİ'!I28,\"\")","v":""},null,0]
[{"$f":"IF(G32=\"\",\"\",SUBTOTAL(103,$G$8:G32))","v":""},{"$f":"IF('EK DERS Ücret Hesaplama'!$AM30=1,'EK DERS Ücret Hesaplama'!B30,\"\")","v":""},{"$f":"IF('EK DERS Ücret Hesaplama'!$AM30=1,'EK DERS Ücret Hesaplama'!C30,\"\")","v":""},{"$f":"IF('EK DERS Ücret Hesaplama'!$AM30=1,IF('EK DERS Ücret Hesaplama'!D30=\"Ücretli Öğretmen\",\"Ücretli Öğr.\",\"Ücr.Öğr. (Emekli)\"),\"\")","v":""},{"$f":"IF('EK DERS Ücret Hesaplama'!$AM30=1,'BİLGİ GİRİŞİ'!J29,\"\")","v":""},{"$f":"IF('EK DERS Ücret Hesaplama'!$AM30=1,'BİLGİ GİRİŞİ'!K29,\"\")","v":""},{"$f":"IF('EK DERS Ücret Hesaplama'!$AM30=1,'BİLGİ GİRİŞİ'!I29,\"\")","v":""},null,0]
[{"$f":"IF(G33=\"\",\"\",SUBTOTAL(103,$G$8:G33))","v":""},{"$f":"IF('EK DERS Ücret Hesaplama'!$AM31=1,'EK DERS Ücret Hesaplama'!B31,\"\")","v":""},{"$f":"IF('EK DERS Ücret Hesaplama'!$AM31=1,'EK DERS Ücret Hesaplama'!C31,\"\")","v":""},{"$f":"IF('EK DERS Ücret Hesaplama'!$AM31=1,IF('EK DERS Ücret Hesaplama'!D31=\"Ücretli Öğretmen\",\"Ücretli Öğr.\",\"Ücr.Öğr. (Emekli)\"),\"\")","v":""},{"$f":"IF('EK DERS Ücret Hesaplama'!$AM31=1,'BİLGİ GİRİŞİ'!J30,\"\")","v":""},{"$f":"IF('EK DERS Ücret Hesaplama'!$AM31=1,'BİLGİ GİRİŞİ'!K30,\"\")","v":""},{"$f":"IF('EK DERS Ücret Hesaplama'!$AM31=1,'BİLGİ GİRİŞİ'!I30,\"\")","v":""},null,0]
[{"$f":"IF(G34=\"\",\"\",SUBTOTAL(103,$G$8:G34))","v":""},{"$f":"IF('EK DERS Ücret Hesaplama'!$AM32=1,'EK DERS Ücret Hesaplama'!B32,\"\")","v":""},{"$f":"IF('EK DERS Ücret Hesaplama'!$AM32=1,'EK DERS Ücret Hesaplama'!C32,\"\")","v":""},{"$f":"IF('EK DERS Ücret Hesaplama'!$AM32=1,IF('EK DERS Ücret Hesaplama'!D32=\"Ücretli Öğretmen\",\"Ücretli Öğr.\",\"Ücr.Öğr. (Emekli)\"),\"\")","v":""},{"$f":"IF('EK DERS Ücret Hesaplama'!$AM32=1,'BİLGİ GİRİŞİ'!J31,\"\")","v":""},{"$f":"IF('EK DERS Ücret Hesaplama'!$AM32=1,'BİLGİ GİRİŞİ'!K31,\"\")","v":""},{"$f":"IF('EK DERS Ücret Hesaplama'!$AM32=1,'BİLGİ GİRİŞİ'!I31,\"\")","v":""},null,0]
[{"$f":"IF(G35=\"\",\"\",SUBTOTAL(103,$G$8:G35))","v":""},{"$f":"IF('EK DERS Ücret Hesaplama'!$AM33=1,'EK DERS Ücret Hesaplama'!B33,\"\")","v":""},{"$f":"IF('EK DERS Ücret Hesaplama'!$AM33=1,'EK DERS Ücret Hesaplama'!C33,\"\")","v":""},{"$f":"IF('EK DERS Ücret Hesaplama'!$AM33=1,IF('EK DERS Ücret Hesaplama'!D33=\"Ücretli Öğretmen\",\"Ücretli Öğr.\",\"Ücr.Öğr. (Emekli)\"),\"\")","v":""},{"$f":"IF('EK DERS Ücret Hesaplama'!$AM33=1,'BİLGİ GİRİŞİ'!J32,\"\")","v":""},{"$f":"IF('EK DERS Ücret Hesaplama'!$AM33=1,'BİLGİ GİRİŞİ'!K32,\"\")","v":""},{"$f":"IF('EK DERS Ücret Hesaplama'!$AM33=1,'BİLGİ GİRİŞİ'!I32,\"\")","v":""},null,0]
[{"$f":"IF(G36=\"\",\"\",SUBTOTAL(103,$G$8:G36))","v":""},{"$f":"IF('EK DERS Ücret Hesaplama'!$AM34=1,'EK DERS Ücret Hesaplama'!B34,\"\")","v":""},{"$f":"IF('EK DERS Ücret Hesaplama'!$AM34=1,'EK DERS Ücret Hesaplama'!C34,\"\")","v":""},{"$f":"IF('EK DERS Ücret Hesaplama'!$AM34=1,IF('EK DERS Ücret Hesaplama'!D34=\"Ücretli Öğretmen\",\"Ücretli Öğr.\",\"Ücr.Öğr. (Emekli)\"),\"\")","v":""},{"$f":"IF('EK DERS Ücret Hesaplama'!$AM34=1,'BİLGİ GİRİŞİ'!J33,\"\")","v":""},{"$f":"IF('EK DERS Ücret Hesaplama'!$AM34=1,'BİLGİ GİRİŞİ'!K33,\"\")","v":""},{"$f":"IF('EK DERS Ücret Hesaplama'!$AM34=1,'BİLGİ GİRİŞİ'!I33,\"\")","v":""},null,0]
[{"$f":"IF(G37=\"\",\"\",SUBTOTAL(103,$G$8:G37))","v":""},{"$f":"IF('EK DERS Ücret Hesaplama'!$AM35=1,'EK DERS Ücret Hesaplama'!B35,\"\")","v":""},{"$f":"IF('EK DERS Ücret Hesaplama'!$AM35=1,'EK DERS Ücret Hesaplama'!C35,\"\")","v":""},{"$f":"IF('EK DERS Ücret Hesaplama'!$AM35=1,IF('EK DERS Ücret Hesaplama'!D35=\"Ücretli Öğretmen\",\"Ücretli Öğr.\",\"Ücr.Öğr. (Emekli)\"),\"\")","v":""},{"$f":"IF('EK DERS Ücret Hesaplama'!$AM35=1,'BİLGİ GİRİŞİ'!J34,\"\")","v":""},{"$f":"IF('EK DERS Ücret Hesaplama'!$AM35=1,'BİLGİ GİRİŞİ'!K34,\"\")","v":""},{"$f":"IF('EK DERS Ücret Hesaplama'!$AM35=1,'BİLGİ GİRİŞİ'!I34,\"\")","v":""},null,0]
[{"$f":"IF(G38=\"\",\"\",SUBTOTAL(103,$G$8:G38))","v":""},{"$f":"IF('EK DERS Ücret Hesaplama'!$AM36=1,'EK DERS Ücret Hesaplama'!B36,\"\")","v":""},{"$f":"IF('EK DERS Ücret Hesaplama'!$AM36=1,'EK DERS Ücret Hesaplama'!C36,\"\")","v":""},{"$f":"IF('EK DERS Ücret Hesaplama'!$AM36=1,IF('EK DERS Ücret Hesaplama'!D36=\"Ücretli Öğretmen\",\"Ücretli Öğr.\",\"Ücr.Öğr. (Emekli)\"),\"\")","v":""},{"$f":"IF('EK DERS Ücret Hesaplama'!$AM36=1,'BİLGİ GİRİŞİ'!J35,\"\")","v":""},{"$f":"IF('EK DERS Ücret Hesaplama'!$AM36=1,'BİLGİ GİRİŞİ'!K35,\"\")","v":""},{"$f":"IF('EK DERS Ücret Hesaplama'!$AM36=1,'BİLGİ GİRİŞİ'!I35,\"\")","v":""},null,0]
[{"$f":"IF(G39=\"\",\"\",SUBTOTAL(103,$G$8:G39))","v":""},{"$f":"IF('EK DERS Ücret Hesaplama'!$AM37=1,'EK DERS Ücret Hesaplama'!B37,\"\")","v":""},{"$f":"IF('EK DERS Ücret Hesaplama'!$AM37=1,'EK DERS Ücret Hesaplama'!C37,\"\")","v":""},{"$f":"IF('EK DERS Ücret Hesaplama'!$AM37=1,IF('EK DERS Ücret Hesaplama'!D37=\"Ücretli Öğretmen\",\"Ücretli Öğr.\",\"Ücr.Öğr. (Emekli)\"),\"\")","v":""},{"$f":"IF('EK DERS Ücret Hesaplama'!$AM37=1,'BİLGİ GİRİŞİ'!J36,\"\")","v":""},{"$f":"IF('EK DERS Ücret Hesaplama'!$AM37=1,'BİLGİ GİRİŞİ'!K36,\"\")","v":""},{"$f":"IF('EK DERS Ücret Hesaplama'!$AM37=1,'BİLGİ GİRİŞİ'!I36,\"\")","v":""},null,0]
[{"$f":"IF(G40=\"\",\"\",SUBTOTAL(103,$G$8:G40))","v":""},{"$f":"IF('EK DERS Ücret Hesaplama'!$AM38=1,'EK DERS Ücret Hesaplama'!B38,\"\")","v":""},{"$f":"IF('EK DERS Ücret Hesaplama'!$AM38=1,'EK DERS Ücret Hesaplama'!C38,\"\")","v":""},{"$f":"IF('EK DERS Ücret Hesaplama'!$AM38=1,IF('EK DERS Ücret Hesaplama'!D38=\"Ücretli Öğretmen\",\"Ücretli Öğr.\",\"Ücr.Öğr. (Emekli)\"),\"\")","v":""},{"$f":"IF('EK DERS Ücret Hesaplama'!$AM38=1,'BİLGİ GİRİŞİ'!J37,\"\")","v":""},{"$f":"IF('EK DERS Ücret Hesaplama'!$AM38=1,'BİLGİ GİRİŞİ'!K37,\"\")","v":""},{"$f":"IF('EK DERS Ücret Hesaplama'!$AM38=1,'BİLGİ GİRİŞİ'!I37,\"\")","v":""},null,0]
[{"$f":"IF(G41=\"\",\"\",SUBTOTAL(103,$G$8:G41))","v":""},{"$f":"IF('EK DERS Ücret Hesaplama'!$AM39=1,'EK DERS Ücret Hesaplama'!B39,\"\")","v":""},{"$f":"IF('EK DERS Ücret Hesaplama'!$AM39=1,'EK DERS Ücret Hesaplama'!C39,\"\")","v":""},{"$f":"IF('EK DERS Ücret Hesaplama'!$AM39=1,IF('EK DERS Ücret Hesaplama'!D39=\"Ücretli Öğretmen\",\"Ücretli Öğr.\",\"Ücr.Öğr. (Emekli)\"),\"\")","v":""},{"$f":"IF('EK DERS Ücret Hesaplama'!$AM39=1,'BİLGİ GİRİŞİ'!J38,\"\")","v":""},{"$f":"IF('EK DERS Ücret Hesaplama'!$AM39=1,'BİLGİ GİRİŞİ'!K38,\"\")","v":""},{"$f":"IF('EK DERS Ücret Hesaplama'!$AM39=1,'BİLGİ GİRİŞİ'!I38,\"\")","v":""},null,0]
[{"$f":"IF(G42=\"\",\"\",SUBTOTAL(103,$G$8:G42))","v":""},{"$f":"IF('EK DERS Ücret Hesaplama'!$AM40=1,'EK DERS Ücret Hesaplama'!B40,\"\")","v":""},{"$f":"IF('EK DERS Ücret Hesaplama'!$AM40=1,'EK DERS Ücret Hesaplama'!C40,\"\")","v":""},{"$f":"IF('EK DERS Ücret Hesaplama'!$AM40=1,IF('EK DERS Ücret Hesaplama'!D40=\"Ücretli Öğretmen\",\"Ücretli Öğr.\",\"Ücr.Öğr. (Emekli)\"),\"\")","v":""},{"$f":"IF('EK DERS Ücret Hesaplama'!$AM40=1,'BİLGİ GİRİŞİ'!J39,\"\")","v":""},{"$f":"IF('EK DERS Ücret Hesaplama'!$AM40=1,'BİLGİ GİRİŞİ'!K39,\"\")","v":""},{"$f":"IF('EK DERS Ücret Hesaplama'!$AM40=1,'BİLGİ GİRİŞİ'!I39,\"\")","v":""},null,0]
[{"$f":"IF(G43=\"\",\"\",SUBTOTAL(103,$G$8:G43))","v":""},{"$f":"IF('EK DERS Ücret Hesaplama'!$AM41=1,'EK DERS Ücret Hesaplama'!B41,\"\")","v":""},{"$f":"IF('EK DERS Ücret Hesaplama'!$AM41=1,'EK DERS Ücret Hesaplama'!C41,\"\")","v":""},{"$f":"IF('EK DERS Ücret Hesaplama'!$AM41=1,IF('EK DERS Ücret Hesaplama'!D41=\"Ücretli Öğretmen\",\"Ücretli Öğr.\",\"Ücr.Öğr. (Emekli)\"),\"\")","v":""},{"$f":"IF('EK DERS Ücret Hesaplama'!$AM41=1,'BİLGİ GİRİŞİ'!J40,\"\")","v":""},{"$f":"IF('EK DERS Ücret Hesaplama'!$AM41=1,'BİLGİ GİRİŞİ'!K40,\"\")","v":""},{"$f":"IF('EK DERS Ücret Hesaplama'!$AM41=1,'BİLGİ GİRİŞİ'!I40,\"\")","v":""},null,0]
[{"$f":"IF(G44=\"\",\"\",SUBTOTAL(103,$G$8:G44))","v":""},{"$f":"IF('EK DERS Ücret Hesaplama'!$AM42=1,'EK DERS Ücret Hesaplama'!B42,\"\")","v":""},{"$f":"IF('EK DERS Ücret Hesaplama'!$AM42=1,'EK DERS Ücret Hesaplama'!C42,\"\")","v":""},{"$f":"IF('EK DERS Ücret Hesaplama'!$AM42=1,IF('EK DERS Ücret Hesaplama'!D42=\"Ücretli Öğretmen\",\"Ücretli Öğr.\",\"Ücr.Öğr. (Emekli)\"),\"\")","v":""},{"$f":"IF('EK DERS Ücret Hesaplama'!$AM42=1,'BİLGİ GİRİŞİ'!J41,\"\")","v":""},{"$f":"IF('EK DERS Ücret Hesaplama'!$AM42=1,'BİLGİ GİRİŞİ'!K41,\"\")","v":""},{"$f":"IF('EK DERS Ücret Hesaplama'!$AM42=1,'BİLGİ GİRİŞİ'!I41,\"\")","v":""},null,0]
[{"$f":"IF(G45=\"\",\"\",SUBTOTAL(103,$G$8:G45))","v":""},{"$f":"IF('EK DERS Ücret Hesaplama'!$AM43=1,'EK DERS Ücret Hesaplama'!B43,\"\")","v":""},{"$f":"IF('EK DERS Ücret Hesaplama'!$AM43=1,'EK DERS Ücret Hesaplama'!C43,\"\")","v":""},{"$f":"IF('EK DERS Ücret Hesaplama'!$AM43=1,IF('EK DERS Ücret Hesaplama'!D43=\"Ücretli Öğretmen\",\"Ücretli Öğr.\",\"Ücr.Öğr. (Emekli)\"),\"\")","v":""},{"$f":"IF('EK DERS Ücret Hesaplama'!$AM43=1,'BİLGİ GİRİŞİ'!J42,\"\")","v":""},{"$f":"IF('EK DERS Ücret Hesaplama'!$AM43=1,'BİLGİ GİRİŞİ'!K42,\"\")","v":""},{"$f":"IF('EK DERS Ücret Hesaplama'!$AM43=1,'BİLGİ GİRİŞİ'!I42,\"\")","v":""},null,0]
[{"$f":"IF(G46=\"\",\"\",SUBTOTAL(103,$G$8:G46))","v":""},{"$f":"IF('EK DERS Ücret Hesaplama'!$AM44=1,'EK DERS Ücret Hesaplama'!B44,\"\")","v":""},{"$f":"IF('EK DERS Ücret Hesaplama'!$AM44=1,'EK DERS Ücret Hesaplama'!C44,\"\")","v":""},{"$f":"IF('EK DERS Ücret Hesaplama'!$AM44=1,IF('EK DERS Ücret Hesaplama'!D44=\"Ücretli Öğretmen\",\"Ücretli Öğr.\",\"Ücr.Öğr. (Emekli)\"),\"\")","v":""},{"$f":"IF('EK DERS Ücret Hesaplama'!$AM44=1,'BİLGİ GİRİŞİ'!J43,\"\")","v":""},{"$f":"IF('EK DERS Ücret Hesaplama'!$AM44=1,'BİLGİ GİRİŞİ'!K43,\"\")","v":""},{"$f":"IF('EK DERS Ücret Hesaplama'!$AM44=1,'BİLGİ GİRİŞİ'!I43,\"\")","v":""},null,0]
[{"$f":"IF(G47=\"\",\"\",SUBTOTAL(103,$G$8:G47))","v":""},{"$f":"IF('EK DERS Ücret Hesaplama'!$AM45=1,'EK DERS Ücret Hesaplama'!B45,\"\")","v":""},{"$f":"IF('EK DERS Ücret Hesaplama'!$AM45=1,'EK DERS Ücret Hesaplama'!C45,\"\")","v":""},{"$f":"IF('EK DERS Ücret Hesaplama'!$AM45=1,IF('EK DERS Ücret Hesaplama'!D45=\"Ücretli Öğretmen\",\"Ücretli Öğr.\",\"Ücr.Öğr. (Emekli)\"),\"\")","v":""},{"$f":"IF('EK DERS Ücret Hesaplama'!$AM45=1,'BİLGİ GİRİŞİ'!J44,\"\")","v":""},{"$f":"IF('EK DERS Ücret Hesaplama'!$AM45=1,'BİLGİ GİRİŞİ'!K44,\"\")","v":""},{"$f":"IF('EK DERS Ücret Hesaplama'!$AM45=1,'BİLGİ GİRİŞİ'!I44,\"\")","v":""},null,0]
[{"$f":"IF(G48=\"\",\"\",SUBTOTAL(103,$G$8:G48))","v":""},{"$f":"IF('EK DERS Ücret Hesaplama'!$AM46=1,'EK DERS Ücret Hesaplama'!B46,\"\")","v":""},{"$f":"IF('EK DERS Ücret Hesaplama'!$AM46=1,'EK DERS Ücret Hesaplama'!C46,\"\")","v":""},{"$f":"IF('EK DERS Ücret Hesaplama'!$AM46=1,IF('EK DERS Ücret Hesaplama'!D46=\"Ücretli Öğretmen\",\"Ücretli Öğr.\",\"Ücr.Öğr. (Emekli)\"),\"\")","v":""},{"$f":"IF('EK DERS Ücret Hesaplama'!$AM46=1,'BİLGİ GİRİŞİ'!J45,\"\")","v":""},{"$f":"IF('EK DERS Ücret Hesaplama'!$AM46=1,'BİLGİ GİRİŞİ'!K45,\"\")","v":""},{"$f":"IF('EK DERS Ücret Hesaplama'!$AM46=1,'BİLGİ GİRİŞİ'!I45,\"\")","v":""},null,0]
[{"$f":"IF(G49=\"\",\"\",SUBTOTAL(103,$G$8:G49))","v":""},{"$f":"IF('EK DERS Ücret Hesaplama'!$AM47=1,'EK DERS Ücret Hesaplama'!B47,\"\")","v":""},{"$f":"IF('EK DERS Ücret Hesaplama'!$AM47=1,'EK DERS Ücret Hesaplama'!C47,\"\")","v":""},{"$f":"IF('EK DERS Ücret Hesaplama'!$AM47=1,IF('EK DERS Ücret Hesaplama'!D47=\"Ücretli Öğretmen\",\"Ücretli Öğr.\",\"Ücr.Öğr. (Emekli)\"),\"\")","v":""},{"$f":"IF('EK DERS Ücret Hesaplama'!$AM47=1,'BİLGİ GİRİŞİ'!J46,\"\")","v":""},{"$f":"IF('EK DERS Ücret Hesaplama'!$AM47=1,'BİLGİ GİRİŞİ'!K46,\"\")","v":""},{"$f":"IF('EK DERS Ücret Hesaplama'!$AM47=1,'BİLGİ GİRİŞİ'!I46,\"\")","v":""},null,0]
[{"$f":"IF(G50=\"\",\"\",SUBTOTAL(103,$G$8:G50))","v":""},{"$f":"IF('EK DERS Ücret Hesaplama'!$AM48=1,'EK DERS Ücret Hesaplama'!B48,\"\")","v":""},{"$f":"IF('EK DERS Ücret Hesaplama'!$AM48=1,'EK DERS Ücret Hesaplama'!C48,\"\")","v":""},{"$f":"IF('EK DERS Ücret Hesaplama'!$AM48=1,IF('EK DERS Ücret Hesaplama'!D48=\"Ücretli Öğretmen\",\"Ücretli Öğr.\",\"Ücr.Öğr. (Emekli)\"),\"\")","v":""},{"$f":"IF('EK DERS Ücret Hesaplama'!$AM48=1,'BİLGİ GİRİŞİ'!J47,\"\")","v":""},{"$f":"IF('EK DERS Ücret Hesaplama'!$AM48=1,'BİLGİ GİRİŞİ'!K47,\"\")","v":""},{"$f":"IF('EK DERS Ücret Hesaplama'!$AM48=1,'BİLGİ GİRİŞİ'!I47,\"\")","v":""},null,0]
[{"$f":"IF(G51=\"\",\"\",SUBTOTAL(103,$G$8:G51))","v":""},{"$f":"IF('EK DERS Ücret Hesaplama'!$AM49=1,'EK DERS Ücret Hesaplama'!B49,\"\")","v":""},{"$f":"IF('EK DERS Ücret Hesaplama'!$AM49=1,'EK DERS Ücret Hesaplama'!C49,\"\")","v":""},{"$f":"IF('EK DERS Ücret Hesaplama'!$AM49=1,IF('EK DERS Ücret Hesaplama'!D49=\"Ücretli Öğretmen\",\"Ücretli Öğr.\",\"Ücr.Öğr. (Emekli)\"),\"\")","v":""},{"$f":"IF('EK DERS Ücret Hesaplama'!$AM49=1,'BİLGİ GİRİŞİ'!J48,\"\")","v":""},{"$f":"IF('EK DERS Ücret Hesaplama'!$AM49=1,'BİLGİ GİRİŞİ'!K48,\"\")","v":""},{"$f":"IF('EK DERS Ücret Hesaplama'!$AM49=1,'BİLGİ GİRİŞİ'!I48,\"\")","v":""},null,0]
[{"$f":"IF(G52=\"\",\"\",SUBTOTAL(103,$G$8:G52))","v":""},{"$f":"IF('EK DERS Ücret Hesaplama'!$AM50=1,'EK DERS Ücret Hesaplama'!B50,\"\")","v":""},{"$f":"IF('EK DERS Ücret Hesaplama'!$AM50=1,'EK DERS Ücret Hesaplama'!C50,\"\")","v":""},{"$f":"IF('EK DERS Ücret Hesaplama'!$AM50=1,IF('EK DERS Ücret Hesaplama'!D50=\"Ücretli Öğretmen\",\"Ücretli Öğr.\",\"Ücr.Öğr. (Emekli)\"),\"\")","v":""},{"$f":"IF('EK DERS Ücret Hesaplama'!$AM50=1,'BİLGİ GİRİŞİ'!J49,\"\")","v":""},{"$f":"IF('EK DERS Ücret Hesaplama'!$AM50=1,'BİLGİ GİRİŞİ'!K49,\"\")","v":""},{"$f":"IF('EK DERS Ücret Hesaplama'!$AM50=1,'BİLGİ GİRİŞİ'!I49,\"\")","v":""},null,0]
[{"$f":"IF(G53=\"\",\"\",SUBTOTAL(103,$G$8:G53))","v":""},{"$f":"IF('EK DERS Ücret Hesaplama'!$AM51=1,'EK DERS Ücret Hesaplama'!B51,\"\")","v":""},{"$f":"IF('EK DERS Ücret Hesaplama'!$AM51=1,'EK DERS Ücret Hesaplama'!C51,\"\")","v":""},{"$f":"IF('EK DERS Ücret Hesaplama'!$AM51=1,IF('EK DERS Ücret Hesaplama'!D51=\"Ücretli Öğretmen\",\"Ücretli Öğr.\",\"Ücr.Öğr. (Emekli)\"),\"\")","v":""},{"$f":"IF('EK DERS Ücret Hesaplama'!$AM51=1,'BİLGİ GİRİŞİ'!J50,\"\")","v":""},{"$f":"IF('EK DERS Ücret Hesaplama'!$AM51=1,'BİLGİ GİRİŞİ'!K50,\"\")","v":""},{"$f":"IF('EK DERS Ücret Hesaplama'!$AM51=1,'BİLGİ GİRİŞİ'!I50,\"\")","v":""},null,0]
[{"$f":"IF(G54=\"\",\"\",SUBTOTAL(103,$G$8:G54))","v":""},{"$f":"IF('EK DERS Ücret Hesaplama'!$AM52=1,'EK DERS Ücret Hesaplama'!B52,\"\")","v":""},{"$f":"IF('EK DERS Ücret Hesaplama'!$AM52=1,'EK DERS Ücret Hesaplama'!C52,\"\")","v":""},{"$f":"IF('EK DERS Ücret Hesaplama'!$AM52=1,IF('EK DERS Ücret Hesaplama'!D52=\"Ücretli Öğretmen\",\"Ücretli Öğr.\",\"Ücr.Öğr. (Emekli)\"),\"\")","v":""},{"$f":"IF('EK DERS Ücret Hesaplama'!$AM52=1,'BİLGİ GİRİŞİ'!J51,\"\")","v":""},{"$f":"IF('EK DERS Ücret Hesaplama'!$AM52=1,'BİLGİ GİRİŞİ'!K51,\"\")","v":""},{"$f":"IF('EK DERS Ücret Hesaplama'!$AM52=1,'BİLGİ GİRİŞİ'!I51,\"\")","v":""},null,0]
[{"$f":"IF(G55=\"\",\"\",SUBTOTAL(103,$G$8:G55))","v":""},{"$f":"IF('EK DERS Ücret Hesaplama'!$AM53=1,'EK DERS Ücret Hesaplama'!B53,\"\")","v":""},{"$f":"IF('EK DERS Ücret Hesaplama'!$AM53=1,'EK DERS Ücret Hesaplama'!C53,\"\")","v":""},{"$f":"IF('EK DERS Ücret Hesaplama'!$AM53=1,IF('EK DERS Ücret Hesaplama'!D53=\"Ücretli Öğretmen\",\"Ücretli Öğr.\",\"Ücr.Öğr. (Emekli)\"),\"\")","v":""},{"$f":"IF('EK DERS Ücret Hesaplama'!$AM53=1,'BİLGİ GİRİŞİ'!J52,\"\")","v":""},{"$f":"IF('EK DERS Ücret Hesaplama'!$AM53=1,'BİLGİ GİRİŞİ'!K52,\"\")","v":""},{"$f":"IF('EK DERS Ücret Hesaplama'!$AM53=1,'BİLGİ GİRİŞİ'!I52,\"\")","v":""},null,0]
[{"$f":"IF(G56=\"\",\"\",SUBTOTAL(103,$G$8:G56))","v":""},{"$f":"IF('EK DERS Ücret Hesaplama'!$AM54=1,'EK DERS Ücret Hesaplama'!B54,\"\")","v":""},{"$f":"IF('EK DERS Ücret Hesaplama'!$AM54=1,'EK DERS Ücret Hesaplama'!C54,\"\")","v":""},{"$f":"IF('EK DERS Ücret Hesaplama'!$AM54=1,IF('EK DERS Ücret Hesaplama'!D54=\"Ücretli Öğretmen\",\"Ücretli Öğr.\",\"Ücr.Öğr. (Emekli)\"),\"\")","v":""},{"$f":"IF('EK DERS Ücret Hesaplama'!$AM54=1,'BİLGİ GİRİŞİ'!J53,\"\")","v":""},{"$f":"IF('EK DERS Ücret Hesaplama'!$AM54=1,'BİLGİ GİRİŞİ'!K53,\"\")","v":""},{"$f":"IF('EK DERS Ücret Hesaplama'!$AM54=1,'BİLGİ GİRİŞİ'!I53,\"\")","v":""},null,0]
[{"$f":"IF(G57=\"\",\"\",SUBTOTAL(103,$G$8:G57))","v":""},{"$f":"IF('EK DERS Ücret Hesaplama'!$AM55=1,'EK DERS Ücret Hesaplama'!B55,\"\")","v":""},{"$f":"IF('EK DERS Ücret Hesaplama'!$AM55=1,'EK DERS Ücret Hesaplama'!C55,\"\")","v":""},{"$f":"IF('EK DERS Ücret Hesaplama'!$AM55=1,IF('EK DERS Ücret Hesaplama'!D55=\"Ücretli Öğretmen\",\"Ücretli Öğr.\",\"Ücr.Öğr. (Emekli)\"),\"\")","v":""},{"$f":"IF('EK DERS Ücret Hesaplama'!$AM55=1,'BİLGİ GİRİŞİ'!J54,\"\")","v":""},{"$f":"IF('EK DERS Ücret Hesaplama'!$AM55=1,'BİLGİ GİRİŞİ'!K54,\"\")","v":""},{"$f":"IF('EK DERS Ücret Hesaplama'!$AM55=1,'BİLGİ GİRİŞİ'!I54,\"\")","v":""},null,0]
[{"$f":"IF(G58=\"\",\"\",SUBTOTAL(103,$G$8:G58))","v":""},{"$f":"IF('EK DERS Ücret Hesaplama'!$AM56=1,'EK DERS Ücret Hesaplama'!B56,\"\")","v":""},{"$f":"IF('EK DERS Ücret Hesaplama'!$AM56=1,'EK DERS Ücret Hesaplama'!C56,\"\")","v":""},{"$f":"IF('EK DERS Ücret Hesaplama'!$AM56=1,IF('EK DERS Ücret Hesaplama'!D56=\"Ücretli Öğretmen\",\"Ücretli Öğr.\",\"Ücr.Öğr. (Emekli)\"),\"\")","v":""},{"$f":"IF('EK DERS Ücret Hesaplama'!$AM56=1,'BİLGİ GİRİŞİ'!J55,\"\")","v":""},{"$f":"IF('EK DERS Ücret Hesaplama'!$AM56=1,'BİLGİ GİRİŞİ'!K55,\"\")","v":""},{"$f":"IF('EK DERS Ücret Hesaplama'!$AM56=1,'BİLGİ GİRİŞİ'!I55,\"\")","v":""},null,0]
[{"$f":"IF(G59=\"\",\"\",SUBTOTAL(103,$G$8:G59))","v":""},{"$f":"IF('EK DERS Ücret Hesaplama'!$AM57=1,'EK DERS Ücret Hesaplama'!B57,\"\")","v":""},{"$f":"IF('EK DERS Ücret Hesaplama'!$AM57=1,'EK DERS Ücret Hesaplama'!C57,\"\")","v":""},{"$f":"IF('EK DERS Ücret Hesaplama'!$AM57=1,IF('EK DERS Ücret Hesaplama'!D57=\"Ücretli Öğretmen\",\"Ücretli Öğr.\",\"Ücr.Öğr. (Emekli)\"),\"\")","v":""},{"$f":"IF('EK DERS Ücret Hesaplama'!$AM57=1,'BİLGİ GİRİŞİ'!J56,\"\")","v":""},{"$f":"IF('EK DERS Ücret Hesaplama'!$AM57=1,'BİLGİ GİRİŞİ'!K56,\"\")","v":""},{"$f":"IF('EK DERS Ücret Hesaplama'!$AM57=1,'BİLGİ GİRİŞİ'!I56,\"\")","v":""},null,0]
[{"$f":"IF(G60=\"\",\"\",SUBTOTAL(103,$G$8:G60))","v":""},{"$f":"IF('EK DERS Ücret Hesaplama'!$AM58=1,'EK DERS Ücret Hesaplama'!B58,\"\")","v":""},{"$f":"IF('EK DERS Ücret Hesaplama'!$AM58=1,'EK DERS Ücret Hesaplama'!C58,\"\")","v":""},{"$f":"IF('EK DERS Ücret Hesaplama'!$AM58=1,IF('EK DERS Ücret Hesaplama'!D58=\"Ücretli Öğretmen\",\"Ücretli Öğr.\",\"Ücr.Öğr. (Emekli)\"),\"\")","v":""},{"$f":"IF('EK DERS Ücret Hesaplama'!$AM58=1,'BİLGİ GİRİŞİ'!J57,\"\")","v":""},{"$f":"IF('EK DERS Ücret Hesaplama'!$AM58=1,'BİLGİ GİRİŞİ'!K57,\"\")","v":""},{"$f":"IF('EK DERS Ücret Hesaplama'!$AM58=1,'BİLGİ GİRİŞİ'!I57,\"\")","v":""},null,0]
[{"$f":"IF(G61=\"\",\"\",SUBTOTAL(103,$G$8:G61))","v":""},{"$f":"IF('EK DERS Ücret Hesaplama'!$AM59=1,'EK DERS Ücret Hesaplama'!B59,\"\")","v":""},{"$f":"IF('EK DERS Ücret Hesaplama'!$AM59=1,'EK DERS Ücret Hesaplama'!C59,\"\")","v":""},{"$f":"IF('EK DERS Ücret Hesaplama'!$AM59=1,IF('EK DERS Ücret Hesaplama'!D59=\"Ücretli Öğretmen\",\"Ücretli Öğr.\",\"Ücr.Öğr. (Emekli)\"),\"\")","v":""},{"$f":"IF('EK DERS Ücret Hesaplama'!$AM59=1,'BİLGİ GİRİŞİ'!J58,\"\")","v":""},{"$f":"IF('EK DERS Ücret Hesaplama'!$AM59=1,'BİLGİ GİRİŞİ'!K58,\"\")","v":""},{"$f":"IF('EK DERS Ücret Hesaplama'!$AM59=1,'BİLGİ GİRİŞİ'!I58,\"\")","v":""},null,0]
[{"$f":"IF(G62=\"\",\"\",SUBTOTAL(103,$G$8:G62))","v":""},{"$f":"IF('EK DERS Ücret Hesaplama'!$AM60=1,'EK DERS Ücret Hesaplama'!B60,\"\")","v":""},{"$f":"IF('EK DERS Ücret Hesaplama'!$AM60=1,'EK DERS Ücret Hesaplama'!C60,\"\")","v":""},{"$f":"IF('EK DERS Ücret Hesaplama'!$AM60=1,IF('EK DERS Ücret Hesaplama'!D60=\"Ücretli Öğretmen\",\"Ücretli Öğr.\",\"Ücr.Öğr. (Emekli)\"),\"\")","v":""},{"$f":"IF('EK DERS Ücret Hesaplama'!$AM60=1,'BİLGİ GİRİŞİ'!J59,\"\")","v":""},{"$f":"IF('EK DERS Ücret Hesaplama'!$AM60=1,'BİLGİ GİRİŞİ'!K59,\"\")","v":""},{"$f":"IF('EK DERS Ücret Hesaplama'!$AM60=1,'BİLGİ GİRİŞİ'!I59,\"\")","v":""},null,0]
[{"$f":"IF(G63=\"\",\"\",SUBTOTAL(103,$G$8:G63))","v":""},{"$f":"IF('EK DERS Ücret Hesaplama'!$AM61=1,'EK DERS Ücret Hesaplama'!B61,\"\")","v":""},{"$f":"IF('EK DERS Ücret Hesaplama'!$AM61=1,'EK DERS Ücret Hesaplama'!C61,\"\")","v":""},{"$f":"IF('EK DERS Ücret Hesaplama'!$AM61=1,IF('EK DERS Ücret Hesaplama'!D61=\"Ücretli Öğretmen\",\"Ücretli Öğr.\",\"Ücr.Öğr. (Emekli)\"),\"\")","v":""},{"$f":"IF('EK DERS Ücret Hesaplama'!$AM61=1,'BİLGİ GİRİŞİ'!J60,\"\")","v":""},{"$f":"IF('EK DERS Ücret Hesaplama'!$AM61=1,'BİLGİ GİRİŞİ'!K60,\"\")","v":""},{"$f":"IF('EK DERS Ücret Hesaplama'!$AM61=1,'BİLGİ GİRİŞİ'!I60,\"\")","v":""},null,0]
[{"$f":"IF(G64=\"\",\"\",SUBTOTAL(103,$G$8:G64))","v":""},{"$f":"IF('EK DERS Ücret Hesaplama'!$AM62=1,'EK DERS Ücret Hesaplama'!B62,\"\")","v":""},{"$f":"IF('EK DERS Ücret Hesaplama'!$AM62=1,'EK DERS Ücret Hesaplama'!C62,\"\")","v":""},{"$f":"IF('EK DERS Ücret Hesaplama'!$AM62=1,IF('EK DERS Ücret Hesaplama'!D62=\"Ücretli Öğretmen\",\"Ücretli Öğr.\",\"Ücr.Öğr. (Emekli)\"),\"\")","v":""},{"$f":"IF('EK DERS Ücret Hesaplama'!$AM62=1,'BİLGİ GİRİŞİ'!J61,\"\")","v":""},{"$f":"IF('EK DERS Ücret Hesaplama'!$AM62=1,'BİLGİ GİRİŞİ'!K61,\"\")","v":""},{"$f":"IF('EK DERS Ücret Hesaplama'!$AM62=1,'BİLGİ GİRİŞİ'!I61,\"\")","v":""},null,0]
[{"$f":"IF(G65=\"\",\"\",SUBTOTAL(103,$G$8:G65))","v":""},{"$f":"IF('EK DERS Ücret Hesaplama'!$AM63=1,'EK DERS Ücret Hesaplama'!B63,\"\")","v":""},{"$f":"IF('EK DERS Ücret Hesaplama'!$AM63=1,'EK DERS Ücret Hesaplama'!C63,\"\")","v":""},{"$f":"IF('EK DERS Ücret Hesaplama'!$AM63=1,IF('EK DERS Ücret Hesaplama'!D63=\"Ücretli Öğretmen\",\"Ücretli Öğr.\",\"Ücr.Öğr. (Emekli)\"),\"\")","v":""},{"$f":"IF('EK DERS Ücret Hesaplama'!$AM63=1,'BİLGİ GİRİŞİ'!J62,\"\")","v":""},{"$f":"IF('EK DERS Ücret Hesaplama'!$AM63=1,'BİLGİ GİRİŞİ'!K62,\"\")","v":""},{"$f":"IF('EK DERS Ücret Hesaplama'!$AM63=1,'BİLGİ GİRİŞİ'!I62,\"\")","v":""},null,0]
[{"$f":"IF(G66=\"\",\"\",SUBTOTAL(103,$G$8:G66))","v":""},{"$f":"IF('EK DERS Ücret Hesaplama'!$AM64=1,'EK DERS Ücret Hesaplama'!B64,\"\")","v":""},{"$f":"IF('EK DERS Ücret Hesaplama'!$AM64=1,'EK DERS Ücret Hesaplama'!C64,\"\")","v":""},{"$f":"IF('EK DERS Ücret Hesaplama'!$AM64=1,IF('EK DERS Ücret Hesaplama'!D64=\"Ücretli Öğretmen\",\"Ücretli Öğr.\",\"Ücr.Öğr. (Emekli)\"),\"\")","v":""},{"$f":"IF('EK DERS Ücret Hesaplama'!$AM64=1,'BİLGİ GİRİŞİ'!J63,\"\")","v":""},{"$f":"IF('EK DERS Ücret Hesaplama'!$AM64=1,'BİLGİ GİRİŞİ'!K63,\"\")","v":""},{"$f":"IF('EK DERS Ücret Hesaplama'!$AM64=1,'BİLGİ GİRİŞİ'!I63,\"\")","v":""},null,0]
[{"$f":"IF(G67=\"\",\"\",SUBTOTAL(103,$G$8:G67))","v":""},{"$f":"IF('EK DERS Ücret Hesaplama'!$AM65=1,'EK DERS Ücret Hesaplama'!B65,\"\")","v":""},{"$f":"IF('EK DERS Ücret Hesaplama'!$AM65=1,'EK DERS Ücret Hesaplama'!C65,\"\")","v":""},{"$f":"IF('EK DERS Ücret Hesaplama'!$AM65=1,IF('EK DERS Ücret Hesaplama'!D65=\"Ücretli Öğretmen\",\"Ücretli Öğr.\",\"Ücr.Öğr. (Emekli)\"),\"\")","v":""},{"$f":"IF('EK DERS Ücret Hesaplama'!$AM65=1,'BİLGİ GİRİŞİ'!J64,\"\")","v":""},{"$f":"IF('EK DERS Ücret Hesaplama'!$AM65=1,'BİLGİ GİRİŞİ'!K64,\"\")","v":""},{"$f":"IF('EK DERS Ücret Hesaplama'!$AM65=1,'BİLGİ GİRİŞİ'!I64,\"\")","v":""},null,0]
[{"$f":"IF(G68=\"\",\"\",SUBTOTAL(103,$G$8:G68))","v":""},{"$f":"IF('EK DERS Ücret Hesaplama'!$AM66=1,'EK DERS Ücret Hesaplama'!B66,\"\")","v":""},{"$f":"IF('EK DERS Ücret Hesaplama'!$AM66=1,'EK DERS Ücret Hesaplama'!C66,\"\")","v":""},{"$f":"IF('EK DERS Ücret Hesaplama'!$AM66=1,IF('EK DERS Ücret Hesaplama'!D66=\"Ücretli Öğretmen\",\"Ücretli Öğr.\",\"Ücr.Öğr. (Emekli)\"),\"\")","v":""},{"$f":"IF('EK DERS Ücret Hesaplama'!$AM66=1,'BİLGİ GİRİŞİ'!J65,\"\")","v":""},{"$f":"IF('EK DERS Ücret Hesaplama'!$AM66=1,'BİLGİ GİRİŞİ'!K65,\"\")","v":""},{"$f":"IF('EK DERS Ücret Hesaplama'!$AM66=1,'BİLGİ GİRİŞİ'!I65,\"\")","v":""},null,0]
[{"$f":"IF(G69=\"\",\"\",SUBTOTAL(103,$G$8:G69))","v":""},{"$f":"IF('EK DERS Ücret Hesaplama'!$AM67=1,'EK DERS Ücret Hesaplama'!B67,\"\")","v":""},{"$f":"IF('EK DERS Ücret Hesaplama'!$AM67=1,'EK DERS Ücret Hesaplama'!C67,\"\")","v":""},{"$f":"IF('EK DERS Ücret Hesaplama'!$AM67=1,IF('EK DERS Ücret Hesaplama'!D67=\"Ücretli Öğretmen\",\"Ücretli Öğr.\",\"Ücr.Öğr. (Emekli)\"),\"\")","v":""},{"$f":"IF('EK DERS Ücret Hesaplama'!$AM67=1,'BİLGİ GİRİŞİ'!J66,\"\")","v":""},{"$f":"IF('EK DERS Ücret Hesaplama'!$AM67=1,'BİLGİ GİRİŞİ'!K66,\"\")","v":""},{"$f":"IF('EK DERS Ücret Hesaplama'!$AM67=1,'BİLGİ GİRİŞİ'!I66,\"\")","v":""},null,0]
[{"$f":"IF(G70=\"\",\"\",SUBTOTAL(103,$G$8:G70))","v":""},{"$f":"IF('EK DERS Ücret Hesaplama'!$AM68=1,'EK DERS Ücret Hesaplama'!B68,\"\")","v":""},{"$f":"IF('EK DERS Ücret Hesaplama'!$AM68=1,'EK DERS Ücret Hesaplama'!C68,\"\")","v":""},{"$f":"IF('EK DERS Ücret Hesaplama'!$AM68=1,IF('EK DERS Ücret Hesaplama'!D68=\"Ücretli Öğretmen\",\"Ücretli Öğr.\",\"Ücr.Öğr. (Emekli)\"),\"\")","v":""},{"$f":"IF('EK DERS Ücret Hesaplama'!$AM68=1,'BİLGİ GİRİŞİ'!J67,\"\")","v":""},{"$f":"IF('EK DERS Ücret Hesaplama'!$AM68=1,'BİLGİ GİRİŞİ'!K67,\"\")","v":""},{"$f":"IF('EK DERS Ücret Hesaplama'!$AM68=1,'BİLGİ GİRİŞİ'!I67,\"\")","v":""},null,0]
[{"$f":"IF(G71=\"\",\"\",SUBTOTAL(103,$G$8:G71))","v":""},{"$f":"IF('EK DERS Ücret Hesaplama'!$AM69=1,'EK DERS Ücret Hesaplama'!B69,\"\")","v":""},{"$f":"IF('EK DERS Ücret Hesaplama'!$AM69=1,'EK DERS Ücret Hesaplama'!C69,\"\")","v":""},{"$f":"IF('EK DERS Ücret Hesaplama'!$AM69=1,IF('EK DERS Ücret Hesaplama'!D69=\"Ücretli Öğretmen\",\"Ücretli Öğr.\",\"Ücr.Öğr. (Emekli)\"),\"\")","v":""},{"$f":"IF('EK DERS Ücret Hesaplama'!$AM69=1,'BİLGİ GİRİŞİ'!J68,\"\")","v":""},{"$f":"IF('EK DERS Ücret Hesaplama'!$AM69=1,'BİLGİ GİRİŞİ'!K68,\"\")","v":""},{"$f":"IF('EK DERS Ücret Hesaplama'!$AM69=1,'BİLGİ GİRİŞİ'!I68,\"\")","v":""},null,0]
[{"$f":"IF(G72=\"\",\"\",SUBTOTAL(103,$G$8:G72))","v":""},{"$f":"IF('EK DERS Ücret Hesaplama'!$AM70=1,'EK DERS Ücret Hesaplama'!B70,\"\")","v":""},{"$f":"IF('EK DERS Ücret Hesaplama'!$AM70=1,'EK DERS Ücret Hesaplama'!C70,\"\")","v":""},{"$f":"IF('EK DERS Ücret Hesaplama'!$AM70=1,IF('EK DERS Ücret Hesaplama'!D70=\"Ücretli Öğretmen\",\"Ücretli Öğr.\",\"Ücr.Öğr. (Emekli)\"),\"\")","v":""},{"$f":"IF('EK DERS Ücret Hesaplama'!$AM70=1,'BİLGİ GİRİŞİ'!J69,\"\")","v":""},{"$f":"IF('EK DERS Ücret Hesaplama'!$AM70=1,'BİLGİ GİRİŞİ'!K69,\"\")","v":""},{"$f":"IF('EK DERS Ücret Hesaplama'!$AM70=1,'BİLGİ GİRİŞİ'!I69,\"\")","v":""},null,0]
[{"$f":"IF(G73=\"\",\"\",SUBTOTAL(103,$G$8:G73))","v":""},{"$f":"IF('EK DERS Ücret Hesaplama'!$AM71=1,'EK DERS Ücret Hesaplama'!B71,\"\")","v":""},{"$f":"IF('EK DERS Ücret Hesaplama'!$AM71=1,'EK DERS Ücret Hesaplama'!C71,\"\")","v":""},{"$f":"IF('EK DERS Ücret Hesaplama'!$AM71=1,IF('EK DERS Ücret Hesaplama'!D71=\"Ücretli Öğretmen\",\"Ücretli Öğr.\",\"Ücr.Öğr. (Emekli)\"),\"\")","v":""},{"$f":"IF('EK DERS Ücret Hesaplama'!$AM71=1,'BİLGİ GİRİŞİ'!J70,\"\")","v":""},{"$f":"IF('EK DERS Ücret Hesaplama'!$AM71=1,'BİLGİ GİRİŞİ'!K70,\"\")","v":""},{"$f":"IF('EK DERS Ücret Hesaplama'!$AM71=1,'BİLGİ GİRİŞİ'!I70,\"\")","v":""},null,{"$f":"IF(OR(G73=0,G73=\"\"),0,1)","v":0}]
[{"$f":"IF(G74=\"\",\"\",SUBTOTAL(103,$G$8:G74))","v":""},{"$f":"IF('EK DERS Ücret Hesaplama'!$AM72=1,'EK DERS Ücret Hesaplama'!B72,\"\")","v":""},{"$f":"IF('EK DERS Ücret Hesaplama'!$AM72=1,'EK DERS Ücret Hesaplama'!C72,\"\")","v":""},{"$f":"IF('EK DERS Ücret Hesaplama'!$AM72=1,IF('EK DERS Ücret Hesaplama'!D72=\"Ücretli Öğretmen\",\"Ücretli Öğr.\",\"Ücr.Öğr. (Emekli)\"),\"\")","v":""},{"$f":"IF('EK DERS Ücret Hesaplama'!$AM72=1,'BİLGİ GİRİŞİ'!J71,\"\")","v":""},{"$f":"IF('EK DERS Ücret Hesaplama'!$AM72=1,'BİLGİ GİRİŞİ'!K71,\"\")","v":""},{"$f":"IF('EK DERS Ücret Hesaplama'!$AM72=1,'BİLGİ GİRİŞİ'!I71,\"\")","v":""},null,0]
[{"$f":"IF(G75=\"\",\"\",SUBTOTAL(103,$G$8:G75))","v":""},{"$f":"IF('EK DERS Ücret Hesaplama'!$AM73=1,'EK DERS Ücret Hesaplama'!B73,\"\")","v":""},{"$f":"IF('EK DERS Ücret Hesaplama'!$AM73=1,'EK DERS Ücret Hesaplama'!C73,\"\")","v":""},{"$f":"IF('EK DERS Ücret Hesaplama'!$AM73=1,IF('EK DERS Ücret Hesaplama'!D73=\"Ücretli Öğretmen\",\"Ücretli Öğr.\",\"Ücr.Öğr. (Emekli)\"),\"\")","v":""},{"$f":"IF('EK DERS Ücret Hesaplama'!$AM73=1,'BİLGİ GİRİŞİ'!J72,\"\")","v":""},{"$f":"IF('EK DERS Ücret Hesaplama'!$AM73=1,'BİLGİ GİRİŞİ'!K72,\"\")","v":""},{"$f":"IF('EK DERS Ücret Hesaplama'!$AM73=1,'BİLGİ GİRİŞİ'!I72,\"\")","v":""},null,0]
[{"$f":"IF(G76=\"\",\"\",SUBTOTAL(103,$G$8:G76))","v":""},{"$f":"IF('EK DERS Ücret Hesaplama'!$AM74=1,'EK DERS Ücret Hesaplama'!B74,\"\")","v":""},{"$f":"IF('EK DERS Ücret Hesaplama'!$AM74=1,'EK DERS Ücret Hesaplama'!C74,\"\")","v":""},{"$f":"IF('EK DERS Ücret Hesaplama'!$AM74=1,IF('EK DERS Ücret Hesaplama'!D74=\"Ücretli Öğretmen\",\"Ücretli Öğr.\",\"Ücr.Öğr. (Emekli)\"),\"\")","v":""},{"$f":"IF('EK DERS Ücret Hesaplama'!$AM74=1,'BİLGİ GİRİŞİ'!J73,\"\")","v":""},{"$f":"IF('EK DERS Ücret Hesaplama'!$AM74=1,'BİLGİ GİRİŞİ'!K73,\"\")","v":""},{"$f":"IF('EK DERS Ücret Hesaplama'!$AM74=1,'BİLGİ GİRİŞİ'!I73,\"\")","v":""},null,0]
[{"$f":"IF(G77=\"\",\"\",SUBTOTAL(103,$G$8:G77))","v":""},{"$f":"IF('EK DERS Ücret Hesaplama'!$AM75=1,'EK DERS Ücret Hesaplama'!B75,\"\")","v":""},{"$f":"IF('EK DERS Ücret Hesaplama'!$AM75=1,'EK DERS Ücret Hesaplama'!C75,\"\")","v":""},{"$f":"IF('EK DERS Ücret Hesaplama'!$AM75=1,IF('EK DERS Ücret Hesaplama'!D75=\"Ücretli Öğretmen\",\"Ücretli Öğr.\",\"Ücr.Öğr. (Emekli)\"),\"\")","v":""},{"$f":"IF('EK DERS Ücret Hesaplama'!$AM75=1,'BİLGİ GİRİŞİ'!J74,\"\")","v":""},{"$f":"IF('EK DERS Ücret Hesaplama'!$AM75=1,'BİLGİ GİRİŞİ'!K74,\"\")","v":""},{"$f":"IF('EK DERS Ücret Hesaplama'!$AM75=1,'BİLGİ GİRİŞİ'!I74,\"\")","v":""},null,0]
[{"$f":"IF(G78=\"\",\"\",SUBTOTAL(103,$G$8:G78))","v":""},{"$f":"IF('EK DERS Ücret Hesaplama'!$AM76=1,'EK DERS Ücret Hesaplama'!B76,\"\")","v":""},{"$f":"IF('EK DERS Ücret Hesaplama'!$AM76=1,'EK DERS Ücret Hesaplama'!C76,\"\")","v":""},{"$f":"IF('EK DERS Ücret Hesaplama'!$AM76=1,IF('EK DERS Ücret Hesaplama'!D76=\"Ücretli Öğretmen\",\"Ücretli Öğr.\",\"Ücr.Öğr. (Emekli)\"),\"\")","v":""},{"$f":"IF('EK DERS Ücret Hesaplama'!$AM76=1,'BİLGİ GİRİŞİ'!J75,\"\")","v":""},{"$f":"IF('EK DERS Ücret Hesaplama'!$AM76=1,'BİLGİ GİRİŞİ'!K75,\"\")","v":""},{"$f":"IF('EK DERS Ücret Hesaplama'!$AM76=1,'BİLGİ GİRİŞİ'!I75,\"\")","v":""},null,0]
[{"$f":"IF(G79=\"\",\"\",SUBTOTAL(103,$G$8:G79))","v":""},{"$f":"IF('EK DERS Ücret Hesaplama'!$AM77=1,'EK DERS Ücret Hesaplama'!B77,\"\")","v":""},{"$f":"IF('EK DERS Ücret Hesaplama'!$AM77=1,'EK DERS Ücret Hesaplama'!C77,\"\")","v":""},{"$f":"IF('EK DERS Ücret Hesaplama'!$AM77=1,IF('EK DERS Ücret Hesaplama'!D77=\"Ücretli Öğretmen\",\"Ücretli Öğr.\",\"Ücr.Öğr. (Emekli)\"),\"\")","v":""},{"$f":"IF('EK DERS Ücret Hesaplama'!$AM77=1,'BİLGİ GİRİŞİ'!J76,\"\")","v":""},{"$f":"IF('EK DERS Ücret Hesaplama'!$AM77=1,'BİLGİ GİRİŞİ'!K76,\"\")","v":""},{"$f":"IF('EK DERS Ücret Hesaplama'!$AM77=1,'BİLGİ GİRİŞİ'!I76,\"\")","v":""},null,0]
[{"$f":"IF(G80=\"\",\"\",SUBTOTAL(103,$G$8:G80))","v":""},{"$f":"IF('EK DERS Ücret Hesaplama'!$AM78=1,'EK DERS Ücret Hesaplama'!B78,\"\")","v":""},{"$f":"IF('EK DERS Ücret Hesaplama'!$AM78=1,'EK DERS Ücret Hesaplama'!C78,\"\")","v":""},{"$f":"IF('EK DERS Ücret Hesaplama'!$AM78=1,IF('EK DERS Ücret Hesaplama'!D78=\"Ücretli Öğretmen\",\"Ücretli Öğr.\",\"Ücr.Öğr. (Emekli)\"),\"\")","v":""},{"$f":"IF('EK DERS Ücret Hesaplama'!$AM78=1,'BİLGİ GİRİŞİ'!J77,\"\")","v":""},{"$f":"IF('EK DERS Ücret Hesaplama'!$AM78=1,'BİLGİ GİRİŞİ'!K77,\"\")","v":""},{"$f":"IF('EK DERS Ücret Hesaplama'!$AM78=1,'BİLGİ GİRİŞİ'!I77,\"\")","v":""},null,0]
[{"$f":"IF(G81=\"\",\"\",SUBTOTAL(103,$G$8:G81))","v":""},{"$f":"IF('EK DERS Ücret Hesaplama'!$AM79=1,'EK DERS Ücret Hesaplama'!B79,\"\")","v":""},{"$f":"IF('EK DERS Ücret Hesaplama'!$AM79=1,'EK DERS Ücret Hesaplama'!C79,\"\")","v":""},{"$f":"IF('EK DERS Ücret Hesaplama'!$AM79=1,IF('EK DERS Ücret Hesaplama'!D79=\"Ücretli Öğretmen\",\"Ücretli Öğr.\",\"Ücr.Öğr. (Emekli)\"),\"\")","v":""},{"$f":"IF('EK DERS Ücret Hesaplama'!$AM79=1,'BİLGİ GİRİŞİ'!J78,\"\")","v":""},{"$f":"IF('EK DERS Ücret Hesaplama'!$AM79=1,'BİLGİ GİRİŞİ'!K78,\"\")","v":""},{"$f":"IF('EK DERS Ücret Hesaplama'!$AM79=1,'BİLGİ GİRİŞİ'!I78,\"\")","v":""},null,0]
[{"$f":"IF(G82=\"\",\"\",SUBTOTAL(103,$G$8:G82))","v":""},{"$f":"IF('EK DERS Ücret Hesaplama'!$AM80=1,'EK DERS Ücret Hesaplama'!B80,\"\")","v":""},{"$f":"IF('EK DERS Ücret Hesaplama'!$AM80=1,'EK DERS Ücret Hesaplama'!C80,\"\")","v":""},{"$f":"IF('EK DERS Ücret Hesaplama'!$AM80=1,IF('EK DERS Ücret Hesaplama'!D80=\"Ücretli Öğretmen\",\"Ücretli Öğr.\",\"Ücr.Öğr. (Emekli)\"),\"\")","v":""},{"$f":"IF('EK DERS Ücret Hesaplama'!$AM80=1,'BİLGİ GİRİŞİ'!J79,\"\")","v":""},{"$f":"IF('EK DERS Ücret Hesaplama'!$AM80=1,'BİLGİ GİRİŞİ'!K79,\"\")","v":""},{"$f":"IF('EK DERS Ücret Hesaplama'!$AM80=1,'BİLGİ GİRİŞİ'!I79,\"\")","v":""},null,0]
[{"$f":"IF(G83=\"\",\"\",SUBTOTAL(103,$G$8:G83))","v":""},{"$f":"IF('EK DERS Ücret Hesaplama'!$AM81=1,'EK DERS Ücret Hesaplama'!B81,\"\")","v":""},{"$f":"IF('EK DERS Ücret Hesaplama'!$AM81=1,'EK DERS Ücret Hesaplama'!C81,\"\")","v":""},{"$f":"IF('EK DERS Ücret Hesaplama'!$AM81=1,IF('EK DERS Ücret Hesaplama'!D81=\"Ücretli Öğretmen\",\"Ücretli Öğr.\",\"Ücr.Öğr. (Emekli)\"),\"\")","v":""},{"$f":"IF('EK DERS Ücret Hesaplama'!$AM81=1,'BİLGİ GİRİŞİ'!J80,\"\")","v":""},{"$f":"IF('EK DERS Ücret Hesaplama'!$AM81=1,'BİLGİ GİRİŞİ'!K80,\"\")","v":""},{"$f":"IF('EK DERS Ücret Hesaplama'!$AM81=1,'BİLGİ GİRİŞİ'!I80,\"\")","v":""},null,0]
[{"$f":"IF(G84=\"\",\"\",SUBTOTAL(103,$G$8:G84))","v":""},{"$f":"IF('EK DERS Ücret Hesaplama'!$AM82=1,'EK DERS Ücret Hesaplama'!B82,\"\")","v":""},{"$f":"IF('EK DERS Ücret Hesaplama'!$AM82=1,'EK DERS Ücret Hesaplama'!C82,\"\")","v":""},{"$f":"IF('EK DERS Ücret Hesaplama'!$AM82=1,IF('EK DERS Ücret Hesaplama'!D82=\"Ücretli Öğretmen\",\"Ücretli Öğr.\",\"Ücr.Öğr. (Emekli)\"),\"\")","v":""},{"$f":"IF('EK DERS Ücret Hesaplama'!$AM82=1,'BİLGİ GİRİŞİ'!J81,\"\")","v":""},{"$f":"IF('EK DERS Ücret Hesaplama'!$AM82=1,'BİLGİ GİRİŞİ'!K81,\"\")","v":""},{"$f":"IF('EK DERS Ücret Hesaplama'!$AM82=1,'BİLGİ GİRİŞİ'!I81,\"\")","v":""},null,0]
[{"$f":"IF(G85=\"\",\"\",SUBTOTAL(103,$G$8:G85))","v":""},{"$f":"IF('EK DERS Ücret Hesaplama'!$AM83=1,'EK DERS Ücret Hesaplama'!B83,\"\")","v":""},{"$f":"IF('EK DERS Ücret Hesaplama'!$AM83=1,'EK DERS Ücret Hesaplama'!C83,\"\")","v":""},{"$f":"IF('EK DERS Ücret Hesaplama'!$AM83=1,IF('EK DERS Ücret Hesaplama'!D83=\"Ücretli Öğretmen\",\"Ücretli Öğr.\",\"Ücr.Öğr. (Emekli)\"),\"\")","v":""},{"$f":"IF('EK DERS Ücret Hesaplama'!$AM83=1,'BİLGİ GİRİŞİ'!J82,\"\")","v":""},{"$f":"IF('EK DERS Ücret Hesaplama'!$AM83=1,'BİLGİ GİRİŞİ'!K82,\"\")","v":""},{"$f":"IF('EK DERS Ücret Hesaplama'!$AM83=1,'BİLGİ GİRİŞİ'!I82,\"\")","v":""},null,0]
[{"$f":"IF(G86=\"\",\"\",SUBTOTAL(103,$G$8:G86))","v":""},{"$f":"IF('EK DERS Ücret Hesaplama'!$AM84=1,'EK DERS Ücret Hesaplama'!B84,\"\")","v":""},{"$f":"IF('EK DERS Ücret Hesaplama'!$AM84=1,'EK DERS Ücret Hesaplama'!C84,\"\")","v":""},{"$f":"IF('EK DERS Ücret Hesaplama'!$AM84=1,IF('EK DERS Ücret Hesaplama'!D84=\"Ücretli Öğretmen\",\"Ücretli Öğr.\",\"Ücr.Öğr. (Emekli)\"),\"\")","v":""},{"$f":"IF('EK DERS Ücret Hesaplama'!$AM84=1,'BİLGİ GİRİŞİ'!J83,\"\")","v":""},{"$f":"IF('EK DERS Ücret Hesaplama'!$AM84=1,'BİLGİ GİRİŞİ'!K83,\"\")","v":""},{"$f":"IF('EK DERS Ücret Hesaplama'!$AM84=1,'BİLGİ GİRİŞİ'!I83,\"\")","v":""},null,0]
[{"$f":"IF(G87=\"\",\"\",SUBTOTAL(103,$G$8:G87))","v":""},{"$f":"IF('EK DERS Ücret Hesaplama'!$AM85=1,'EK DERS Ücret Hesaplama'!B85,\"\")","v":""},{"$f":"IF('EK DERS Ücret Hesaplama'!$AM85=1,'EK DERS Ücret Hesaplama'!C85,\"\")","v":""},{"$f":"IF('EK DERS Ücret Hesaplama'!$AM85=1,IF('EK DERS Ücret Hesaplama'!D85=\"Ücretli Öğretmen\",\"Ücretli Öğr.\",\"Ücr.Öğr. (Emekli)\"),\"\")","v":""},{"$f":"IF('EK DERS Ücret Hesaplama'!$AM85=1,'BİLGİ GİRİŞİ'!J84,\"\")","v":""},{"$f":"IF('EK DERS Ücret Hesaplama'!$AM85=1,'BİLGİ GİRİŞİ'!K84,\"\")","v":""},{"$f":"IF('EK DERS Ücret Hesaplama'!$AM85=1,'BİLGİ GİRİŞİ'!I84,\"\")","v":""},null,0]
[{"$f":"IF(G88=\"\",\"\",SUBTOTAL(103,$G$8:G88))","v":""},{"$f":"IF('EK DERS Ücret Hesaplama'!$AM86=1,'EK DERS Ücret Hesaplama'!B86,\"\")","v":""},{"$f":"IF('EK DERS Ücret Hesaplama'!$AM86=1,'EK DERS Ücret Hesaplama'!C86,\"\")","v":""},{"$f":"IF('EK DERS Ücret Hesaplama'!$AM86=1,IF('EK DERS Ücret Hesaplama'!D86=\"Ücretli Öğretmen\",\"Ücretli Öğr.\",\"Ücr.Öğr. (Emekli)\"),\"\")","v":""},{"$f":"IF('EK DERS Ücret Hesaplama'!$AM86=1,'BİLGİ GİRİŞİ'!J85,\"\")","v":""},{"$f":"IF('EK DERS Ücret Hesaplama'!$AM86=1,'BİLGİ GİRİŞİ'!K85,\"\")","v":""},{"$f":"IF('EK DERS Ücret Hesaplama'!$AM86=1,'BİLGİ GİRİŞİ'!I85,\"\")","v":""},null,0]
[{"$f":"IF(G89=\"\",\"\",SUBTOTAL(103,$G$8:G89))","v":""},{"$f":"IF('EK DERS Ücret Hesaplama'!$AM87=1,'EK DERS Ücret Hesaplama'!B87,\"\")","v":""},{"$f":"IF('EK DERS Ücret Hesaplama'!$AM87=1,'EK DERS Ücret Hesaplama'!C87,\"\")","v":""},{"$f":"IF('EK DERS Ücret Hesaplama'!$AM87=1,IF('EK DERS Ücret Hesaplama'!D87=\"Ücretli Öğretmen\",\"Ücretli Öğr.\",\"Ücr.Öğr. (Emekli)\"),\"\")","v":""},{"$f":"IF('EK DERS Ücret Hesaplama'!$AM87=1,'BİLGİ GİRİŞİ'!J86,\"\")","v":""},{"$f":"IF('EK DERS Ücret Hesaplama'!$AM87=1,'BİLGİ GİRİŞİ'!K86,\"\")","v":""},{"$f":"IF('EK DERS Ücret Hesaplama'!$AM87=1,'BİLGİ GİRİŞİ'!I86,\"\")","v":""},null,0]
[{"$f":"IF(G90=\"\",\"\",SUBTOTAL(103,$G$8:G90))","v":""},{"$f":"IF('EK DERS Ücret Hesaplama'!$AM88=1,'EK DERS Ücret Hesaplama'!B88,\"\")","v":""},{"$f":"IF('EK DERS Ücret Hesaplama'!$AM88=1,'EK DERS Ücret Hesaplama'!C88,\"\")","v":""},{"$f":"IF('EK DERS Ücret Hesaplama'!$AM88=1,IF('EK DERS Ücret Hesaplama'!D88=\"Ücretli Öğretmen\",\"Ücretli Öğr.\",\"Ücr.Öğr. (Emekli)\"),\"\")","v":""},{"$f":"IF('EK DERS Ücret Hesaplama'!$AM88=1,'BİLGİ GİRİŞİ'!J87,\"\")","v":""},{"$f":"IF('EK DERS Ücret Hesaplama'!$AM88=1,'BİLGİ GİRİŞİ'!K87,\"\")","v":""},{"$f":"IF('EK DERS Ücret Hesaplama'!$AM88=1,'BİLGİ GİRİŞİ'!I87,\"\")","v":""},null,0]
[{"$f":"IF(G91=\"\",\"\",SUBTOTAL(103,$G$8:G91))","v":""},{"$f":"IF('EK DERS Ücret Hesaplama'!$AM89=1,'EK DERS Ücret Hesaplama'!B89,\"\")","v":""},{"$f":"IF('EK DERS Ücret Hesaplama'!$AM89=1,'EK DERS Ücret Hesaplama'!C89,\"\")","v":""},{"$f":"IF('EK DERS Ücret Hesaplama'!$AM89=1,IF('EK DERS Ücret Hesaplama'!D89=\"Ücretli Öğretmen\",\"Ücretli Öğr.\",\"Ücr.Öğr. (Emekli)\"),\"\")","v":""},{"$f":"IF('EK DERS Ücret Hesaplama'!$AM89=1,'BİLGİ GİRİŞİ'!J88,\"\")","v":""},{"$f":"IF('EK DERS Ücret Hesaplama'!$AM89=1,'BİLGİ GİRİŞİ'!K88,\"\")","v":""},{"$f":"IF('EK DERS Ücret Hesaplama'!$AM89=1,'BİLGİ GİRİŞİ'!I88,\"\")","v":""},null,0]
[{"$f":"IF(G92=\"\",\"\",SUBTOTAL(103,$G$8:G92))","v":""},{"$f":"IF('EK DERS Ücret Hesaplama'!$AM90=1,'EK DERS Ücret Hesaplama'!B90,\"\")","v":""},{"$f":"IF('EK DERS Ücret Hesaplama'!$AM90=1,'EK DERS Ücret Hesaplama'!C90,\"\")","v":""},{"$f":"IF('EK DERS Ücret Hesaplama'!$AM90=1,IF('EK DERS Ücret Hesaplama'!D90=\"Ücretli Öğretmen\",\"Ücretli Öğr.\",\"Ücr.Öğr. (Emekli)\"),\"\")","v":""},{"$f":"IF('EK DERS Ücret Hesaplama'!$AM90=1,'BİLGİ GİRİŞİ'!J89,\"\")","v":""},{"$f":"IF('EK DERS Ücret Hesaplama'!$AM90=1,'BİLGİ GİRİŞİ'!K89,\"\")","v":""},{"$f":"IF('EK DERS Ücret Hesaplama'!$AM90=1,'BİLGİ GİRİŞİ'!I89,\"\")","v":""},null,0]
[{"$f":"IF(G93=\"\",\"\",SUBTOTAL(103,$G$8:G93))","v":""},{"$f":"IF('EK DERS Ücret Hesaplama'!$AM91=1,'EK DERS Ücret Hesaplama'!B91,\"\")","v":""},{"$f":"IF('EK DERS Ücret Hesaplama'!$AM91=1,'EK DERS Ücret Hesaplama'!C91,\"\")","v":""},{"$f":"IF('EK DERS Ücret Hesaplama'!$AM91=1,IF('EK DERS Ücret Hesaplama'!D91=\"Ücretli Öğretmen\",\"Ücretli Öğr.\",\"Ücr.Öğr. (Emekli)\"),\"\")","v":""},{"$f":"IF('EK DERS Ücret Hesaplama'!$AM91=1,'BİLGİ GİRİŞİ'!J90,\"\")","v":""},{"$f":"IF('EK DERS Ücret Hesaplama'!$AM91=1,'BİLGİ GİRİŞİ'!K90,\"\")","v":""},{"$f":"IF('EK DERS Ücret Hesaplama'!$AM91=1,'BİLGİ GİRİŞİ'!I90,\"\")","v":""},null,0]
[{"$f":"IF(G94=\"\",\"\",SUBTOTAL(103,$G$8:G94))","v":""},{"$f":"IF('EK DERS Ücret Hesaplama'!$AM92=1,'EK DERS Ücret Hesaplama'!B92,\"\")","v":""},{"$f":"IF('EK DERS Ücret Hesaplama'!$AM92=1,'EK DERS Ücret Hesaplama'!C92,\"\")","v":""},{"$f":"IF('EK DERS Ücret Hesaplama'!$AM92=1,IF('EK DERS Ücret Hesaplama'!D92=\"Ücretli Öğretmen\",\"Ücretli Öğr.\",\"Ücr.Öğr. (Emekli)\"),\"\")","v":""},{"$f":"IF('EK DERS Ücret Hesaplama'!$AM92=1,'BİLGİ GİRİŞİ'!J91,\"\")","v":""},{"$f":"IF('EK DERS Ücret Hesaplama'!$AM92=1,'BİLGİ GİRİŞİ'!K91,\"\")","v":""},{"$f":"IF('EK DERS Ücret Hesaplama'!$AM92=1,'BİLGİ GİRİŞİ'!I91,\"\")","v":""},null,0]
[{"$f":"IF(G95=\"\",\"\",SUBTOTAL(103,$G$8:G95))","v":""},{"$f":"IF('EK DERS Ücret Hesaplama'!$AM93=1,'EK DERS Ücret Hesaplama'!B93,\"\")","v":""},{"$f":"IF('EK DERS Ücret Hesaplama'!$AM93=1,'EK DERS Ücret Hesaplama'!C93,\"\")","v":""},{"$f":"IF('EK DERS Ücret Hesaplama'!$AM93=1,IF('EK DERS Ücret Hesaplama'!D93=\"Ücretli Öğretmen\",\"Ücretli Öğr.\",\"Ücr.Öğr. (Emekli)\"),\"\")","v":""},{"$f":"IF('EK DERS Ücret Hesaplama'!$AM93=1,'BİLGİ GİRİŞİ'!J92,\"\")","v":""},{"$f":"IF('EK DERS Ücret Hesaplama'!$AM93=1,'BİLGİ GİRİŞİ'!K92,\"\")","v":""},{"$f":"IF('EK DERS Ücret Hesaplama'!$AM93=1,'BİLGİ GİRİŞİ'!I92,\"\")","v":""},null,0]
[{"$f":"IF(G96=\"\",\"\",SUBTOTAL(103,$G$8:G96))","v":""},{"$f":"IF('EK DERS Ücret Hesaplama'!$AM94=1,'EK DERS Ücret Hesaplama'!B94,\"\")","v":""},{"$f":"IF('EK DERS Ücret Hesaplama'!$AM94=1,'EK DERS Ücret Hesaplama'!C94,\"\")","v":""},{"$f":"IF('EK DERS Ücret Hesaplama'!$AM94=1,IF('EK DERS Ücret Hesaplama'!D94=\"Ücretli Öğretmen\",\"Ücretli Öğr.\",\"Ücr.Öğr. (Emekli)\"),\"\")","v":""},{"$f":"IF('EK DERS Ücret Hesaplama'!$AM94=1,'BİLGİ GİRİŞİ'!J93,\"\")","v":""},{"$f":"IF('EK DERS Ücret Hesaplama'!$AM94=1,'BİLGİ GİRİŞİ'!K93,\"\")","v":""},{"$f":"IF('EK DERS Ücret Hesaplama'!$AM94=1,'BİLGİ GİRİŞİ'!I93,\"\")","v":""},null,0]
[{"$f":"IF(G97=\"\",\"\",SUBTOTAL(103,$G$8:G97))","v":""},{"$f":"IF('EK DERS Ücret Hesaplama'!$AM95=1,'EK DERS Ücret Hesaplama'!B95,\"\")","v":""},{"$f":"IF('EK DERS Ücret Hesaplama'!$AM95=1,'EK DERS Ücret Hesaplama'!C95,\"\")","v":""},{"$f":"IF('EK DERS Ücret Hesaplama'!$AM95=1,IF('EK DERS Ücret Hesaplama'!D95=\"Ücretli Öğretmen\",\"Ücretli Öğr.\",\"Ücr.Öğr. (Emekli)\"),\"\")","v":""},{"$f":"IF('EK DERS Ücret Hesaplama'!$AM95=1,'BİLGİ GİRİŞİ'!J94,\"\")","v":""},{"$f":"IF('EK DERS Ücret Hesaplama'!$AM95=1,'BİLGİ GİRİŞİ'!K94,\"\")","v":""},{"$f":"IF('EK DERS Ücret Hesaplama'!$AM95=1,'BİLGİ GİRİŞİ'!I94,\"\")","v":""},null,0]
[{"$f":"IF(G98=\"\",\"\",SUBTOTAL(103,$G$8:G98))","v":""},{"$f":"IF('EK DERS Ücret Hesaplama'!$AM96=1,'EK DERS Ücret Hesaplama'!B96,\"\")","v":""},{"$f":"IF('EK DERS Ücret Hesaplama'!$AM96=1,'EK DERS Ücret Hesaplama'!C96,\"\")","v":""},{"$f":"IF('EK DERS Ücret Hesaplama'!$AM96=1,IF('EK DERS Ücret Hesaplama'!D96=\"Ücretli Öğretmen\",\"Ücretli Öğr.\",\"Ücr.Öğr. (Emekli)\"),\"\")","v":""},{"$f":"IF('EK DERS Ücret Hesaplama'!$AM96=1,'BİLGİ GİRİŞİ'!J95,\"\")","v":""},{"$f":"IF('EK DERS Ücret Hesaplama'!$AM96=1,'BİLGİ GİRİŞİ'!K95,\"\")","v":""},{"$f":"IF('EK DERS Ücret Hesaplama'!$AM96=1,'BİLGİ GİRİŞİ'!I95,\"\")","v":""},null,0]
[{"$f":"IF(G99=\"\",\"\",SUBTOTAL(103,$G$8:G99))","v":""},{"$f":"IF('EK DERS Ücret Hesaplama'!$AM97=1,'EK DERS Ücret Hesaplama'!B97,\"\")","v":""},{"$f":"IF('EK DERS Ücret Hesaplama'!$AM97=1,'EK DERS Ücret Hesaplama'!C97,\"\")","v":""},{"$f":"IF('EK DERS Ücret Hesaplama'!$AM97=1,IF('EK DERS Ücret Hesaplama'!D97=\"Ücretli Öğretmen\",\"Ücretli Öğr.\",\"Ücr.Öğr. (Emekli)\"),\"\")","v":""},{"$f":"IF('EK DERS Ücret Hesaplama'!$AM97=1,'BİLGİ GİRİŞİ'!J96,\"\")","v":""},{"$f":"IF('EK DERS Ücret Hesaplama'!$AM97=1,'BİLGİ GİRİŞİ'!K96,\"\")","v":""},{"$f":"IF('EK DERS Ücret Hesaplama'!$AM97=1,'BİLGİ GİRİŞİ'!I96,\"\")","v":""},null,0]
[{"$f":"IF(G100=\"\",\"\",SUBTOTAL(103,$G$8:G100))","v":""},{"$f":"IF('EK DERS Ücret Hesaplama'!$AM98=1,'EK DERS Ücret Hesaplama'!B98,\"\")","v":""},{"$f":"IF('EK DERS Ücret Hesaplama'!$AM98=1,'EK DERS Ücret Hesaplama'!C98,\"\")","v":""},{"$f":"IF('EK DERS Ücret Hesaplama'!$AM98=1,IF('EK DERS Ücret Hesaplama'!D98=\"Ücretli Öğretmen\",\"Ücretli Öğr.\",\"Ücr.Öğr. (Emekli)\"),\"\")","v":""},{"$f":"IF('EK DERS Ücret Hesaplama'!$AM98=1,'BİLGİ GİRİŞİ'!J97,\"\")","v":""},{"$f":"IF('EK DERS Ücret Hesaplama'!$AM98=1,'BİLGİ GİRİŞİ'!K97,\"\")","v":""},{"$f":"IF('EK DERS Ücret Hesaplama'!$AM98=1,'BİLGİ GİRİŞİ'!I97,\"\")","v":""},null,0]
[{"$f":"IF(G101=\"\",\"\",SUBTOTAL(103,$G$8:G101))","v":""},{"$f":"IF('EK DERS Ücret Hesaplama'!$AM99=1,'EK DERS Ücret Hesaplama'!B99,\"\")","v":""},{"$f":"IF('EK DERS Ücret Hesaplama'!$AM99=1,'EK DERS Ücret Hesaplama'!C99,\"\")","v":""},{"$f":"IF('EK DERS Ücret Hesaplama'!$AM99=1,IF('EK DERS Ücret Hesaplama'!D99=\"Ücretli Öğretmen\",\"Ücretli Öğr.\",\"Ücr.Öğr. (Emekli)\"),\"\")","v":""},{"$f":"IF('EK DERS Ücret Hesaplama'!$AM99=1,'BİLGİ GİRİŞİ'!J98,\"\")","v":""},{"$f":"IF('EK DERS Ücret Hesaplama'!$AM99=1,'BİLGİ GİRİŞİ'!K98,\"\")","v":""},{"$f":"IF('EK DERS Ücret Hesaplama'!$AM99=1,'BİLGİ GİRİŞİ'!I98,\"\")","v":""},null,0]
[{"$f":"IF(G102=\"\",\"\",SUBTOTAL(103,$G$8:G102))","v":""},{"$f":"IF('EK DERS Ücret Hesaplama'!$AM100=1,'EK DERS Ücret Hesaplama'!B100,\"\")","v":""},{"$f":"IF('EK DERS Ücret Hesaplama'!$AM100=1,'EK DERS Ücret Hesaplama'!C100,\"\")","v":""},{"$f":"IF('EK DERS Ücret Hesaplama'!$AM100=1,IF('EK DERS Ücret Hesaplama'!D100=\"Ücretli Öğretmen\",\"Ücretli Öğr.\",\"Ücr.Öğr. (Emekli)\"),\"\")","v":""},{"$f":"IF('EK DERS Ücret Hesaplama'!$AM100=1,'BİLGİ GİRİŞİ'!J99,\"\")","v":""},{"$f":"IF('EK DERS Ücret Hesaplama'!$AM100=1,'BİLGİ GİRİŞİ'!K99,\"\")","v":""},{"$f":"IF('EK DERS Ücret Hesaplama'!$AM100=1,'BİLGİ GİRİŞİ'!I99,\"\")","v":""},null,0]
[{"$f":"IF(G103=\"\",\"\",SUBTOTAL(103,$G$8:G103))","v":""},{"$f":"IF('EK DERS Ücret Hesaplama'!$AM101=1,'EK DERS Ücret Hesaplama'!B101,\"\")","v":""},{"$f":"IF('EK DERS Ücret Hesaplama'!$AM101=1,'EK DERS Ücret Hesaplama'!C101,\"\")","v":""},{"$f":"IF('EK DERS Ücret Hesaplama'!$AM101=1,IF('EK DERS Ücret Hesaplama'!D101=\"Ücretli Öğretmen\",\"Ücretli Öğr.\",\"Ücr.Öğr. (Emekli)\"),\"\")","v":""},{"$f":"IF('EK DERS Ücret Hesaplama'!$AM101=1,'BİLGİ GİRİŞİ'!J100,\"\")","v":""},{"$f":"IF('EK DERS Ücret Hesaplama'!$AM101=1,'BİLGİ GİRİŞİ'!K100,\"\")","v":""},{"$f":"IF('EK DERS Ücret Hesaplama'!$AM101=1,'BİLGİ GİRİŞİ'!I100,\"\")","v":""},null,0]
[{"$f":"IF(G104=\"\",\"\",SUBTOTAL(103,$G$8:G104))","v":""},{"$f":"IF('EK DERS Ücret Hesaplama'!$AM102=1,'EK DERS Ücret Hesaplama'!B102,\"\")","v":""},{"$f":"IF('EK DERS Ücret Hesaplama'!$AM102=1,'EK DERS Ücret Hesaplama'!C102,\"\")","v":""},{"$f":"IF('EK DERS Ücret Hesaplama'!$AM102=1,IF('EK DERS Ücret Hesaplama'!D102=\"Ücretli Öğretmen\",\"Ücretli Öğr.\",\"Ücr.Öğr. (Emekli)\"),\"\")","v":""},{"$f":"IF('EK DERS Ücret Hesaplama'!$AM102=1,'BİLGİ GİRİŞİ'!J101,\"\")","v":""},{"$f":"IF('EK DERS Ücret Hesaplama'!$AM102=1,'BİLGİ GİRİŞİ'!K101,\"\")","v":""},{"$f":"IF('EK DERS Ücret Hesaplama'!$AM102=1,'BİLGİ GİRİŞİ'!I101,\"\")","v":""},null,0]
[{"$f":"IF(G105=\"\",\"\",SUBTOTAL(103,$G$8:G105))","v":""},{"$f":"IF('EK DERS Ücret Hesaplama'!$AM103=1,'EK DERS Ücret Hesaplama'!B103,\"\")","v":""},{"$f":"IF('EK DERS Ücret Hesaplama'!$AM103=1,'EK DERS Ücret Hesaplama'!C103,\"\")","v":""},{"$f":"IF('EK DERS Ücret Hesaplama'!$AM103=1,IF('EK DERS Ücret Hesaplama'!D103=\"Ücretli Öğretmen\",\"Ücretli Öğr.\",\"Ücr.Öğr. (Emekli)\"),\"\")","v":""},{"$f":"IF('EK DERS Ücret Hesaplama'!$AM103=1,'BİLGİ GİRİŞİ'!J102,\"\")","v":""},{"$f":"IF('EK DERS Ücret Hesaplama'!$AM103=1,'BİLGİ GİRİŞİ'!K102,\"\")","v":""},{"$f":"IF('EK DERS Ücret Hesaplama'!$AM103=1,'BİLGİ GİRİŞİ'!I102,\"\")","v":""},null,0]
[{"$f":"IF(G106=\"\",\"\",SUBTOTAL(103,$G$8:G106))","v":""},{"$f":"IF('EK DERS Ücret Hesaplama'!$AM104=1,'EK DERS Ücret Hesaplama'!B104,\"\")","v":""},{"$f":"IF('EK DERS Ücret Hesaplama'!$AM104=1,'EK DERS Ücret Hesaplama'!C104,\"\")","v":""},{"$f":"IF('EK DERS Ücret Hesaplama'!$AM104=1,IF('EK DERS Ücret Hesaplama'!D104=\"Ücretli Öğretmen\",\"Ücretli Öğr.\",\"Ücr.Öğr. (Emekli)\"),\"\")","v":""},{"$f":"IF('EK DERS Ücret Hesaplama'!$AM104=1,'BİLGİ GİRİŞİ'!J103,\"\")","v":""},{"$f":"IF('EK DERS Ücret Hesaplama'!$AM104=1,'BİLGİ GİRİŞİ'!K103,\"\")","v":""},{"$f":"IF('EK DERS Ücret Hesaplama'!$AM104=1,'BİLGİ GİRİŞİ'!I103,\"\")","v":""},null,0]
[{"$f":"IF(G107=\"\",\"\",SUBTOTAL(103,$G$8:G107))","v":""},{"$f":"IF('EK DERS Ücret Hesaplama'!$AM105=1,'EK DERS Ücret Hesaplama'!B105,\"\")","v":""},{"$f":"IF('EK DERS Ücret Hesaplama'!$AM105=1,'EK DERS Ücret Hesaplama'!C105,\"\")","v":""},{"$f":"IF('EK DERS Ücret Hesaplama'!$AM105=1,IF('EK DERS Ücret Hesaplama'!D105=\"Ücretli Öğretmen\",\"Ücretli Öğr.\",\"Ücr.Öğr. (Emekli)\"),\"\")","v":""},{"$f":"IF('EK DERS Ücret Hesaplama'!$AM105=1,'BİLGİ GİRİŞİ'!J104,\"\")","v":""},{"$f":"IF('EK DERS Ücret Hesaplama'!$AM105=1,'BİLGİ GİRİŞİ'!K104,\"\")","v":""},{"$f":"IF('EK DERS Ücret Hesaplama'!$AM105=1,'BİLGİ GİRİŞİ'!I104,\"\")","v":""},null,0]
[null,null,null,null,null,"TOPLAM",{"$f":"SUM(G8:G107)","v":0}]

{"sheet":"SGK KONTROL LİSTESİ","index":7,"n_rows":118,"n_cols":21,"rows_kept":118,"cut":false,"hidden":false,"merged":[[8,10,9,10],[8,11,9,11],[6,0,9,0],[7,1,9,1],[7,2,9,2],[7,3,9,3],[6,1,6,3],[8,4,9,4],[6,12,6,18],[7,9,7,11],[0,0,0,18],[3,2,5,8],[8,12,9,12],[8,13,9,13],[8,14,9,14],[8,17,9,17],[8,18,9,18],[7,17,7,18],[7,12,7,16],[8,5,9,5],[8,6,9,6],[7,4,7,8],[6,4,6,11],[8,9,9,9],[111,17,111,18],[112,15,112,18],[111,7,111,8],[111,9,111,11],[112,7,112,11],[111,15,111,16],[114,12,117,18],[113,1,114,3],[114,6,115,7],[114,9,115,10],[115,1,115,3],[116,1,116,4],[117,1,117,4],[113,14,113,16]]}
["ÜCRETLİ ÖĞRETMEN EK DERS ÜCRETİ   ---   SGK PRİMLERİ   -(Bilgi ve Takip Amaçlıdır)"]
[]
["Muhasebe Birimi :",null,{"$f":"KATSAYILAR!F10","v":"KARABAĞLAR MAL MÜDÜRLÜĞÜ"}]
["Kurum Kodu/Adı :",null,{"$f":"CONCATENATE(KATSAYILAR!F4,\"   -   \",KATSAYILAR!F3)","v":"   -   OKUL KURUM ADI GİRİNİZ!!!"}]
[]
[]
["SIRA","ÇALIŞANIN",null,null,"ÜCRETLİ ÖĞRETMEN",null,null,null,null,null,null,null,"ÜCRETLİ ÖĞRETMEN (EMEKLİ ÇALIŞAN)"]
[null,"KİMLİK NO","ADI SOYADI","Çalışma Durumu\n(Ücretli - Emekli çalışan)","BORDRODAKİ SGK PRİMLERİNE ESAS KALEMLER",null,null,null,null,"SGK PRİM KALEMLERİ",null,null,"BORDRODAKİ SGK PRİMLERİNE ESAS KALEMLER",null,null,null,null,"SGK PRİM KALEMLERİ"]
[null,null,null,null,"Ders Saati Toplamı","Gün","Sigorta Matrahı","Devlet","Kişi","Malüllük Yaşlılık Ve Ölüm Sig. Primi\nİşv:11 + İşçi:9\n%20","Genel Sağlık Sigortası Primi\nİşv:7,5 +İşçi:5\n%12,5","Kısa Vadeli Sigorta Kolları Primi\nİşv:2 + İşçi:0\n%2","Ders Saati Toplamı","Gün","Sigorta Matrahı","Devlet","Kişi","Sosyal Güvenlik Destek Primi\n%30","Kısa Vadeli Sigorta Kolları Primi\n%2"]
[null,null,null,null,null,null,null,"%20,5  SGK Primi İşveren","%14 SGK Primi Çalışan",null,null,null,null,null,null,"%24.5 Sosyal Destek Primi İşveren","%7,5 Sosyal Destek Primi Çalışan",null,null,null,"A"]
[{"$f":"IF(B11=\"\",\"\",SUBTOTAL(103,$B$11:B11))","v":1},{"$f":"IF('EK DERS Ücret Hesaplama'!$AM6=1,'EK DERS Ücret Hesaplama'!B6,\"\")","v":12345678910},{"$f":"IF('EK DERS Ücret Hesaplama'!$AM6=1,'EK DERS Ücret Hesaplama'!C6,\"\")","v":"İBRAHİM KUTLUDAĞ"},{"$f":"IF('EK DERS Ücret Hesaplama'!$AM6=1,IF('EK DERS Ücret Hesaplama'!D6=\"Ücretli Öğretmen\",\"Ücretli Öğr.\",\"Ücr.Öğr. (Emekli)\"),\"\")","v":"Ücretli Öğr."},{"$f":"IF(AND('EK DERS Ücret Hesaplama'!AM6=1,'EK DERS Ücret Hesaplama'!D6=\"Ücretli Öğretmen\"),\n'EK DERS Ücret Hesaplama'!M6,\"\")","v":180},{"$f":"IF(AND('EK DERS Ücret Hesaplama'!AM6=1,'EK DERS Ücret Hesaplama'!D6=\"Ücretli Öğretmen\"),\n'EK DERS Ücret Hesaplama'!N6,\"\")","v":24},{"$f":"IF(AND('EK DERS Ücret Hesaplama'!AM6=1,'EK DERS Ücret Hesaplama'!D6=\"Ücretli Öğretmen\"),\n'EK DERS Ücret Hesaplama'!P6,\"\")","v":19173.95},{"$f":"IF(AND('EK DERS Ücret Hesaplama'!AM6=1,'EK DERS Ücret Hesaplama'!D6=\"Ücretli Öğretmen\"),\n'EK DERS Ücret Hesaplama'!Q6,\"\")","v":3930.66},{"$f":"IF(AND('EK DERS Ücret Hesaplama'!AM6=1,'EK DERS Ücret Hesaplama'!D6=\"Ücretli Öğretmen\"),\n'EK DERS Ücret Hesaplama'!AF6,\"\")","v":2684.35},{"$f":"IF(G11=\"\",\"\",ROUND(G11*0.2,2))","v":3834.79},{"$f":"IF(G11=\"\",\"\",ROUND(G11*0.125,2))","v":2396.7399999999998},{"$f":"IF(G11=\"\",\"\",ROUND(G11*0.02,2))","v":383.48},{"$f":"IF(AND('EK DERS Ücret Hesaplama'!AM6=1,'EK DERS Ücret Hesaplama'!D6=\"Ücretli Öğretmen (Emekli çalışan)\"),\n'EK DERS Ücret Hesaplama'!M6,\"\")","v":""},{"$f":"IF(AND('EK DERS Ücret Hesaplama'!AM6=1,'EK DERS Ücret Hesaplama'!D6=\"Ücretli Öğretmen (Emekli çalışan)\"),\n'EK DERS Ücret Hesaplama'!N6,\"\")","v":""},{"$f":"IF(AND('EK DERS Ücret Hesaplama'!AM6=1,'EK DERS Ücret Hesaplama'!D6=\"Ücretli Öğretmen (Emekli çalışan)\"),\n'EK DERS Ücret Hesaplama'!P6,\"\")","v":""},{"$f":"IF(AND('EK DERS Ücret Hesaplama'!AM6=1,'EK DERS Ücret Hesaplama'!D6=\"Ücretli Öğretmen (Emekli çalışan)\"),\n'EK DERS Ücret Hesaplama'!R6,\"\")","v":""},{"$f":"IF(AND('EK DERS Ücret Hesaplama'!AM6=1,'EK DERS Ücret Hesaplama'!D6=\"Ücretli Öğretmen (Emekli çalışan)\"),\n'EK DERS Ücret Hesaplama'!AH6,\"\")","v":""},{"$f":"IF(O11=\"\",\"\",ROUND(O11*0.3,2))","v":""},{"$f":"IF(O11=\"\",\"\",ROUND(O11*0.02,2))","v":""},null,{"$f":"IF(B11=\"\",0,1)","v":1}]
[{"$f":"IF(B12=\"\",\"\",SUBTOTAL(103,$B$11:B12))","v":2},{"$f":"IF('EK DERS Ücret Hesaplama'!$AM7=1,'EK DERS Ücret Hesaplama'!B7,\"\")","v":12345678910},{"$f":"IF('EK DERS Ücret Hesaplama'!$AM7=1,'EK DERS Ücret Hesaplama'!C7,\"\")","v":"SAMET YAĞMUR"},{"$f":"IF('EK DERS Ücret Hesaplama'!$AM7=1,IF('EK DERS Ücret Hesaplama'!D7=\"Ücretli Öğretmen\",\"Ücretli Öğr.\",\"Ücr.Öğr. (Emekli)\"),\"\")","v":"Ücretli Öğr."},{"$f":"IF(AND('EK DERS Ücret Hesaplama'!AM7=1,'EK DERS Ücret Hesaplama'!D7=\"Ücretli Öğretmen\"),\n'EK DERS Ücret Hesaplama'!M7,\"\")","v":180},{"$f":"IF(AND('EK DERS Ücret Hesaplama'!AM7=1,'EK DERS Ücret Hesaplama'!D7=\"Ücretli Öğretmen\"),\n'EK DERS Ücret Hesaplama'!N7,\"\")","v":24},{"$f":"IF(AND('EK DERS Ücret Hesaplama'!AM7=1,'EK DERS Ücret Hesaplama'!D7=\"Ücretli Öğretmen\"),\n'EK DERS Ücret Hesaplama'!P7,\"\")","v":19173.95},{"$f":"IF(AND('EK DERS Ücret Hesaplama'!AM7=1,'EK DERS Ücret Hesaplama'!D7=\"Ücretli Öğretmen\"),\n'EK DERS Ücret Hesaplama'!Q7,\"\")","v":3930.66},{"$f":"IF(AND('EK DERS Ücret Hesaplama'!AM7=1,'EK DERS Ücret Hesaplama'!D7=\"Ücretli Öğretmen\"),\n'EK DERS Ücret Hesaplama'!AF7,\"\")","v":2684.35},{"$f":"IF(G12=\"\",\"\",ROUND(G12*0.2,2))","v":3834.79},{"$f":"IF(G12=\"\",\"\",ROUND(G12*0.125,2))","v":2396.7399999999998},{"$f":"IF(G12=\"\",\"\",ROUND(G12*0.02,2))","v":383.48},{"$f":"IF(AND('EK DERS Ücret Hesaplama'!AM7=1,'EK DERS Ücret Hesaplama'!D7=\"Ücretli Öğretmen (Emekli çalışan)\"),\n'EK DERS Ücret Hesaplama'!M7,\"\")","v":""},{"$f":"IF(AND('EK DERS Ücret Hesaplama'!AM7=1,'EK DERS Ücret Hesaplama'!D7=\"Ücretli Öğretmen (Emekli çalışan)\"),\n'EK DERS Ücret Hesaplama'!N7,\"\")","v":""},{"$f":"IF(AND('EK DERS Ücret Hesaplama'!AM7=1,'EK DERS Ücret Hesaplama'!D7=\"Ücretli Öğretmen (Emekli çalışan)\"),\n'EK DERS Ücret Hesaplama'!P7,\"\")","v":""},{"$f":"IF(AND('EK DERS Ücret Hesaplama'!AM7=1,'EK DERS Ücret Hesaplama'!D7=\"Ücretli Öğretmen (Emekli çalışan)\"),\n'EK DERS Ücret Hesaplama'!R7,\"\")","v":""},{"$f":"IF(AND('EK DERS Ücret Hesaplama'!AM7=1,'EK DERS Ücret Hesaplama'!D7=\"Ücretli Öğretmen (Emekli çalışan)\"),\n'EK DERS Ücret Hesaplama'!AH7,\"\")","v":""},{"$f":"IF(O12=\"\",\"\",ROUND(O12*0.3,2))","v":""},{"$f":"IF(O12=\"\",\"\",ROUND(O12*0.02,2))","v":""},null,{"$f":"IF(B12=\"\",0,1)","v":1}]
[{"$f":"IF(B13=\"\",\"\",SUBTOTAL(103,$B$11:B13))","v":3},{"$f":"IF('EK DERS Ücret Hesaplama'!$AM8=1,'EK DERS Ücret Hesaplama'!B8,\"\")","v":12345678910},{"$f":"IF('EK DERS Ücret Hesaplama'!$AM8=1,'EK DERS Ücret Hesaplama'!C8,\"\")","v":"SAMET YAĞMUR"},{"$f":"IF('EK DERS Ücret Hesaplama'!$AM8=1,IF('EK DERS Ücret Hesaplama'!D8=\"Ücretli Öğretmen\",\"Ücretli Öğr.\",\"Ücr.Öğr. (Emekli)\"),\"\")","v":"Ücretli Öğr."},{"$f":"IF(AND('EK DERS Ücret Hesaplama'!AM8=1,'EK DERS Ücret Hesaplama'!D8=\"Ücretli Öğretmen\"),\n'EK DERS Ücret Hesaplama'!M8,\"\")","v":155},{"$f":"IF(AND('EK DERS Ücret Hesaplama'!AM8=1,'EK DERS Ücret Hesaplama'!D8=\"Ücretli Öğretmen\"),\n'EK DERS Ücret Hesaplama'!N8,\"\")","v":21},{"$f":"IF(AND('EK DERS Ücret Hesaplama'!AM8=1,'EK DERS Ücret Hesaplama'!D8=\"Ücretli Öğretmen\"),\n'EK DERS Ücret Hesaplama'!P8,\"\")","v":16510.900000000001},{"$f":"IF(AND('EK DERS Ücret Hesaplama'!AM8=1,'EK DERS Ücret Hesaplama'!D8=\"Ücretli Öğretmen\"),\n'EK DERS Ücret Hesaplama'!Q8,\"\")","v":3384.73},{"$f":"IF(AND('EK DERS Ücret Hesaplama'!AM8=1,'EK DERS Ücret Hesaplama'!D8=\"Ücretli Öğretmen\"),\n'EK DERS Ücret Hesaplama'!AF8,\"\")","v":2311.5300000000002},3302.18,2063.86,330.22,{"$f":"IF(AND('EK DERS Ücret Hesaplama'!AM8=1,'EK DERS Ücret Hesaplama'!D8=\"Ücretli Öğretmen (Emekli çalışan)\"),\n'EK DERS Ücret Hesaplama'!M8,\"\")","v":""},{"$f":"IF(AND('EK DERS Ücret Hesaplama'!AM8=1,'EK DERS Ücret Hesaplama'!D8=\"Ücretli Öğretmen (Emekli çalışan)\"),\n'EK DERS Ücret Hesaplama'!N8,\"\")","v":""},{"$f":"IF(AND('EK DERS Ücret Hesaplama'!AM8=1,'EK DERS Ücret Hesaplama'!D8=\"Ücretli Öğretmen (Emekli çalışan)\"),\n'EK DERS Ücret Hesaplama'!P8,\"\")","v":""},{"$f":"IF(AND('EK DERS Ücret Hesaplama'!AM8=1,'EK DERS Ücret Hesaplama'!D8=\"Ücretli Öğretmen (Emekli çalışan)\"),\n'EK DERS Ücret Hesaplama'!R8,\"\")","v":""},{"$f":"IF(AND('EK DERS Ücret Hesaplama'!AM8=1,'EK DERS Ücret Hesaplama'!D8=\"Ücretli Öğretmen (Emekli çalışan)\"),\n'EK DERS Ücret Hesaplama'!AH8,\"\")","v":""},"","",null,1]
[{"$f":"IF(B14=\"\",\"\",SUBTOTAL(103,$B$11:B14))","v":4},{"$f":"IF('EK DERS Ücret Hesaplama'!$AM9=1,'EK DERS Ücret Hesaplama'!B9,\"\")","v":12345678910},{"$f":"IF('EK DERS Ücret Hesaplama'!$AM9=1,'EK DERS Ücret Hesaplama'!C9,\"\")","v":"SAMET YAĞMUR"},{"$f":"IF('EK DERS Ücret Hesaplama'!$AM9=1,IF('EK DERS Ücret Hesaplama'!D9=\"Ücretli Öğretmen\",\"Ücretli Öğr.\",\"Ücr.Öğr. (Emekli)\"),\"\")","v":"Ücretli Öğr."},{"$f":"IF(AND('EK DERS Ücret Hesaplama'!AM9=1,'EK DERS Ücret Hesaplama'!D9=\"Ücretli Öğretmen\"),\n'EK DERS Ücret Hesaplama'!M9,\"\")","v":100},{"$f":"IF(AND('EK DERS Ücret Hesaplama'!AM9=1,'EK DERS Ücret Hesaplama'!D9=\"Ücretli Öğretmen\"),\n'EK DERS Ücret Hesaplama'!N9,\"\")","v":14},{"$f":"IF(AND('EK DERS Ücret Hesaplama'!AM9=1,'EK DERS Ücret Hesaplama'!D9=\"Ücretli Öğretmen\"),\n'EK DERS Ücret Hesaplama'!P9,\"\")","v":10652.19},{"$f":"IF(AND('EK DERS Ücret Hesaplama'!AM9=1,'EK DERS Ücret Hesaplama'!D9=\"Ücretli Öğretmen\"),\n'EK DERS Ücret Hesaplama'!Q9,\"\")","v":2183.6999999999998},{"$f":"IF(AND('EK DERS Ücret Hesaplama'!AM9=1,'EK DERS Ücret Hesaplama'!D9=\"Ücretli Öğretmen\"),\n'EK DERS Ücret Hesaplama'!AF9,\"\")","v":1491.31},2130.44,1331.52,213.04,{"$f":"IF(AND('EK DERS Ücret Hesaplama'!AM9=1,'EK DERS Ücret Hesaplama'!D9=\"Ücretli Öğretmen (Emekli çalışan)\"),\n'EK DERS Ücret Hesaplama'!M9,\"\")","v":""},{"$f":"IF(AND('EK DERS Ücret Hesaplama'!AM9=1,'EK DERS Ücret Hesaplama'!D9=\"Ücretli Öğretmen (Emekli çalışan)\"),\n'EK DERS Ücret Hesaplama'!N9,\"\")","v":""},{"$f":"IF(AND('EK DERS Ücret Hesaplama'!AM9=1,'EK DERS Ücret Hesaplama'!D9=\"Ücretli Öğretmen (Emekli çalışan)\"),\n'EK DERS Ücret Hesaplama'!P9,\"\")","v":""},{"$f":"IF(AND('EK DERS Ücret Hesaplama'!AM9=1,'EK DERS Ücret Hesaplama'!D9=\"Ücretli Öğretmen (Emekli çalışan)\"),\n'EK DERS Ücret Hesaplama'!R9,\"\")","v":""},{"$f":"IF(AND('EK DERS Ücret Hesaplama'!AM9=1,'EK DERS Ücret Hesaplama'!D9=\"Ücretli Öğretmen (Emekli çalışan)\"),\n'EK DERS Ücret Hesaplama'!AH9,\"\")","v":""},"","",null,1]
[{"$f":"IF(B15=\"\",\"\",SUBTOTAL(103,$B$11:B15))","v":""},{"$f":"IF('EK DERS Ücret Hesaplama'!$AM10=1,'EK DERS Ücret Hesaplama'!B10,\"\")","v":""},{"$f":"IF('EK DERS Ücret Hesaplama'!$AM10=1,'EK DERS Ücret Hesaplama'!C10,\"\")","v":""},{"$f":"IF('EK DERS Ücret Hesaplama'!$AM10=1,IF('EK DERS Ücret Hesaplama'!D10=\"Ücretli Öğretmen\",\"Ücretli Öğr.\",\"Ücr.Öğr. (Emekli)\"),\"\")","v":""},{"$f":"IF(AND('EK DERS Ücret Hesaplama'!AM10=1,'EK DERS Ücret Hesaplama'!D10=\"Ücretli Öğretmen\"),\n'EK DERS Ücret Hesaplama'!M10,\"\")","v":""},{"$f":"IF(AND('EK DERS Ücret Hesaplama'!AM10=1,'EK DERS Ücret Hesaplama'!D10=\"Ücretli Öğretmen\"),\n'EK DERS Ücret Hesaplama'!N10,\"\")","v":""},{"$f":"IF(AND('EK DERS Ücret Hesaplama'!AM10=1,'EK DERS Ücret Hesaplama'!D10=\"Ücretli Öğretmen\"),\n'EK DERS Ücret Hesaplama'!P10,\"\")","v":""},{"$f":"IF(AND('EK DERS Ücret Hesaplama'!AM10=1,'EK DERS Ücret Hesaplama'!D10=\"Ücretli Öğretmen\"),\n'EK DERS Ücret Hesaplama'!Q10,\"\")","v":""},{"$f":"IF(AND('EK DERS Ücret Hesaplama'!AM10=1,'EK DERS Ücret Hesaplama'!D10=\"Ücretli Öğretmen\"),\n'EK DERS Ücret Hesaplama'!AF10,\"\")","v":""},"","","",{"$f":"IF(AND('EK DERS Ücret Hesaplama'!AM10=1,'EK DERS Ücret Hesaplama'!D10=\"Ücretli Öğretmen (Emekli çalışan)\"),\n'EK DERS Ücret Hesaplama'!M10,\"\")","v":""},{"$f":"IF(AND('EK DERS Ücret Hesaplama'!AM10=1,'EK DERS Ücret Hesaplama'!D10=\"Ücretli Öğretmen (Emekli çalışan)\"),\n'EK DERS Ücret Hesaplama'!N10,\"\")","v":""},{"$f":"IF(AND('EK DERS Ücret Hesaplama'!AM10=1,'EK DERS Ücret Hesaplama'!D10=\"Ücretli Öğretmen (Emekli çalışan)\"),\n'EK DERS Ücret Hesaplama'!P10,\"\")","v":""},{"$f":"IF(AND('EK DERS Ücret Hesaplama'!AM10=1,'EK DERS Ücret Hesaplama'!D10=\"Ücretli Öğretmen (Emekli çalışan)\"),\n'EK DERS Ücret Hesaplama'!R10,\"\")","v":""},{"$f":"IF(AND('EK DERS Ücret Hesaplama'!AM10=1,'EK DERS Ücret Hesaplama'!D10=\"Ücretli Öğretmen (Emekli çalışan)\"),\n'EK DERS Ücret Hesaplama'!AH10,\"\")","v":""},"","",null,0]
[{"$f":"IF(B16=\"\",\"\",SUBTOTAL(103,$B$11:B16))","v":""},{"$f":"IF('EK DERS Ücret Hesaplama'!$AM11=1,'EK DERS Ücret Hesaplama'!B11,\"\")","v":""},{"$f":"IF('EK DERS Ücret Hesaplama'!$AM11=1,'EK DERS Ücret Hesaplama'!C11,\"\")","v":""},{"$f":"IF('EK DERS Ücret Hesaplama'!$AM11=1,IF('EK DERS Ücret Hesaplama'!D11=\"Ücretli Öğretmen\",\"Ücretli Öğr.\",\"Ücr.Öğr. (Emekli)\"),\"\")","v":""},{"$f":"IF(AND('EK DERS Ücret Hesaplama'!AM11=1,'EK DERS Ücret Hesaplama'!D11=\"Ücretli Öğretmen\"),\n'EK DERS Ücret Hesaplama'!M11,\"\")","v":""},{"$f":"IF(AND('EK DERS Ücret Hesaplama'!AM11=1,'EK DERS Ücret Hesaplama'!D11=\"Ücretli Öğretmen\"),\n'EK DERS Ücret Hesaplama'!N11,\"\")","v":""},{"$f":"IF(AND('EK DERS Ücret Hesaplama'!AM11=1,'EK DERS Ücret Hesaplama'!D11=\"Ücretli Öğretmen\"),\n'EK DERS Ücret Hesaplama'!P11,\"\")","v":""},{"$f":"IF(AND('EK DERS Ücret Hesaplama'!AM11=1,'EK DERS Ücret Hesaplama'!D11=\"Ücretli Öğretmen\"),\n'EK DERS Ücret Hesaplama'!Q11,\"\")","v":""},{"$f":"IF(AND('EK DERS Ücret Hesaplama'!AM11=1,'EK DERS Ücret Hesaplama'!D11=\"Ücretli Öğretmen\"),\n'EK DERS Ücret Hesaplama'!AF11,\"\")","v":""},"","","",{"$f":"IF(AND('EK DERS Ücret Hesaplama'!AM11=1,'EK DERS Ücret Hesaplama'!D11=\"Ücretli Öğretmen (Emekli çalışan)\"),\n'EK DERS Ücret Hesaplama'!M11,\"\")","v":""},{"$f":"IF(AND('EK DERS Ücret Hesaplama'!AM11=1,'EK DERS Ücret Hesaplama'!D11=\"Ücretli Öğretmen (Emekli çalışan)\"),\n'EK DERS Ücret Hesaplama'!N11,\"\")","v":""},{"$f":"IF(AND('EK DERS Ücret Hesaplama'!AM11=1,'EK DERS Ücret Hesaplama'!D11=\"Ücretli Öğretmen (Emekli çalışan)\"),\n'EK DERS Ücret Hesaplama'!P11,\"\")","v":""},{"$f":"IF(AND('EK DERS Ücret Hesaplama'!AM11=1,'EK DERS Ücret Hesaplama'!D11=\"Ücretli Öğretmen (Emekli çalışan)\"),\n'EK DERS Ücret Hesaplama'!R11,\"\")","v":""},{"$f":"IF(AND('EK DERS Ücret Hesaplama'!AM11=1,'EK DERS Ücret Hesaplama'!D11=\"Ücretli Öğretmen (Emekli çalışan)\"),\n'EK DERS Ücret Hesaplama'!AH11,\"\")","v":""},"","",null,0]
[{"$f":"IF(B17=\"\",\"\",SUBTOTAL(103,$B$11:B17))","v":""},{"$f":"IF('EK DERS Ücret Hesaplama'!$AM12=1,'EK DERS Ücret Hesaplama'!B12,\"\")","v":""},{"$f":"IF('EK DERS Ücret Hesaplama'!$AM12=1,'EK DERS Ücret Hesaplama'!C12,\"\")","v":""},{"$f":"IF('EK DERS Ücret Hesaplama'!$AM12=1,IF('EK DERS Ücret Hesaplama'!D12=\"Ücretli Öğretmen\",\"Ücretli Öğr.\",\"Ücr.Öğr. (Emekli)\"),\"\")","v":""},{"$f":"IF(AND('EK DERS Ücret Hesaplama'!AM12=1,'EK DERS Ücret Hesaplama'!D12=\"Ücretli Öğretmen\"),\n'EK DERS Ücret Hesaplama'!M12,\"\")","v":""},{"$f":"IF(AND('EK DERS Ücret Hesaplama'!AM12=1,'EK DERS Ücret Hesaplama'!D12=\"Ücretli Öğretmen\"),\n'EK DERS Ücret Hesaplama'!N12,\"\")","v":""},{"$f":"IF(AND('EK DERS Ücret Hesaplama'!AM12=1,'EK DERS Ücret Hesaplama'!D12=\"Ücretli Öğretmen\"),\n'EK DERS Ücret Hesaplama'!P12,\"\")","v":""},{"$f":"IF(AND('EK DERS Ücret Hesaplama'!AM12=1,'EK DERS Ücret Hesaplama'!D12=\"Ücretli Öğretmen\"),\n'EK DERS Ücret Hesaplama'!Q12,\"\")","v":""},{"$f":"IF(AND('EK DERS Ücret Hesaplama'!AM12=1,'EK DERS Ücret Hesaplama'!D12=\"Ücretli Öğretmen\"),\n'EK DERS Ücret Hesaplama'!AF12,\"\")","v":""},"","","",{"$f":"IF(AND('EK DERS Ücret Hesaplama'!AM12=1,'EK DERS Ücret Hesaplama'!D12=\"Ücretli Öğretmen (Emekli çalışan)\"),\n'EK DERS Ücret Hesaplama'!M12,\"\")","v":""},{"$f":"IF(AND('EK DERS Ücret Hesaplama'!AM12=1,'EK DERS Ücret Hesaplama'!D12=\"Ücretli Öğretmen (Emekli çalışan)\"),\n'EK DERS Ücret Hesaplama'!N12,\"\")","v":""},{"$f":"IF(AND('EK DERS Ücret Hesaplama'!AM12=1,'EK DERS Ücret Hesaplama'!D12=\"Ücretli Öğretmen (Emekli çalışan)\"),\n'EK DERS Ücret Hesaplama'!P12,\"\")","v":""},{"$f":"IF(AND('EK DERS Ücret Hesaplama'!AM12=1,'EK DERS Ücret Hesaplama'!D12=\"Ücretli Öğretmen (Emekli çalışan)\"),\n'EK DERS Ücret Hesaplama'!R12,\"\")","v":""},{"$f":"IF(AND('EK DERS Ücret Hesaplama'!AM12=1,'EK DERS Ücret Hesaplama'!D12=\"Ücretli Öğretmen (Emekli çalışan)\"),\n'EK DERS Ücret Hesaplama'!AH12,\"\")","v":""},"","",null,0]
[{"$f":"IF(B18=\"\",\"\",SUBTOTAL(103,$B$11:B18))","v":""},{"$f":"IF('EK DERS Ücret Hesaplama'!$AM13=1,'EK DERS Ücret Hesaplama'!B13,\"\")","v":""},{"$f":"IF('EK DERS Ücret Hesaplama'!$AM13=1,'EK DERS Ücret Hesaplama'!C13,\"\")","v":""},{"$f":"IF('EK DERS Ücret Hesaplama'!$AM13=1,IF('EK DERS Ücret Hesaplama'!D13=\"Ücretli Öğretmen\",\"Ücretli Öğr.\",\"Ücr.Öğr. (Emekli)\"),\"\")","v":""},{"$f":"IF(AND('EK DERS Ücret Hesaplama'!AM13=1,'EK DERS Ücret Hesaplama'!D13=\"Ücretli Öğretmen\"),\n'EK DERS Ücret Hesaplama'!M13,\"\")","v":""},{"$f":"IF(AND('EK DERS Ücret Hesaplama'!AM13=1,'EK DERS Ücret Hesaplama'!D13=\"Ücretli Öğretmen\"),\n'EK DERS Ücret Hesaplama'!N13,\"\")","v":""},{"$f":"IF(AND('EK DERS Ücret Hesaplama'!AM13=1,'EK DERS Ücret Hesaplama'!D13=\"Ücretli Öğretmen\"),\n'EK DERS Ücret Hesaplama'!P13,\"\")","v":""},{"$f":"IF(AND('EK DERS Ücret Hesaplama'!AM13=1,'EK DERS Ücret Hesaplama'!D13=\"Ücretli Öğretmen\"),\n'EK DERS Ücret Hesaplama'!Q13,\"\")","v":""},{"$f":"IF(AND('EK DERS Ücret Hesaplama'!AM13=1,'EK DERS Ücret Hesaplama'!D13=\"Ücretli Öğretmen\"),\n'EK DERS Ücret Hesaplama'!AF13,\"\")","v":""},"","","",{"$f":"IF(AND('EK DERS Ücret Hesaplama'!AM13=1,'EK DERS Ücret Hesaplama'!D13=\"Ücretli Öğretmen (Emekli çalışan)\"),\n'EK DERS Ücret Hesaplama'!M13,\"\")","v":""},{"$f":"IF(AND('EK DERS Ücret Hesaplama'!AM13=1,'EK DERS Ücret Hesaplama'!D13=\"Ücretli Öğretmen (Emekli çalışan)\"),\n'EK DERS Ücret Hesaplama'!N13,\"\")","v":""},{"$f":"IF(AND('EK DERS Ücret Hesaplama'!AM13=1,'EK DERS Ücret Hesaplama'!D13=\"Ücretli Öğretmen (Emekli çalışan)\"),\n'EK DERS Ücret Hesaplama'!P13,\"\")","v":""},{"$f":"IF(AND('EK DERS Ücret Hesaplama'!AM13=1,'EK DERS Ücret Hesaplama'!D13=\"Ücretli Öğretmen (Emekli çalışan)\"),\n'EK DERS Ücret Hesaplama'!R13,\"\")","v":""},{"$f":"IF(AND('EK DERS Ücret Hesaplama'!AM13=1,'EK DERS Ücret Hesaplama'!D13=\"Ücretli Öğretmen (Emekli çalışan)\"),\n'EK DERS Ücret Hesaplama'!AH13,\"\")","v":""},"","",null,0]
[{"$f":"IF(B19=\"\",\"\",SUBTOTAL(103,$B$11:B19))","v":""},{"$f":"IF('EK DERS Ücret Hesaplama'!$AM14=1,'EK DERS Ücret Hesaplama'!B14,\"\")","v":""},{"$f":"IF('EK DERS Ücret Hesaplama'!$AM14=1,'EK DERS Ücret Hesaplama'!C14,\"\")","v":""},{"$f":"IF('EK DERS Ücret Hesaplama'!$AM14=1,IF('EK DERS Ücret Hesaplama'!D14=\"Ücretli Öğretmen\",\"Ücretli Öğr.\",\"Ücr.Öğr. (Emekli)\"),\"\")","v":""},{"$f":"IF(AND('EK DERS Ücret Hesaplama'!AM14=1,'EK DERS Ücret Hesaplama'!D14=\"Ücretli Öğretmen\"),\n'EK DERS Ücret Hesaplama'!M14,\"\")","v":""},{"$f":"IF(AND('EK DERS Ücret Hesaplama'!AM14=1,'EK DERS Ücret Hesaplama'!D14=\"Ücretli Öğretmen\"),\n'EK DERS Ücret Hesaplama'!N14,\"\")","v":""},{"$f":"IF(AND('EK DERS Ücret Hesaplama'!AM14=1,'EK DERS Ücret Hesaplama'!D14=\"Ücretli Öğretmen\"),\n'EK DERS Ücret Hesaplama'!P14,\"\")","v":""},{"$f":"IF(AND('EK DERS Ücret Hesaplama'!AM14=1,'EK DERS Ücret Hesaplama'!D14=\"Ücretli Öğretmen\"),\n'EK DERS Ücret Hesaplama'!Q14,\"\")","v":""},{"$f":"IF(AND('EK DERS Ücret Hesaplama'!AM14=1,'EK DERS Ücret Hesaplama'!D14=\"Ücretli Öğretmen\"),\n'EK DERS Ücret Hesaplama'!AF14,\"\")","v":""},"","","",{"$f":"IF(AND('EK DERS Ücret Hesaplama'!AM14=1,'EK DERS Ücret Hesaplama'!D14=\"Ücretli Öğretmen (Emekli çalışan)\"),\n'EK DERS Ücret Hesaplama'!M14,\"\")","v":""},{"$f":"IF(AND('EK DERS Ücret Hesaplama'!AM14=1,'EK DERS Ücret Hesaplama'!D14=\"Ücretli Öğretmen (Emekli çalışan)\"),\n'EK DERS Ücret Hesaplama'!N14,\"\")","v":""},{"$f":"IF(AND('EK DERS Ücret Hesaplama'!AM14=1,'EK DERS Ücret Hesaplama'!D14=\"Ücretli Öğretmen (Emekli çalışan)\"),\n'EK DERS Ücret Hesaplama'!P14,\"\")","v":""},{"$f":"IF(AND('EK DERS Ücret Hesaplama'!AM14=1,'EK DERS Ücret Hesaplama'!D14=\"Ücretli Öğretmen (Emekli çalışan)\"),\n'EK DERS Ücret Hesaplama'!R14,\"\")","v":""},{"$f":"IF(AND('EK DERS Ücret Hesaplama'!AM14=1,'EK DERS Ücret Hesaplama'!D14=\"Ücretli Öğretmen (Emekli çalışan)\"),\n'EK DERS Ücret Hesaplama'!AH14,\"\")","v":""},"","",null,0]
[{"$f":"IF(B20=\"\",\"\",SUBTOTAL(103,$B$11:B20))","v":""},{"$f":"IF('EK DERS Ücret Hesaplama'!$AM15=1,'EK DERS Ücret Hesaplama'!B15,\"\")","v":""},{"$f":"IF('EK DERS Ücret Hesaplama'!$AM15=1,'EK DERS Ücret Hesaplama'!C15,\"\")","v":""},{"$f":"IF('EK DERS Ücret Hesaplama'!$AM15=1,IF('EK DERS Ücret Hesaplama'!D15=\"Ücretli Öğretmen\",\"Ücretli Öğr.\",\"Ücr.Öğr. (Emekli)\"),\"\")","v":""},{"$f":"IF(AND('EK DERS Ücret Hesaplama'!AM15=1,'EK DERS Ücret Hesaplama'!D15=\"Ücretli Öğretmen\"),\n'EK DERS Ücret Hesaplama'!M15,\"\")","v":""},{"$f":"IF(AND('EK DERS Ücret Hesaplama'!AM15=1,'EK DERS Ücret Hesaplama'!D15=\"Ücretli Öğretmen\"),\n'EK DERS Ücret Hesaplama'!N15,\"\")","v":""},{"$f":"IF(AND('EK DERS Ücret Hesaplama'!AM15=1,'EK DERS Ücret Hesaplama'!D15=\"Ücretli Öğretmen\"),\n'EK DERS Ücret Hesaplama'!P15,\"\")","v":""},{"$f":"IF(AND('EK DERS Ücret Hesaplama'!AM15=1,'EK DERS Ücret Hesaplama'!D15=\"Ücretli Öğretmen\"),\n'EK DERS Ücret Hesaplama'!Q15,\"\")","v":""},{"$f":"IF(AND('EK DERS Ücret Hesaplama'!AM15=1,'EK DERS Ücret Hesaplama'!D15=\"Ücretli Öğretmen\"),\n'EK DERS Ücret Hesaplama'!AF15,\"\")","v":""},"","","",{"$f":"IF(AND('EK DERS Ücret Hesaplama'!AM15=1,'EK DERS Ücret Hesaplama'!D15=\"Ücretli Öğretmen (Emekli çalışan)\"),\n'EK DERS Ücret Hesaplama'!M15,\"\")","v":""},{"$f":"IF(AND('EK DERS Ücret Hesaplama'!AM15=1,'EK DERS Ücret Hesaplama'!D15=\"Ücretli Öğretmen (Emekli çalışan)\"),\n'EK DERS Ücret Hesaplama'!N15,\"\")","v":""},{"$f":"IF(AND('EK DERS Ücret Hesaplama'!AM15=1,'EK DERS Ücret Hesaplama'!D15=\"Ücretli Öğretmen (Emekli çalışan)\"),\n'EK DERS Ücret Hesaplama'!P15,\"\")","v":""},{"$f":"IF(AND('EK DERS Ücret Hesaplama'!AM15=1,'EK DERS Ücret Hesaplama'!D15=\"Ücretli Öğretmen (Emekli çalışan)\"),\n'EK DERS Ücret Hesaplama'!R15,\"\")","v":""},{"$f":"IF(AND('EK DERS Ücret Hesaplama'!AM15=1,'EK DERS Ücret Hesaplama'!D15=\"Ücretli Öğretmen (Emekli çalışan)\"),\n'EK DERS Ücret Hesaplama'!AH15,\"\")","v":""},"","",null,0]
[{"$f":"IF(B21=\"\",\"\",SUBTOTAL(103,$B$11:B21))","v":""},{"$f":"IF('EK DERS Ücret Hesaplama'!$AM16=1,'EK DERS Ücret Hesaplama'!B16,\"\")","v":""},{"$f":"IF('EK DERS Ücret Hesaplama'!$AM16=1,'EK DERS Ücret Hesaplama'!C16,\"\")","v":""},{"$f":"IF('EK DERS Ücret Hesaplama'!$AM16=1,IF('EK DERS Ücret Hesaplama'!D16=\"Ücretli Öğretmen\",\"Ücretli Öğr.\",\"Ücr.Öğr. (Emekli)\"),\"\")","v":""},{"$f":"IF(AND('EK DERS Ücret Hesaplama'!AM16=1,'EK DERS Ücret Hesaplama'!D16=\"Ücretli Öğretmen\"),\n'EK DERS Ücret Hesaplama'!M16,\"\")","v":""},{"$f":"IF(AND('EK DERS Ücret Hesaplama'!AM16=1,'EK DERS Ücret Hesaplama'!D16=\"Ücretli Öğretmen\"),\n'EK DERS Ücret Hesaplama'!N16,\"\")","v":""},{"$f":"IF(AND('EK DERS Ücret Hesaplama'!AM16=1,'EK DERS Ücret Hesaplama'!D16=\"Ücretli Öğretmen\"),\n'EK DERS Ücret Hesaplama'!P16,\"\")","v":""},{"$f":"IF(AND('EK DERS Ücret Hesaplama'!AM16=1,'EK DERS Ücret Hesaplama'!D16=\"Ücretli Öğretmen\"),\n'EK DERS Ücret Hesaplama'!Q16,\"\")","v":""},{"$f":"IF(AND('EK DERS Ücret Hesaplama'!AM16=1,'EK DERS Ücret Hesaplama'!D16=\"Ücretli Öğretmen\"),\n'EK DERS Ücret Hesaplama'!AF16,\"\")","v":""},"","","",{"$f":"IF(AND('EK DERS Ücret Hesaplama'!AM16=1,'EK DERS Ücret Hesaplama'!D16=\"Ücretli Öğretmen (Emekli çalışan)\"),\n'EK DERS Ücret Hesaplama'!M16,\"\")","v":""},{"$f":"IF(AND('EK DERS Ücret Hesaplama'!AM16=1,'EK DERS Ücret Hesaplama'!D16=\"Ücretli Öğretmen (Emekli çalışan)\"),\n'EK DERS Ücret Hesaplama'!N16,\"\")","v":""},{"$f":"IF(AND('EK DERS Ücret Hesaplama'!AM16=1,'EK DERS Ücret Hesaplama'!D16=\"Ücretli Öğretmen (Emekli çalışan)\"),\n'EK DERS Ücret Hesaplama'!P16,\"\")","v":""},{"$f":"IF(AND('EK DERS Ücret Hesaplama'!AM16=1,'EK DERS Ücret Hesaplama'!D16=\"Ücretli Öğretmen (Emekli çalışan)\"),\n'EK DERS Ücret Hesaplama'!R16,\"\")","v":""},{"$f":"IF(AND('EK DERS Ücret Hesaplama'!AM16=1,'EK DERS Ücret Hesaplama'!D16=\"Ücretli Öğretmen (Emekli çalışan)\"),\n'EK DERS Ücret Hesaplama'!AH16,\"\")","v":""},"","",null,0]
[{"$f":"IF(B22=\"\",\"\",SUBTOTAL(103,$B$11:B22))","v":""},{"$f":"IF('EK DERS Ücret Hesaplama'!$AM17=1,'EK DERS Ücret Hesaplama'!B17,\"\")","v":""},{"$f":"IF('EK DERS Ücret Hesaplama'!$AM17=1,'EK DERS Ücret Hesaplama'!C17,\"\")","v":""},{"$f":"IF('EK DERS Ücret Hesaplama'!$AM17=1,IF('EK DERS Ücret Hesaplama'!D17=\"Ücretli Öğretmen\",\"Ücretli Öğr.\",\"Ücr.Öğr. (Emekli)\"),\"\")","v":""},{"$f":"IF(AND('EK DERS Ücret Hesaplama'!AM17=1,'EK DERS Ücret Hesaplama'!D17=\"Ücretli Öğretmen\"),\n'EK DERS Ücret Hesaplama'!M17,\"\")","v":""},{"$f":"IF(AND('EK DERS Ücret Hesaplama'!AM17=1,'EK DERS Ücret Hesaplama'!D17=\"Ücretli Öğretmen\"),\n'EK DERS Ücret Hesaplama'!N17,\"\")","v":""},{"$f":"IF(AND('EK DERS Ücret Hesaplama'!AM17=1,'EK DERS Ücret Hesaplama'!D17=\"Ücretli Öğretmen\"),\n'EK DERS Ücret Hesaplama'!P17,\"\")","v":""},{"$f":"IF(AND('EK DERS Ücret Hesaplama'!AM17=1,'EK DERS Ücret Hesaplama'!D17=\"Ücretli Öğretmen\"),\n'EK DERS Ücret Hesaplama'!Q17,\"\")","v":""},{"$f":"IF(AND('EK DERS Ücret Hesaplama'!AM17=1,'EK DERS Ücret Hesaplama'!D17=\"Ücretli Öğretmen\"),\n'EK DERS Ücret Hesaplama'!AF17,\"\")","v":""},"","","",{"$f":"IF(AND('EK DERS Ücret Hesaplama'!AM17=1,'EK DERS Ücret Hesaplama'!D17=\"Ücretli Öğretmen (Emekli çalışan)\"),\n'EK DERS Ücret Hesaplama'!M17,\"\")","v":""},{"$f":"IF(AND('EK DERS Ücret Hesaplama'!AM17=1,'EK DERS Ücret Hesaplama'!D17=\"Ücretli Öğretmen (Emekli çalışan)\"),\n'EK DERS Ücret Hesaplama'!N17,\"\")","v":""},{"$f":"IF(AND('EK DERS Ücret Hesaplama'!AM17=1,'EK DERS Ücret Hesaplama'!D17=\"Ücretli Öğretmen (Emekli çalışan)\"),\n'EK DERS Ücret Hesaplama'!P17,\"\")","v":""},{"$f":"IF(AND('EK DERS Ücret Hesaplama'!AM17=1,'EK DERS Ücret Hesaplama'!D17=\"Ücretli Öğretmen (Emekli çalışan)\"),\n'EK DERS Ücret Hesaplama'!R17,\"\")","v":""},{"$f":"IF(AND('EK DERS Ücret Hesaplama'!AM17=1,'EK DERS Ücret Hesaplama'!D17=\"Ücretli Öğretmen (Emekli çalışan)\"),\n'EK DERS Ücret Hesaplama'!AH17,\"\")","v":""},"","",null,0]
[{"$f":"IF(B23=\"\",\"\",SUBTOTAL(103,$B$11:B23))","v":""},{"$f":"IF('EK DERS Ücret Hesaplama'!$AM18=1,'EK DERS Ücret Hesaplama'!B18,\"\")","v":""},{"$f":"IF('EK DERS Ücret Hesaplama'!$AM18=1,'EK DERS Ücret Hesaplama'!C18,\"\")","v":""},{"$f":"IF('EK DERS Ücret Hesaplama'!$AM18=1,IF('EK DERS Ücret Hesaplama'!D18=\"Ücretli Öğretmen\",\"Ücretli Öğr.\",\"Ücr.Öğr. (Emekli)\"),\"\")","v":""},{"$f":"IF(AND('EK DERS Ücret Hesaplama'!AM18=1,'EK DERS Ücret Hesaplama'!D18=\"Ücretli Öğretmen\"),\n'EK DERS Ücret Hesaplama'!M18,\"\")","v":""},{"$f":"IF(AND('EK DERS Ücret Hesaplama'!AM18=1,'EK DERS Ücret Hesaplama'!D18=\"Ücretli Öğretmen\"),\n'EK DERS Ücret Hesaplama'!N18,\"\")","v":""},{"$f":"IF(AND('EK DERS Ücret Hesaplama'!AM18=1,'EK DERS Ücret Hesaplama'!D18=\"Ücretli Öğretmen\"),\n'EK DERS Ücret Hesaplama'!P18,\"\")","v":""},{"$f":"IF(AND('EK DERS Ücret Hesaplama'!AM18=1,'EK DERS Ücret Hesaplama'!D18=\"Ücretli Öğretmen\"),\n'EK DERS Ücret Hesaplama'!Q18,\"\")","v":""},{"$f":"IF(AND('EK DERS Ücret Hesaplama'!AM18=1,'EK DERS Ücret Hesaplama'!D18=\"Ücretli Öğretmen\"),\n'EK DERS Ücret Hesaplama'!AF18,\"\")","v":""},"","","",{"$f":"IF(AND('EK DERS Ücret Hesaplama'!AM18=1,'EK DERS Ücret Hesaplama'!D18=\"Ücretli Öğretmen (Emekli çalışan)\"),\n'EK DERS Ücret Hesaplama'!M18,\"\")","v":""},{"$f":"IF(AND('EK DERS Ücret Hesaplama'!AM18=1,'EK DERS Ücret Hesaplama'!D18=\"Ücretli Öğretmen (Emekli çalışan)\"),\n'EK DERS Ücret Hesaplama'!N18,\"\")","v":""},{"$f":"IF(AND('EK DERS Ücret Hesaplama'!AM18=1,'EK DERS Ücret Hesaplama'!D18=\"Ücretli Öğretmen (Emekli çalışan)\"),\n'EK DERS Ücret Hesaplama'!P18,\"\")","v":""},{"$f":"IF(AND('EK DERS Ücret Hesaplama'!AM18=1,'EK DERS Ücret Hesaplama'!D18=\"Ücretli Öğretmen (Emekli çalışan)\"),\n'EK DERS Ücret Hesaplama'!R18,\"\")","v":""},{"$f":"IF(AND('EK DERS Ücret Hesaplama'!AM18=1,'EK DERS Ücret Hesaplama'!D18=\"Ücretli Öğretmen (Emekli çalışan)\"),\n'EK DERS Ücret Hesaplama'!AH18,\"\")","v":""},"","",null,0]
[{"$f":"IF(B24=\"\",\"\",SUBTOTAL(103,$B$11:B24))","v":""},{"$f":"IF('EK DERS Ücret Hesaplama'!$AM19=1,'EK DERS Ücret Hesaplama'!B19,\"\")","v":""},{"$f":"IF('EK DERS Ücret Hesaplama'!$AM19=1,'EK DERS Ücret Hesaplama'!C19,\"\")","v":""},{"$f":"IF('EK DERS Ücret Hesaplama'!$AM19=1,IF('EK DERS Ücret Hesaplama'!D19=\"Ücretli Öğretmen\",\"Ücretli Öğr.\",\"Ücr.Öğr. (Emekli)\"),\"\")","v":""},{"$f":"IF(AND('EK DERS Ücret Hesaplama'!AM19=1,'EK DERS Ücret Hesaplama'!D19=\"Ücretli Öğretmen\"),\n'EK DERS Ücret Hesaplama'!M19,\"\")","v":""},{"$f":"IF(AND('EK DERS Ücret Hesaplama'!AM19=1,'EK DERS Ücret Hesaplama'!D19=\"Ücretli Öğretmen\"),\n'EK DERS Ücret Hesaplama'!N19,\"\")","v":""},{"$f":"IF(AND('EK DERS Ücret Hesaplama'!AM19=1,'EK DERS Ücret Hesaplama'!D19=\"Ücretli Öğretmen\"),\n'EK DERS Ücret Hesaplama'!P19,\"\")","v":""},{"$f":"IF(AND('EK DERS Ücret Hesaplama'!AM19=1,'EK DERS Ücret Hesaplama'!D19=\"Ücretli Öğretmen\"),\n'EK DERS Ücret Hesaplama'!Q19,\"\")","v":""},{"$f":"IF(AND('EK DERS Ücret Hesaplama'!AM19=1,'EK DERS Ücret Hesaplama'!D19=\"Ücretli Öğretmen\"),\n'EK DERS Ücret Hesaplama'!AF19,\"\")","v":""},"","","",{"$f":"IF(AND('EK DERS Ücret Hesaplama'!AM19=1,'EK DERS Ücret Hesaplama'!D19=\"Ücretli Öğretmen (Emekli çalışan)\"),\n'EK DERS Ücret Hesaplama'!M19,\"\")","v":""},{"$f":"IF(AND('EK DERS Ücret Hesaplama'!AM19=1,'EK DERS Ücret Hesaplama'!D19=\"Ücretli Öğretmen (Emekli çalışan)\"),\n'EK DERS Ücret Hesaplama'!N19,\"\")","v":""},{"$f":"IF(AND('EK DERS Ücret Hesaplama'!AM19=1,'EK DERS Ücret Hesaplama'!D19=\"Ücretli Öğretmen (Emekli çalışan)\"),\n'EK DERS Ücret Hesaplama'!P19,\"\")","v":""},{"$f":"IF(AND('EK DERS Ücret Hesaplama'!AM19=1,'EK DERS Ücret Hesaplama'!D19=\"Ücretli Öğretmen (Emekli çalışan)\"),\n'EK DERS Ücret Hesaplama'!R19,\"\")","v":""},{"$f":"IF(AND('EK DERS Ücret Hesaplama'!AM19=1,'EK DERS Ücret Hesaplama'!D19=\"Ücretli Öğretmen (Emekli çalışan)\"),\n'EK DERS Ücret Hesaplama'!AH19,\"\")","v":""},"","",null,0]
[{"$f":"IF(B25=\"\",\"\",SUBTOTAL(103,$B$11:B25))","v":""},{"$f":"IF('EK DERS Ücret Hesaplama'!$AM20=1,'EK DERS Ücret Hesaplama'!B20,\"\")","v":""},{"$f":"IF('EK DERS Ücret Hesaplama'!$AM20=1,'EK DERS Ücret Hesaplama'!C20,\"\")","v":""},{"$f":"IF('EK DERS Ücret Hesaplama'!$AM20=1,IF('EK DERS Ücret Hesaplama'!D20=\"Ücretli Öğretmen\",\"Ücretli Öğr.\",\"Ücr.Öğr. (Emekli)\"),\"\")","v":""},{"$f":"IF(AND('EK DERS Ücret Hesaplama'!AM20=1,'EK DERS Ücret Hesaplama'!D20=\"Ücretli Öğretmen\"),\n'EK DERS Ücret Hesaplama'!M20,\"\")","v":""},{"$f":"IF(AND('EK DERS Ücret Hesaplama'!AM20=1,'EK DERS Ücret Hesaplama'!D20=\"Ücretli Öğretmen\"),\n'EK DERS Ücret Hesaplama'!N20,\"\")","v":""},{"$f":"IF(AND('EK DERS Ücret Hesaplama'!AM20=1,'EK DERS Ücret Hesaplama'!D20=\"Ücretli Öğretmen\"),\n'EK DERS Ücret Hesaplama'!P20,\"\")","v":""},{"$f":"IF(AND('EK DERS Ücret Hesaplama'!AM20=1,'EK DERS Ücret Hesaplama'!D20=\"Ücretli Öğretmen\"),\n'EK DERS Ücret Hesaplama'!Q20,\"\")","v":""},{"$f":"IF(AND('EK DERS Ücret Hesaplama'!AM20=1,'EK DERS Ücret Hesaplama'!D20=\"Ücretli Öğretmen\"),\n'EK DERS Ücret Hesaplama'!AF20,\"\")","v":""},"","","",{"$f":"IF(AND('EK DERS Ücret Hesaplama'!AM20=1,'EK DERS Ücret Hesaplama'!D20=\"Ücretli Öğretmen (Emekli çalışan)\"),\n'EK DERS Ücret Hesaplama'!M20,\"\")","v":""},{"$f":"IF(AND('EK DERS Ücret Hesaplama'!AM20=1,'EK DERS Ücret Hesaplama'!D20=\"Ücretli Öğretmen (Emekli çalışan)\"),\n'EK DERS Ücret Hesaplama'!N20,\"\")","v":""},{"$f":"IF(AND('EK DERS Ücret Hesaplama'!AM20=1,'EK DERS Ücret Hesaplama'!D20=\"Ücretli Öğretmen (Emekli çalışan)\"),\n'EK DERS Ücret Hesaplama'!P20,\"\")","v":""},{"$f":"IF(AND('EK DERS Ücret Hesaplama'!AM20=1,'EK DERS Ücret Hesaplama'!D20=\"Ücretli Öğretmen (Emekli çalışan)\"),\n'EK DERS Ücret Hesaplama'!R20,\"\")","v":""},{"$f":"IF(AND('EK DERS Ücret Hesaplama'!AM20=1,'EK DERS Ücret Hesaplama'!D20=\"Ücretli Öğretmen (Emekli çalışan)\"),\n'EK DERS Ücret Hesaplama'!AH20,\"\")","v":""},"","",null,0]
[{"$f":"IF(B26=\"\",\"\",SUBTOTAL(103,$B$11:B26))","v":""},{"$f":"IF('EK DERS Ücret Hesaplama'!$AM21=1,'EK DERS Ücret Hesaplama'!B21,\"\")","v":""},{"$f":"IF('EK DERS Ücret Hesaplama'!$AM21=1,'EK DERS Ücret Hesaplama'!C21,\"\")","v":""},{"$f":"IF('EK DERS Ücret Hesaplama'!$AM21=1,IF('EK DERS Ücret Hesaplama'!D21=\"Ücretli Öğretmen\",\"Ücretli Öğr.\",\"Ücr.Öğr. (Emekli)\"),\"\")","v":""},{"$f":"IF(AND('EK DERS Ücret Hesaplama'!AM21=1,'EK DERS Ücret Hesaplama'!D21=\"Ücretli Öğretmen\"),\n'EK DERS Ücret Hesaplama'!M21,\"\")","v":""},{"$f":"IF(AND('EK DERS Ücret Hesaplama'!AM21=1,'EK DERS Ücret Hesaplama'!D21=\"Ücretli Öğretmen\"),\n'EK DERS Ücret Hesaplama'!N21,\"\")","v":""},{"$f":"IF(AND('EK DERS Ücret Hesaplama'!AM21=1,'EK DERS Ücret Hesaplama'!D21=\"Ücretli Öğretmen\"),\n'EK DERS Ücret Hesaplama'!P21,\"\")","v":""},{"$f":"IF(AND('EK DERS Ücret Hesaplama'!AM21=1,'EK DERS Ücret Hesaplama'!D21=\"Ücretli Öğretmen\"),\n'EK DERS Ücret Hesaplama'!Q21,\"\")","v":""},{"$f":"IF(AND('EK DERS Ücret Hesaplama'!AM21=1,'EK DERS Ücret Hesaplama'!D21=\"Ücretli Öğretmen\"),\n'EK DERS Ücret Hesaplama'!AF21,\"\")","v":""},"","","",{"$f":"IF(AND('EK DERS Ücret Hesaplama'!AM21=1,'EK DERS Ücret Hesaplama'!D21=\"Ücretli Öğretmen (Emekli çalışan)\"),\n'EK DERS Ücret Hesaplama'!M21,\"\")","v":""},{"$f":"IF(AND('EK DERS Ücret Hesaplama'!AM21=1,'EK DERS Ücret Hesaplama'!D21=\"Ücretli Öğretmen (Emekli çalışan)\"),\n'EK DERS Ücret Hesaplama'!N21,\"\")","v":""},{"$f":"IF(AND('EK DERS Ücret Hesaplama'!AM21=1,'EK DERS Ücret Hesaplama'!D21=\"Ücretli Öğretmen (Emekli çalışan)\"),\n'EK DERS Ücret Hesaplama'!P21,\"\")","v":""},{"$f":"IF(AND('EK DERS Ücret Hesaplama'!AM21=1,'EK DERS Ücret Hesaplama'!D21=\"Ücretli Öğretmen (Emekli çalışan)\"),\n'EK DERS Ücret Hesaplama'!R21,\"\")","v":""},{"$f":"IF(AND('EK DERS Ücret Hesaplama'!AM21=1,'EK DERS Ücret Hesaplama'!D21=\"Ücretli Öğretmen (Emekli çalışan)\"),\n'EK DERS Ücret Hesaplama'!AH21,\"\")","v":""},"","",null,0]
[{"$f":"IF(B27=\"\",\"\",SUBTOTAL(103,$B$11:B27))","v":""},{"$f":"IF('EK DERS Ücret Hesaplama'!$AM22=1,'EK DERS Ücret Hesaplama'!B22,\"\")","v":""},{"$f":"IF('EK DERS Ücret Hesaplama'!$AM22=1,'EK DERS Ücret Hesaplama'!C22,\"\")","v":""},{"$f":"IF('EK DERS Ücret Hesaplama'!$AM22=1,IF('EK DERS Ücret Hesaplama'!D22=\"Ücretli Öğretmen\",\"Ücretli Öğr.\",\"Ücr.Öğr. (Emekli)\"),\"\")","v":""},{"$f":"IF(AND('EK DERS Ücret Hesaplama'!AM22=1,'EK DERS Ücret Hesaplama'!D22=\"Ücretli Öğretmen\"),\n'EK DERS Ücret Hesaplama'!M22,\"\")","v":""},{"$f":"IF(AND('EK DERS Ücret Hesaplama'!AM22=1,'EK DERS Ücret Hesaplama'!D22=\"Ücretli Öğretmen\"),\n'EK DERS Ücret Hesaplama'!N22,\"\")","v":""},{"$f":"IF(AND('EK DERS Ücret Hesaplama'!AM22=1,'EK DERS Ücret Hesaplama'!D22=\"Ücretli Öğretmen\"),\n'EK DERS Ücret Hesaplama'!P22,\"\")","v":""},{"$f":"IF(AND('EK DERS Ücret Hesaplama'!AM22=1,'EK DERS Ücret Hesaplama'!D22=\"Ücretli Öğretmen\"),\n'EK DERS Ücret Hesaplama'!Q22,\"\")","v":""},{"$f":"IF(AND('EK DERS Ücret Hesaplama'!AM22=1,'EK DERS Ücret Hesaplama'!D22=\"Ücretli Öğretmen\"),\n'EK DERS Ücret Hesaplama'!AF22,\"\")","v":""},"","","",{"$f":"IF(AND('EK DERS Ücret Hesaplama'!AM22=1,'EK DERS Ücret Hesaplama'!D22=\"Ücretli Öğretmen (Emekli çalışan)\"),\n'EK DERS Ücret Hesaplama'!M22,\"\")","v":""},{"$f":"IF(AND('EK DERS Ücret Hesaplama'!AM22=1,'EK DERS Ücret Hesaplama'!D22=\"Ücretli Öğretmen (Emekli çalışan)\"),\n'EK DERS Ücret Hesaplama'!N22,\"\")","v":""},{"$f":"IF(AND('EK DERS Ücret Hesaplama'!AM22=1,'EK DERS Ücret Hesaplama'!D22=\"Ücretli Öğretmen (Emekli çalışan)\"),\n'EK DERS Ücret Hesaplama'!P22,\"\")","v":""},{"$f":"IF(AND('EK DERS Ücret Hesaplama'!AM22=1,'EK DERS Ücret Hesaplama'!D22=\"Ücretli Öğretmen (Emekli çalışan)\"),\n'EK DERS Ücret Hesaplama'!R22,\"\")","v":""},{"$f":"IF(AND('EK DERS Ücret Hesaplama'!AM22=1,'EK DERS Ücret Hesaplama'!D22=\"Ücretli Öğretmen (Emekli çalışan)\"),\n'EK DERS Ücret Hesaplama'!AH22,\"\")","v":""},"","",null,0]
[{"$f":"IF(B28=\"\",\"\",SUBTOTAL(103,$B$11:B28))","v":""},{"$f":"IF('EK DERS Ücret Hesaplama'!$AM23=1,'EK DERS Ücret Hesaplama'!B23,\"\")","v":""},{"$f":"IF('EK DERS Ücret Hesaplama'!$AM23=1,'EK DERS Ücret Hesaplama'!C23,\"\")","v":""},{"$f":"IF('EK DERS Ücret Hesaplama'!$AM23=1,IF('EK DERS Ücret Hesaplama'!D23=\"Ücretli Öğretmen\",\"Ücretli Öğr.\",\"Ücr.Öğr. (Emekli)\"),\"\")","v":""},{"$f":"IF(AND('EK DERS Ücret Hesaplama'!AM23=1,'EK DERS Ücret Hesaplama'!D23=\"Ücretli Öğretmen\"),\n'EK DERS Ücret Hesaplama'!M23,\"\")","v":""},{"$f":"IF(AND('EK DERS Ücret Hesaplama'!AM23=1,'EK DERS Ücret Hesaplama'!D23=\"Ücretli Öğretmen\"),\n'EK DERS Ücret Hesaplama'!N23,\"\")","v":""},{"$f":"IF(AND('EK DERS Ücret Hesaplama'!AM23=1,'EK DERS Ücret Hesaplama'!D23=\"Ücretli Öğretmen\"),\n'EK DERS Ücret Hesaplama'!P23,\"\")","v":""},{"$f":"IF(AND('EK DERS Ücret Hesaplama'!AM23=1,'EK DERS Ücret Hesaplama'!D23=\"Ücretli Öğretmen\"),\n'EK DERS Ücret Hesaplama'!Q23,\"\")","v":""},{"$f":"IF(AND('EK DERS Ücret Hesaplama'!AM23=1,'EK DERS Ücret Hesaplama'!D23=\"Ücretli Öğretmen\"),\n'EK DERS Ücret Hesaplama'!AF23,\"\")","v":""},"","","",{"$f":"IF(AND('EK DERS Ücret Hesaplama'!AM23=1,'EK DERS Ücret Hesaplama'!D23=\"Ücretli Öğretmen (Emekli çalışan)\"),\n'EK DERS Ücret Hesaplama'!M23,\"\")","v":""},{"$f":"IF(AND('EK DERS Ücret Hesaplama'!AM23=1,'EK DERS Ücret Hesaplama'!D23=\"Ücretli Öğretmen (Emekli çalışan)\"),\n'EK DERS Ücret Hesaplama'!N23,\"\")","v":""},{"$f":"IF(AND('EK DERS Ücret Hesaplama'!AM23=1,'EK DERS Ücret Hesaplama'!D23=\"Ücretli Öğretmen (Emekli çalışan)\"),\n'EK DERS Ücret Hesaplama'!P23,\"\")","v":""},{"$f":"IF(AND('EK DERS Ücret Hesaplama'!AM23=1,'EK DERS Ücret Hesaplama'!D23=\"Ücretli Öğretmen (Emekli çalışan)\"),\n'EK DERS Ücret Hesaplama'!R23,\"\")","v":""},{"$f":"IF(AND('EK DERS Ücret Hesaplama'!AM23=1,'EK DERS Ücret Hesaplama'!D23=\"Ücretli Öğretmen (Emekli çalışan)\"),\n'EK DERS Ücret Hesaplama'!AH23,\"\")","v":""},"","",null,0]
[{"$f":"IF(B29=\"\",\"\",SUBTOTAL(103,$B$11:B29))","v":""},{"$f":"IF('EK DERS Ücret Hesaplama'!$AM24=1,'EK DERS Ücret Hesaplama'!B24,\"\")","v":""},{"$f":"IF('EK DERS Ücret Hesaplama'!$AM24=1,'EK DERS Ücret Hesaplama'!C24,\"\")","v":""},{"$f":"IF('EK DERS Ücret Hesaplama'!$AM24=1,IF('EK DERS Ücret Hesaplama'!D24=\"Ücretli Öğretmen\",\"Ücretli Öğr.\",\"Ücr.Öğr. (Emekli)\"),\"\")","v":""},{"$f":"IF(AND('EK DERS Ücret Hesaplama'!AM24=1,'EK DERS Ücret Hesaplama'!D24=\"Ücretli Öğretmen\"),\n'EK DERS Ücret Hesaplama'!M24,\"\")","v":""},{"$f":"IF(AND('EK DERS Ücret Hesaplama'!AM24=1,'EK DERS Ücret Hesaplama'!D24=\"Ücretli Öğretmen\"),\n'EK DERS Ücret Hesaplama'!N24,\"\")","v":""},{"$f":"IF(AND('EK DERS Ücret Hesaplama'!AM24=1,'EK DERS Ücret Hesaplama'!D24=\"Ücretli Öğretmen\"),\n'EK DERS Ücret Hesaplama'!P24,\"\")","v":""},{"$f":"IF(AND('EK DERS Ücret Hesaplama'!AM24=1,'EK DERS Ücret Hesaplama'!D24=\"Ücretli Öğretmen\"),\n'EK DERS Ücret Hesaplama'!Q24,\"\")","v":""},{"$f":"IF(AND('EK DERS Ücret Hesaplama'!AM24=1,'EK DERS Ücret Hesaplama'!D24=\"Ücretli Öğretmen\"),\n'EK DERS Ücret Hesaplama'!AF24,\"\")","v":""},"","","",{"$f":"IF(AND('EK DERS Ücret Hesaplama'!AM24=1,'EK DERS Ücret Hesaplama'!D24=\"Ücretli Öğretmen (Emekli çalışan)\"),\n'EK DERS Ücret Hesaplama'!M24,\"\")","v":""},{"$f":"IF(AND('EK DERS Ücret Hesaplama'!AM24=1,'EK DERS Ücret Hesaplama'!D24=\"Ücretli Öğretmen (Emekli çalışan)\"),\n'EK DERS Ücret Hesaplama'!N24,\"\")","v":""},{"$f":"IF(AND('EK DERS Ücret Hesaplama'!AM24=1,'EK DERS Ücret Hesaplama'!D24=\"Ücretli Öğretmen (Emekli çalışan)\"),\n'EK DERS Ücret Hesaplama'!P24,\"\")","v":""},{"$f":"IF(AND('EK DERS Ücret Hesaplama'!AM24=1,'EK DERS Ücret Hesaplama'!D24=\"Ücretli Öğretmen (Emekli çalışan)\"),\n'EK DERS Ücret Hesaplama'!R24,\"\")","v":""},{"$f":"IF(AND('EK DERS Ücret Hesaplama'!AM24=1,'EK DERS Ücret Hesaplama'!D24=\"Ücretli Öğretmen (Emekli çalışan)\"),\n'EK DERS Ücret Hesaplama'!AH24,\"\")","v":""},"","",null,0]
[{"$f":"IF(B30=\"\",\"\",SUBTOTAL(103,$B$11:B30))","v":""},{"$f":"IF('EK DERS Ücret Hesaplama'!$AM25=1,'EK DERS Ücret Hesaplama'!B25,\"\")","v":""},{"$f":"IF('EK DERS Ücret Hesaplama'!$AM25=1,'EK DERS Ücret Hesaplama'!C25,\"\")","v":""},{"$f":"IF('EK DERS Ücret Hesaplama'!$AM25=1,IF('EK DERS Ücret Hesaplama'!D25=\"Ücretli Öğretmen\",\"Ücretli Öğr.\",\"Ücr.Öğr. (Emekli)\"),\"\")","v":""},{"$f":"IF(AND('EK DERS Ücret Hesaplama'!AM25=1,'EK DERS Ücret Hesaplama'!D25=\"Ücretli Öğretmen\"),\n'EK DERS Ücret Hesaplama'!M25,\"\")","v":""},{"$f":"IF(AND('EK DERS Ücret Hesaplama'!AM25=1,'EK DERS Ücret Hesaplama'!D25=\"Ücretli Öğretmen\"),\n'EK DERS Ücret Hesaplama'!N25,\"\")","v":""},{"$f":"IF(AND('EK DERS Ücret Hesaplama'!AM25=1,'EK DERS Ücret Hesaplama'!D25=\"Ücretli Öğretmen\"),\n'EK DERS Ücret Hesaplama'!P25,\"\")","v":""},{"$f":"IF(AND('EK DERS Ücret Hesaplama'!AM25=1,'EK DERS Ücret Hesaplama'!D25=\"Ücretli Öğretmen\"),\n'EK DERS Ücret Hesaplama'!Q25,\"\")","v":""},{"$f":"IF(AND('EK DERS Ücret Hesaplama'!AM25=1,'EK DERS Ücret Hesaplama'!D25=\"Ücretli Öğretmen\"),\n'EK DERS Ücret Hesaplama'!AF25,\"\")","v":""},"","","",{"$f":"IF(AND('EK DERS Ücret Hesaplama'!AM25=1,'EK DERS Ücret Hesaplama'!D25=\"Ücretli Öğretmen (Emekli çalışan)\"),\n'EK DERS Ücret Hesaplama'!M25,\"\")","v":""},{"$f":"IF(AND('EK DERS Ücret Hesaplama'!AM25=1,'EK DERS Ücret Hesaplama'!D25=\"Ücretli Öğretmen (Emekli çalışan)\"),\n'EK DERS Ücret Hesaplama'!N25,\"\")","v":""},{"$f":"IF(AND('EK DERS Ücret Hesaplama'!AM25=1,'EK DERS Ücret Hesaplama'!D25=\"Ücretli Öğretmen (Emekli çalışan)\"),\n'EK DERS Ücret Hesaplama'!P25,\"\")","v":""},{"$f":"IF(AND('EK DERS Ücret Hesaplama'!AM25=1,'EK DERS Ücret Hesaplama'!D25=\"Ücretli Öğretmen (Emekli çalışan)\"),\n'EK DERS Ücret Hesaplama'!R25,\"\")","v":""},{"$f":"IF(AND('EK DERS Ücret Hesaplama'!AM25=1,'EK DERS Ücret Hesaplama'!D25=\"Ücretli Öğretmen (Emekli çalışan)\"),\n'EK DERS Ücret Hesaplama'!AH25,\"\")","v":""},"","",null,0]
[{"$f":"IF(B31=\"\",\"\",SUBTOTAL(103,$B$11:B31))","v":""},{"$f":"IF('EK DERS Ücret Hesaplama'!$AM26=1,'EK DERS Ücret Hesaplama'!B26,\"\")","v":""},{"$f":"IF('EK DERS Ücret Hesaplama'!$AM26=1,'EK DERS Ücret Hesaplama'!C26,\"\")","v":""},{"$f":"IF('EK DERS Ücret Hesaplama'!$AM26=1,IF('EK DERS Ücret Hesaplama'!D26=\"Ücretli Öğretmen\",\"Ücretli Öğr.\",\"Ücr.Öğr. (Emekli)\"),\"\")","v":""},{"$f":"IF(AND('EK DERS Ücret Hesaplama'!AM26=1,'EK DERS Ücret Hesaplama'!D26=\"Ücretli Öğretmen\"),\n'EK DERS Ücret Hesaplama'!M26,\"\")","v":""},{"$f":"IF(AND('EK DERS Ücret Hesaplama'!AM26=1,'EK DERS Ücret Hesaplama'!D26=\"Ücretli Öğretmen\"),\n'EK DERS Ücret Hesaplama'!N26,\"\")","v":""},{"$f":"IF(AND('EK DERS Ücret Hesaplama'!AM26=1,'EK DERS Ücret Hesaplama'!D26=\"Ücretli Öğretmen\"),\n'EK DERS Ücret Hesaplama'!P26,\"\")","v":""},{"$f":"IF(AND('EK DERS Ücret Hesaplama'!AM26=1,'EK DERS Ücret Hesaplama'!D26=\"Ücretli Öğretmen\"),\n'EK DERS Ücret Hesaplama'!Q26,\"\")","v":""},{"$f":"IF(AND('EK DERS Ücret Hesaplama'!AM26=1,'EK DERS Ücret Hesaplama'!D26=\"Ücretli Öğretmen\"),\n'EK DERS Ücret Hesaplama'!AF26,\"\")","v":""},"","","",{"$f":"IF(AND('EK DERS Ücret Hesaplama'!AM26=1,'EK DERS Ücret Hesaplama'!D26=\"Ücretli Öğretmen (Emekli çalışan)\"),\n'EK DERS Ücret Hesaplama'!M26,\"\")","v":""},{"$f":"IF(AND('EK DERS Ücret Hesaplama'!AM26=1,'EK DERS Ücret Hesaplama'!D26=\"Ücretli Öğretmen (Emekli çalışan)\"),\n'EK DERS Ücret Hesaplama'!N26,\"\")","v":""},{"$f":"IF(AND('EK DERS Ücret Hesaplama'!AM26=1,'EK DERS Ücret Hesaplama'!D26=\"Ücretli Öğretmen (Emekli çalışan)\"),\n'EK DERS Ücret Hesaplama'!P26,\"\")","v":""},{"$f":"IF(AND('EK DERS Ücret Hesaplama'!AM26=1,'EK DERS Ücret Hesaplama'!D26=\"Ücretli Öğretmen (Emekli çalışan)\"),\n'EK DERS Ücret Hesaplama'!R26,\"\")","v":""},{"$f":"IF(AND('EK DERS Ücret Hesaplama'!AM26=1,'EK DERS Ücret Hesaplama'!D26=\"Ücretli Öğretmen (Emekli çalışan)\"),\n'EK DERS Ücret Hesaplama'!AH26,\"\")","v":""},"","",null,0]
[{"$f":"IF(B32=\"\",\"\",SUBTOTAL(103,$B$11:B32))","v":""},{"$f":"IF('EK DERS Ücret Hesaplama'!$AM27=1,'EK DERS Ücret Hesaplama'!B27,\"\")","v":""},{"$f":"IF('EK DERS Ücret Hesaplama'!$AM27=1,'EK DERS Ücret Hesaplama'!C27,\"\")","v":""},{"$f":"IF('EK DERS Ücret Hesaplama'!$AM27=1,IF('EK DERS Ücret Hesaplama'!D27=\"Ücretli Öğretmen\",\"Ücretli Öğr.\",\"Ücr.Öğr. (Emekli)\"),\"\")","v":""},{"$f":"IF(AND('EK DERS Ücret Hesaplama'!AM27=1,'EK DERS Ücret Hesaplama'!D27=\"Ücretli Öğretmen\"),\n'EK DERS Ücret Hesaplama'!M27,\"\")","v":""},{"$f":"IF(AND('EK DERS Ücret Hesaplama'!AM27=1,'EK DERS Ücret Hesaplama'!D27=\"Ücretli Öğretmen\"),\n'EK DERS Ücret Hesaplama'!N27,\"\")","v":""},{"$f":"IF(AND('EK DERS Ücret Hesaplama'!AM27=1,'EK DERS Ücret Hesaplama'!D27=\"Ücretli Öğretmen\"),\n'EK DERS Ücret Hesaplama'!P27,\"\")","v":""},{"$f":"IF(AND('EK DERS Ücret Hesaplama'!AM27=1,'EK DERS Ücret Hesaplama'!D27=\"Ücretli Öğretmen\"),\n'EK DERS Ücret Hesaplama'!Q27,\"\")","v":""},{"$f":"IF(AND('EK DERS Ücret Hesaplama'!AM27=1,'EK DERS Ücret Hesaplama'!D27=\"Ücretli Öğretmen\"),\n'EK DERS Ücret Hesaplama'!AF27,\"\")","v":""},"","","",{"$f":"IF(AND('EK DERS Ücret Hesaplama'!AM27=1,'EK DERS Ücret Hesaplama'!D27=\"Ücretli Öğretmen (Emekli çalışan)\"),\n'EK DERS Ücret Hesaplama'!M27,\"\")","v":""},{"$f":"IF(AND('EK DERS Ücret Hesaplama'!AM27=1,'EK DERS Ücret Hesaplama'!D27=\"Ücretli Öğretmen (Emekli çalışan)\"),\n'EK DERS Ücret Hesaplama'!N27,\"\")","v":""},{"$f":"IF(AND('EK DERS Ücret Hesaplama'!AM27=1,'EK DERS Ücret Hesaplama'!D27=\"Ücretli Öğretmen (Emekli çalışan)\"),\n'EK DERS Ücret Hesaplama'!P27,\"\")","v":""},{"$f":"IF(AND('EK DERS Ücret Hesaplama'!AM27=1,'EK DERS Ücret Hesaplama'!D27=\"Ücretli Öğretmen (Emekli çalışan)\"),\n'EK DERS Ücret Hesaplama'!R27,\"\")","v":""},{"$f":"IF(AND('EK DERS Ücret Hesaplama'!AM27=1,'EK DERS Ücret Hesaplama'!D27=\"Ücretli Öğretmen (Emekli çalışan)\"),\n'EK DERS Ücret Hesaplama'!AH27,\"\")","v":""},"","",null,0]
[{"$f":"IF(B33=\"\",\"\",SUBTOTAL(103,$B$11:B33))","v":""},{"$f":"IF('EK DERS Ücret Hesaplama'!$AM28=1,'EK DERS Ücret Hesaplama'!B28,\"\")","v":""},{"$f":"IF('EK DERS Ücret Hesaplama'!$AM28=1,'EK DERS Ücret Hesaplama'!C28,\"\")","v":""},{"$f":"IF('EK DERS Ücret Hesaplama'!$AM28=1,IF('EK DERS Ücret Hesaplama'!D28=\"Ücretli Öğretmen\",\"Ücretli Öğr.\",\"Ücr.Öğr. (Emekli)\"),\"\")","v":""},{"$f":"IF(AND('EK DERS Ücret Hesaplama'!AM28=1,'EK DERS Ücret Hesaplama'!D28=\"Ücretli Öğretmen\"),\n'EK DERS Ücret Hesaplama'!M28,\"\")","v":""},{"$f":"IF(AND('EK DERS Ücret Hesaplama'!AM28=1,'EK DERS Ücret Hesaplama'!D28=\"Ücretli Öğretmen\"),\n'EK DERS Ücret Hesaplama'!N28,\"\")","v":""},{"$f":"IF(AND('EK DERS Ücret Hesaplama'!AM28=1,'EK DERS Ücret Hesaplama'!D28=\"Ücretli Öğretmen\"),\n'EK DERS Ücret Hesaplama'!P28,\"\")","v":""},{"$f":"IF(AND('EK DERS Ücret Hesaplama'!AM28=1,'EK DERS Ücret Hesaplama'!D28=\"Ücretli Öğretmen\"),\n'EK DERS Ücret Hesaplama'!Q28,\"\")","v":""},{"$f":"IF(AND('EK DERS Ücret Hesaplama'!AM28=1,'EK DERS Ücret Hesaplama'!D28=\"Ücretli Öğretmen\"),\n'EK DERS Ücret Hesaplama'!AF28,\"\")","v":""},"","","",{"$f":"IF(AND('EK DERS Ücret Hesaplama'!AM28=1,'EK DERS Ücret Hesaplama'!D28=\"Ücretli Öğretmen (Emekli çalışan)\"),\n'EK DERS Ücret Hesaplama'!M28,\"\")","v":""},{"$f":"IF(AND('EK DERS Ücret Hesaplama'!AM28=1,'EK DERS Ücret Hesaplama'!D28=\"Ücretli Öğretmen (Emekli çalışan)\"),\n'EK DERS Ücret Hesaplama'!N28,\"\")","v":""},{"$f":"IF(AND('EK DERS Ücret Hesaplama'!AM28=1,'EK DERS Ücret Hesaplama'!D28=\"Ücretli Öğretmen (Emekli çalışan)\"),\n'EK DERS Ücret Hesaplama'!P28,\"\")","v":""},{"$f":"IF(AND('EK DERS Ücret Hesaplama'!AM28=1,'EK DERS Ücret Hesaplama'!D28=\"Ücretli Öğretmen (Emekli çalışan)\"),\n'EK DERS Ücret Hesaplama'!R28,\"\")","v":""},{"$f":"IF(AND('EK DERS Ücret Hesaplama'!AM28=1,'EK DERS Ücret Hesaplama'!D28=\"Ücretli Öğretmen (Emekli çalışan)\"),\n'EK DERS Ücret Hesaplama'!AH28,\"\")","v":""},"","",null,0]
[{"$f":"IF(B34=\"\",\"\",SUBTOTAL(103,$B$11:B34))","v":""},{"$f":"IF('EK DERS Ücret Hesaplama'!$AM29=1,'EK DERS Ücret Hesaplama'!B29,\"\")","v":""},{"$f":"IF('EK DERS Ücret Hesaplama'!$AM29=1,'EK DERS Ücret Hesaplama'!C29,\"\")","v":""},{"$f":"IF('EK DERS Ücret Hesaplama'!$AM29=1,IF('EK DERS Ücret Hesaplama'!D29=\"Ücretli Öğretmen\",\"Ücretli Öğr.\",\"Ücr.Öğr. (Emekli)\"),\"\")","v":""},{"$f":"IF(AND('EK DERS Ücret Hesaplama'!AM29=1,'EK DERS Ücret Hesaplama'!D29=\"Ücretli Öğretmen\"),\n'EK DERS Ücret Hesaplama'!M29,\"\")","v":""},{"$f":"IF(AND('EK DERS Ücret Hesaplama'!AM29=1,'EK DERS Ücret Hesaplama'!D29=\"Ücretli Öğretmen\"),\n'EK DERS Ücret Hesaplama'!N29,\"\")","v":""},{"$f":"IF(AND('EK DERS Ücret Hesaplama'!AM29=1,'EK DERS Ücret Hesaplama'!D29=\"Ücretli Öğretmen\"),\n'EK DERS Ücret Hesaplama'!P29,\"\")","v":""},{"$f":"IF(AND('EK DERS Ücret Hesaplama'!AM29=1,'EK DERS Ücret Hesaplama'!D29=\"Ücretli Öğretmen\"),\n'EK DERS Ücret Hesaplama'!Q29,\"\")","v":""},{"$f":"IF(AND('EK DERS Ücret Hesaplama'!AM29=1,'EK DERS Ücret Hesaplama'!D29=\"Ücretli Öğretmen\"),\n'EK DERS Ücret Hesaplama'!AF29,\"\")","v":""},"","","",{"$f":"IF(AND('EK DERS Ücret Hesaplama'!AM29=1,'EK DERS Ücret Hesaplama'!D29=\"Ücretli Öğretmen (Emekli çalışan)\"),\n'EK DERS Ücret Hesaplama'!M29,\"\")","v":""},{"$f":"IF(AND('EK DERS Ücret Hesaplama'!AM29=1,'EK DERS Ücret Hesaplama'!D29=\"Ücretli Öğretmen (Emekli çalışan)\"),\n'EK DERS Ücret Hesaplama'!N29,\"\")","v":""},{"$f":"IF(AND('EK DERS Ücret Hesaplama'!AM29=1,'EK DERS Ücret Hesaplama'!D29=\"Ücretli Öğretmen (Emekli çalışan)\"),\n'EK DERS Ücret Hesaplama'!P29,\"\")","v":""},{"$f":"IF(AND('EK DERS Ücret Hesaplama'!AM29=1,'EK DERS Ücret Hesaplama'!D29=\"Ücretli Öğretmen (Emekli çalışan)\"),\n'EK DERS Ücret Hesaplama'!R29,\"\")","v":""},{"$f":"IF(AND('EK DERS Ücret Hesaplama'!AM29=1,'EK DERS Ücret Hesaplama'!D29=\"Ücretli Öğretmen (Emekli çalışan)\"),\n'EK DERS Ücret Hesaplama'!AH29,\"\")","v":""},"","",null,0]
[{"$f":"IF(B35=\"\",\"\",SUBTOTAL(103,$B$11:B35))","v":""},{"$f":"IF('EK DERS Ücret Hesaplama'!$AM30=1,'EK DERS Ücret Hesaplama'!B30,\"\")","v":""},{"$f":"IF('EK DERS Ücret Hesaplama'!$AM30=1,'EK DERS Ücret Hesaplama'!C30,\"\")","v":""},{"$f":"IF('EK DERS Ücret Hesaplama'!$AM30=1,IF('EK DERS Ücret Hesaplama'!D30=\"Ücretli Öğretmen\",\"Ücretli Öğr.\",\"Ücr.Öğr. (Emekli)\"),\"\")","v":""},{"$f":"IF(AND('EK DERS Ücret Hesaplama'!AM30=1,'EK DERS Ücret Hesaplama'!D30=\"Ücretli Öğretmen\"),\n'EK DERS Ücret Hesaplama'!M30,\"\")","v":""},{"$f":"IF(AND('EK DERS Ücret Hesaplama'!AM30=1,'EK DERS Ücret Hesaplama'!D30=\"Ücretli Öğretmen\"),\n'EK DERS Ücret Hesaplama'!N30,\"\")","v":""},{"$f":"IF(AND('EK DERS Ücret Hesaplama'!AM30=1,'EK DERS Ücret Hesaplama'!D30=\"Ücretli Öğretmen\"),\n'EK DERS Ücret Hesaplama'!P30,\"\")","v":""},{"$f":"IF(AND('EK DERS Ücret Hesaplama'!AM30=1,'EK DERS Ücret Hesaplama'!D30=\"Ücretli Öğretmen\"),\n'EK DERS Ücret Hesaplama'!Q30,\"\")","v":""},{"$f":"IF(AND('EK DERS Ücret Hesaplama'!AM30=1,'EK DERS Ücret Hesaplama'!D30=\"Ücretli Öğretmen\"),\n'EK DERS Ücret Hesaplama'!AF30,\"\")","v":""},"","","",{"$f":"IF(AND('EK DERS Ücret Hesaplama'!AM30=1,'EK DERS Ücret Hesaplama'!D30=\"Ücretli Öğretmen (Emekli çalışan)\"),\n'EK DERS Ücret Hesaplama'!M30,\"\")","v":""},{"$f":"IF(AND('EK DERS Ücret Hesaplama'!AM30=1,'EK DERS Ücret Hesaplama'!D30=\"Ücretli Öğretmen (Emekli çalışan)\"),\n'EK DERS Ücret Hesaplama'!N30,\"\")","v":""},{"$f":"IF(AND('EK DERS Ücret Hesaplama'!AM30=1,'EK DERS Ücret Hesaplama'!D30=\"Ücretli Öğretmen (Emekli çalışan)\"),\n'EK DERS Ücret Hesaplama'!P30,\"\")","v":""},{"$f":"IF(AND('EK DERS Ücret Hesaplama'!AM30=1,'EK DERS Ücret Hesaplama'!D30=\"Ücretli Öğretmen (Emekli çalışan)\"),\n'EK DERS Ücret Hesaplama'!R30,\"\")","v":""},{"$f":"IF(AND('EK DERS Ücret Hesaplama'!AM30=1,'EK DERS Ücret Hesaplama'!D30=\"Ücretli Öğretmen (Emekli çalışan)\"),\n'EK DERS Ücret Hesaplama'!AH30,\"\")","v":""},"","",null,0]
[{"$f":"IF(B36=\"\",\"\",SUBTOTAL(103,$B$11:B36))","v":""},{"$f":"IF('EK DERS Ücret Hesaplama'!$AM31=1,'EK DERS Ücret Hesaplama'!B31,\"\")","v":""},{"$f":"IF('EK DERS Ücret Hesaplama'!$AM31=1,'EK DERS Ücret Hesaplama'!C31,\"\")","v":""},{"$f":"IF('EK DERS Ücret Hesaplama'!$AM31=1,IF('EK DERS Ücret Hesaplama'!D31=\"Ücretli Öğretmen\",\"Ücretli Öğr.\",\"Ücr.Öğr. (Emekli)\"),\"\")","v":""},{"$f":"IF(AND('EK DERS Ücret Hesaplama'!AM31=1,'EK DERS Ücret Hesaplama'!D31=\"Ücretli Öğretmen\"),\n'EK DERS Ücret Hesaplama'!M31,\"\")","v":""},{"$f":"IF(AND('EK DERS Ücret Hesaplama'!AM31=1,'EK DERS Ücret Hesaplama'!D31=\"Ücretli Öğretmen\"),\n'EK DERS Ücret Hesaplama'!N31,\"\")","v":""},{"$f":"IF(AND('EK DERS Ücret Hesaplama'!AM31=1,'EK DERS Ücret Hesaplama'!D31=\"Ücretli Öğretmen\"),\n'EK DERS Ücret Hesaplama'!P31,\"\")","v":""},{"$f":"IF(AND('EK DERS Ücret Hesaplama'!AM31=1,'EK DERS Ücret Hesaplama'!D31=\"Ücretli Öğretmen\"),\n'EK DERS Ücret Hesaplama'!Q31,\"\")","v":""},{"$f":"IF(AND('EK DERS Ücret Hesaplama'!AM31=1,'EK DERS Ücret Hesaplama'!D31=\"Ücretli Öğretmen\"),\n'EK DERS Ücret Hesaplama'!AF31,\"\")","v":""},"","","",{"$f":"IF(AND('EK DERS Ücret Hesaplama'!AM31=1,'EK DERS Ücret Hesaplama'!D31=\"Ücretli Öğretmen (Emekli çalışan)\"),\n'EK DERS Ücret Hesaplama'!M31,\"\")","v":""},{"$f":"IF(AND('EK DERS Ücret Hesaplama'!AM31=1,'EK DERS Ücret Hesaplama'!D31=\"Ücretli Öğretmen (Emekli çalışan)\"),\n'EK DERS Ücret Hesaplama'!N31,\"\")","v":""},{"$f":"IF(AND('EK DERS Ücret Hesaplama'!AM31=1,'EK DERS Ücret Hesaplama'!D31=\"Ücretli Öğretmen (Emekli çalışan)\"),\n'EK DERS Ücret Hesaplama'!P31,\"\")","v":""},{"$f":"IF(AND('EK DERS Ücret Hesaplama'!AM31=1,'EK DERS Ücret Hesaplama'!D31=\"Ücretli Öğretmen (Emekli çalışan)\"),\n'EK DERS Ücret Hesaplama'!R31,\"\")","v":""},{"$f":"IF(AND('EK DERS Ücret Hesaplama'!AM31=1,'EK DERS Ücret Hesaplama'!D31=\"Ücretli Öğretmen (Emekli çalışan)\"),\n'EK DERS Ücret Hesaplama'!AH31,\"\")","v":""},"","",null,0]
[{"$f":"IF(B37=\"\",\"\",SUBTOTAL(103,$B$11:B37))","v":""},{"$f":"IF('EK DERS Ücret Hesaplama'!$AM32=1,'EK DERS Ücret Hesaplama'!B32,\"\")","v":""},{"$f":"IF('EK DERS Ücret Hesaplama'!$AM32=1,'EK DERS Ücret Hesaplama'!C32,\"\")","v":""},{"$f":"IF('EK DERS Ücret Hesaplama'!$AM32=1,IF('EK DERS Ücret Hesaplama'!D32=\"Ücretli Öğretmen\",\"Ücretli Öğr.\",\"Ücr.Öğr. (Emekli)\"),\"\")","v":""},{"$f":"IF(AND('EK DERS Ücret Hesaplama'!AM32=1,'EK DERS Ücret Hesaplama'!D32=\"Ücretli Öğretmen\"),\n'EK DERS Ücret Hesaplama'!M32,\"\")","v":""},{"$f":"IF(AND('EK DERS Ücret Hesaplama'!AM32=1,'EK DERS Ücret Hesaplama'!D32=\"Ücretli Öğretmen\"),\n'EK DERS Ücret Hesaplama'!N32,\"\")","v":""},{"$f":"IF(AND('EK DERS Ücret Hesaplama'!AM32=1,'EK DERS Ücret Hesaplama'!D32=\"Ücretli Öğretmen\"),\n'EK DERS Ücret Hesaplama'!P32,\"\")","v":""},{"$f":"IF(AND('EK DERS Ücret Hesaplama'!AM32=1,'EK DERS Ücret Hesaplama'!D32=\"Ücretli Öğretmen\"),\n'EK DERS Ücret Hesaplama'!Q32,\"\")","v":""},{"$f":"IF(AND('EK DERS Ücret Hesaplama'!AM32=1,'EK DERS Ücret Hesaplama'!D32=\"Ücretli Öğretmen\"),\n'EK DERS Ücret Hesaplama'!AF32,\"\")","v":""},"","","",{"$f":"IF(AND('EK DERS Ücret Hesaplama'!AM32=1,'EK DERS Ücret Hesaplama'!D32=\"Ücretli Öğretmen (Emekli çalışan)\"),\n'EK DERS Ücret Hesaplama'!M32,\"\")","v":""},{"$f":"IF(AND('EK DERS Ücret Hesaplama'!AM32=1,'EK DERS Ücret Hesaplama'!D32=\"Ücretli Öğretmen (Emekli çalışan)\"),\n'EK DERS Ücret Hesaplama'!N32,\"\")","v":""},{"$f":"IF(AND('EK DERS Ücret Hesaplama'!AM32=1,'EK DERS Ücret Hesaplama'!D32=\"Ücretli Öğretmen (Emekli çalışan)\"),\n'EK DERS Ücret Hesaplama'!P32,\"\")","v":""},{"$f":"IF(AND('EK DERS Ücret Hesaplama'!AM32=1,'EK DERS Ücret Hesaplama'!D32=\"Ücretli Öğretmen (Emekli çalışan)\"),\n'EK DERS Ücret Hesaplama'!R32,\"\")","v":""},{"$f":"IF(AND('EK DERS Ücret Hesaplama'!AM32=1,'EK DERS Ücret Hesaplama'!D32=\"Ücretli Öğretmen (Emekli çalışan)\"),\n'EK DERS Ücret Hesaplama'!AH32,\"\")","v":""},"","",null,0]
[{"$f":"IF(B38=\"\",\"\",SUBTOTAL(103,$B$11:B38))","v":""},{"$f":"IF('EK DERS Ücret Hesaplama'!$AM33=1,'EK DERS Ücret Hesaplama'!B33,\"\")","v":""},{"$f":"IF('EK DERS Ücret Hesaplama'!$AM33=1,'EK DERS Ücret Hesaplama'!C33,\"\")","v":""},{"$f":"IF('EK DERS Ücret Hesaplama'!$AM33=1,IF('EK DERS Ücret Hesaplama'!D33=\"Ücretli Öğretmen\",\"Ücretli Öğr.\",\"Ücr.Öğr. (Emekli)\"),\"\")","v":""},{"$f":"IF(AND('EK DERS Ücret Hesaplama'!AM33=1,'EK DERS Ücret Hesaplama'!D33=\"Ücretli Öğretmen\"),\n'EK DERS Ücret Hesaplama'!M33,\"\")","v":""},{"$f":"IF(AND('EK DERS Ücret Hesaplama'!AM33=1,'EK DERS Ücret Hesaplama'!D33=\"Ücretli Öğretmen\"),\n'EK DERS Ücret Hesaplama'!N33,\"\")","v":""},{"$f":"IF(AND('EK DERS Ücret Hesaplama'!AM33=1,'EK DERS Ücret Hesaplama'!D33=\"Ücretli Öğretmen\"),\n'EK DERS Ücret Hesaplama'!P33,\"\")","v":""},{"$f":"IF(AND('EK DERS Ücret Hesaplama'!AM33=1,'EK DERS Ücret Hesaplama'!D33=\"Ücretli Öğretmen\"),\n'EK DERS Ücret Hesaplama'!Q33,\"\")","v":""},{"$f":"IF(AND('EK DERS Ücret Hesaplama'!AM33=1,'EK DERS Ücret Hesaplama'!D33=\"Ücretli Öğretmen\"),\n'EK DERS Ücret Hesaplama'!AF33,\"\")","v":""},"","","",{"$f":"IF(AND('EK DERS Ücret Hesaplama'!AM33=1,'EK DERS Ücret Hesaplama'!D33=\"Ücretli Öğretmen (Emekli çalışan)\"),\n'EK DERS Ücret Hesaplama'!M33,\"\")","v":""},{"$f":"IF(AND('EK DERS Ücret Hesaplama'!AM33=1,'EK DERS Ücret Hesaplama'!D33=\"Ücretli Öğretmen (Emekli çalışan)\"),\n'EK DERS Ücret Hesaplama'!N33,\"\")","v":""},{"$f":"IF(AND('EK DERS Ücret Hesaplama'!AM33=1,'EK DERS Ücret Hesaplama'!D33=\"Ücretli Öğretmen (Emekli çalışan)\"),\n'EK DERS Ücret Hesaplama'!P33,\"\")","v":""},{"$f":"IF(AND('EK DERS Ücret Hesaplama'!AM33=1,'EK DERS Ücret Hesaplama'!D33=\"Ücretli Öğretmen (Emekli çalışan)\"),\n'EK DERS Ücret Hesaplama'!R33,\"\")","v":""},{"$f":"IF(AND('EK DERS Ücret Hesaplama'!AM33=1,'EK DERS Ücret Hesaplama'!D33=\"Ücretli Öğretmen (Emekli çalışan)\"),\n'EK DERS Ücret Hesaplama'!AH33,\"\")","v":""},"","",null,0]
[{"$f":"IF(B39=\"\",\"\",SUBTOTAL(103,$B$11:B39))","v":""},{"$f":"IF('EK DERS Ücret Hesaplama'!$AM34=1,'EK DERS Ücret Hesaplama'!B34,\"\")","v":""},{"$f":"IF('EK DERS Ücret Hesaplama'!$AM34=1,'EK DERS Ücret Hesaplama'!C34,\"\")","v":""},{"$f":"IF('EK DERS Ücret Hesaplama'!$AM34=1,IF('EK DERS Ücret Hesaplama'!D34=\"Ücretli Öğretmen\",\"Ücretli Öğr.\",\"Ücr.Öğr. (Emekli)\"),\"\")","v":""},{"$f":"IF(AND('EK DERS Ücret Hesaplama'!AM34=1,'EK DERS Ücret Hesaplama'!D34=\"Ücretli Öğretmen\"),\n'EK DERS Ücret Hesaplama'!M34,\"\")","v":""},{"$f":"IF(AND('EK DERS Ücret Hesaplama'!AM34=1,'EK DERS Ücret Hesaplama'!D34=\"Ücretli Öğretmen\"),\n'EK DERS Ücret Hesaplama'!N34,\"\")","v":""},{"$f":"IF(AND('EK DERS Ücret Hesaplama'!AM34=1,'EK DERS Ücret Hesaplama'!D34=\"Ücretli Öğretmen\"),\n'EK DERS Ücret Hesaplama'!P34,\"\")","v":""},{"$f":"IF(AND('EK DERS Ücret Hesaplama'!AM34=1,'EK DERS Ücret Hesaplama'!D34=\"Ücretli Öğretmen\"),\n'EK DERS Ücret Hesaplama'!Q34,\"\")","v":""},{"$f":"IF(AND('EK DERS Ücret Hesaplama'!AM34=1,'EK DERS Ücret Hesaplama'!D34=\"Ücretli Öğretmen\"),\n'EK DERS Ücret Hesaplama'!AF34,\"\")","v":""},"","","",{"$f":"IF(AND('EK DERS Ücret Hesaplama'!AM34=1,'EK DERS Ücret Hesaplama'!D34=\"Ücretli Öğretmen (Emekli çalışan)\"),\n'EK DERS Ücret Hesaplama'!M34,\"\")","v":""},{"$f":"IF(AND('EK DERS Ücret Hesaplama'!AM34=1,'EK DERS Ücret Hesaplama'!D34=\"Ücretli Öğretmen (Emekli çalışan)\"),\n'EK DERS Ücret Hesaplama'!N34,\"\")","v":""},{"$f":"IF(AND('EK DERS Ücret Hesaplama'!AM34=1,'EK DERS Ücret Hesaplama'!D34=\"Ücretli Öğretmen (Emekli çalışan)\"),\n'EK DERS Ücret Hesaplama'!P34,\"\")","v":""},{"$f":"IF(AND('EK DERS Ücret Hesaplama'!AM34=1,'EK DERS Ücret Hesaplama'!D34=\"Ücretli Öğretmen (Emekli çalışan)\"),\n'EK DERS Ücret Hesaplama'!R34,\"\")","v":""},{"$f":"IF(AND('EK DERS Ücret Hesaplama'!AM34=1,'EK DERS Ücret Hesaplama'!D34=\"Ücretli Öğretmen (Emekli çalışan)\"),\n'EK DERS Ücret Hesaplama'!AH34,\"\")","v":""},"","",null,0]
[{"$f":"IF(B40=\"\",\"\",SUBTOTAL(103,$B$11:B40))","v":""},{"$f":"IF('EK DERS Ücret Hesaplama'!$AM35=1,'EK DERS Ücret Hesaplama'!B35,\"\")","v":""},{"$f":"IF('EK DERS Ücret Hesaplama'!$AM35=1,'EK DERS Ücret Hesaplama'!C35,\"\")","v":""},{"$f":"IF('EK DERS Ücret Hesaplama'!$AM35=1,IF('EK DERS Ücret Hesaplama'!D35=\"Ücretli Öğretmen\",\"Ücretli Öğr.\",\"Ücr.Öğr. (Emekli)\"),\"\")","v":""},{"$f":"IF(AND('EK DERS Ücret Hesaplama'!AM35=1,'EK DERS Ücret Hesaplama'!D35=\"Ücretli Öğretmen\"),\n'EK DERS Ücret Hesaplama'!M35,\"\")","v":""},{"$f":"IF(AND('EK DERS Ücret Hesaplama'!AM35=1,'EK DERS Ücret Hesaplama'!D35=\"Ücretli Öğretmen\"),\n'EK DERS Ücret Hesaplama'!N35,\"\")","v":""},{"$f":"IF(AND('EK DERS Ücret Hesaplama'!AM35=1,'EK DERS Ücret Hesaplama'!D35=\"Ücretli Öğretmen\"),\n'EK DERS Ücret Hesaplama'!P35,\"\")","v":""},{"$f":"IF(AND('EK DERS Ücret Hesaplama'!AM35=1,'EK DERS Ücret Hesaplama'!D35=\"Ücretli Öğretmen\"),\n'EK DERS Ücret Hesaplama'!Q35,\"\")","v":""},{"$f":"IF(AND('EK DERS Ücret Hesaplama'!AM35=1,'EK DERS Ücret Hesaplama'!D35=\"Ücretli Öğretmen\"),\n'EK DERS Ücret Hesaplama'!AF35,\"\")","v":""},"","","",{"$f":"IF(AND('EK DERS Ücret Hesaplama'!AM35=1,'EK DERS Ücret Hesaplama'!D35=\"Ücretli Öğretmen (Emekli çalışan)\"),\n'EK DERS Ücret Hesaplama'!M35,\"\")","v":""},{"$f":"IF(AND('EK DERS Ücret Hesaplama'!AM35=1,'EK DERS Ücret Hesaplama'!D35=\"Ücretli Öğretmen (Emekli çalışan)\"),\n'EK DERS Ücret Hesaplama'!N35,\"\")","v":""},{"$f":"IF(AND('EK DERS Ücret Hesaplama'!AM35=1,'EK DERS Ücret Hesaplama'!D35=\"Ücretli Öğretmen (Emekli çalışan)\"),\n'EK DERS Ücret Hesaplama'!P35,\"\")","v":""},{"$f":"IF(AND('EK DERS Ücret Hesaplama'!AM35=1,'EK DERS Ücret Hesaplama'!D35=\"Ücretli Öğretmen (Emekli çalışan)\"),\n'EK DERS Ücret Hesaplama'!R35,\"\")","v":""},{"$f":"IF(AND('EK DERS Ücret Hesaplama'!AM35=1,'EK DERS Ücret Hesaplama'!D35=\"Ücretli Öğretmen (Emekli çalışan)\"),\n'EK DERS Ücret Hesaplama'!AH35,\"\")","v":""},"","",null,0]
[{"$f":"IF(B41=\"\",\"\",SUBTOTAL(103,$B$11:B41))","v":""},{"$f":"IF('EK DERS Ücret Hesaplama'!$AM36=1,'EK DERS Ücret Hesaplama'!B36,\"\")","v":""},{"$f":"IF('EK DERS Ücret Hesaplama'!$AM36=1,'EK DERS Ücret Hesaplama'!C36,\"\")","v":""},{"$f":"IF('EK DERS Ücret Hesaplama'!$AM36=1,IF('EK DERS Ücret Hesaplama'!D36=\"Ücretli Öğretmen\",\"Ücretli Öğr.\",\"Ücr.Öğr. (Emekli)\"),\"\")","v":""},{"$f":"IF(AND('EK DERS Ücret Hesaplama'!AM36=1,'EK DERS Ücret Hesaplama'!D36=\"Ücretli Öğretmen\"),\n'EK DERS Ücret Hesaplama'!M36,\"\")","v":""},{"$f":"IF(AND('EK DERS Ücret Hesaplama'!AM36=1,'EK DERS Ücret Hesaplama'!D36=\"Ücretli Öğretmen\"),\n'EK DERS Ücret Hesaplama'!N36,\"\")","v":""},{"$f":"IF(AND('EK DERS Ücret Hesaplama'!AM36=1,'EK DERS Ücret Hesaplama'!D36=\"Ücretli Öğretmen\"),\n'EK DERS Ücret Hesaplama'!P36,\"\")","v":""},{"$f":"IF(AND('EK DERS Ücret Hesaplama'!AM36=1,'EK DERS Ücret Hesaplama'!D36=\"Ücretli Öğretmen\"),\n'EK DERS Ücret Hesaplama'!Q36,\"\")","v":""},{"$f":"IF(AND('EK DERS Ücret Hesaplama'!AM36=1,'EK DERS Ücret Hesaplama'!D36=\"Ücretli Öğretmen\"),\n'EK DERS Ücret Hesaplama'!AF36,\"\")","v":""},"","","",{"$f":"IF(AND('EK DERS Ücret Hesaplama'!AM36=1,'EK DERS Ücret Hesaplama'!D36=\"Ücretli Öğretmen (Emekli çalışan)\"),\n'EK DERS Ücret Hesaplama'!M36,\"\")","v":""},{"$f":"IF(AND('EK DERS Ücret Hesaplama'!AM36=1,'EK DERS Ücret Hesaplama'!D36=\"Ücretli Öğretmen (Emekli çalışan)\"),\n'EK DERS Ücret Hesaplama'!N36,\"\")","v":""},{"$f":"IF(AND('EK DERS Ücret Hesaplama'!AM36=1,'EK DERS Ücret Hesaplama'!D36=\"Ücretli Öğretmen (Emekli çalışan)\"),\n'EK DERS Ücret Hesaplama'!P36,\"\")","v":""},{"$f":"IF(AND('EK DERS Ücret Hesaplama'!AM36=1,'EK DERS Ücret Hesaplama'!D36=\"Ücretli Öğretmen (Emekli çalışan)\"),\n'EK DERS Ücret Hesaplama'!R36,\"\")","v":""},{"$f":"IF(AND('EK DERS Ücret Hesaplama'!AM36=1,'EK DERS Ücret Hesaplama'!D36=\"Ücretli Öğretmen (Emekli çalışan)\"),\n'EK DERS Ücret Hesaplama'!AH36,\"\")","v":""},"","",null,0]
[{"$f":"IF(B42=\"\",\"\",SUBTOTAL(103,$B$11:B42))","v":""},{"$f":"IF('EK DERS Ücret Hesaplama'!$AM37=1,'EK DERS Ücret Hesaplama'!B37,\"\")","v":""},{"$f":"IF('EK DERS Ücret Hesaplama'!$AM37=1,'EK DERS Ücret Hesaplama'!C37,\"\")","v":""},{"$f":"IF('EK DERS Ücret Hesaplama'!$AM37=1,IF('EK DERS Ücret Hesaplama'!D37=\"Ücretli Öğretmen\",\"Ücretli Öğr.\",\"Ücr.Öğr. (Emekli)\"),\"\")","v":""},{"$f":"IF(AND('EK DERS Ücret Hesaplama'!AM37=1,'EK DERS Ücret Hesaplama'!D37=\"Ücretli Öğretmen\"),\n'EK DERS Ücret Hesaplama'!M37,\"\")","v":""},{"$f":"IF(AND('EK DERS Ücret Hesaplama'!AM37=1,'EK DERS Ücret Hesaplama'!D37=\"Ücretli Öğretmen\"),\n'EK DERS Ücret Hesaplama'!N37,\"\")","v":""},{"$f":"IF(AND('EK DERS Ücret Hesaplama'!AM37=1,'EK DERS Ücret Hesaplama'!D37=\"Ücretli Öğretmen\"),\n'EK DERS Ücret Hesaplama'!P37,\"\")","v":""},{"$f":"IF(AND('EK DERS Ücret Hesaplama'!AM37=1,'EK DERS Ücret Hesaplama'!D37=\"Ücretli Öğretmen\"),\n'EK DERS Ücret Hesaplama'!Q37,\"\")","v":""},{"$f":"IF(AND('EK DERS Ücret Hesaplama'!AM37=1,'EK DERS Ücret Hesaplama'!D37=\"Ücretli Öğretmen\"),\n'EK DERS Ücret Hesaplama'!AF37,\"\")","v":""},"","","",{"$f":"IF(AND('EK DERS Ücret Hesaplama'!AM37=1,'EK DERS Ücret Hesaplama'!D37=\"Ücretli Öğretmen (Emekli çalışan)\"),\n'EK DERS Ücret Hesaplama'!M37,\"\")","v":""},{"$f":"IF(AND('EK DERS Ücret Hesaplama'!AM37=1,'EK DERS Ücret Hesaplama'!D37=\"Ücretli Öğretmen (Emekli çalışan)\"),\n'EK DERS Ücret Hesaplama'!N37,\"\")","v":""},{"$f":"IF(AND('EK DERS Ücret Hesaplama'!AM37=1,'EK DERS Ücret Hesaplama'!D37=\"Ücretli Öğretmen (Emekli çalışan)\"),\n'EK DERS Ücret Hesaplama'!P37,\"\")","v":""},{"$f":"IF(AND('EK DERS Ücret Hesaplama'!AM37=1,'EK DERS Ücret Hesaplama'!D37=\"Ücretli Öğretmen (Emekli çalışan)\"),\n'EK DERS Ücret Hesaplama'!R37,\"\")","v":""},{"$f":"IF(AND('EK DERS Ücret Hesaplama'!AM37=1,'EK DERS Ücret Hesaplama'!D37=\"Ücretli Öğretmen (Emekli çalışan)\"),\n'EK DERS Ücret Hesaplama'!AH37,\"\")","v":""},"","",null,0]
[{"$f":"IF(B43=\"\",\"\",SUBTOTAL(103,$B$11:B43))","v":""},{"$f":"IF('EK DERS Ücret Hesaplama'!$AM38=1,'EK DERS Ücret Hesaplama'!B38,\"\")","v":""},{"$f":"IF('EK DERS Ücret Hesaplama'!$AM38=1,'EK DERS Ücret Hesaplama'!C38,\"\")","v":""},{"$f":"IF('EK DERS Ücret Hesaplama'!$AM38=1,IF('EK DERS Ücret Hesaplama'!D38=\"Ücretli Öğretmen\",\"Ücretli Öğr.\",\"Ücr.Öğr. (Emekli)\"),\"\")","v":""},{"$f":"IF(AND('EK DERS Ücret Hesaplama'!AM38=1,'EK DERS Ücret Hesaplama'!D38=\"Ücretli Öğretmen\"),\n'EK DERS Ücret Hesaplama'!M38,\"\")","v":""},{"$f":"IF(AND('EK DERS Ücret Hesaplama'!AM38=1,'EK DERS Ücret Hesaplama'!D38=\"Ücretli Öğretmen\"),\n'EK DERS Ücret Hesaplama'!N38,\"\")","v":""},{"$f":"IF(AND('EK DERS Ücret Hesaplama'!AM38=1,'EK DERS Ücret Hesaplama'!D38=\"Ücretli Öğretmen\"),\n'EK DERS Ücret Hesaplama'!P38,\"\")","v":""},{"$f":"IF(AND('EK DERS Ücret Hesaplama'!AM38=1,'EK DERS Ücret Hesaplama'!D38=\"Ücretli Öğretmen\"),\n'EK DERS Ücret Hesaplama'!Q38,\"\")","v":""},{"$f":"IF(AND('EK DERS Ücret Hesaplama'!AM38=1,'EK DERS Ücret Hesaplama'!D38=\"Ücretli Öğretmen\"),\n'EK DERS Ücret Hesaplama'!AF38,\"\")","v":""},"","","",{"$f":"IF(AND('EK DERS Ücret Hesaplama'!AM38=1,'EK DERS Ücret Hesaplama'!D38=\"Ücretli Öğretmen (Emekli çalışan)\"),\n'EK DERS Ücret Hesaplama'!M38,\"\")","v":""},{"$f":"IF(AND('EK DERS Ücret Hesaplama'!AM38=1,'EK DERS Ücret Hesaplama'!D38=\"Ücretli Öğretmen (Emekli çalışan)\"),\n'EK DERS Ücret Hesaplama'!N38,\"\")","v":""},{"$f":"IF(AND('EK DERS Ücret Hesaplama'!AM38=1,'EK DERS Ücret Hesaplama'!D38=\"Ücretli Öğretmen (Emekli çalışan)\"),\n'EK DERS Ücret Hesaplama'!P38,\"\")","v":""},{"$f":"IF(AND('EK DERS Ücret Hesaplama'!AM38=1,'EK DERS Ücret Hesaplama'!D38=\"Ücretli Öğretmen (Emekli çalışan)\"),\n'EK DERS Ücret Hesaplama'!R38,\"\")","v":""},{"$f":"IF(AND('EK DERS Ücret Hesaplama'!AM38=1,'EK DERS Ücret Hesaplama'!D38=\"Ücretli Öğretmen (Emekli çalışan)\"),\n'EK DERS Ücret Hesaplama'!AH38,\"\")","v":""},"","",null,0]
[{"$f":"IF(B44=\"\",\"\",SUBTOTAL(103,$B$11:B44))","v":""},{"$f":"IF('EK DERS Ücret Hesaplama'!$AM39=1,'EK DERS Ücret Hesaplama'!B39,\"\")","v":""},{"$f":"IF('EK DERS Ücret Hesaplama'!$AM39=1,'EK DERS Ücret Hesaplama'!C39,\"\")","v":""},{"$f":"IF('EK DERS Ücret Hesaplama'!$AM39=1,IF('EK DERS Ücret Hesaplama'!D39=\"Ücretli Öğretmen\",\"Ücretli Öğr.\",\"Ücr.Öğr. (Emekli)\"),\"\")","v":""},{"$f":"IF(AND('EK DERS Ücret Hesaplama'!AM39=1,'EK DERS Ücret Hesaplama'!D39=\"Ücretli Öğretmen\"),\n'EK DERS Ücret Hesaplama'!M39,\"\")","v":""},{"$f":"IF(AND('EK DERS Ücret Hesaplama'!AM39=1,'EK DERS Ücret Hesaplama'!D39=\"Ücretli Öğretmen\"),\n'EK DERS Ücret Hesaplama'!N39,\"\")","v":""},{"$f":"IF(AND('EK DERS Ücret Hesaplama'!AM39=1,'EK DERS Ücret Hesaplama'!D39=\"Ücretli Öğretmen\"),\n'EK DERS Ücret Hesaplama'!P39,\"\")","v":""},{"$f":"IF(AND('EK DERS Ücret Hesaplama'!AM39=1,'EK DERS Ücret Hesaplama'!D39=\"Ücretli Öğretmen\"),\n'EK DERS Ücret Hesaplama'!Q39,\"\")","v":""},{"$f":"IF(AND('EK DERS Ücret Hesaplama'!AM39=1,'EK DERS Ücret Hesaplama'!D39=\"Ücretli Öğretmen\"),\n'EK DERS Ücret Hesaplama'!AF39,\"\")","v":""},"","","",{"$f":"IF(AND('EK DERS Ücret Hesaplama'!AM39=1,'EK DERS Ücret Hesaplama'!D39=\"Ücretli Öğretmen (Emekli çalışan)\"),\n'EK DERS Ücret Hesaplama'!M39,\"\")","v":""},{"$f":"IF(AND('EK DERS Ücret Hesaplama'!AM39=1,'EK DERS Ücret Hesaplama'!D39=\"Ücretli Öğretmen (Emekli çalışan)\"),\n'EK DERS Ücret Hesaplama'!N39,\"\")","v":""},{"$f":"IF(AND('EK DERS Ücret Hesaplama'!AM39=1,'EK DERS Ücret Hesaplama'!D39=\"Ücretli Öğretmen (Emekli çalışan)\"),\n'EK DERS Ücret Hesaplama'!P39,\"\")","v":""},{"$f":"IF(AND('EK DERS Ücret Hesaplama'!AM39=1,'EK DERS Ücret Hesaplama'!D39=\"Ücretli Öğretmen (Emekli çalışan)\"),\n'EK DERS Ücret Hesaplama'!R39,\"\")","v":""},{"$f":"IF(AND('EK DERS Ücret Hesaplama'!AM39=1,'EK DERS Ücret Hesaplama'!D39=\"Ücretli Öğretmen (Emekli çalışan)\"),\n'EK DERS Ücret Hesaplama'!AH39,\"\")","v":""},"","",null,0]
[{"$f":"IF(B45=\"\",\"\",SUBTOTAL(103,$B$11:B45))","v":""},{"$f":"IF('EK DERS Ücret Hesaplama'!$AM40=1,'EK DERS Ücret Hesaplama'!B40,\"\")","v":""},{"$f":"IF('EK DERS Ücret Hesaplama'!$AM40=1,'EK DERS Ücret Hesaplama'!C40,\"\")","v":""},{"$f":"IF('EK DERS Ücret Hesaplama'!$AM40=1,IF('EK DERS Ücret Hesaplama'!D40=\"Ücretli Öğretmen\",\"Ücretli Öğr.\",\"Ücr.Öğr. (Emekli)\"),\"\")","v":""},{"$f":"IF(AND('EK DERS Ücret Hesaplama'!AM40=1,'EK DERS Ücret Hesaplama'!D40=\"Ücretli Öğretmen\"),\n'EK DERS Ücret Hesaplama'!M40,\"\")","v":""},{"$f":"IF(AND('EK DERS Ücret Hesaplama'!AM40=1,'EK DERS Ücret Hesaplama'!D40=\"Ücretli Öğretmen\"),\n'EK DERS Ücret Hesaplama'!N40,\"\")","v":""},{"$f":"IF(AND('EK DERS Ücret Hesaplama'!AM40=1,'EK DERS Ücret Hesaplama'!D40=\"Ücretli Öğretmen\"),\n'EK DERS Ücret Hesaplama'!P40,\"\")","v":""},{"$f":"IF(AND('EK DERS Ücret Hesaplama'!AM40=1,'EK DERS Ücret Hesaplama'!D40=\"Ücretli Öğretmen\"),\n'EK DERS Ücret Hesaplama'!Q40,\"\")","v":""},{"$f":"IF(AND('EK DERS Ücret Hesaplama'!AM40=1,'EK DERS Ücret Hesaplama'!D40=\"Ücretli Öğretmen\"),\n'EK DERS Ücret Hesaplama'!AF40,\"\")","v":""},"","","",{"$f":"IF(AND('EK DERS Ücret Hesaplama'!AM40=1,'EK DERS Ücret Hesaplama'!D40=\"Ücretli Öğretmen (Emekli çalışan)\"),\n'EK DERS Ücret Hesaplama'!M40,\"\")","v":""},{"$f":"IF(AND('EK DERS Ücret Hesaplama'!AM40=1,'EK DERS Ücret Hesaplama'!D40=\"Ücretli Öğretmen (Emekli çalışan)\"),\n'EK DERS Ücret Hesaplama'!N40,\"\")","v":""},{"$f":"IF(AND('EK DERS Ücret Hesaplama'!AM40=1,'EK DERS Ücret Hesaplama'!D40=\"Ücretli Öğretmen (Emekli çalışan)\"),\n'EK DERS Ücret Hesaplama'!P40,\"\")","v":""},{"$f":"IF(AND('EK DERS Ücret Hesaplama'!AM40=1,'EK DERS Ücret Hesaplama'!D40=\"Ücretli Öğretmen (Emekli çalışan)\"),\n'EK DERS Ücret Hesaplama'!R40,\"\")","v":""},{"$f":"IF(AND('EK DERS Ücret Hesaplama'!AM40=1,'EK DERS Ücret Hesaplama'!D40=\"Ücretli Öğretmen (Emekli çalışan)\"),\n'EK DERS Ücret Hesaplama'!AH40,\"\")","v":""},"","",null,0]
[{"$f":"IF(B46=\"\",\"\",SUBTOTAL(103,$B$11:B46))","v":""},{"$f":"IF('EK DERS Ücret Hesaplama'!$AM41=1,'EK DERS Ücret Hesaplama'!B41,\"\")","v":""},{"$f":"IF('EK DERS Ücret Hesaplama'!$AM41=1,'EK DERS Ücret Hesaplama'!C41,\"\")","v":""},{"$f":"IF('EK DERS Ücret Hesaplama'!$AM41=1,IF('EK DERS Ücret Hesaplama'!D41=\"Ücretli Öğretmen\",\"Ücretli Öğr.\",\"Ücr.Öğr. (Emekli)\"),\"\")","v":""},{"$f":"IF(AND('EK DERS Ücret Hesaplama'!AM41=1,'EK DERS Ücret Hesaplama'!D41=\"Ücretli Öğretmen\"),\n'EK DERS Ücret Hesaplama'!M41,\"\")","v":""},{"$f":"IF(AND('EK DERS Ücret Hesaplama'!AM41=1,'EK DERS Ücret Hesaplama'!D41=\"Ücretli Öğretmen\"),\n'EK DERS Ücret Hesaplama'!N41,\"\")","v":""},{"$f":"IF(AND('EK DERS Ücret Hesaplama'!AM41=1,'EK DERS Ücret Hesaplama'!D41=\"Ücretli Öğretmen\"),\n'EK DERS Ücret Hesaplama'!P41,\"\")","v":""},{"$f":"IF(AND('EK DERS Ücret Hesaplama'!AM41=1,'EK DERS Ücret Hesaplama'!D41=\"Ücretli Öğretmen\"),\n'EK DERS Ücret Hesaplama'!Q41,\"\")","v":""},{"$f":"IF(AND('EK DERS Ücret Hesaplama'!AM41=1,'EK DERS Ücret Hesaplama'!D41=\"Ücretli Öğretmen\"),\n'EK DERS Ücret Hesaplama'!AF41,\"\")","v":""},"","","",{"$f":"IF(AND('EK DERS Ücret Hesaplama'!AM41=1,'EK DERS Ücret Hesaplama'!D41=\"Ücretli Öğretmen (Emekli çalışan)\"),\n'EK DERS Ücret Hesaplama'!M41,\"\")","v":""},{"$f":"IF(AND('EK DERS Ücret Hesaplama'!AM41=1,'EK DERS Ücret Hesaplama'!D41=\"Ücretli Öğretmen (Emekli çalışan)\"),\n'EK DERS Ücret Hesaplama'!N41,\"\")","v":""},{"$f":"IF(AND('EK DERS Ücret Hesaplama'!AM41=1,'EK DERS Ücret Hesaplama'!D41=\"Ücretli Öğretmen (Emekli çalışan)\"),\n'EK DERS Ücret Hesaplama'!P41,\"\")","v":""},{"$f":"IF(AND('EK DERS Ücret Hesaplama'!AM41=1,'EK DERS Ücret Hesaplama'!D41=\"Ücretli Öğretmen (Emekli çalışan)\"),\n'EK DERS Ücret Hesaplama'!R41,\"\")","v":""},{"$f":"IF(AND('EK DERS Ücret Hesaplama'!AM41=1,'EK DERS Ücret Hesaplama'!D41=\"Ücretli Öğretmen (Emekli çalışan)\"),\n'EK DERS Ücret Hesaplama'!AH41,\"\")","v":""},"","",null,0]
[{"$f":"IF(B47=\"\",\"\",SUBTOTAL(103,$B$11:B47))","v":""},{"$f":"IF('EK DERS Ücret Hesaplama'!$AM42=1,'EK DERS Ücret Hesaplama'!B42,\"\")","v":""},{"$f":"IF('EK DERS Ücret Hesaplama'!$AM42=1,'EK DERS Ücret Hesaplama'!C42,\"\")","v":""},{"$f":"IF('EK DERS Ücret Hesaplama'!$AM42=1,IF('EK DERS Ücret Hesaplama'!D42=\"Ücretli Öğretmen\",\"Ücretli Öğr.\",\"Ücr.Öğr. (Emekli)\"),\"\")","v":""},{"$f":"IF(AND('EK DERS Ücret Hesaplama'!AM42=1,'EK DERS Ücret Hesaplama'!D42=\"Ücretli Öğretmen\"),\n'EK DERS Ücret Hesaplama'!M42,\"\")","v":""},{"$f":"IF(AND('EK DERS Ücret Hesaplama'!AM42=1,'EK DERS Ücret Hesaplama'!D42=\"Ücretli Öğretmen\"),\n'EK DERS Ücret Hesaplama'!N42,\"\")","v":""},{"$f":"IF(AND('EK DERS Ücret Hesaplama'!AM42=1,'EK DERS Ücret Hesaplama'!D42=\"Ücretli Öğretmen\"),\n'EK DERS Ücret Hesaplama'!P42,\"\")","v":""},{"$f":"IF(AND('EK DERS Ücret Hesaplama'!AM42=1,'EK DERS Ücret Hesaplama'!D42=\"Ücretli Öğretmen\"),\n'EK DERS Ücret Hesaplama'!Q42,\"\")","v":""},{"$f":"IF(AND('EK DERS Ücret Hesaplama'!AM42=1,'EK DERS Ücret Hesaplama'!D42=\"Ücretli Öğretmen\"),\n'EK DERS Ücret Hesaplama'!AF42,\"\")","v":""},"","","",{"$f":"IF(AND('EK DERS Ücret Hesaplama'!AM42=1,'EK DERS Ücret Hesaplama'!D42=\"Ücretli Öğretmen (Emekli çalışan)\"),\n'EK DERS Ücret Hesaplama'!M42,\"\")","v":""},{"$f":"IF(AND('EK DERS Ücret Hesaplama'!AM42=1,'EK DERS Ücret Hesaplama'!D42=\"Ücretli Öğretmen (Emekli çalışan)\"),\n'EK DERS Ücret Hesaplama'!N42,\"\")","v":""},{"$f":"IF(AND('EK DERS Ücret Hesaplama'!AM42=1,'EK DERS Ücret Hesaplama'!D42=\"Ücretli Öğretmen (Emekli çalışan)\"),\n'EK DERS Ücret Hesaplama'!P42,\"\")","v":""},{"$f":"IF(AND('EK DERS Ücret Hesaplama'!AM42=1,'EK DERS Ücret Hesaplama'!D42=\"Ücretli Öğretmen (Emekli çalışan)\"),\n'EK DERS Ücret Hesaplama'!R42,\"\")","v":""},{"$f":"IF(AND('EK DERS Ücret Hesaplama'!AM42=1,'EK DERS Ücret Hesaplama'!D42=\"Ücretli Öğretmen (Emekli çalışan)\"),\n'EK DERS Ücret Hesaplama'!AH42,\"\")","v":""},"","",null,0]
[{"$f":"IF(B48=\"\",\"\",SUBTOTAL(103,$B$11:B48))","v":""},{"$f":"IF('EK DERS Ücret Hesaplama'!$AM43=1,'EK DERS Ücret Hesaplama'!B43,\"\")","v":""},{"$f":"IF('EK DERS Ücret Hesaplama'!$AM43=1,'EK DERS Ücret Hesaplama'!C43,\"\")","v":""},{"$f":"IF('EK DERS Ücret Hesaplama'!$AM43=1,IF('EK DERS Ücret Hesaplama'!D43=\"Ücretli Öğretmen\",\"Ücretli Öğr.\",\"Ücr.Öğr. (Emekli)\"),\"\")","v":""},{"$f":"IF(AND('EK DERS Ücret Hesaplama'!AM43=1,'EK DERS Ücret Hesaplama'!D43=\"Ücretli Öğretmen\"),\n'EK DERS Ücret Hesaplama'!M43,\"\")","v":""},{"$f":"IF(AND('EK DERS Ücret Hesaplama'!AM43=1,'EK DERS Ücret Hesaplama'!D43=\"Ücretli Öğretmen\"),\n'EK DERS Ücret Hesaplama'!N43,\"\")","v":""},{"$f":"IF(AND('EK DERS Ücret Hesaplama'!AM43=1,'EK DERS Ücret Hesaplama'!D43=\"Ücretli Öğretmen\"),\n'EK DERS Ücret Hesaplama'!P43,\"\")","v":""},{"$f":"IF(AND('EK DERS Ücret Hesaplama'!AM43=1,'EK DERS Ücret Hesaplama'!D43=\"Ücretli Öğretmen\"),\n'EK DERS Ücret Hesaplama'!Q43,\"\")","v":""},{"$f":"IF(AND('EK DERS Ücret Hesaplama'!AM43=1,'EK DERS Ücret Hesaplama'!D43=\"Ücretli Öğretmen\"),\n'EK DERS Ücret Hesaplama'!AF43,\"\")","v":""},"","","",{"$f":"IF(AND('EK DERS Ücret Hesaplama'!AM43=1,'EK DERS Ücret Hesaplama'!D43=\"Ücretli Öğretmen (Emekli çalışan)\"),\n'EK DERS Ücret Hesaplama'!M43,\"\")","v":""},{"$f":"IF(AND('EK DERS Ücret Hesaplama'!AM43=1,'EK DERS Ücret Hesaplama'!D43=\"Ücretli Öğretmen (Emekli çalışan)\"),\n'EK DERS Ücret Hesaplama'!N43,\"\")","v":""},{"$f":"IF(AND('EK DERS Ücret Hesaplama'!AM43=1,'EK DERS Ücret Hesaplama'!D43=\"Ücretli Öğretmen (Emekli çalışan)\"),\n'EK DERS Ücret Hesaplama'!P43,\"\")","v":""},{"$f":"IF(AND('EK DERS Ücret Hesaplama'!AM43=1,'EK DERS Ücret Hesaplama'!D43=\"Ücretli Öğretmen (Emekli çalışan)\"),\n'EK DERS Ücret Hesaplama'!R43,\"\")","v":""},{"$f":"IF(AND('EK DERS Ücret Hesaplama'!AM43=1,'EK DERS Ücret Hesaplama'!D43=\"Ücretli Öğretmen (Emekli çalışan)\"),\n'EK DERS Ücret Hesaplama'!AH43,\"\")","v":""},"","",null,0]
[{"$f":"IF(B49=\"\",\"\",SUBTOTAL(103,$B$11:B49))","v":""},{"$f":"IF('EK DERS Ücret Hesaplama'!$AM44=1,'EK DERS Ücret Hesaplama'!B44,\"\")","v":""},{"$f":"IF('EK DERS Ücret Hesaplama'!$AM44=1,'EK DERS Ücret Hesaplama'!C44,\"\")","v":""},{"$f":"IF('EK DERS Ücret Hesaplama'!$AM44=1,IF('EK DERS Ücret Hesaplama'!D44=\"Ücretli Öğretmen\",\"Ücretli Öğr.\",\"Ücr.Öğr. (Emekli)\"),\"\")","v":""},{"$f":"IF(AND('EK DERS Ücret Hesaplama'!AM44=1,'EK DERS Ücret Hesaplama'!D44=\"Ücretli Öğretmen\"),\n'EK DERS Ücret Hesaplama'!M44,\"\")","v":""},{"$f":"IF(AND('EK DERS Ücret Hesaplama'!AM44=1,'EK DERS Ücret Hesaplama'!D44=\"Ücretli Öğretmen\"),\n'EK DERS Ücret Hesaplama'!N44,\"\")","v":""},{"$f":"IF(AND('EK DERS Ücret Hesaplama'!AM44=1,'EK DERS Ücret Hesaplama'!D44=\"Ücretli Öğretmen\"),\n'EK DERS Ücret Hesaplama'!P44,\"\")","v":""},{"$f":"IF(AND('EK DERS Ücret Hesaplama'!AM44=1,'EK DERS Ücret Hesaplama'!D44=\"Ücretli Öğretmen\"),\n'EK DERS Ücret Hesaplama'!Q44,\"\")","v":""},{"$f":"IF(AND('EK DERS Ücret Hesaplama'!AM44=1,'EK DERS Ücret Hesaplama'!D44=\"Ücretli Öğretmen\"),\n'EK DERS Ücret Hesaplama'!AF44,\"\")","v":""},"","","",{"$f":"IF(AND('EK DERS Ücret Hesaplama'!AM44=1,'EK DERS Ücret Hesaplama'!D44=\"Ücretli Öğretmen (Emekli çalışan)\"),\n'EK DERS Ücret Hesaplama'!M44,\"\")","v":""},{"$f":"IF(AND('EK DERS Ücret Hesaplama'!AM44=1,'EK DERS Ücret Hesaplama'!D44=\"Ücretli Öğretmen (Emekli çalışan)\"),\n'EK DERS Ücret Hesaplama'!N44,\"\")","v":""},{"$f":"IF(AND('EK DERS Ücret Hesaplama'!AM44=1,'EK DERS Ücret Hesaplama'!D44=\"Ücretli Öğretmen (Emekli çalışan)\"),\n'EK DERS Ücret Hesaplama'!P44,\"\")","v":""},{"$f":"IF(AND('EK DERS Ücret Hesaplama'!AM44=1,'EK DERS Ücret Hesaplama'!D44=\"Ücretli Öğretmen (Emekli çalışan)\"),\n'EK DERS Ücret Hesaplama'!R44,\"\")","v":""},{"$f":"IF(AND('EK DERS Ücret Hesaplama'!AM44=1,'EK DERS Ücret Hesaplama'!D44=\"Ücretli Öğretmen (Emekli çalışan)\"),\n'EK DERS Ücret Hesaplama'!AH44,\"\")","v":""},"","",null,0]
[{"$f":"IF(B50=\"\",\"\",SUBTOTAL(103,$B$11:B50))","v":""},{"$f":"IF('EK DERS Ücret Hesaplama'!$AM45=1,'EK DERS Ücret Hesaplama'!B45,\"\")","v":""},{"$f":"IF('EK DERS Ücret Hesaplama'!$AM45=1,'EK DERS Ücret Hesaplama'!C45,\"\")","v":""},{"$f":"IF('EK DERS Ücret Hesaplama'!$AM45=1,IF('EK DERS Ücret Hesaplama'!D45=\"Ücretli Öğretmen\",\"Ücretli Öğr.\",\"Ücr.Öğr. (Emekli)\"),\"\")","v":""},{"$f":"IF(AND('EK DERS Ücret Hesaplama'!AM45=1,'EK DERS Ücret Hesaplama'!D45=\"Ücretli Öğretmen\"),\n'EK DERS Ücret Hesaplama'!M45,\"\")","v":""},{"$f":"IF(AND('EK DERS Ücret Hesaplama'!AM45=1,'EK DERS Ücret Hesaplama'!D45=\"Ücretli Öğretmen\"),\n'EK DERS Ücret Hesaplama'!N45,\"\")","v":""},{"$f":"IF(AND('EK DERS Ücret Hesaplama'!AM45=1,'EK DERS Ücret Hesaplama'!D45=\"Ücretli Öğretmen\"),\n'EK DERS Ücret Hesaplama'!P45,\"\")","v":""},{"$f":"IF(AND('EK DERS Ücret Hesaplama'!AM45=1,'EK DERS Ücret Hesaplama'!D45=\"Ücretli Öğretmen\"),\n'EK DERS Ücret Hesaplama'!Q45,\"\")","v":""},{"$f":"IF(AND('EK DERS Ücret Hesaplama'!AM45=1,'EK DERS Ücret Hesaplama'!D45=\"Ücretli Öğretmen\"),\n'EK DERS Ücret Hesaplama'!AF45,\"\")","v":""},"","","",{"$f":"IF(AND('EK DERS Ücret Hesaplama'!AM45=1,'EK DERS Ücret Hesaplama'!D45=\"Ücretli Öğretmen (Emekli çalışan)\"),\n'EK DERS Ücret Hesaplama'!M45,\"\")","v":""},{"$f":"IF(AND('EK DERS Ücret Hesaplama'!AM45=1,'EK DERS Ücret Hesaplama'!D45=\"Ücretli Öğretmen (Emekli çalışan)\"),\n'EK DERS Ücret Hesaplama'!N45,\"\")","v":""},{"$f":"IF(AND('EK DERS Ücret Hesaplama'!AM45=1,'EK DERS Ücret Hesaplama'!D45=\"Ücretli Öğretmen (Emekli çalışan)\"),\n'EK DERS Ücret Hesaplama'!P45,\"\")","v":""},{"$f":"IF(AND('EK DERS Ücret Hesaplama'!AM45=1,'EK DERS Ücret Hesaplama'!D45=\"Ücretli Öğretmen (Emekli çalışan)\"),\n'EK DERS Ücret Hesaplama'!R45,\"\")","v":""},{"$f":"IF(AND('EK DERS Ücret Hesaplama'!AM45=1,'EK DERS Ücret Hesaplama'!D45=\"Ücretli Öğretmen (Emekli çalışan)\"),\n'EK DERS Ücret Hesaplama'!AH45,\"\")","v":""},"","",null,0]
[{"$f":"IF(B51=\"\",\"\",SUBTOTAL(103,$B$11:B51))","v":""},{"$f":"IF('EK DERS Ücret Hesaplama'!$AM46=1,'EK DERS Ücret Hesaplama'!B46,\"\")","v":""},{"$f":"IF('EK DERS Ücret Hesaplama'!$AM46=1,'EK DERS Ücret Hesaplama'!C46,\"\")","v":""},{"$f":"IF('EK DERS Ücret Hesaplama'!$AM46=1,IF('EK DERS Ücret Hesaplama'!D46=\"Ücretli Öğretmen\",\"Ücretli Öğr.\",\"Ücr.Öğr. (Emekli)\"),\"\")","v":""},{"$f":"IF(AND('EK DERS Ücret Hesaplama'!AM46=1,'EK DERS Ücret Hesaplama'!D46=\"Ücretli Öğretmen\"),\n'EK DERS Ücret Hesaplama'!M46,\"\")","v":""},{"$f":"IF(AND('EK DERS Ücret Hesaplama'!AM46=1,'EK DERS Ücret Hesaplama'!D46=\"Ücretli Öğretmen\"),\n'EK DERS Ücret Hesaplama'!N46,\"\")","v":""},{"$f":"IF(AND('EK DERS Ücret Hesaplama'!AM46=1,'EK DERS Ücret Hesaplama'!D46=\"Ücretli Öğretmen\"),\n'EK DERS Ücret Hesaplama'!P46,\"\")","v":""},{"$f":"IF(AND('EK DERS Ücret Hesaplama'!AM46=1,'EK DERS Ücret Hesaplama'!D46=\"Ücretli Öğretmen\"),\n'EK DERS Ücret Hesaplama'!Q46,\"\")","v":""},{"$f":"IF(AND('EK DERS Ücret Hesaplama'!AM46=1,'EK DERS Ücret Hesaplama'!D46=\"Ücretli Öğretmen\"),\n'EK DERS Ücret Hesaplama'!AF46,\"\")","v":""},"","","",{"$f":"IF(AND('EK DERS Ücret Hesaplama'!AM46=1,'EK DERS Ücret Hesaplama'!D46=\"Ücretli Öğretmen (Emekli çalışan)\"),\n'EK DERS Ücret Hesaplama'!M46,\"\")","v":""},{"$f":"IF(AND('EK DERS Ücret Hesaplama'!AM46=1,'EK DERS Ücret Hesaplama'!D46=\"Ücretli Öğretmen (Emekli çalışan)\"),\n'EK DERS Ücret Hesaplama'!N46,\"\")","v":""},{"$f":"IF(AND('EK DERS Ücret Hesaplama'!AM46=1,'EK DERS Ücret Hesaplama'!D46=\"Ücretli Öğretmen (Emekli çalışan)\"),\n'EK DERS Ücret Hesaplama'!P46,\"\")","v":""},{"$f":"IF(AND('EK DERS Ücret Hesaplama'!AM46=1,'EK DERS Ücret Hesaplama'!D46=\"Ücretli Öğretmen (Emekli çalışan)\"),\n'EK DERS Ücret Hesaplama'!R46,\"\")","v":""},{"$f":"IF(AND('EK DERS Ücret Hesaplama'!AM46=1,'EK DERS Ücret Hesaplama'!D46=\"Ücretli Öğretmen (Emekli çalışan)\"),\n'EK DERS Ücret Hesaplama'!AH46,\"\")","v":""},"","",null,0]
[{"$f":"IF(B52=\"\",\"\",SUBTOTAL(103,$B$11:B52))","v":""},{"$f":"IF('EK DERS Ücret Hesaplama'!$AM47=1,'EK DERS Ücret Hesaplama'!B47,\"\")","v":""},{"$f":"IF('EK DERS Ücret Hesaplama'!$AM47=1,'EK DERS Ücret Hesaplama'!C47,\"\")","v":""},{"$f":"IF('EK DERS Ücret Hesaplama'!$AM47=1,IF('EK DERS Ücret Hesaplama'!D47=\"Ücretli Öğretmen\",\"Ücretli Öğr.\",\"Ücr.Öğr. (Emekli)\"),\"\")","v":""},{"$f":"IF(AND('EK DERS Ücret Hesaplama'!AM47=1,'EK DERS Ücret Hesaplama'!D47=\"Ücretli Öğretmen\"),\n'EK DERS Ücret Hesaplama'!M47,\"\")","v":""},{"$f":"IF(AND('EK DERS Ücret Hesaplama'!AM47=1,'EK DERS Ücret Hesaplama'!D47=\"Ücretli Öğretmen\"),\n'EK DERS Ücret Hesaplama'!N47,\"\")","v":""},{"$f":"IF(AND('EK DERS Ücret Hesaplama'!AM47=1,'EK DERS Ücret Hesaplama'!D47=\"Ücretli Öğretmen\"),\n'EK DERS Ücret Hesaplama'!P47,\"\")","v":""},{"$f":"IF(AND('EK DERS Ücret Hesaplama'!AM47=1,'EK DERS Ücret Hesaplama'!D47=\"Ücretli Öğretmen\"),\n'EK DERS Ücret Hesaplama'!Q47,\"\")","v":""},{"$f":"IF(AND('EK DERS Ücret Hesaplama'!AM47=1,'EK DERS Ücret Hesaplama'!D47=\"Ücretli Öğretmen\"),\n'EK DERS Ücret Hesaplama'!AF47,\"\")","v":""},"","","",{"$f":"IF(AND('EK DERS Ücret Hesaplama'!AM47=1,'EK DERS Ücret Hesaplama'!D47=\"Ücretli Öğretmen (Emekli çalışan)\"),\n'EK DERS Ücret Hesaplama'!M47,\"\")","v":""},{"$f":"IF(AND('EK DERS Ücret Hesaplama'!AM47=1,'EK DERS Ücret Hesaplama'!D47=\"Ücretli Öğretmen (Emekli çalışan)\"),\n'EK DERS Ücret Hesaplama'!N47,\"\")","v":""},{"$f":"IF(AND('EK DERS Ücret Hesaplama'!AM47=1,'EK DERS Ücret Hesaplama'!D47=\"Ücretli Öğretmen (Emekli çalışan)\"),\n'EK DERS Ücret Hesaplama'!P47,\"\")","v":""},{"$f":"IF(AND('EK DERS Ücret Hesaplama'!AM47=1,'EK DERS Ücret Hesaplama'!D47=\"Ücretli Öğretmen (Emekli çalışan)\"),\n'EK DERS Ücret Hesaplama'!R47,\"\")","v":""},{"$f":"IF(AND('EK DERS Ücret Hesaplama'!AM47=1,'EK DERS Ücret Hesaplama'!D47=\"Ücretli Öğretmen (Emekli çalışan)\"),\n'EK DERS Ücret Hesaplama'!AH47,\"\")","v":""},"","",null,0]
[{"$f":"IF(B53=\"\",\"\",SUBTOTAL(103,$B$11:B53))","v":""},{"$f":"IF('EK DERS Ücret Hesaplama'!$AM48=1,'EK DERS Ücret Hesaplama'!B48,\"\")","v":""},{"$f":"IF('EK DERS Ücret Hesaplama'!$AM48=1,'EK DERS Ücret Hesaplama'!C48,\"\")","v":""},{"$f":"IF('EK DERS Ücret Hesaplama'!$AM48=1,IF('EK DERS Ücret Hesaplama'!D48=\"Ücretli Öğretmen\",\"Ücretli Öğr.\",\"Ücr.Öğr. (Emekli)\"),\"\")","v":""},{"$f":"IF(AND('EK DERS Ücret Hesaplama'!AM48=1,'EK DERS Ücret Hesaplama'!D48=\"Ücretli Öğretmen\"),\n'EK DERS Ücret Hesaplama'!M48,\"\")","v":""},{"$f":"IF(AND('EK DERS Ücret Hesaplama'!AM48=1,'EK DERS Ücret Hesaplama'!D48=\"Ücretli Öğretmen\"),\n'EK DERS Ücret Hesaplama'!N48,\"\")","v":""},{"$f":"IF(AND('EK DERS Ücret Hesaplama'!AM48=1,'EK DERS Ücret Hesaplama'!D48=\"Ücretli Öğretmen\"),\n'EK DERS Ücret Hesaplama'!P48,\"\")","v":""},{"$f":"IF(AND('EK DERS Ücret Hesaplama'!AM48=1,'EK DERS Ücret Hesaplama'!D48=\"Ücretli Öğretmen\"),\n'EK DERS Ücret Hesaplama'!Q48,\"\")","v":""},{"$f":"IF(AND('EK DERS Ücret Hesaplama'!AM48=1,'EK DERS Ücret Hesaplama'!D48=\"Ücretli Öğretmen\"),\n'EK DERS Ücret Hesaplama'!AF48,\"\")","v":""},"","","",{"$f":"IF(AND('EK DERS Ücret Hesaplama'!AM48=1,'EK DERS Ücret Hesaplama'!D48=\"Ücretli Öğretmen (Emekli çalışan)\"),\n'EK DERS Ücret Hesaplama'!M48,\"\")","v":""},{"$f":"IF(AND('EK DERS Ücret Hesaplama'!AM48=1,'EK DERS Ücret Hesaplama'!D48=\"Ücretli Öğretmen (Emekli çalışan)\"),\n'EK DERS Ücret Hesaplama'!N48,\"\")","v":""},{"$f":"IF(AND('EK DERS Ücret Hesaplama'!AM48=1,'EK DERS Ücret Hesaplama'!D48=\"Ücretli Öğretmen (Emekli çalışan)\"),\n'EK DERS Ücret Hesaplama'!P48,\"\")","v":""},{"$f":"IF(AND('EK DERS Ücret Hesaplama'!AM48=1,'EK DERS Ücret Hesaplama'!D48=\"Ücretli Öğretmen (Emekli çalışan)\"),\n'EK DERS Ücret Hesaplama'!R48,\"\")","v":""},{"$f":"IF(AND('EK DERS Ücret Hesaplama'!AM48=1,'EK DERS Ücret Hesaplama'!D48=\"Ücretli Öğretmen (Emekli çalışan)\"),\n'EK DERS Ücret Hesaplama'!AH48,\"\")","v":""},"","",null,0]
[{"$f":"IF(B54=\"\",\"\",SUBTOTAL(103,$B$11:B54))","v":""},{"$f":"IF('EK DERS Ücret Hesaplama'!$AM49=1,'EK DERS Ücret Hesaplama'!B49,\"\")","v":""},{"$f":"IF('EK DERS Ücret Hesaplama'!$AM49=1,'EK DERS Ücret Hesaplama'!C49,\"\")","v":""},{"$f":"IF('EK DERS Ücret Hesaplama'!$AM49=1,IF('EK DERS Ücret Hesaplama'!D49=\"Ücretli Öğretmen\",\"Ücretli Öğr.\",\"Ücr.Öğr. (Emekli)\"),\"\")","v":""},{"$f":"IF(AND('EK DERS Ücret Hesaplama'!AM49=1,'EK DERS Ücret Hesaplama'!D49=\"Ücretli Öğretmen\"),\n'EK DERS Ücret Hesaplama'!M49,\"\")","v":""},{"$f":"IF(AND('EK DERS Ücret Hesaplama'!AM49=1,'EK DERS Ücret Hesaplama'!D49=\"Ücretli Öğretmen\"),\n'EK DERS Ücret Hesaplama'!N49,\"\")","v":""},{"$f":"IF(AND('EK DERS Ücret Hesaplama'!AM49=1,'EK DERS Ücret Hesaplama'!D49=\"Ücretli Öğretmen\"),\n'EK DERS Ücret Hesaplama'!P49,\"\")","v":""},{"$f":"IF(AND('EK DERS Ücret Hesaplama'!AM49=1,'EK DERS Ücret Hesaplama'!D49=\"Ücretli Öğretmen\"),\n'EK DERS Ücret Hesaplama'!Q49,\"\")","v":""},{"$f":"IF(AND('EK DERS Ücret Hesaplama'!AM49=1,'EK DERS Ücret Hesaplama'!D49=\"Ücretli Öğretmen\"),\n'EK DERS Ücret Hesaplama'!AF49,\"\")","v":""},"","","",{"$f":"IF(AND('EK DERS Ücret Hesaplama'!AM49=1,'EK DERS Ücret Hesaplama'!D49=\"Ücretli Öğretmen (Emekli çalışan)\"),\n'EK DERS Ücret Hesaplama'!M49,\"\")","v":""},{"$f":"IF(AND('EK DERS Ücret Hesaplama'!AM49=1,'EK DERS Ücret Hesaplama'!D49=\"Ücretli Öğretmen (Emekli çalışan)\"),\n'EK DERS Ücret Hesaplama'!N49,\"\")","v":""},{"$f":"IF(AND('EK DERS Ücret Hesaplama'!AM49=1,'EK DERS Ücret Hesaplama'!D49=\"Ücretli Öğretmen (Emekli çalışan)\"),\n'EK DERS Ücret Hesaplama'!P49,\"\")","v":""},{"$f":"IF(AND('EK DERS Ücret Hesaplama'!AM49=1,'EK DERS Ücret Hesaplama'!D49=\"Ücretli Öğretmen (Emekli çalışan)\"),\n'EK DERS Ücret Hesaplama'!R49,\"\")","v":""},{"$f":"IF(AND('EK DERS Ücret Hesaplama'!AM49=1,'EK DERS Ücret Hesaplama'!D49=\"Ücretli Öğretmen (Emekli çalışan)\"),\n'EK DERS Ücret Hesaplama'!AH49,\"\")","v":""},"","",null,0]
[{"$f":"IF(B55=\"\",\"\",SUBTOTAL(103,$B$11:B55))","v":""},{"$f":"IF('EK DERS Ücret Hesaplama'!$AM50=1,'EK DERS Ücret Hesaplama'!B50,\"\")","v":""},{"$f":"IF('EK DERS Ücret Hesaplama'!$AM50=1,'EK DERS Ücret Hesaplama'!C50,\"\")","v":""},{"$f":"IF('EK DERS Ücret Hesaplama'!$AM50=1,IF('EK DERS Ücret Hesaplama'!D50=\"Ücretli Öğretmen\",\"Ücretli Öğr.\",\"Ücr.Öğr. (Emekli)\"),\"\")","v":""},{"$f":"IF(AND('EK DERS Ücret Hesaplama'!AM50=1,'EK DERS Ücret Hesaplama'!D50=\"Ücretli Öğretmen\"),\n'EK DERS Ücret Hesaplama'!M50,\"\")","v":""},{"$f":"IF(AND('EK DERS Ücret Hesaplama'!AM50=1,'EK DERS Ücret Hesaplama'!D50=\"Ücretli Öğretmen\"),\n'EK DERS Ücret Hesaplama'!N50,\"\")","v":""},{"$f":"IF(AND('EK DERS Ücret Hesaplama'!AM50=1,'EK DERS Ücret Hesaplama'!D50=\"Ücretli Öğretmen\"),\n'EK DERS Ücret Hesaplama'!P50,\"\")","v":""},{"$f":"IF(AND('EK DERS Ücret Hesaplama'!AM50=1,'EK DERS Ücret Hesaplama'!D50=\"Ücretli Öğretmen\"),\n'EK DERS Ücret Hesaplama'!Q50,\"\")","v":""},{"$f":"IF(AND('EK DERS Ücret Hesaplama'!AM50=1,'EK DERS Ücret Hesaplama'!D50=\"Ücretli Öğretmen\"),\n'EK DERS Ücret Hesaplama'!AF50,\"\")","v":""},"","","",{"$f":"IF(AND('EK DERS Ücret Hesaplama'!AM50=1,'EK DERS Ücret Hesaplama'!D50=\"Ücretli Öğretmen (Emekli çalışan)\"),\n'EK DERS Ücret Hesaplama'!M50,\"\")","v":""},{"$f":"IF(AND('EK DERS Ücret Hesaplama'!AM50=1,'EK DERS Ücret Hesaplama'!D50=\"Ücretli Öğretmen (Emekli çalışan)\"),\n'EK DERS Ücret Hesaplama'!N50,\"\")","v":""},{"$f":"IF(AND('EK DERS Ücret Hesaplama'!AM50=1,'EK DERS Ücret Hesaplama'!D50=\"Ücretli Öğretmen (Emekli çalışan)\"),\n'EK DERS Ücret Hesaplama'!P50,\"\")","v":""},{"$f":"IF(AND('EK DERS Ücret Hesaplama'!AM50=1,'EK DERS Ücret Hesaplama'!D50=\"Ücretli Öğretmen (Emekli çalışan)\"),\n'EK DERS Ücret Hesaplama'!R50,\"\")","v":""},{"$f":"IF(AND('EK DERS Ücret Hesaplama'!AM50=1,'EK DERS Ücret Hesaplama'!D50=\"Ücretli Öğretmen (Emekli çalışan)\"),\n'EK DERS Ücret Hesaplama'!AH50,\"\")","v":""},"","",null,0]
[{"$f":"IF(B56=\"\",\"\",SUBTOTAL(103,$B$11:B56))","v":""},{"$f":"IF('EK DERS Ücret Hesaplama'!$AM51=1,'EK DERS Ücret Hesaplama'!B51,\"\")","v":""},{"$f":"IF('EK DERS Ücret Hesaplama'!$AM51=1,'EK DERS Ücret Hesaplama'!C51,\"\")","v":""},{"$f":"IF('EK DERS Ücret Hesaplama'!$AM51=1,IF('EK DERS Ücret Hesaplama'!D51=\"Ücretli Öğretmen\",\"Ücretli Öğr.\",\"Ücr.Öğr. (Emekli)\"),\"\")","v":""},{"$f":"IF(AND('EK DERS Ücret Hesaplama'!AM51=1,'EK DERS Ücret Hesaplama'!D51=\"Ücretli Öğretmen\"),\n'EK DERS Ücret Hesaplama'!M51,\"\")","v":""},{"$f":"IF(AND('EK DERS Ücret Hesaplama'!AM51=1,'EK DERS Ücret Hesaplama'!D51=\"Ücretli Öğretmen\"),\n'EK DERS Ücret Hesaplama'!N51,\"\")","v":""},{"$f":"IF(AND('EK DERS Ücret Hesaplama'!AM51=1,'EK DERS Ücret Hesaplama'!D51=\"Ücretli Öğretmen\"),\n'EK DERS Ücret Hesaplama'!P51,\"\")","v":""},{"$f":"IF(AND('EK DERS Ücret Hesaplama'!AM51=1,'EK DERS Ücret Hesaplama'!D51=\"Ücretli Öğretmen\"),\n'EK DERS Ücret Hesaplama'!Q51,\"\")","v":""},{"$f":"IF(AND('EK DERS Ücret Hesaplama'!AM51=1,'EK DERS Ücret Hesaplama'!D51=\"Ücretli Öğretmen\"),\n'EK DERS Ücret Hesaplama'!AF51,\"\")","v":""},"","","",{"$f":"IF(AND('EK DERS Ücret Hesaplama'!AM51=1,'EK DERS Ücret Hesaplama'!D51=\"Ücretli Öğretmen (Emekli çalışan)\"),\n'EK DERS Ücret Hesaplama'!M51,\"\")","v":""},{"$f":"IF(AND('EK DERS Ücret Hesaplama'!AM51=1,'EK DERS Ücret Hesaplama'!D51=\"Ücretli Öğretmen (Emekli çalışan)\"),\n'EK DERS Ücret Hesaplama'!N51,\"\")","v":""},{"$f":"IF(AND('EK DERS Ücret Hesaplama'!AM51=1,'EK DERS Ücret Hesaplama'!D51=\"Ücretli Öğretmen (Emekli çalışan)\"),\n'EK DERS Ücret Hesaplama'!P51,\"\")","v":""},{"$f":"IF(AND('EK DERS Ücret Hesaplama'!AM51=1,'EK DERS Ücret Hesaplama'!D51=\"Ücretli Öğretmen (Emekli çalışan)\"),\n'EK DERS Ücret Hesaplama'!R51,\"\")","v":""},{"$f":"IF(AND('EK DERS Ücret Hesaplama'!AM51=1,'EK DERS Ücret Hesaplama'!D51=\"Ücretli Öğretmen (Emekli çalışan)\"),\n'EK DERS Ücret Hesaplama'!AH51,\"\")","v":""},"","",null,0]
[{"$f":"IF(B57=\"\",\"\",SUBTOTAL(103,$B$11:B57))","v":""},{"$f":"IF('EK DERS Ücret Hesaplama'!$AM52=1,'EK DERS Ücret Hesaplama'!B52,\"\")","v":""},{"$f":"IF('EK DERS Ücret Hesaplama'!$AM52=1,'EK DERS Ücret Hesaplama'!C52,\"\")","v":""},{"$f":"IF('EK DERS Ücret Hesaplama'!$AM52=1,IF('EK DERS Ücret Hesaplama'!D52=\"Ücretli Öğretmen\",\"Ücretli Öğr.\",\"Ücr.Öğr. (Emekli)\"),\"\")","v":""},{"$f":"IF(AND('EK DERS Ücret Hesaplama'!AM52=1,'EK DERS Ücret Hesaplama'!D52=\"Ücretli Öğretmen\"),\n'EK DERS Ücret Hesaplama'!M52,\"\")","v":""},{"$f":"IF(AND('EK DERS Ücret Hesaplama'!AM52=1,'EK DERS Ücret Hesaplama'!D52=\"Ücretli Öğretmen\"),\n'EK DERS Ücret Hesaplama'!N52,\"\")","v":""},{"$f":"IF(AND('EK DERS Ücret Hesaplama'!AM52=1,'EK DERS Ücret Hesaplama'!D52=\"Ücretli Öğretmen\"),\n'EK DERS Ücret Hesaplama'!P52,\"\")","v":""},{"$f":"IF(AND('EK DERS Ücret Hesaplama'!AM52=1,'EK DERS Ücret Hesaplama'!D52=\"Ücretli Öğretmen\"),\n'EK DERS Ücret Hesaplama'!Q52,\"\")","v":""},{"$f":"IF(AND('EK DERS Ücret Hesaplama'!AM52=1,'EK DERS Ücret Hesaplama'!D52=\"Ücretli Öğretmen\"),\n'EK DERS Ücret Hesaplama'!AF52,\"\")","v":""},"","","",{"$f":"IF(AND('EK DERS Ücret Hesaplama'!AM52=1,'EK DERS Ücret Hesaplama'!D52=\"Ücretli Öğretmen (Emekli çalışan)\"),\n'EK DERS Ücret Hesaplama'!M52,\"\")","v":""},{"$f":"IF(AND('EK DERS Ücret Hesaplama'!AM52=1,'EK DERS Ücret Hesaplama'!D52=\"Ücretli Öğretmen (Emekli çalışan)\"),\n'EK DERS Ücret Hesaplama'!N52,\"\")","v":""},{"$f":"IF(AND('EK DERS Ücret Hesaplama'!AM52=1,'EK DERS Ücret Hesaplama'!D52=\"Ücretli Öğretmen (Emekli çalışan)\"),\n'EK DERS Ücret Hesaplama'!P52,\"\")","v":""},{"$f":"IF(AND('EK DERS Ücret Hesaplama'!AM52=1,'EK DERS Ücret Hesaplama'!D52=\"Ücretli Öğretmen (Emekli çalışan)\"),\n'EK DERS Ücret Hesaplama'!R52,\"\")","v":""},{"$f":"IF(AND('EK DERS Ücret Hesaplama'!AM52=1,'EK DERS Ücret Hesaplama'!D52=\"Ücretli Öğretmen (Emekli çalışan)\"),\n'EK DERS Ücret Hesaplama'!AH52,\"\")","v":""},"","",null,0]
[{"$f":"IF(B58=\"\",\"\",SUBTOTAL(103,$B$11:B58))","v":""},{"$f":"IF('EK DERS Ücret Hesaplama'!$AM53=1,'EK DERS Ücret Hesaplama'!B53,\"\")","v":""},{"$f":"IF('EK DERS Ücret Hesaplama'!$AM53=1,'EK DERS Ücret Hesaplama'!C53,\"\")","v":""},{"$f":"IF('EK DERS Ücret Hesaplama'!$AM53=1,IF('EK DERS Ücret Hesaplama'!D53=\"Ücretli Öğretmen\",\"Ücretli Öğr.\",\"Ücr.Öğr. (Emekli)\"),\"\")","v":""},{"$f":"IF(AND('EK DERS Ücret Hesaplama'!AM53=1,'EK DERS Ücret Hesaplama'!D53=\"Ücretli Öğretmen\"),\n'EK DERS Ücret Hesaplama'!M53,\"\")","v":""},{"$f":"IF(AND('EK DERS Ücret Hesaplama'!AM53=1,'EK DERS Ücret Hesaplama'!D53=\"Ücretli Öğretmen\"),\n'EK DERS Ücret Hesaplama'!N53,\"\")","v":""},{"$f":"IF(AND('EK DERS Ücret Hesaplama'!AM53=1,'EK DERS Ücret Hesaplama'!D53=\"Ücretli Öğretmen\"),\n'EK DERS Ücret Hesaplama'!P53,\"\")","v":""},{"$f":"IF(AND('EK DERS Ücret Hesaplama'!AM53=1,'EK DERS Ücret Hesaplama'!D53=\"Ücretli Öğretmen\"),\n'EK DERS Ücret Hesaplama'!Q53,\"\")","v":""},{"$f":"IF(AND('EK DERS Ücret Hesaplama'!AM53=1,'EK DERS Ücret Hesaplama'!D53=\"Ücretli Öğretmen\"),\n'EK DERS Ücret Hesaplama'!AF53,\"\")","v":""},"","","",{"$f":"IF(AND('EK DERS Ücret Hesaplama'!AM53=1,'EK DERS Ücret Hesaplama'!D53=\"Ücretli Öğretmen (Emekli çalışan)\"),\n'EK DERS Ücret Hesaplama'!M53,\"\")","v":""},{"$f":"IF(AND('EK DERS Ücret Hesaplama'!AM53=1,'EK DERS Ücret Hesaplama'!D53=\"Ücretli Öğretmen (Emekli çalışan)\"),\n'EK DERS Ücret Hesaplama'!N53,\"\")","v":""},{"$f":"IF(AND('EK DERS Ücret Hesaplama'!AM53=1,'EK DERS Ücret Hesaplama'!D53=\"Ücretli Öğretmen (Emekli çalışan)\"),\n'EK DERS Ücret Hesaplama'!P53,\"\")","v":""},{"$f":"IF(AND('EK DERS Ücret Hesaplama'!AM53=1,'EK DERS Ücret Hesaplama'!D53=\"Ücretli Öğretmen (Emekli çalışan)\"),\n'EK DERS Ücret Hesaplama'!R53,\"\")","v":""},{"$f":"IF(AND('EK DERS Ücret Hesaplama'!AM53=1,'EK DERS Ücret Hesaplama'!D53=\"Ücretli Öğretmen (Emekli çalışan)\"),\n'EK DERS Ücret Hesaplama'!AH53,\"\")","v":""},"","",null,0]
[{"$f":"IF(B59=\"\",\"\",SUBTOTAL(103,$B$11:B59))","v":""},{"$f":"IF('EK DERS Ücret Hesaplama'!$AM54=1,'EK DERS Ücret Hesaplama'!B54,\"\")","v":""},{"$f":"IF('EK DERS Ücret Hesaplama'!$AM54=1,'EK DERS Ücret Hesaplama'!C54,\"\")","v":""},{"$f":"IF('EK DERS Ücret Hesaplama'!$AM54=1,IF('EK DERS Ücret Hesaplama'!D54=\"Ücretli Öğretmen\",\"Ücretli Öğr.\",\"Ücr.Öğr. (Emekli)\"),\"\")","v":""},{"$f":"IF(AND('EK DERS Ücret Hesaplama'!AM54=1,'EK DERS Ücret Hesaplama'!D54=\"Ücretli Öğretmen\"),\n'EK DERS Ücret Hesaplama'!M54,\"\")","v":""},{"$f":"IF(AND('EK DERS Ücret Hesaplama'!AM54=1,'EK DERS Ücret Hesaplama'!D54=\"Ücretli Öğretmen\"),\n'EK DERS Ücret Hesaplama'!N54,\"\")","v":""},{"$f":"IF(AND('EK DERS Ücret Hesaplama'!AM54=1,'EK DERS Ücret Hesaplama'!D54=\"Ücretli Öğretmen\"),\n'EK DERS Ücret Hesaplama'!P54,\"\")","v":""},{"$f":"IF(AND('EK DERS Ücret Hesaplama'!AM54=1,'EK DERS Ücret Hesaplama'!D54=\"Ücretli Öğretmen\"),\n'EK DERS Ücret Hesaplama'!Q54,\"\")","v":""},{"$f":"IF(AND('EK DERS Ücret Hesaplama'!AM54=1,'EK DERS Ücret Hesaplama'!D54=\"Ücretli Öğretmen\"),\n'EK DERS Ücret Hesaplama'!AF54,\"\")","v":""},"","","",{"$f":"IF(AND('EK DERS Ücret Hesaplama'!AM54=1,'EK DERS Ücret Hesaplama'!D54=\"Ücretli Öğretmen (Emekli çalışan)\"),\n'EK DERS Ücret Hesaplama'!M54,\"\")","v":""},{"$f":"IF(AND('EK DERS Ücret Hesaplama'!AM54=1,'EK DERS Ücret Hesaplama'!D54=\"Ücretli Öğretmen (Emekli çalışan)\"),\n'EK DERS Ücret Hesaplama'!N54,\"\")","v":""},{"$f":"IF(AND('EK DERS Ücret Hesaplama'!AM54=1,'EK DERS Ücret Hesaplama'!D54=\"Ücretli Öğretmen (Emekli çalışan)\"),\n'EK DERS Ücret Hesaplama'!P54,\"\")","v":""},{"$f":"IF(AND('EK DERS Ücret Hesaplama'!AM54=1,'EK DERS Ücret Hesaplama'!D54=\"Ücretli Öğretmen (Emekli çalışan)\"),\n'EK DERS Ücret Hesaplama'!R54,\"\")","v":""},{"$f":"IF(AND('EK DERS Ücret Hesaplama'!AM54=1,'EK DERS Ücret Hesaplama'!D54=\"Ücretli Öğretmen (Emekli çalışan)\"),\n'EK DERS Ücret Hesaplama'!AH54,\"\")","v":""},"","",null,0]
[{"$f":"IF(B60=\"\",\"\",SUBTOTAL(103,$B$11:B60))","v":""},{"$f":"IF('EK DERS Ücret Hesaplama'!$AM55=1,'EK DERS Ücret Hesaplama'!B55,\"\")","v":""},{"$f":"IF('EK DERS Ücret Hesaplama'!$AM55=1,'EK DERS Ücret Hesaplama'!C55,\"\")","v":""},{"$f":"IF('EK DERS Ücret Hesaplama'!$AM55=1,IF('EK DERS Ücret Hesaplama'!D55=\"Ücretli Öğretmen\",\"Ücretli Öğr.\",\"Ücr.Öğr. (Emekli)\"),\"\")","v":""},{"$f":"IF(AND('EK DERS Ücret Hesaplama'!AM55=1,'EK DERS Ücret Hesaplama'!D55=\"Ücretli Öğretmen\"),\n'EK DERS Ücret Hesaplama'!M55,\"\")","v":""},{"$f":"IF(AND('EK DERS Ücret Hesaplama'!AM55=1,'EK DERS Ücret Hesaplama'!D55=\"Ücretli Öğretmen\"),\n'EK DERS Ücret Hesaplama'!N55,\"\")","v":""},{"$f":"IF(AND('EK DERS Ücret Hesaplama'!AM55=1,'EK DERS Ücret Hesaplama'!D55=\"Ücretli Öğretmen\"),\n'EK DERS Ücret Hesaplama'!P55,\"\")","v":""},{"$f":"IF(AND('EK DERS Ücret Hesaplama'!AM55=1,'EK DERS Ücret Hesaplama'!D55=\"Ücretli Öğretmen\"),\n'EK DERS Ücret Hesaplama'!Q55,\"\")","v":""},{"$f":"IF(AND('EK DERS Ücret Hesaplama'!AM55=1,'EK DERS Ücret Hesaplama'!D55=\"Ücretli Öğretmen\"),\n'EK DERS Ücret Hesaplama'!AF55,\"\")","v":""},"","","",{"$f":"IF(AND('EK DERS Ücret Hesaplama'!AM55=1,'EK DERS Ücret Hesaplama'!D55=\"Ücretli Öğretmen (Emekli çalışan)\"),\n'EK DERS Ücret Hesaplama'!M55,\"\")","v":""},{"$f":"IF(AND('EK DERS Ücret Hesaplama'!AM55=1,'EK DERS Ücret Hesaplama'!D55=\"Ücretli Öğretmen (Emekli çalışan)\"),\n'EK DERS Ücret Hesaplama'!N55,\"\")","v":""},{"$f":"IF(AND('EK DERS Ücret Hesaplama'!AM55=1,'EK DERS Ücret Hesaplama'!D55=\"Ücretli Öğretmen (Emekli çalışan)\"),\n'EK DERS Ücret Hesaplama'!P55,\"\")","v":""},{"$f":"IF(AND('EK DERS Ücret Hesaplama'!AM55=1,'EK DERS Ücret Hesaplama'!D55=\"Ücretli Öğretmen (Emekli çalışan)\"),\n'EK DERS Ücret Hesaplama'!R55,\"\")","v":""},{"$f":"IF(AND('EK DERS Ücret Hesaplama'!AM55=1,'EK DERS Ücret Hesaplama'!D55=\"Ücretli Öğretmen (Emekli çalışan)\"),\n'EK DERS Ücret Hesaplama'!AH55,\"\")","v":""},"","",null,0]
[{"$f":"IF(B61=\"\",\"\",SUBTOTAL(103,$B$11:B61))","v":""},{"$f":"IF('EK DERS Ücret Hesaplama'!$AM56=1,'EK DERS Ücret Hesaplama'!B56,\"\")","v":""},{"$f":"IF('EK DERS Ücret Hesaplama'!$AM56=1,'EK DERS Ücret Hesaplama'!C56,\"\")","v":""},{"$f":"IF('EK DERS Ücret Hesaplama'!$AM56=1,IF('EK DERS Ücret Hesaplama'!D56=\"Ücretli Öğretmen\",\"Ücretli Öğr.\",\"Ücr.Öğr. (Emekli)\"),\"\")","v":""},{"$f":"IF(AND('EK DERS Ücret Hesaplama'!AM56=1,'EK DERS Ücret Hesaplama'!D56=\"Ücretli Öğretmen\"),\n'EK DERS Ücret Hesaplama'!M56,\"\")","v":""},{"$f":"IF(AND('EK DERS Ücret Hesaplama'!AM56=1,'EK DERS Ücret Hesaplama'!D56=\"Ücretli Öğretmen\"),\n'EK DERS Ücret Hesaplama'!N56,\"\")","v":""},{"$f":"IF(AND('EK DERS Ücret Hesaplama'!AM56=1,'EK DERS Ücret Hesaplama'!D56=\"Ücretli Öğretmen\"),\n'EK DERS Ücret Hesaplama'!P56,\"\")","v":""},{"$f":"IF(AND('EK DERS Ücret Hesaplama'!AM56=1,'EK DERS Ücret Hesaplama'!D56=\"Ücretli Öğretmen\"),\n'EK DERS Ücret Hesaplama'!Q56,\"\")","v":""},{"$f":"IF(AND('EK DERS Ücret Hesaplama'!AM56=1,'EK DERS Ücret Hesaplama'!D56=\"Ücretli Öğretmen\"),\n'EK DERS Ücret Hesaplama'!AF56,\"\")","v":""},"","","",{"$f":"IF(AND('EK DERS Ücret Hesaplama'!AM56=1,'EK DERS Ücret Hesaplama'!D56=\"Ücretli Öğretmen (Emekli çalışan)\"),\n'EK DERS Ücret Hesaplama'!M56,\"\")","v":""},{"$f":"IF(AND('EK DERS Ücret Hesaplama'!AM56=1,'EK DERS Ücret Hesaplama'!D56=\"Ücretli Öğretmen (Emekli çalışan)\"),\n'EK DERS Ücret Hesaplama'!N56,\"\")","v":""},{"$f":"IF(AND('EK DERS Ücret Hesaplama'!AM56=1,'EK DERS Ücret Hesaplama'!D56=\"Ücretli Öğretmen (Emekli çalışan)\"),\n'EK DERS Ücret Hesaplama'!P56,\"\")","v":""},{"$f":"IF(AND('EK DERS Ücret Hesaplama'!AM56=1,'EK DERS Ücret Hesaplama'!D56=\"Ücretli Öğretmen (Emekli çalışan)\"),\n'EK DERS Ücret Hesaplama'!R56,\"\")","v":""},{"$f":"IF(AND('EK DERS Ücret Hesaplama'!AM56=1,'EK DERS Ücret Hesaplama'!D56=\"Ücretli Öğretmen (Emekli çalışan)\"),\n'EK DERS Ücret Hesaplama'!AH56,\"\")","v":""},"","",null,0]
[{"$f":"IF(B62=\"\",\"\",SUBTOTAL(103,$B$11:B62))","v":""},{"$f":"IF('EK DERS Ücret Hesaplama'!$AM57=1,'EK DERS Ücret Hesaplama'!B57,\"\")","v":""},{"$f":"IF('EK DERS Ücret Hesaplama'!$AM57=1,'EK DERS Ücret Hesaplama'!C57,\"\")","v":""},{"$f":"IF('EK DERS Ücret Hesaplama'!$AM57=1,IF('EK DERS Ücret Hesaplama'!D57=\"Ücretli Öğretmen\",\"Ücretli Öğr.\",\"Ücr.Öğr. (Emekli)\"),\"\")","v":""},{"$f":"IF(AND('EK DERS Ücret Hesaplama'!AM57=1,'EK DERS Ücret Hesaplama'!D57=\"Ücretli Öğretmen\"),\n'EK DERS Ücret Hesaplama'!M57,\"\")","v":""},{"$f":"IF(AND('EK DERS Ücret Hesaplama'!AM57=1,'EK DERS Ücret Hesaplama'!D57=\"Ücretli Öğretmen\"),\n'EK DERS Ücret Hesaplama'!N57,\"\")","v":""},{"$f":"IF(AND('EK DERS Ücret Hesaplama'!AM57=1,'EK DERS Ücret Hesaplama'!D57=\"Ücretli Öğretmen\"),\n'EK DERS Ücret Hesaplama'!P57,\"\")","v":""},{"$f":"IF(AND('EK DERS Ücret Hesaplama'!AM57=1,'EK DERS Ücret Hesaplama'!D57=\"Ücretli Öğretmen\"),\n'EK DERS Ücret Hesaplama'!Q57,\"\")","v":""},{"$f":"IF(AND('EK DERS Ücret Hesaplama'!AM57=1,'EK DERS Ücret Hesaplama'!D57=\"Ücretli Öğretmen\"),\n'EK DERS Ücret Hesaplama'!AF57,\"\")","v":""},"","","",{"$f":"IF(AND('EK DERS Ücret Hesaplama'!AM57=1,'EK DERS Ücret Hesaplama'!D57=\"Ücretli Öğretmen (Emekli çalışan)\"),\n'EK DERS Ücret Hesaplama'!M57,\"\")","v":""},{"$f":"IF(AND('EK DERS Ücret Hesaplama'!AM57=1,'EK DERS Ücret Hesaplama'!D57=\"Ücretli Öğretmen (Emekli çalışan)\"),\n'EK DERS Ücret Hesaplama'!N57,\"\")","v":""},{"$f":"IF(AND('EK DERS Ücret Hesaplama'!AM57=1,'EK DERS Ücret Hesaplama'!D57=\"Ücretli Öğretmen (Emekli çalışan)\"),\n'EK DERS Ücret Hesaplama'!P57,\"\")","v":""},{"$f":"IF(AND('EK DERS Ücret Hesaplama'!AM57=1,'EK DERS Ücret Hesaplama'!D57=\"Ücretli Öğretmen (Emekli çalışan)\"),\n'EK DERS Ücret Hesaplama'!R57,\"\")","v":""},{"$f":"IF(AND('EK DERS Ücret Hesaplama'!AM57=1,'EK DERS Ücret Hesaplama'!D57=\"Ücretli Öğretmen (Emekli çalışan)\"),\n'EK DERS Ücret Hesaplama'!AH57,\"\")","v":""},"","",null,0]
[{"$f":"IF(B63=\"\",\"\",SUBTOTAL(103,$B$11:B63))","v":""},{"$f":"IF('EK DERS Ücret Hesaplama'!$AM58=1,'EK DERS Ücret Hesaplama'!B58,\"\")","v":""},{"$f":"IF('EK DERS Ücret Hesaplama'!$AM58=1,'EK DERS Ücret Hesaplama'!C58,\"\")","v":""},{"$f":"IF('EK DERS Ücret Hesaplama'!$AM58=1,IF('EK DERS Ücret Hesaplama'!D58=\"Ücretli Öğretmen\",\"Ücretli Öğr.\",\"Ücr.Öğr. (Emekli)\"),\"\")","v":""},{"$f":"IF(AND('EK DERS Ücret Hesaplama'!AM58=1,'EK DERS Ücret Hesaplama'!D58=\"Ücretli Öğretmen\"),\n'EK DERS Ücret Hesaplama'!M58,\"\")","v":""},{"$f":"IF(AND('EK DERS Ücret Hesaplama'!AM58=1,'EK DERS Ücret Hesaplama'!D58=\"Ücretli Öğretmen\"),\n'EK DERS Ücret Hesaplama'!N58,\"\")","v":""},{"$f":"IF(AND('EK DERS Ücret Hesaplama'!AM58=1,'EK DERS Ücret Hesaplama'!D58=\"Ücretli Öğretmen\"),\n'EK DERS Ücret Hesaplama'!P58,\"\")","v":""},{"$f":"IF(AND('EK DERS Ücret Hesaplama'!AM58=1,'EK DERS Ücret Hesaplama'!D58=\"Ücretli Öğretmen\"),\n'EK DERS Ücret Hesaplama'!Q58,\"\")","v":""},{"$f":"IF(AND('EK DERS Ücret Hesaplama'!AM58=1,'EK DERS Ücret Hesaplama'!D58=\"Ücretli Öğretmen\"),\n'EK DERS Ücret Hesaplama'!AF58,\"\")","v":""},"","","",{"$f":"IF(AND('EK DERS Ücret Hesaplama'!AM58=1,'EK DERS Ücret Hesaplama'!D58=\"Ücretli Öğretmen (Emekli çalışan)\"),\n'EK DERS Ücret Hesaplama'!M58,\"\")","v":""},{"$f":"IF(AND('EK DERS Ücret Hesaplama'!AM58=1,'EK DERS Ücret Hesaplama'!D58=\"Ücretli Öğretmen (Emekli çalışan)\"),\n'EK DERS Ücret Hesaplama'!N58,\"\")","v":""},{"$f":"IF(AND('EK DERS Ücret Hesaplama'!AM58=1,'EK DERS Ücret Hesaplama'!D58=\"Ücretli Öğretmen (Emekli çalışan)\"),\n'EK DERS Ücret Hesaplama'!P58,\"\")","v":""},{"$f":"IF(AND('EK DERS Ücret Hesaplama'!AM58=1,'EK DERS Ücret Hesaplama'!D58=\"Ücretli Öğretmen (Emekli çalışan)\"),\n'EK DERS Ücret Hesaplama'!R58,\"\")","v":""},{"$f":"IF(AND('EK DERS Ücret Hesaplama'!AM58=1,'EK DERS Ücret Hesaplama'!D58=\"Ücretli Öğretmen (Emekli çalışan)\"),\n'EK DERS Ücret Hesaplama'!AH58,\"\")","v":""},"","",null,0]
[{"$f":"IF(B64=\"\",\"\",SUBTOTAL(103,$B$11:B64))","v":""},{"$f":"IF('EK DERS Ücret Hesaplama'!$AM59=1,'EK DERS Ücret Hesaplama'!B59,\"\")","v":""},{"$f":"IF('EK DERS Ücret Hesaplama'!$AM59=1,'EK DERS Ücret Hesaplama'!C59,\"\")","v":""},{"$f":"IF('EK DERS Ücret Hesaplama'!$AM59=1,IF('EK DERS Ücret Hesaplama'!D59=\"Ücretli Öğretmen\",\"Ücretli Öğr.\",\"Ücr.Öğr. (Emekli)\"),\"\")","v":""},{"$f":"IF(AND('EK DERS Ücret Hesaplama'!AM59=1,'EK DERS Ücret Hesaplama'!D59=\"Ücretli Öğretmen\"),\n'EK DERS Ücret Hesaplama'!M59,\"\")","v":""},{"$f":"IF(AND('EK DERS Ücret Hesaplama'!AM59=1,'EK DERS Ücret Hesaplama'!D59=\"Ücretli Öğretmen\"),\n'EK DERS Ücret Hesaplama'!N59,\"\")","v":""},{"$f":"IF(AND('EK DERS Ücret Hesaplama'!AM59=1,'EK DERS Ücret Hesaplama'!D59=\"Ücretli Öğretmen\"),\n'EK DERS Ücret Hesaplama'!P59,\"\")","v":""},{"$f":"IF(AND('EK DERS Ücret Hesaplama'!AM59=1,'EK DERS Ücret Hesaplama'!D59=\"Ücretli Öğretmen\"),\n'EK DERS Ücret Hesaplama'!Q59,\"\")","v":""},{"$f":"IF(AND('EK DERS Ücret Hesaplama'!AM59=1,'EK DERS Ücret Hesaplama'!D59=\"Ücretli Öğretmen\"),\n'EK DERS Ücret Hesaplama'!AF59,\"\")","v":""},"","","",{"$f":"IF(AND('EK DERS Ücret Hesaplama'!AM59=1,'EK DERS Ücret Hesaplama'!D59=\"Ücretli Öğretmen (Emekli çalışan)\"),\n'EK DERS Ücret Hesaplama'!M59,\"\")","v":""},{"$f":"IF(AND('EK DERS Ücret Hesaplama'!AM59=1,'EK DERS Ücret Hesaplama'!D59=\"Ücretli Öğretmen (Emekli çalışan)\"),\n'EK DERS Ücret Hesaplama'!N59,\"\")","v":""},{"$f":"IF(AND('EK DERS Ücret Hesaplama'!AM59=1,'EK DERS Ücret Hesaplama'!D59=\"Ücretli Öğretmen (Emekli çalışan)\"),\n'EK DERS Ücret Hesaplama'!P59,\"\")","v":""},{"$f":"IF(AND('EK DERS Ücret Hesaplama'!AM59=1,'EK DERS Ücret Hesaplama'!D59=\"Ücretli Öğretmen (Emekli çalışan)\"),\n'EK DERS Ücret Hesaplama'!R59,\"\")","v":""},{"$f":"IF(AND('EK DERS Ücret Hesaplama'!AM59=1,'EK DERS Ücret Hesaplama'!D59=\"Ücretli Öğretmen (Emekli çalışan)\"),\n'EK DERS Ücret Hesaplama'!AH59,\"\")","v":""},"","",null,0]
[{"$f":"IF(B65=\"\",\"\",SUBTOTAL(103,$B$11:B65))","v":""},{"$f":"IF('EK DERS Ücret Hesaplama'!$AM60=1,'EK DERS Ücret Hesaplama'!B60,\"\")","v":""},{"$f":"IF('EK DERS Ücret Hesaplama'!$AM60=1,'EK DERS Ücret Hesaplama'!C60,\"\")","v":""},{"$f":"IF('EK DERS Ücret Hesaplama'!$AM60=1,IF('EK DERS Ücret Hesaplama'!D60=\"Ücretli Öğretmen\",\"Ücretli Öğr.\",\"Ücr.Öğr. (Emekli)\"),\"\")","v":""},{"$f":"IF(AND('EK DERS Ücret Hesaplama'!AM60=1,'EK DERS Ücret Hesaplama'!D60=\"Ücretli Öğretmen\"),\n'EK DERS Ücret Hesaplama'!M60,\"\")","v":""},{"$f":"IF(AND('EK DERS Ücret Hesaplama'!AM60=1,'EK DERS Ücret Hesaplama'!D60=\"Ücretli Öğretmen\"),\n'EK DERS Ücret Hesaplama'!N60,\"\")","v":""},{"$f":"IF(AND('EK DERS Ücret Hesaplama'!AM60=1,'EK DERS Ücret Hesaplama'!D60=\"Ücretli Öğretmen\"),\n'EK DERS Ücret Hesaplama'!P60,\"\")","v":""},{"$f":"IF(AND('EK DERS Ücret Hesaplama'!AM60=1,'EK DERS Ücret Hesaplama'!D60=\"Ücretli Öğretmen\"),\n'EK DERS Ücret Hesaplama'!Q60,\"\")","v":""},{"$f":"IF(AND('EK DERS Ücret Hesaplama'!AM60=1,'EK DERS Ücret Hesaplama'!D60=\"Ücretli Öğretmen\"),\n'EK DERS Ücret Hesaplama'!AF60,\"\")","v":""},"","","",{"$f":"IF(AND('EK DERS Ücret Hesaplama'!AM60=1,'EK DERS Ücret Hesaplama'!D60=\"Ücretli Öğretmen (Emekli çalışan)\"),\n'EK DERS Ücret Hesaplama'!M60,\"\")","v":""},{"$f":"IF(AND('EK DERS Ücret Hesaplama'!AM60=1,'EK DERS Ücret Hesaplama'!D60=\"Ücretli Öğretmen (Emekli çalışan)\"),\n'EK DERS Ücret Hesaplama'!N60,\"\")","v":""},{"$f":"IF(AND('EK DERS Ücret Hesaplama'!AM60=1,'EK DERS Ücret Hesaplama'!D60=\"Ücretli Öğretmen (Emekli çalışan)\"),\n'EK DERS Ücret Hesaplama'!P60,\"\")","v":""},{"$f":"IF(AND('EK DERS Ücret Hesaplama'!AM60=1,'EK DERS Ücret Hesaplama'!D60=\"Ücretli Öğretmen (Emekli çalışan)\"),\n'EK DERS Ücret Hesaplama'!R60,\"\")","v":""},{"$f":"IF(AND('EK DERS Ücret Hesaplama'!AM60=1,'EK DERS Ücret Hesaplama'!D60=\"Ücretli Öğretmen (Emekli çalışan)\"),\n'EK DERS Ücret Hesaplama'!AH60,\"\")","v":""},"","",null,0]
[{"$f":"IF(B66=\"\",\"\",SUBTOTAL(103,$B$11:B66))","v":""},{"$f":"IF('EK DERS Ücret Hesaplama'!$AM61=1,'EK DERS Ücret Hesaplama'!B61,\"\")","v":""},{"$f":"IF('EK DERS Ücret Hesaplama'!$AM61=1,'EK DERS Ücret Hesaplama'!C61,\"\")","v":""},{"$f":"IF('EK DERS Ücret Hesaplama'!$AM61=1,IF('EK DERS Ücret Hesaplama'!D61=\"Ücretli Öğretmen\",\"Ücretli Öğr.\",\"Ücr.Öğr. (Emekli)\"),\"\")","v":""},{"$f":"IF(AND('EK DERS Ücret Hesaplama'!AM61=1,'EK DERS Ücret Hesaplama'!D61=\"Ücretli Öğretmen\"),\n'EK DERS Ücret Hesaplama'!M61,\"\")","v":""},{"$f":"IF(AND('EK DERS Ücret Hesaplama'!AM61=1,'EK DERS Ücret Hesaplama'!D61=\"Ücretli Öğretmen\"),\n'EK DERS Ücret Hesaplama'!N61,\"\")","v":""},{"$f":"IF(AND('EK DERS Ücret Hesaplama'!AM61=1,'EK DERS Ücret Hesaplama'!D61=\"Ücretli Öğretmen\"),\n'EK DERS Ücret Hesaplama'!P61,\"\")","v":""},{"$f":"IF(AND('EK DERS Ücret Hesaplama'!AM61=1,'EK DERS Ücret Hesaplama'!D61=\"Ücretli Öğretmen\"),\n'EK DERS Ücret Hesaplama'!Q61,\"\")","v":""},{"$f":"IF(AND('EK DERS Ücret Hesaplama'!AM61=1,'EK DERS Ücret Hesaplama'!D61=\"Ücretli Öğretmen\"),\n'EK DERS Ücret Hesaplama'!AF61,\"\")","v":""},"","","",{"$f":"IF(AND('EK DERS Ücret Hesaplama'!AM61=1,'EK DERS Ücret Hesaplama'!D61=\"Ücretli Öğretmen (Emekli çalışan)\"),\n'EK DERS Ücret Hesaplama'!M61,\"\")","v":""},{"$f":"IF(AND('EK DERS Ücret Hesaplama'!AM61=1,'EK DERS Ücret Hesaplama'!D61=\"Ücretli Öğretmen (Emekli çalışan)\"),\n'EK DERS Ücret Hesaplama'!N61,\"\")","v":""},{"$f":"IF(AND('EK DERS Ücret Hesaplama'!AM61=1,'EK DERS Ücret Hesaplama'!D61=\"Ücretli Öğretmen (Emekli çalışan)\"),\n'EK DERS Ücret Hesaplama'!P61,\"\")","v":""},{"$f":"IF(AND('EK DERS Ücret Hesaplama'!AM61=1,'EK DERS Ücret Hesaplama'!D61=\"Ücretli Öğretmen (Emekli çalışan)\"),\n'EK DERS Ücret Hesaplama'!R61,\"\")","v":""},{"$f":"IF(AND('EK DERS Ücret Hesaplama'!AM61=1,'EK DERS Ücret Hesaplama'!D61=\"Ücretli Öğretmen (Emekli çalışan)\"),\n'EK DERS Ücret Hesaplama'!AH61,\"\")","v":""},"","",null,0]
[{"$f":"IF(B67=\"\",\"\",SUBTOTAL(103,$B$11:B67))","v":""},{"$f":"IF('EK DERS Ücret Hesaplama'!$AM62=1,'EK DERS Ücret Hesaplama'!B62,\"\")","v":""},{"$f":"IF('EK DERS Ücret Hesaplama'!$AM62=1,'EK DERS Ücret Hesaplama'!C62,\"\")","v":""},{"$f":"IF('EK DERS Ücret Hesaplama'!$AM62=1,IF('EK DERS Ücret Hesaplama'!D62=\"Ücretli Öğretmen\",\"Ücretli Öğr.\",\"Ücr.Öğr. (Emekli)\"),\"\")","v":""},{"$f":"IF(AND('EK DERS Ücret Hesaplama'!AM62=1,'EK DERS Ücret Hesaplama'!D62=\"Ücretli Öğretmen\"),\n'EK DERS Ücret Hesaplama'!M62,\"\")","v":""},{"$f":"IF(AND('EK DERS Ücret Hesaplama'!AM62=1,'EK DERS Ücret Hesaplama'!D62=\"Ücretli Öğretmen\"),\n'EK DERS Ücret Hesaplama'!N62,\"\")","v":""},{"$f":"IF(AND('EK DERS Ücret Hesaplama'!AM62=1,'EK DERS Ücret Hesaplama'!D62=\"Ücretli Öğretmen\"),\n'EK DERS Ücret Hesaplama'!P62,\"\")","v":""},{"$f":"IF(AND('EK DERS Ücret Hesaplama'!AM62=1,'EK DERS Ücret Hesaplama'!D62=\"Ücretli Öğretmen\"),\n'EK DERS Ücret Hesaplama'!Q62,\"\")","v":""},{"$f":"IF(AND('EK DERS Ücret Hesaplama'!AM62=1,'EK DERS Ücret Hesaplama'!D62=\"Ücretli Öğretmen\"),\n'EK DERS Ücret Hesaplama'!AF62,\"\")","v":""},"","","",{"$f":"IF(AND('EK DERS Ücret Hesaplama'!AM62=1,'EK DERS Ücret Hesaplama'!D62=\"Ücretli Öğretmen (Emekli çalışan)\"),\n'EK DERS Ücret Hesaplama'!M62,\"\")","v":""},{"$f":"IF(AND('EK DERS Ücret Hesaplama'!AM62=1,'EK DERS Ücret Hesaplama'!D62=\"Ücretli Öğretmen (Emekli çalışan)\"),\n'EK DERS Ücret Hesaplama'!N62,\"\")","v":""},{"$f":"IF(AND('EK DERS Ücret Hesaplama'!AM62=1,'EK DERS Ücret Hesaplama'!D62=\"Ücretli Öğretmen (Emekli çalışan)\"),\n'EK DERS Ücret Hesaplama'!P62,\"\")","v":""},{"$f":"IF(AND('EK DERS Ücret Hesaplama'!AM62=1,'EK DERS Ücret Hesaplama'!D62=\"Ücretli Öğretmen (Emekli çalışan)\"),\n'EK DERS Ücret Hesaplama'!R62,\"\")","v":""},{"$f":"IF(AND('EK DERS Ücret Hesaplama'!AM62=1,'EK DERS Ücret Hesaplama'!D62=\"Ücretli Öğretmen (Emekli çalışan)\"),\n'EK DERS Ücret Hesaplama'!AH62,\"\")","v":""},"","",null,0]
[{"$f":"IF(B68=\"\",\"\",SUBTOTAL(103,$B$11:B68))","v":""},{"$f":"IF('EK DERS Ücret Hesaplama'!$AM63=1,'EK DERS Ücret Hesaplama'!B63,\"\")","v":""},{"$f":"IF('EK DERS Ücret Hesaplama'!$AM63=1,'EK DERS Ücret Hesaplama'!C63,\"\")","v":""},{"$f":"IF('EK DERS Ücret Hesaplama'!$AM63=1,IF('EK DERS Ücret Hesaplama'!D63=\"Ücretli Öğretmen\",\"Ücretli Öğr.\",\"Ücr.Öğr. (Emekli)\"),\"\")","v":""},{"$f":"IF(AND('EK DERS Ücret Hesaplama'!AM63=1,'EK DERS Ücret Hesaplama'!D63=\"Ücretli Öğretmen\"),\n'EK DERS Ücret Hesaplama'!M63,\"\")","v":""},{"$f":"IF(AND('EK DERS Ücret Hesaplama'!AM63=1,'EK DERS Ücret Hesaplama'!D63=\"Ücretli Öğretmen\"),\n'EK DERS Ücret Hesaplama'!N63,\"\")","v":""},{"$f":"IF(AND('EK DERS Ücret Hesaplama'!AM63=1,'EK DERS Ücret Hesaplama'!D63=\"Ücretli Öğretmen\"),\n'EK DERS Ücret Hesaplama'!P63,\"\")","v":""},{"$f":"IF(AND('EK DERS Ücret Hesaplama'!AM63=1,'EK DERS Ücret Hesaplama'!D63=\"Ücretli Öğretmen\"),\n'EK DERS Ücret Hesaplama'!Q63,\"\")","v":""},{"$f":"IF(AND('EK DERS Ücret Hesaplama'!AM63=1,'EK DERS Ücret Hesaplama'!D63=\"Ücretli Öğretmen\"),\n'EK DERS Ücret Hesaplama'!AF63,\"\")","v":""},"","","",{"$f":"IF(AND('EK DERS Ücret Hesaplama'!AM63=1,'EK DERS Ücret Hesaplama'!D63=\"Ücretli Öğretmen (Emekli çalışan)\"),\n'EK DERS Ücret Hesaplama'!M63,\"\")","v":""},{"$f":"IF(AND('EK DERS Ücret Hesaplama'!AM63=1,'EK DERS Ücret Hesaplama'!D63=\"Ücretli Öğretmen (Emekli çalışan)\"),\n'EK DERS Ücret Hesaplama'!N63,\"\")","v":""},{"$f":"IF(AND('EK DERS Ücret Hesaplama'!AM63=1,'EK DERS Ücret Hesaplama'!D63=\"Ücretli Öğretmen (Emekli çalışan)\"),\n'EK DERS Ücret Hesaplama'!P63,\"\")","v":""},{"$f":"IF(AND('EK DERS Ücret Hesaplama'!AM63=1,'EK DERS Ücret Hesaplama'!D63=\"Ücretli Öğretmen (Emekli çalışan)\"),\n'EK DERS Ücret Hesaplama'!R63,\"\")","v":""},{"$f":"IF(AND('EK DERS Ücret Hesaplama'!AM63=1,'EK DERS Ücret Hesaplama'!D63=\"Ücretli Öğretmen (Emekli çalışan)\"),\n'EK DERS Ücret Hesaplama'!AH63,\"\")","v":""},"","",null,0]
[{"$f":"IF(B69=\"\",\"\",SUBTOTAL(103,$B$11:B69))","v":""},{"$f":"IF('EK DERS Ücret Hesaplama'!$AM64=1,'EK DERS Ücret Hesaplama'!B64,\"\")","v":""},{"$f":"IF('EK DERS Ücret Hesaplama'!$AM64=1,'EK DERS Ücret Hesaplama'!C64,\"\")","v":""},{"$f":"IF('EK DERS Ücret Hesaplama'!$AM64=1,IF('EK DERS Ücret Hesaplama'!D64=\"Ücretli Öğretmen\",\"Ücretli Öğr.\",\"Ücr.Öğr. (Emekli)\"),\"\")","v":""},{"$f":"IF(AND('EK DERS Ücret Hesaplama'!AM64=1,'EK DERS Ücret Hesaplama'!D64=\"Ücretli Öğretmen\"),\n'EK DERS Ücret Hesaplama'!M64,\"\")","v":""},{"$f":"IF(AND('EK DERS Ücret Hesaplama'!AM64=1,'EK DERS Ücret Hesaplama'!D64=\"Ücretli Öğretmen\"),\n'EK DERS Ücret Hesaplama'!N64,\"\")","v":""},{"$f":"IF(AND('EK DERS Ücret Hesaplama'!AM64=1,'EK DERS Ücret Hesaplama'!D64=\"Ücretli Öğretmen\"),\n'EK DERS Ücret Hesaplama'!P64,\"\")","v":""},{"$f":"IF(AND('EK DERS Ücret Hesaplama'!AM64=1,'EK DERS Ücret Hesaplama'!D64=\"Ücretli Öğretmen\"),\n'EK DERS Ücret Hesaplama'!Q64,\"\")","v":""},{"$f":"IF(AND('EK DERS Ücret Hesaplama'!AM64=1,'EK DERS Ücret Hesaplama'!D64=\"Ücretli Öğretmen\"),\n'EK DERS Ücret Hesaplama'!AF64,\"\")","v":""},"","","",{"$f":"IF(AND('EK DERS Ücret Hesaplama'!AM64=1,'EK DERS Ücret Hesaplama'!D64=\"Ücretli Öğretmen (Emekli çalışan)\"),\n'EK DERS Ücret Hesaplama'!M64,\"\")","v":""},{"$f":"IF(AND('EK DERS Ücret Hesaplama'!AM64=1,'EK DERS Ücret Hesaplama'!D64=\"Ücretli Öğretmen (Emekli çalışan)\"),\n'EK DERS Ücret Hesaplama'!N64,\"\")","v":""},{"$f":"IF(AND('EK DERS Ücret Hesaplama'!AM64=1,'EK DERS Ücret Hesaplama'!D64=\"Ücretli Öğretmen (Emekli çalışan)\"),\n'EK DERS Ücret Hesaplama'!P64,\"\")","v":""},{"$f":"IF(AND('EK DERS Ücret Hesaplama'!AM64=1,'EK DERS Ücret Hesaplama'!D64=\"Ücretli Öğretmen (Emekli çalışan)\"),\n'EK DERS Ücret Hesaplama'!R64,\"\")","v":""},{"$f":"IF(AND('EK DERS Ücret Hesaplama'!AM64=1,'EK DERS Ücret Hesaplama'!D64=\"Ücretli Öğretmen (Emekli çalışan)\"),\n'EK DERS Ücret Hesaplama'!AH64,\"\")","v":""},"","",null,0]
[{"$f":"IF(B70=\"\",\"\",SUBTOTAL(103,$B$11:B70))","v":""},{"$f":"IF('EK DERS Ücret Hesaplama'!$AM65=1,'EK DERS Ücret Hesaplama'!B65,\"\")","v":""},{"$f":"IF('EK DERS Ücret Hesaplama'!$AM65=1,'EK DERS Ücret Hesaplama'!C65,\"\")","v":""},{"$f":"IF('EK DERS Ücret Hesaplama'!$AM65=1,IF('EK DERS Ücret Hesaplama'!D65=\"Ücretli Öğretmen\",\"Ücretli Öğr.\",\"Ücr.Öğr. (Emekli)\"),\"\")","v":""},{"$f":"IF(AND('EK DERS Ücret Hesaplama'!AM65=1,'EK DERS Ücret Hesaplama'!D65=\"Ücretli Öğretmen\"),\n'EK DERS Ücret Hesaplama'!M65,\"\")","v":""},{"$f":"IF(AND('EK DERS Ücret Hesaplama'!AM65=1,'EK DERS Ücret Hesaplama'!D65=\"Ücretli Öğretmen\"),\n'EK DERS Ücret Hesaplama'!N65,\"\")","v":""},{"$f":"IF(AND('EK DERS Ücret Hesaplama'!AM65=1,'EK DERS Ücret Hesaplama'!D65=\"Ücretli Öğretmen\"),\n'EK DERS Ücret Hesaplama'!P65,\"\")","v":""},{"$f":"IF(AND('EK DERS Ücret Hesaplama'!AM65=1,'EK DERS Ücret Hesaplama'!D65=\"Ücretli Öğretmen\"),\n'EK DERS Ücret Hesaplama'!Q65,\"\")","v":""},{"$f":"IF(AND('EK DERS Ücret Hesaplama'!AM65=1,'EK DERS Ücret Hesaplama'!D65=\"Ücretli Öğretmen\"),\n'EK DERS Ücret Hesaplama'!AF65,\"\")","v":""},"","","",{"$f":"IF(AND('EK DERS Ücret Hesaplama'!AM65=1,'EK DERS Ücret Hesaplama'!D65=\"Ücretli Öğretmen (Emekli çalışan)\"),\n'EK DERS Ücret Hesaplama'!M65,\"\")","v":""},{"$f":"IF(AND('EK DERS Ücret Hesaplama'!AM65=1,'EK DERS Ücret Hesaplama'!D65=\"Ücretli Öğretmen (Emekli çalışan)\"),\n'EK DERS Ücret Hesaplama'!N65,\"\")","v":""},{"$f":"IF(AND('EK DERS Ücret Hesaplama'!AM65=1,'EK DERS Ücret Hesaplama'!D65=\"Ücretli Öğretmen (Emekli çalışan)\"),\n'EK DERS Ücret Hesaplama'!P65,\"\")","v":""},{"$f":"IF(AND('EK DERS Ücret Hesaplama'!AM65=1,'EK DERS Ücret Hesaplama'!D65=\"Ücretli Öğretmen (Emekli çalışan)\"),\n'EK DERS Ücret Hesaplama'!R65,\"\")","v":""},{"$f":"IF(AND('EK DERS Ücret Hesaplama'!AM65=1,'EK DERS Ücret Hesaplama'!D65=\"Ücretli Öğretmen (Emekli çalışan)\"),\n'EK DERS Ücret Hesaplama'!AH65,\"\")","v":""},"","",null,0]
[{"$f":"IF(B71=\"\",\"\",SUBTOTAL(103,$B$11:B71))","v":""},{"$f":"IF('EK DERS Ücret Hesaplama'!$AM66=1,'EK DERS Ücret Hesaplama'!B66,\"\")","v":""},{"$f":"IF('EK DERS Ücret Hesaplama'!$AM66=1,'EK DERS Ücret Hesaplama'!C66,\"\")","v":""},{"$f":"IF('EK DERS Ücret Hesaplama'!$AM66=1,IF('EK DERS Ücret Hesaplama'!D66=\"Ücretli Öğretmen\",\"Ücretli Öğr.\",\"Ücr.Öğr. (Emekli)\"),\"\")","v":""},{"$f":"IF(AND('EK DERS Ücret Hesaplama'!AM66=1,'EK DERS Ücret Hesaplama'!D66=\"Ücretli Öğretmen\"),\n'EK DERS Ücret Hesaplama'!M66,\"\")","v":""},{"$f":"IF(AND('EK DERS Ücret Hesaplama'!AM66=1,'EK DERS Ücret Hesaplama'!D66=\"Ücretli Öğretmen\"),\n'EK DERS Ücret Hesaplama'!N66,\"\")","v":""},{"$f":"IF(AND('EK DERS Ücret Hesaplama'!AM66=1,'EK DERS Ücret Hesaplama'!D66=\"Ücretli Öğretmen\"),\n'EK DERS Ücret Hesaplama'!P66,\"\")","v":""},{"$f":"IF(AND('EK DERS Ücret Hesaplama'!AM66=1,'EK DERS Ücret Hesaplama'!D66=\"Ücretli Öğretmen\"),\n'EK DERS Ücret Hesaplama'!Q66,\"\")","v":""},{"$f":"IF(AND('EK DERS Ücret Hesaplama'!AM66=1,'EK DERS Ücret Hesaplama'!D66=\"Ücretli Öğretmen\"),\n'EK DERS Ücret Hesaplama'!AF66,\"\")","v":""},"","","",{"$f":"IF(AND('EK DERS Ücret Hesaplama'!AM66=1,'EK DERS Ücret Hesaplama'!D66=\"Ücretli Öğretmen (Emekli çalışan)\"),\n'EK DERS Ücret Hesaplama'!M66,\"\")","v":""},{"$f":"IF(AND('EK DERS Ücret Hesaplama'!AM66=1,'EK DERS Ücret Hesaplama'!D66=\"Ücretli Öğretmen (Emekli çalışan)\"),\n'EK DERS Ücret Hesaplama'!N66,\"\")","v":""},{"$f":"IF(AND('EK DERS Ücret Hesaplama'!AM66=1,'EK DERS Ücret Hesaplama'!D66=\"Ücretli Öğretmen (Emekli çalışan)\"),\n'EK DERS Ücret Hesaplama'!P66,\"\")","v":""},{"$f":"IF(AND('EK DERS Ücret Hesaplama'!AM66=1,'EK DERS Ücret Hesaplama'!D66=\"Ücretli Öğretmen (Emekli çalışan)\"),\n'EK DERS Ücret Hesaplama'!R66,\"\")","v":""},{"$f":"IF(AND('EK DERS Ücret Hesaplama'!AM66=1,'EK DERS Ücret Hesaplama'!D66=\"Ücretli Öğretmen (Emekli çalışan)\"),\n'EK DERS Ücret Hesaplama'!AH66,\"\")","v":""},"","",null,0]
[{"$f":"IF(B72=\"\",\"\",SUBTOTAL(103,$B$11:B72))","v":""},{"$f":"IF('EK DERS Ücret Hesaplama'!$AM67=1,'EK DERS Ücret Hesaplama'!B67,\"\")","v":""},{"$f":"IF('EK DERS Ücret Hesaplama'!$AM67=1,'EK DERS Ücret Hesaplama'!C67,\"\")","v":""},{"$f":"IF('EK DERS Ücret Hesaplama'!$AM67=1,IF('EK DERS Ücret Hesaplama'!D67=\"Ücretli Öğretmen\",\"Ücretli Öğr.\",\"Ücr.Öğr. (Emekli)\"),\"\")","v":""},{"$f":"IF(AND('EK DERS Ücret Hesaplama'!AM67=1,'EK DERS Ücret Hesaplama'!D67=\"Ücretli Öğretmen\"),\n'EK DERS Ücret Hesaplama'!M67,\"\")","v":""},{"$f":"IF(AND('EK DERS Ücret Hesaplama'!AM67=1,'EK DERS Ücret Hesaplama'!D67=\"Ücretli Öğretmen\"),\n'EK DERS Ücret Hesaplama'!N67,\"\")","v":""},{"$f":"IF(AND('EK DERS Ücret Hesaplama'!AM67=1,'EK DERS Ücret Hesaplama'!D67=\"Ücretli Öğretmen\"),\n'EK DERS Ücret Hesaplama'!P67,\"\")","v":""},{"$f":"IF(AND('EK DERS Ücret Hesaplama'!AM67=1,'EK DERS Ücret Hesaplama'!D67=\"Ücretli Öğretmen\"),\n'EK DERS Ücret Hesaplama'!Q67,\"\")","v":""},{"$f":"IF(AND('EK DERS Ücret Hesaplama'!AM67=1,'EK DERS Ücret Hesaplama'!D67=\"Ücretli Öğretmen\"),\n'EK DERS Ücret Hesaplama'!AF67,\"\")","v":""},"","","",{"$f":"IF(AND('EK DERS Ücret Hesaplama'!AM67=1,'EK DERS Ücret Hesaplama'!D67=\"Ücretli Öğretmen (Emekli çalışan)\"),\n'EK DERS Ücret Hesaplama'!M67,\"\")","v":""},{"$f":"IF(AND('EK DERS Ücret Hesaplama'!AM67=1,'EK DERS Ücret Hesaplama'!D67=\"Ücretli Öğretmen (Emekli çalışan)\"),\n'EK DERS Ücret Hesaplama'!N67,\"\")","v":""},{"$f":"IF(AND('EK DERS Ücret Hesaplama'!AM67=1,'EK DERS Ücret Hesaplama'!D67=\"Ücretli Öğretmen (Emekli çalışan)\"),\n'EK DERS Ücret Hesaplama'!P67,\"\")","v":""},{"$f":"IF(AND('EK DERS Ücret Hesaplama'!AM67=1,'EK DERS Ücret Hesaplama'!D67=\"Ücretli Öğretmen (Emekli çalışan)\"),\n'EK DERS Ücret Hesaplama'!R67,\"\")","v":""},{"$f":"IF(AND('EK DERS Ücret Hesaplama'!AM67=1,'EK DERS Ücret Hesaplama'!D67=\"Ücretli Öğretmen (Emekli çalışan)\"),\n'EK DERS Ücret Hesaplama'!AH67,\"\")","v":""},"","",null,0]
[{"$f":"IF(B73=\"\",\"\",SUBTOTAL(103,$B$11:B73))","v":""},{"$f":"IF('EK DERS Ücret Hesaplama'!$AM68=1,'EK DERS Ücret Hesaplama'!B68,\"\")","v":""},{"$f":"IF('EK DERS Ücret Hesaplama'!$AM68=1,'EK DERS Ücret Hesaplama'!C68,\"\")","v":""},{"$f":"IF('EK DERS Ücret Hesaplama'!$AM68=1,IF('EK DERS Ücret Hesaplama'!D68=\"Ücretli Öğretmen\",\"Ücretli Öğr.\",\"Ücr.Öğr. (Emekli)\"),\"\")","v":""},{"$f":"IF(AND('EK DERS Ücret Hesaplama'!AM68=1,'EK DERS Ücret Hesaplama'!D68=\"Ücretli Öğretmen\"),\n'EK DERS Ücret Hesaplama'!M68,\"\")","v":""},{"$f":"IF(AND('EK DERS Ücret Hesaplama'!AM68=1,'EK DERS Ücret Hesaplama'!D68=\"Ücretli Öğretmen\"),\n'EK DERS Ücret Hesaplama'!N68,\"\")","v":""},{"$f":"IF(AND('EK DERS Ücret Hesaplama'!AM68=1,'EK DERS Ücret Hesaplama'!D68=\"Ücretli Öğretmen\"),\n'EK DERS Ücret Hesaplama'!P68,\"\")","v":""},{"$f":"IF(AND('EK DERS Ücret Hesaplama'!AM68=1,'EK DERS Ücret Hesaplama'!D68=\"Ücretli Öğretmen\"),\n'EK DERS Ücret Hesaplama'!Q68,\"\")","v":""},{"$f":"IF(AND('EK DERS Ücret Hesaplama'!AM68=1,'EK DERS Ücret Hesaplama'!D68=\"Ücretli Öğretmen\"),\n'EK DERS Ücret Hesaplama'!AF68,\"\")","v":""},"","","",{"$f":"IF(AND('EK DERS Ücret Hesaplama'!AM68=1,'EK DERS Ücret Hesaplama'!D68=\"Ücretli Öğretmen (Emekli çalışan)\"),\n'EK DERS Ücret Hesaplama'!M68,\"\")","v":""},{"$f":"IF(AND('EK DERS Ücret Hesaplama'!AM68=1,'EK DERS Ücret Hesaplama'!D68=\"Ücretli Öğretmen (Emekli çalışan)\"),\n'EK DERS Ücret Hesaplama'!N68,\"\")","v":""},{"$f":"IF(AND('EK DERS Ücret Hesaplama'!AM68=1,'EK DERS Ücret Hesaplama'!D68=\"Ücretli Öğretmen (Emekli çalışan)\"),\n'EK DERS Ücret Hesaplama'!P68,\"\")","v":""},{"$f":"IF(AND('EK DERS Ücret Hesaplama'!AM68=1,'EK DERS Ücret Hesaplama'!D68=\"Ücretli Öğretmen (Emekli çalışan)\"),\n'EK DERS Ücret Hesaplama'!R68,\"\")","v":""},{"$f":"IF(AND('EK DERS Ücret Hesaplama'!AM68=1,'EK DERS Ücret Hesaplama'!D68=\"Ücretli Öğretmen (Emekli çalışan)\"),\n'EK DERS Ücret Hesaplama'!AH68,\"\")","v":""},"","",null,0]
[{"$f":"IF(B74=\"\",\"\",SUBTOTAL(103,$B$11:B74))","v":""},{"$f":"IF('EK DERS Ücret Hesaplama'!$AM69=1,'EK DERS Ücret Hesaplama'!B69,\"\")","v":""},{"$f":"IF('EK DERS Ücret Hesaplama'!$AM69=1,'EK DERS Ücret Hesaplama'!C69,\"\")","v":""},{"$f":"IF('EK DERS Ücret Hesaplama'!$AM69=1,IF('EK DERS Ücret Hesaplama'!D69=\"Ücretli Öğretmen\",\"Ücretli Öğr.\",\"Ücr.Öğr. (Emekli)\"),\"\")","v":""},{"$f":"IF(AND('EK DERS Ücret Hesaplama'!AM69=1,'EK DERS Ücret Hesaplama'!D69=\"Ücretli Öğretmen\"),\n'EK DERS Ücret Hesaplama'!M69,\"\")","v":""},{"$f":"IF(AND('EK DERS Ücret Hesaplama'!AM69=1,'EK DERS Ücret Hesaplama'!D69=\"Ücretli Öğretmen\"),\n'EK DERS Ücret Hesaplama'!N69,\"\")","v":""},{"$f":"IF(AND('EK DERS Ücret Hesaplama'!AM69=1,'EK DERS Ücret Hesaplama'!D69=\"Ücretli Öğretmen\"),\n'EK DERS Ücret Hesaplama'!P69,\"\")","v":""},{"$f":"IF(AND('EK DERS Ücret Hesaplama'!AM69=1,'EK DERS Ücret Hesaplama'!D69=\"Ücretli Öğretmen\"),\n'EK DERS Ücret Hesaplama'!Q69,\"\")","v":""},{"$f":"IF(AND('EK DERS Ücret Hesaplama'!AM69=1,'EK DERS Ücret Hesaplama'!D69=\"Ücretli Öğretmen\"),\n'EK DERS Ücret Hesaplama'!AF69,\"\")","v":""},"","","",{"$f":"IF(AND('EK DERS Ücret Hesaplama'!AM69=1,'EK DERS Ücret Hesaplama'!D69=\"Ücretli Öğretmen (Emekli çalışan)\"),\n'EK DERS Ücret Hesaplama'!M69,\"\")","v":""},{"$f":"IF(AND('EK DERS Ücret Hesaplama'!AM69=1,'EK DERS Ücret Hesaplama'!D69=\"Ücretli Öğretmen (Emekli çalışan)\"),\n'EK DERS Ücret Hesaplama'!N69,\"\")","v":""},{"$f":"IF(AND('EK DERS Ücret Hesaplama'!AM69=1,'EK DERS Ücret Hesaplama'!D69=\"Ücretli Öğretmen (Emekli çalışan)\"),\n'EK DERS Ücret Hesaplama'!P69,\"\")","v":""},{"$f":"IF(AND('EK DERS Ücret Hesaplama'!AM69=1,'EK DERS Ücret Hesaplama'!D69=\"Ücretli Öğretmen (Emekli çalışan)\"),\n'EK DERS Ücret Hesaplama'!R69,\"\")","v":""},{"$f":"IF(AND('EK DERS Ücret Hesaplama'!AM69=1,'EK DERS Ücret Hesaplama'!D69=\"Ücretli Öğretmen (Emekli çalışan)\"),\n'EK DERS Ücret Hesaplama'!AH69,\"\")","v":""},"","",null,0]
[{"$f":"IF(B75=\"\",\"\",SUBTOTAL(103,$B$11:B75))","v":""},{"$f":"IF('EK DERS Ücret Hesaplama'!$AM70=1,'EK DERS Ücret Hesaplama'!B70,\"\")","v":""},{"$f":"IF('EK DERS Ücret Hesaplama'!$AM70=1,'EK DERS Ücret Hesaplama'!C70,\"\")","v":""},{"$f":"IF('EK DERS Ücret Hesaplama'!$AM70=1,IF('EK DERS Ücret Hesaplama'!D70=\"Ücretli Öğretmen\",\"Ücretli Öğr.\",\"Ücr.Öğr. (Emekli)\"),\"\")","v":""},{"$f":"IF(AND('EK DERS Ücret Hesaplama'!AM70=1,'EK DERS Ücret Hesaplama'!D70=\"Ücretli Öğretmen\"),\n'EK DERS Ücret Hesaplama'!M70,\"\")","v":""},{"$f":"IF(AND('EK DERS Ücret Hesaplama'!AM70=1,'EK DERS Ücret Hesaplama'!D70=\"Ücretli Öğretmen\"),\n'EK DERS Ücret Hesaplama'!N70,\"\")","v":""},{"$f":"IF(AND('EK DERS Ücret Hesaplama'!AM70=1,'EK DERS Ücret Hesaplama'!D70=\"Ücretli Öğretmen\"),\n'EK DERS Ücret Hesaplama'!P70,\"\")","v":""},{"$f":"IF(AND('EK DERS Ücret Hesaplama'!AM70=1,'EK DERS Ücret Hesaplama'!D70=\"Ücretli Öğretmen\"),\n'EK DERS Ücret Hesaplama'!Q70,\"\")","v":""},{"$f":"IF(AND('EK DERS Ücret Hesaplama'!AM70=1,'EK DERS Ücret Hesaplama'!D70=\"Ücretli Öğretmen\"),\n'EK DERS Ücret Hesaplama'!AF70,\"\")","v":""},"","","",{"$f":"IF(AND('EK DERS Ücret Hesaplama'!AM70=1,'EK DERS Ücret Hesaplama'!D70=\"Ücretli Öğretmen (Emekli çalışan)\"),\n'EK DERS Ücret Hesaplama'!M70,\"\")","v":""},{"$f":"IF(AND('EK DERS Ücret Hesaplama'!AM70=1,'EK DERS Ücret Hesaplama'!D70=\"Ücretli Öğretmen (Emekli çalışan)\"),\n'EK DERS Ücret Hesaplama'!N70,\"\")","v":""},{"$f":"IF(AND('EK DERS Ücret Hesaplama'!AM70=1,'EK DERS Ücret Hesaplama'!D70=\"Ücretli Öğretmen (Emekli çalışan)\"),\n'EK DERS Ücret Hesaplama'!P70,\"\")","v":""},{"$f":"IF(AND('EK DERS Ücret Hesaplama'!AM70=1,'EK DERS Ücret Hesaplama'!D70=\"Ücretli Öğretmen (Emekli çalışan)\"),\n'EK DERS Ücret Hesaplama'!R70,\"\")","v":""},{"$f":"IF(AND('EK DERS Ücret Hesaplama'!AM70=1,'EK DERS Ücret Hesaplama'!D70=\"Ücretli Öğretmen (Emekli çalışan)\"),\n'EK DERS Ücret Hesaplama'!AH70,\"\")","v":""},"","",null,0]
[{"$f":"IF(B76=\"\",\"\",SUBTOTAL(103,$B$11:B76))","v":""},{"$f":"IF('EK DERS Ücret Hesaplama'!$AM71=1,'EK DERS Ücret Hesaplama'!B71,\"\")","v":""},{"$f":"IF('EK DERS Ücret Hesaplama'!$AM71=1,'EK DERS Ücret Hesaplama'!C71,\"\")","v":""},{"$f":"IF('EK DERS Ücret Hesaplama'!$AM71=1,IF('EK DERS Ücret Hesaplama'!D71=\"Ücretli Öğretmen\",\"Ücretli Öğr.\",\"Ücr.Öğr. (Emekli)\"),\"\")","v":""},{"$f":"IF(AND('EK DERS Ücret Hesaplama'!AM71=1,'EK DERS Ücret Hesaplama'!D71=\"Ücretli Öğretmen\"),\n'EK DERS Ücret Hesaplama'!M71,\"\")","v":""},{"$f":"IF(AND('EK DERS Ücret Hesaplama'!AM71=1,'EK DERS Ücret Hesaplama'!D71=\"Ücretli Öğretmen\"),\n'EK DERS Ücret Hesaplama'!N71,\"\")","v":""},{"$f":"IF(AND('EK DERS Ücret Hesaplama'!AM71=1,'EK DERS Ücret Hesaplama'!D71=\"Ücretli Öğretmen\"),\n'EK DERS Ücret Hesaplama'!P71,\"\")","v":""},{"$f":"IF(AND('EK DERS Ücret Hesaplama'!AM71=1,'EK DERS Ücret Hesaplama'!D71=\"Ücretli Öğretmen\"),\n'EK DERS Ücret Hesaplama'!Q71,\"\")","v":""},{"$f":"IF(AND('EK DERS Ücret Hesaplama'!AM71=1,'EK DERS Ücret Hesaplama'!D71=\"Ücretli Öğretmen\"),\n'EK DERS Ücret Hesaplama'!AF71,\"\")","v":""},{"$f":"IF(G76=\"\",\"\",ROUND(G76*0.2,2))","v":""},{"$f":"IF(G76=\"\",\"\",ROUND(G76*0.125,2))","v":""},{"$f":"IF(G76=\"\",\"\",ROUND(G76*0.02,2))","v":""},{"$f":"IF(AND('EK DERS Ücret Hesaplama'!AM71=1,'EK DERS Ücret Hesaplama'!D71=\"Ücretli Öğretmen (Emekli çalışan)\"),\n'EK DERS Ücret Hesaplama'!M71,\"\")","v":""},{"$f":"IF(AND('EK DERS Ücret Hesaplama'!AM71=1,'EK DERS Ücret Hesaplama'!D71=\"Ücretli Öğretmen (Emekli çalışan)\"),\n'EK DERS Ücret Hesaplama'!N71,\"\")","v":""},{"$f":"IF(AND('EK DERS Ücret Hesaplama'!AM71=1,'EK DERS Ücret Hesaplama'!D71=\"Ücretli Öğretmen (Emekli çalışan)\"),\n'EK DERS Ücret Hesaplama'!P71,\"\")","v":""},{"$f":"IF(AND('EK DERS Ücret Hesaplama'!AM71=1,'EK DERS Ücret Hesaplama'!D71=\"Ücretli Öğretmen (Emekli çalışan)\"),\n'EK DERS Ücret Hesaplama'!R71,\"\")","v":""},{"$f":"IF(AND('EK DERS Ücret Hesaplama'!AM71=1,'EK DERS Ücret Hesaplama'!D71=\"Ücretli Öğretmen (Emekli çalışan)\"),\n'EK DERS Ücret Hesaplama'!AH71,\"\")","v":""},{"$f":"IF(O76=\"\",\"\",ROUND(O76*0.3,2))","v":""},{"$f":"IF(O76=\"\",\"\",ROUND(O76*0.02,2))","v":""},null,{"$f":"IF(B76=\"\",0,1)","v":0}]
[{"$f":"IF(B77=\"\",\"\",SUBTOTAL(103,$B$11:B77))","v":""},{"$f":"IF('EK DERS Ücret Hesaplama'!$AM72=1,'EK DERS Ücret Hesaplama'!B72,\"\")","v":""},{"$f":"IF('EK DERS Ücret Hesaplama'!$AM72=1,'EK DERS Ücret Hesaplama'!C72,\"\")","v":""},{"$f":"IF('EK DERS Ücret Hesaplama'!$AM72=1,IF('EK DERS Ücret Hesaplama'!D72=\"Ücretli Öğretmen\",\"Ücretli Öğr.\",\"Ücr.Öğr. (Emekli)\"),\"\")","v":""},{"$f":"IF(AND('EK DERS Ücret Hesaplama'!AM72=1,'EK DERS Ücret Hesaplama'!D72=\"Ücretli Öğretmen\"),\n'EK DERS Ücret Hesaplama'!M72,\"\")","v":""},{"$f":"IF(AND('EK DERS Ücret Hesaplama'!AM72=1,'EK DERS Ücret Hesaplama'!D72=\"Ücretli Öğretmen\"),\n'EK DERS Ücret Hesaplama'!N72,\"\")","v":""},{"$f":"IF(AND('EK DERS Ücret Hesaplama'!AM72=1,'EK DERS Ücret Hesaplama'!D72=\"Ücretli Öğretmen\"),\n'EK DERS Ücret Hesaplama'!P72,\"\")","v":""},{"$f":"IF(AND('EK DERS Ücret Hesaplama'!AM72=1,'EK DERS Ücret Hesaplama'!D72=\"Ücretli Öğretmen\"),\n'EK DERS Ücret Hesaplama'!Q72,\"\")","v":""},{"$f":"IF(AND('EK DERS Ücret Hesaplama'!AM72=1,'EK DERS Ücret Hesaplama'!D72=\"Ücretli Öğretmen\"),\n'EK DERS Ücret Hesaplama'!AF72,\"\")","v":""},"","","",{"$f":"IF(AND('EK DERS Ücret Hesaplama'!AM72=1,'EK DERS Ücret Hesaplama'!D72=\"Ücretli Öğretmen (Emekli çalışan)\"),\n'EK DERS Ücret Hesaplama'!M72,\"\")","v":""},{"$f":"IF(AND('EK DERS Ücret Hesaplama'!AM72=1,'EK DERS Ücret Hesaplama'!D72=\"Ücretli Öğretmen (Emekli çalışan)\"),\n'EK DERS Ücret Hesaplama'!N72,\"\")","v":""},{"$f":"IF(AND('EK DERS Ücret Hesaplama'!AM72=1,'EK DERS Ücret Hesaplama'!D72=\"Ücretli Öğretmen (Emekli çalışan)\"),\n'EK DERS Ücret Hesaplama'!P72,\"\")","v":""},{"$f":"IF(AND('EK DERS Ücret Hesaplama'!AM72=1,'EK DERS Ücret Hesaplama'!D72=\"Ücretli Öğretmen (Emekli çalışan)\"),\n'EK DERS Ücret Hesaplama'!R72,\"\")","v":""},{"$f":"IF(AND('EK DERS Ücret Hesaplama'!AM72=1,'EK DERS Ücret Hesaplama'!D72=\"Ücretli Öğretmen (Emekli çalışan)\"),\n'EK DERS Ücret Hesaplama'!AH72,\"\")","v":""},"","",null,0]
[{"$f":"IF(B78=\"\",\"\",SUBTOTAL(103,$B$11:B78))","v":""},{"$f":"IF('EK DERS Ücret Hesaplama'!$AM73=1,'EK DERS Ücret Hesaplama'!B73,\"\")","v":""},{"$f":"IF('EK DERS Ücret Hesaplama'!$AM73=1,'EK DERS Ücret Hesaplama'!C73,\"\")","v":""},{"$f":"IF('EK DERS Ücret Hesaplama'!$AM73=1,IF('EK DERS Ücret Hesaplama'!D73=\"Ücretli Öğretmen\",\"Ücretli Öğr.\",\"Ücr.Öğr. (Emekli)\"),\"\")","v":""},{"$f":"IF(AND('EK DERS Ücret Hesaplama'!AM73=1,'EK DERS Ücret Hesaplama'!D73=\"Ücretli Öğretmen\"),\n'EK DERS Ücret Hesaplama'!M73,\"\")","v":""},{"$f":"IF(AND('EK DERS Ücret Hesaplama'!AM73=1,'EK DERS Ücret Hesaplama'!D73=\"Ücretli Öğretmen\"),\n'EK DERS Ücret Hesaplama'!N73,\"\")","v":""},{"$f":"IF(AND('EK DERS Ücret Hesaplama'!AM73=1,'EK DERS Ücret Hesaplama'!D73=\"Ücretli Öğretmen\"),\n'EK DERS Ücret Hesaplama'!P73,\"\")","v":""},{"$f":"IF(AND('EK DERS Ücret Hesaplama'!AM73=1,'EK DERS Ücret Hesaplama'!D73=\"Ücretli Öğretmen\"),\n'EK DERS Ücret Hesaplama'!Q73,\"\")","v":""},{"$f":"IF(AND('EK DERS Ücret Hesaplama'!AM73=1,'EK DERS Ücret Hesaplama'!D73=\"Ücretli Öğretmen\"),\n'EK DERS Ücret Hesaplama'!AF73,\"\")","v":""},"","","",{"$f":"IF(AND('EK DERS Ücret Hesaplama'!AM73=1,'EK DERS Ücret Hesaplama'!D73=\"Ücretli Öğretmen (Emekli çalışan)\"),\n'EK DERS Ücret Hesaplama'!M73,\"\")","v":""},{"$f":"IF(AND('EK DERS Ücret Hesaplama'!AM73=1,'EK DERS Ücret Hesaplama'!D73=\"Ücretli Öğretmen (Emekli çalışan)\"),\n'EK DERS Ücret Hesaplama'!N73,\"\")","v":""},{"$f":"IF(AND('EK DERS Ücret Hesaplama'!AM73=1,'EK DERS Ücret Hesaplama'!D73=\"Ücretli Öğretmen (Emekli çalışan)\"),\n'EK DERS Ücret Hesaplama'!P73,\"\")","v":""},{"$f":"IF(AND('EK DERS Ücret Hesaplama'!AM73=1,'EK DERS Ücret Hesaplama'!D73=\"Ücretli Öğretmen (Emekli çalışan)\"),\n'EK DERS Ücret Hesaplama'!R73,\"\")","v":""},{"$f":"IF(AND('EK DERS Ücret Hesaplama'!AM73=1,'EK DERS Ücret Hesaplama'!D73=\"Ücretli Öğretmen (Emekli çalışan)\"),\n'EK DERS Ücret Hesaplama'!AH73,\"\")","v":""},"","",null,0]
[{"$f":"IF(B79=\"\",\"\",SUBTOTAL(103,$B$11:B79))","v":""},{"$f":"IF('EK DERS Ücret Hesaplama'!$AM74=1,'EK DERS Ücret Hesaplama'!B74,\"\")","v":""},{"$f":"IF('EK DERS Ücret Hesaplama'!$AM74=1,'EK DERS Ücret Hesaplama'!C74,\"\")","v":""},{"$f":"IF('EK DERS Ücret Hesaplama'!$AM74=1,IF('EK DERS Ücret Hesaplama'!D74=\"Ücretli Öğretmen\",\"Ücretli Öğr.\",\"Ücr.Öğr. (Emekli)\"),\"\")","v":""},{"$f":"IF(AND('EK DERS Ücret Hesaplama'!AM74=1,'EK DERS Ücret Hesaplama'!D74=\"Ücretli Öğretmen\"),\n'EK DERS Ücret Hesaplama'!M74,\"\")","v":""},{"$f":"IF(AND('EK DERS Ücret Hesaplama'!AM74=1,'EK DERS Ücret Hesaplama'!D74=\"Ücretli Öğretmen\"),\n'EK DERS Ücret Hesaplama'!N74,\"\")","v":""},{"$f":"IF(AND('EK DERS Ücret Hesaplama'!AM74=1,'EK DERS Ücret Hesaplama'!D74=\"Ücretli Öğretmen\"),\n'EK DERS Ücret Hesaplama'!P74,\"\")","v":""},{"$f":"IF(AND('EK DERS Ücret Hesaplama'!AM74=1,'EK DERS Ücret Hesaplama'!D74=\"Ücretli Öğretmen\"),\n'EK DERS Ücret Hesaplama'!Q74,\"\")","v":""},{"$f":"IF(AND('EK DERS Ücret Hesaplama'!AM74=1,'EK DERS Ücret Hesaplama'!D74=\"Ücretli Öğretmen\"),\n'EK DERS Ücret Hesaplama'!AF74,\"\")","v":""},"","","",{"$f":"IF(AND('EK DERS Ücret Hesaplama'!AM74=1,'EK DERS Ücret Hesaplama'!D74=\"Ücretli Öğretmen (Emekli çalışan)\"),\n'EK DERS Ücret Hesaplama'!M74,\"\")","v":""},{"$f":"IF(AND('EK DERS Ücret Hesaplama'!AM74=1,'EK DERS Ücret Hesaplama'!D74=\"Ücretli Öğretmen (Emekli çalışan)\"),\n'EK DERS Ücret Hesaplama'!N74,\"\")","v":""},{"$f":"IF(AND('EK DERS Ücret Hesaplama'!AM74=1,'EK DERS Ücret Hesaplama'!D74=\"Ücretli Öğretmen (Emekli çalışan)\"),\n'EK DERS Ücret Hesaplama'!P74,\"\")","v":""},{"$f":"IF(AND('EK DERS Ücret Hesaplama'!AM74=1,'EK DERS Ücret Hesaplama'!D74=\"Ücretli Öğretmen (Emekli çalışan)\"),\n'EK DERS Ücret Hesaplama'!R74,\"\")","v":""},{"$f":"IF(AND('EK DERS Ücret Hesaplama'!AM74=1,'EK DERS Ücret Hesaplama'!D74=\"Ücretli Öğretmen (Emekli çalışan)\"),\n'EK DERS Ücret Hesaplama'!AH74,\"\")","v":""},"","",null,0]
[{"$f":"IF(B80=\"\",\"\",SUBTOTAL(103,$B$11:B80))","v":""},{"$f":"IF('EK DERS Ücret Hesaplama'!$AM75=1,'EK DERS Ücret Hesaplama'!B75,\"\")","v":""},{"$f":"IF('EK DERS Ücret Hesaplama'!$AM75=1,'EK DERS Ücret Hesaplama'!C75,\"\")","v":""},{"$f":"IF('EK DERS Ücret Hesaplama'!$AM75=1,IF('EK DERS Ücret Hesaplama'!D75=\"Ücretli Öğretmen\",\"Ücretli Öğr.\",\"Ücr.Öğr. (Emekli)\"),\"\")","v":""},{"$f":"IF(AND('EK DERS Ücret Hesaplama'!AM75=1,'EK DERS Ücret Hesaplama'!D75=\"Ücretli Öğretmen\"),\n'EK DERS Ücret Hesaplama'!M75,\"\")","v":""},{"$f":"IF(AND('EK DERS Ücret Hesaplama'!AM75=1,'EK DERS Ücret Hesaplama'!D75=\"Ücretli Öğretmen\"),\n'EK DERS Ücret Hesaplama'!N75,\"\")","v":""},{"$f":"IF(AND('EK DERS Ücret Hesaplama'!AM75=1,'EK DERS Ücret Hesaplama'!D75=\"Ücretli Öğretmen\"),\n'EK DERS Ücret Hesaplama'!P75,\"\")","v":""},{"$f":"IF(AND('EK DERS Ücret Hesaplama'!AM75=1,'EK DERS Ücret Hesaplama'!D75=\"Ücretli Öğretmen\"),\n'EK DERS Ücret Hesaplama'!Q75,\"\")","v":""},{"$f":"IF(AND('EK DERS Ücret Hesaplama'!AM75=1,'EK DERS Ücret Hesaplama'!D75=\"Ücretli Öğretmen\"),\n'EK DERS Ücret Hesaplama'!AF75,\"\")","v":""},"","","",{"$f":"IF(AND('EK DERS Ücret Hesaplama'!AM75=1,'EK DERS Ücret Hesaplama'!D75=\"Ücretli Öğretmen (Emekli çalışan)\"),\n'EK DERS Ücret Hesaplama'!M75,\"\")","v":""},{"$f":"IF(AND('EK DERS Ücret Hesaplama'!AM75=1,'EK DERS Ücret Hesaplama'!D75=\"Ücretli Öğretmen (Emekli çalışan)\"),\n'EK DERS Ücret Hesaplama'!N75,\"\")","v":""},{"$f":"IF(AND('EK DERS Ücret Hesaplama'!AM75=1,'EK DERS Ücret Hesaplama'!D75=\"Ücretli Öğretmen (Emekli çalışan)\"),\n'EK DERS Ücret Hesaplama'!P75,\"\")","v":""},{"$f":"IF(AND('EK DERS Ücret Hesaplama'!AM75=1,'EK DERS Ücret Hesaplama'!D75=\"Ücretli Öğretmen (Emekli çalışan)\"),\n'EK DERS Ücret Hesaplama'!R75,\"\")","v":""},{"$f":"IF(AND('EK DERS Ücret Hesaplama'!AM75=1,'EK DERS Ücret Hesaplama'!D75=\"Ücretli Öğretmen (Emekli çalışan)\"),\n'EK DERS Ücret Hesaplama'!AH75,\"\")","v":""},"","",null,0]
[{"$f":"IF(B81=\"\",\"\",SUBTOTAL(103,$B$11:B81))","v":""},{"$f":"IF('EK DERS Ücret Hesaplama'!$AM76=1,'EK DERS Ücret Hesaplama'!B76,\"\")","v":""},{"$f":"IF('EK DERS Ücret Hesaplama'!$AM76=1,'EK DERS Ücret Hesaplama'!C76,\"\")","v":""},{"$f":"IF('EK DERS Ücret Hesaplama'!$AM76=1,IF('EK DERS Ücret Hesaplama'!D76=\"Ücretli Öğretmen\",\"Ücretli Öğr.\",\"Ücr.Öğr. (Emekli)\"),\"\")","v":""},{"$f":"IF(AND('EK DERS Ücret Hesaplama'!AM76=1,'EK DERS Ücret Hesaplama'!D76=\"Ücretli Öğretmen\"),\n'EK DERS Ücret Hesaplama'!M76,\"\")","v":""},{"$f":"IF(AND('EK DERS Ücret Hesaplama'!AM76=1,'EK DERS Ücret Hesaplama'!D76=\"Ücretli Öğretmen\"),\n'EK DERS Ücret Hesaplama'!N76,\"\")","v":""},{"$f":"IF(AND('EK DERS Ücret Hesaplama'!AM76=1,'EK DERS Ücret Hesaplama'!D76=\"Ücretli Öğretmen\"),\n'EK DERS Ücret Hesaplama'!P76,\"\")","v":""},{"$f":"IF(AND('EK DERS Ücret Hesaplama'!AM76=1,'EK DERS Ücret Hesaplama'!D76=\"Ücretli Öğretmen\"),\n'EK DERS Ücret Hesaplama'!Q76,\"\")","v":""},{"$f":"IF(AND('EK DERS Ücret Hesaplama'!AM76=1,'EK DERS Ücret Hesaplama'!D76=\"Ücretli Öğretmen\"),\n'EK DERS Ücret Hesaplama'!AF76,\"\")","v":""},"","","",{"$f":"IF(AND('EK DERS Ücret Hesaplama'!AM76=1,'EK DERS Ücret Hesaplama'!D76=\"Ücretli Öğretmen (Emekli çalışan)\"),\n'EK DERS Ücret Hesaplama'!M76,\"\")","v":""},{"$f":"IF(AND('EK DERS Ücret Hesaplama'!AM76=1,'EK DERS Ücret Hesaplama'!D76=\"Ücretli Öğretmen (Emekli çalışan)\"),\n'EK DERS Ücret Hesaplama'!N76,\"\")","v":""},{"$f":"IF(AND('EK DERS Ücret Hesaplama'!AM76=1,'EK DERS Ücret Hesaplama'!D76=\"Ücretli Öğretmen (Emekli çalışan)\"),\n'EK DERS Ücret Hesaplama'!P76,\"\")","v":""},{"$f":"IF(AND('EK DERS Ücret Hesaplama'!AM76=1,'EK DERS Ücret Hesaplama'!D76=\"Ücretli Öğretmen (Emekli çalışan)\"),\n'EK DERS Ücret Hesaplama'!R76,\"\")","v":""},{"$f":"IF(AND('EK DERS Ücret Hesaplama'!AM76=1,'EK DERS Ücret Hesaplama'!D76=\"Ücretli Öğretmen (Emekli çalışan)\"),\n'EK DERS Ücret Hesaplama'!AH76,\"\")","v":""},"","",null,0]
[{"$f":"IF(B82=\"\",\"\",SUBTOTAL(103,$B$11:B82))","v":""},{"$f":"IF('EK DERS Ücret Hesaplama'!$AM77=1,'EK DERS Ücret Hesaplama'!B77,\"\")","v":""},{"$f":"IF('EK DERS Ücret Hesaplama'!$AM77=1,'EK DERS Ücret Hesaplama'!C77,\"\")","v":""},{"$f":"IF('EK DERS Ücret Hesaplama'!$AM77=1,IF('EK DERS Ücret Hesaplama'!D77=\"Ücretli Öğretmen\",\"Ücretli Öğr.\",\"Ücr.Öğr. (Emekli)\"),\"\")","v":""},{"$f":"IF(AND('EK DERS Ücret Hesaplama'!AM77=1,'EK DERS Ücret Hesaplama'!D77=\"Ücretli Öğretmen\"),\n'EK DERS Ücret Hesaplama'!M77,\"\")","v":""},{"$f":"IF(AND('EK DERS Ücret Hesaplama'!AM77=1,'EK DERS Ücret Hesaplama'!D77=\"Ücretli Öğretmen\"),\n'EK DERS Ücret Hesaplama'!N77,\"\")","v":""},{"$f":"IF(AND('EK DERS Ücret Hesaplama'!AM77=1,'EK DERS Ücret Hesaplama'!D77=\"Ücretli Öğretmen\"),\n'EK DERS Ücret Hesaplama'!P77,\"\")","v":""},{"$f":"IF(AND('EK DERS Ücret Hesaplama'!AM77=1,'EK DERS Ücret Hesaplama'!D77=\"Ücretli Öğretmen\"),\n'EK DERS Ücret Hesaplama'!Q77,\"\")","v":""},{"$f":"IF(AND('EK DERS Ücret Hesaplama'!AM77=1,'EK DERS Ücret Hesaplama'!D77=\"Ücretli Öğretmen\"),\n'EK DERS Ücret Hesaplama'!AF77,\"\")","v":""},"","","",{"$f":"IF(AND('EK DERS Ücret Hesaplama'!AM77=1,'EK DERS Ücret Hesaplama'!D77=\"Ücretli Öğretmen (Emekli çalışan)\"),\n'EK DERS Ücret Hesaplama'!M77,\"\")","v":""},{"$f":"IF(AND('EK DERS Ücret Hesaplama'!AM77=1,'EK DERS Ücret Hesaplama'!D77=\"Ücretli Öğretmen (Emekli çalışan)\"),\n'EK DERS Ücret Hesaplama'!N77,\"\")","v":""},{"$f":"IF(AND('EK DERS Ücret Hesaplama'!AM77=1,'EK DERS Ücret Hesaplama'!D77=\"Ücretli Öğretmen (Emekli çalışan)\"),\n'EK DERS Ücret Hesaplama'!P77,\"\")","v":""},{"$f":"IF(AND('EK DERS Ücret Hesaplama'!AM77=1,'EK DERS Ücret Hesaplama'!D77=\"Ücretli Öğretmen (Emekli çalışan)\"),\n'EK DERS Ücret Hesaplama'!R77,\"\")","v":""},{"$f":"IF(AND('EK DERS Ücret Hesaplama'!AM77=1,'EK DERS Ücret Hesaplama'!D77=\"Ücretli Öğretmen (Emekli çalışan)\"),\n'EK DERS Ücret Hesaplama'!AH77,\"\")","v":""},"","",null,0]
[{"$f":"IF(B83=\"\",\"\",SUBTOTAL(103,$B$11:B83))","v":""},{"$f":"IF('EK DERS Ücret Hesaplama'!$AM78=1,'EK DERS Ücret Hesaplama'!B78,\"\")","v":""},{"$f":"IF('EK DERS Ücret Hesaplama'!$AM78=1,'EK DERS Ücret Hesaplama'!C78,\"\")","v":""},{"$f":"IF('EK DERS Ücret Hesaplama'!$AM78=1,IF('EK DERS Ücret Hesaplama'!D78=\"Ücretli Öğretmen\",\"Ücretli Öğr.\",\"Ücr.Öğr. (Emekli)\"),\"\")","v":""},{"$f":"IF(AND('EK DERS Ücret Hesaplama'!AM78=1,'EK DERS Ücret Hesaplama'!D78=\"Ücretli Öğretmen\"),\n'EK DERS Ücret Hesaplama'!M78,\"\")","v":""},{"$f":"IF(AND('EK DERS Ücret Hesaplama'!AM78=1,'EK DERS Ücret Hesaplama'!D78=\"Ücretli Öğretmen\"),\n'EK DERS Ücret Hesaplama'!N78,\"\")","v":""},{"$f":"IF(AND('EK DERS Ücret Hesaplama'!AM78=1,'EK DERS Ücret Hesaplama'!D78=\"Ücretli Öğretmen\"),\n'EK DERS Ücret Hesaplama'!P78,\"\")","v":""},{"$f":"IF(AND('EK DERS Ücret Hesaplama'!AM78=1,'EK DERS Ücret Hesaplama'!D78=\"Ücretli Öğretmen\"),\n'EK DERS Ücret Hesaplama'!Q78,\"\")","v":""},{"$f":"IF(AND('EK DERS Ücret Hesaplama'!AM78=1,'EK DERS Ücret Hesaplama'!D78=\"Ücretli Öğretmen\"),\n'EK DERS Ücret Hesaplama'!AF78,\"\")","v":""},"","","",{"$f":"IF(AND('EK DERS Ücret Hesaplama'!AM78=1,'EK DERS Ücret Hesaplama'!D78=\"Ücretli Öğretmen (Emekli çalışan)\"),\n'EK DERS Ücret Hesaplama'!M78,\"\")","v":""},{"$f":"IF(AND('EK DERS Ücret Hesaplama'!AM78=1,'EK DERS Ücret Hesaplama'!D78=\"Ücretli Öğretmen (Emekli çalışan)\"),\n'EK DERS Ücret Hesaplama'!N78,\"\")","v":""},{"$f":"IF(AND('EK DERS Ücret Hesaplama'!AM78=1,'EK DERS Ücret Hesaplama'!D78=\"Ücretli Öğretmen (Emekli çalışan)\"),\n'EK DERS Ücret Hesaplama'!P78,\"\")","v":""},{"$f":"IF(AND('EK DERS Ücret Hesaplama'!AM78=1,'EK DERS Ücret Hesaplama'!D78=\"Ücretli Öğretmen (Emekli çalışan)\"),\n'EK DERS Ücret Hesaplama'!R78,\"\")","v":""},{"$f":"IF(AND('EK DERS Ücret Hesaplama'!AM78=1,'EK DERS Ücret Hesaplama'!D78=\"Ücretli Öğretmen (Emekli çalışan)\"),\n'EK DERS Ücret Hesaplama'!AH78,\"\")","v":""},"","",null,0]
[{"$f":"IF(B84=\"\",\"\",SUBTOTAL(103,$B$11:B84))","v":""},{"$f":"IF('EK DERS Ücret Hesaplama'!$AM79=1,'EK DERS Ücret Hesaplama'!B79,\"\")","v":""},{"$f":"IF('EK DERS Ücret Hesaplama'!$AM79=1,'EK DERS Ücret Hesaplama'!C79,\"\")","v":""},{"$f":"IF('EK DERS Ücret Hesaplama'!$AM79=1,IF('EK DERS Ücret Hesaplama'!D79=\"Ücretli Öğretmen\",\"Ücretli Öğr.\",\"Ücr.Öğr. (Emekli)\"),\"\")","v":""},{"$f":"IF(AND('EK DERS Ücret Hesaplama'!AM79=1,'EK DERS Ücret Hesaplama'!D79=\"Ücretli Öğretmen\"),\n'EK DERS Ücret Hesaplama'!M79,\"\")","v":""},{"$f":"IF(AND('EK DERS Ücret Hesaplama'!AM79=1,'EK DERS Ücret Hesaplama'!D79=\"Ücretli Öğretmen\"),\n'EK DERS Ücret Hesaplama'!N79,\"\")","v":""},{"$f":"IF(AND('EK DERS Ücret Hesaplama'!AM79=1,'EK DERS Ücret Hesaplama'!D79=\"Ücretli Öğretmen\"),\n'EK DERS Ücret Hesaplama'!P79,\"\")","v":""},{"$f":"IF(AND('EK DERS Ücret Hesaplama'!AM79=1,'EK DERS Ücret Hesaplama'!D79=\"Ücretli Öğretmen\"),\n'EK DERS Ücret Hesaplama'!Q79,\"\")","v":""},{"$f":"IF(AND('EK DERS Ücret Hesaplama'!AM79=1,'EK DERS Ücret Hesaplama'!D79=\"Ücretli Öğretmen\"),\n'EK DERS Ücret Hesaplama'!AF79,\"\")","v":""},"","","",{"$f":"IF(AND('EK DERS Ücret Hesaplama'!AM79=1,'EK DERS Ücret Hesaplama'!D79=\"Ücretli Öğretmen (Emekli çalışan)\"),\n'EK DERS Ücret Hesaplama'!M79,\"\")","v":""},{"$f":"IF(AND('EK DERS Ücret Hesaplama'!AM79=1,'EK DERS Ücret Hesaplama'!D79=\"Ücretli Öğretmen (Emekli çalışan)\"),\n'EK DERS Ücret Hesaplama'!N79,\"\")","v":""},{"$f":"IF(AND('EK DERS Ücret Hesaplama'!AM79=1,'EK DERS Ücret Hesaplama'!D79=\"Ücretli Öğretmen (Emekli çalışan)\"),\n'EK DERS Ücret Hesaplama'!P79,\"\")","v":""},{"$f":"IF(AND('EK DERS Ücret Hesaplama'!AM79=1,'EK DERS Ücret Hesaplama'!D79=\"Ücretli Öğretmen (Emekli çalışan)\"),\n'EK DERS Ücret Hesaplama'!R79,\"\")","v":""},{"$f":"IF(AND('EK DERS Ücret Hesaplama'!AM79=1,'EK DERS Ücret Hesaplama'!D79=\"Ücretli Öğretmen (Emekli çalışan)\"),\n'EK DERS Ücret Hesaplama'!AH79,\"\")","v":""},"","",null,0]
[{"$f":"IF(B85=\"\",\"\",SUBTOTAL(103,$B$11:B85))","v":""},{"$f":"IF('EK DERS Ücret Hesaplama'!$AM80=1,'EK DERS Ücret Hesaplama'!B80,\"\")","v":""},{"$f":"IF('EK DERS Ücret Hesaplama'!$AM80=1,'EK DERS Ücret Hesaplama'!C80,\"\")","v":""},{"$f":"IF('EK DERS Ücret Hesaplama'!$AM80=1,IF('EK DERS Ücret Hesaplama'!D80=\"Ücretli Öğretmen\",\"Ücretli Öğr.\",\"Ücr.Öğr. (Emekli)\"),\"\")","v":""},{"$f":"IF(AND('EK DERS Ücret Hesaplama'!AM80=1,'EK DERS Ücret Hesaplama'!D80=\"Ücretli Öğretmen\"),\n'EK DERS Ücret Hesaplama'!M80,\"\")","v":""},{"$f":"IF(AND('EK DERS Ücret Hesaplama'!AM80=1,'EK DERS Ücret Hesaplama'!D80=\"Ücretli Öğretmen\"),\n'EK DERS Ücret Hesaplama'!N80,\"\")","v":""},{"$f":"IF(AND('EK DERS Ücret Hesaplama'!AM80=1,'EK DERS Ücret Hesaplama'!D80=\"Ücretli Öğretmen\"),\n'EK DERS Ücret Hesaplama'!P80,\"\")","v":""},{"$f":"IF(AND('EK DERS Ücret Hesaplama'!AM80=1,'EK DERS Ücret Hesaplama'!D80=\"Ücretli Öğretmen\"),\n'EK DERS Ücret Hesaplama'!Q80,\"\")","v":""},{"$f":"IF(AND('EK DERS Ücret Hesaplama'!AM80=1,'EK DERS Ücret Hesaplama'!D80=\"Ücretli Öğretmen\"),\n'EK DERS Ücret Hesaplama'!AF80,\"\")","v":""},"","","",{"$f":"IF(AND('EK DERS Ücret Hesaplama'!AM80=1,'EK DERS Ücret Hesaplama'!D80=\"Ücretli Öğretmen (Emekli çalışan)\"),\n'EK DERS Ücret Hesaplama'!M80,\"\")","v":""},{"$f":"IF(AND('EK DERS Ücret Hesaplama'!AM80=1,'EK DERS Ücret Hesaplama'!D80=\"Ücretli Öğretmen (Emekli çalışan)\"),\n'EK DERS Ücret Hesaplama'!N80,\"\")","v":""},{"$f":"IF(AND('EK DERS Ücret Hesaplama'!AM80=1,'EK DERS Ücret Hesaplama'!D80=\"Ücretli Öğretmen (Emekli çalışan)\"),\n'EK DERS Ücret Hesaplama'!P80,\"\")","v":""},{"$f":"IF(AND('EK DERS Ücret Hesaplama'!AM80=1,'EK DERS Ücret Hesaplama'!D80=\"Ücretli Öğretmen (Emekli çalışan)\"),\n'EK DERS Ücret Hesaplama'!R80,\"\")","v":""},{"$f":"IF(AND('EK DERS Ücret Hesaplama'!AM80=1,'EK DERS Ücret Hesaplama'!D80=\"Ücretli Öğretmen (Emekli çalışan)\"),\n'EK DERS Ücret Hesaplama'!AH80,\"\")","v":""},"","",null,0]
[{"$f":"IF(B86=\"\",\"\",SUBTOTAL(103,$B$11:B86))","v":""},{"$f":"IF('EK DERS Ücret Hesaplama'!$AM81=1,'EK DERS Ücret Hesaplama'!B81,\"\")","v":""},{"$f":"IF('EK DERS Ücret Hesaplama'!$AM81=1,'EK DERS Ücret Hesaplama'!C81,\"\")","v":""},{"$f":"IF('EK DERS Ücret Hesaplama'!$AM81=1,IF('EK DERS Ücret Hesaplama'!D81=\"Ücretli Öğretmen\",\"Ücretli Öğr.\",\"Ücr.Öğr. (Emekli)\"),\"\")","v":""},{"$f":"IF(AND('EK DERS Ücret Hesaplama'!AM81=1,'EK DERS Ücret Hesaplama'!D81=\"Ücretli Öğretmen\"),\n'EK DERS Ücret Hesaplama'!M81,\"\")","v":""},{"$f":"IF(AND('EK DERS Ücret Hesaplama'!AM81=1,'EK DERS Ücret Hesaplama'!D81=\"Ücretli Öğretmen\"),\n'EK DERS Ücret Hesaplama'!N81,\"\")","v":""},{"$f":"IF(AND('EK DERS Ücret Hesaplama'!AM81=1,'EK DERS Ücret Hesaplama'!D81=\"Ücretli Öğretmen\"),\n'EK DERS Ücret Hesaplama'!P81,\"\")","v":""},{"$f":"IF(AND('EK DERS Ücret Hesaplama'!AM81=1,'EK DERS Ücret Hesaplama'!D81=\"Ücretli Öğretmen\"),\n'EK DERS Ücret Hesaplama'!Q81,\"\")","v":""},{"$f":"IF(AND('EK DERS Ücret Hesaplama'!AM81=1,'EK DERS Ücret Hesaplama'!D81=\"Ücretli Öğretmen\"),\n'EK DERS Ücret Hesaplama'!AF81,\"\")","v":""},"","","",{"$f":"IF(AND('EK DERS Ücret Hesaplama'!AM81=1,'EK DERS Ücret Hesaplama'!D81=\"Ücretli Öğretmen (Emekli çalışan)\"),\n'EK DERS Ücret Hesaplama'!M81,\"\")","v":""},{"$f":"IF(AND('EK DERS Ücret Hesaplama'!AM81=1,'EK DERS Ücret Hesaplama'!D81=\"Ücretli Öğretmen (Emekli çalışan)\"),\n'EK DERS Ücret Hesaplama'!N81,\"\")","v":""},{"$f":"IF(AND('EK DERS Ücret Hesaplama'!AM81=1,'EK DERS Ücret Hesaplama'!D81=\"Ücretli Öğretmen (Emekli çalışan)\"),\n'EK DERS Ücret Hesaplama'!P81,\"\")","v":""},{"$f":"IF(AND('EK DERS Ücret Hesaplama'!AM81=1,'EK DERS Ücret Hesaplama'!D81=\"Ücretli Öğretmen (Emekli çalışan)\"),\n'EK DERS Ücret Hesaplama'!R81,\"\")","v":""},{"$f":"IF(AND('EK DERS Ücret Hesaplama'!AM81=1,'EK DERS Ücret Hesaplama'!D81=\"Ücretli Öğretmen (Emekli çalışan)\"),\n'EK DERS Ücret Hesaplama'!AH81,\"\")","v":""},"","",null,0]
[{"$f":"IF(B87=\"\",\"\",SUBTOTAL(103,$B$11:B87))","v":""},{"$f":"IF('EK DERS Ücret Hesaplama'!$AM82=1,'EK DERS Ücret Hesaplama'!B82,\"\")","v":""},{"$f":"IF('EK DERS Ücret Hesaplama'!$AM82=1,'EK DERS Ücret Hesaplama'!C82,\"\")","v":""},{"$f":"IF('EK DERS Ücret Hesaplama'!$AM82=1,IF('EK DERS Ücret Hesaplama'!D82=\"Ücretli Öğretmen\",\"Ücretli Öğr.\",\"Ücr.Öğr. (Emekli)\"),\"\")","v":""},{"$f":"IF(AND('EK DERS Ücret Hesaplama'!AM82=1,'EK DERS Ücret Hesaplama'!D82=\"Ücretli Öğretmen\"),\n'EK DERS Ücret Hesaplama'!M82,\"\")","v":""},{"$f":"IF(AND('EK DERS Ücret Hesaplama'!AM82=1,'EK DERS Ücret Hesaplama'!D82=\"Ücretli Öğretmen\"),\n'EK DERS Ücret Hesaplama'!N82,\"\")","v":""},{"$f":"IF(AND('EK DERS Ücret Hesaplama'!AM82=1,'EK DERS Ücret Hesaplama'!D82=\"Ücretli Öğretmen\"),\n'EK DERS Ücret Hesaplama'!P82,\"\")","v":""},{"$f":"IF(AND('EK DERS Ücret Hesaplama'!AM82=1,'EK DERS Ücret Hesaplama'!D82=\"Ücretli Öğretmen\"),\n'EK DERS Ücret Hesaplama'!Q82,\"\")","v":""},{"$f":"IF(AND('EK DERS Ücret Hesaplama'!AM82=1,'EK DERS Ücret Hesaplama'!D82=\"Ücretli Öğretmen\"),\n'EK DERS Ücret Hesaplama'!AF82,\"\")","v":""},"","","",{"$f":"IF(AND('EK DERS Ücret Hesaplama'!AM82=1,'EK DERS Ücret Hesaplama'!D82=\"Ücretli Öğretmen (Emekli çalışan)\"),\n'EK DERS Ücret Hesaplama'!M82,\"\")","v":""},{"$f":"IF(AND('EK DERS Ücret Hesaplama'!AM82=1,'EK DERS Ücret Hesaplama'!D82=\"Ücretli Öğretmen (Emekli çalışan)\"),\n'EK DERS Ücret Hesaplama'!N82,\"\")","v":""},{"$f":"IF(AND('EK DERS Ücret Hesaplama'!AM82=1,'EK DERS Ücret Hesaplama'!D82=\"Ücretli Öğretmen (Emekli çalışan)\"),\n'EK DERS Ücret Hesaplama'!P82,\"\")","v":""},{"$f":"IF(AND('EK DERS Ücret Hesaplama'!AM82=1,'EK DERS Ücret Hesaplama'!D82=\"Ücretli Öğretmen (Emekli çalışan)\"),\n'EK DERS Ücret Hesaplama'!R82,\"\")","v":""},{"$f":"IF(AND('EK DERS Ücret Hesaplama'!AM82=1,'EK DERS Ücret Hesaplama'!D82=\"Ücretli Öğretmen (Emekli çalışan)\"),\n'EK DERS Ücret Hesaplama'!AH82,\"\")","v":""},"","",null,0]
[{"$f":"IF(B88=\"\",\"\",SUBTOTAL(103,$B$11:B88))","v":""},{"$f":"IF('EK DERS Ücret Hesaplama'!$AM83=1,'EK DERS Ücret Hesaplama'!B83,\"\")","v":""},{"$f":"IF('EK DERS Ücret Hesaplama'!$AM83=1,'EK DERS Ücret Hesaplama'!C83,\"\")","v":""},{"$f":"IF('EK DERS Ücret Hesaplama'!$AM83=1,IF('EK DERS Ücret Hesaplama'!D83=\"Ücretli Öğretmen\",\"Ücretli Öğr.\",\"Ücr.Öğr. (Emekli)\"),\"\")","v":""},{"$f":"IF(AND('EK DERS Ücret Hesaplama'!AM83=1,'EK DERS Ücret Hesaplama'!D83=\"Ücretli Öğretmen\"),\n'EK DERS Ücret Hesaplama'!M83,\"\")","v":""},{"$f":"IF(AND('EK DERS Ücret Hesaplama'!AM83=1,'EK DERS Ücret Hesaplama'!D83=\"Ücretli Öğretmen\"),\n'EK DERS Ücret Hesaplama'!N83,\"\")","v":""},{"$f":"IF(AND('EK DERS Ücret Hesaplama'!AM83=1,'EK DERS Ücret Hesaplama'!D83=\"Ücretli Öğretmen\"),\n'EK DERS Ücret Hesaplama'!P83,\"\")","v":""},{"$f":"IF(AND('EK DERS Ücret Hesaplama'!AM83=1,'EK DERS Ücret Hesaplama'!D83=\"Ücretli Öğretmen\"),\n'EK DERS Ücret Hesaplama'!Q83,\"\")","v":""},{"$f":"IF(AND('EK DERS Ücret Hesaplama'!AM83=1,'EK DERS Ücret Hesaplama'!D83=\"Ücretli Öğretmen\"),\n'EK DERS Ücret Hesaplama'!AF83,\"\")","v":""},"","","",{"$f":"IF(AND('EK DERS Ücret Hesaplama'!AM83=1,'EK DERS Ücret Hesaplama'!D83=\"Ücretli Öğretmen (Emekli çalışan)\"),\n'EK DERS Ücret Hesaplama'!M83,\"\")","v":""},{"$f":"IF(AND('EK DERS Ücret Hesaplama'!AM83=1,'EK DERS Ücret Hesaplama'!D83=\"Ücretli Öğretmen (Emekli çalışan)\"),\n'EK DERS Ücret Hesaplama'!N83,\"\")","v":""},{"$f":"IF(AND('EK DERS Ücret Hesaplama'!AM83=1,'EK DERS Ücret Hesaplama'!D83=\"Ücretli Öğretmen (Emekli çalışan)\"),\n'EK DERS Ücret Hesaplama'!P83,\"\")","v":""},{"$f":"IF(AND('EK DERS Ücret Hesaplama'!AM83=1,'EK DERS Ücret Hesaplama'!D83=\"Ücretli Öğretmen (Emekli çalışan)\"),\n'EK DERS Ücret Hesaplama'!R83,\"\")","v":""},{"$f":"IF(AND('EK DERS Ücret Hesaplama'!AM83=1,'EK DERS Ücret Hesaplama'!D83=\"Ücretli Öğretmen (Emekli çalışan)\"),\n'EK DERS Ücret Hesaplama'!AH83,\"\")","v":""},"","",null,0]
[{"$f":"IF(B89=\"\",\"\",SUBTOTAL(103,$B$11:B89))","v":""},{"$f":"IF('EK DERS Ücret Hesaplama'!$AM84=1,'EK DERS Ücret Hesaplama'!B84,\"\")","v":""},{"$f":"IF('EK DERS Ücret Hesaplama'!$AM84=1,'EK DERS Ücret Hesaplama'!C84,\"\")","v":""},{"$f":"IF('EK DERS Ücret Hesaplama'!$AM84=1,IF('EK DERS Ücret Hesaplama'!D84=\"Ücretli Öğretmen\",\"Ücretli Öğr.\",\"Ücr.Öğr. (Emekli)\"),\"\")","v":""},{"$f":"IF(AND('EK DERS Ücret Hesaplama'!AM84=1,'EK DERS Ücret Hesaplama'!D84=\"Ücretli Öğretmen\"),\n'EK DERS Ücret Hesaplama'!M84,\"\")","v":""},{"$f":"IF(AND('EK DERS Ücret Hesaplama'!AM84=1,'EK DERS Ücret Hesaplama'!D84=\"Ücretli Öğretmen\"),\n'EK DERS Ücret Hesaplama'!N84,\"\")","v":""},{"$f":"IF(AND('EK DERS Ücret Hesaplama'!AM84=1,'EK DERS Ücret Hesaplama'!D84=\"Ücretli Öğretmen\"),\n'EK DERS Ücret Hesaplama'!P84,\"\")","v":""},{"$f":"IF(AND('EK DERS Ücret Hesaplama'!AM84=1,'EK DERS Ücret Hesaplama'!D84=\"Ücretli Öğretmen\"),\n'EK DERS Ücret Hesaplama'!Q84,\"\")","v":""},{"$f":"IF(AND('EK DERS Ücret Hesaplama'!AM84=1,'EK DERS Ücret Hesaplama'!D84=\"Ücretli Öğretmen\"),\n'EK DERS Ücret Hesaplama'!AF84,\"\")","v":""},"","","",{"$f":"IF(AND('EK DERS Ücret Hesaplama'!AM84=1,'EK DERS Ücret Hesaplama'!D84=\"Ücretli Öğretmen (Emekli çalışan)\"),\n'EK DERS Ücret Hesaplama'!M84,\"\")","v":""},{"$f":"IF(AND('EK DERS Ücret Hesaplama'!AM84=1,'EK DERS Ücret Hesaplama'!D84=\"Ücretli Öğretmen (Emekli çalışan)\"),\n'EK DERS Ücret Hesaplama'!N84,\"\")","v":""},{"$f":"IF(AND('EK DERS Ücret Hesaplama'!AM84=1,'EK DERS Ücret Hesaplama'!D84=\"Ücretli Öğretmen (Emekli çalışan)\"),\n'EK DERS Ücret Hesaplama'!P84,\"\")","v":""},{"$f":"IF(AND('EK DERS Ücret Hesaplama'!AM84=1,'EK DERS Ücret Hesaplama'!D84=\"Ücretli Öğretmen (Emekli çalışan)\"),\n'EK DERS Ücret Hesaplama'!R84,\"\")","v":""},{"$f":"IF(AND('EK DERS Ücret Hesaplama'!AM84=1,'EK DERS Ücret Hesaplama'!D84=\"Ücretli Öğretmen (Emekli çalışan)\"),\n'EK DERS Ücret Hesaplama'!AH84,\"\")","v":""},"","",null,0]
[{"$f":"IF(B90=\"\",\"\",SUBTOTAL(103,$B$11:B90))","v":""},{"$f":"IF('EK DERS Ücret Hesaplama'!$AM85=1,'EK DERS Ücret Hesaplama'!B85,\"\")","v":""},{"$f":"IF('EK DERS Ücret Hesaplama'!$AM85=1,'EK DERS Ücret Hesaplama'!C85,\"\")","v":""},{"$f":"IF('EK DERS Ücret Hesaplama'!$AM85=1,IF('EK DERS Ücret Hesaplama'!D85=\"Ücretli Öğretmen\",\"Ücretli Öğr.\",\"Ücr.Öğr. (Emekli)\"),\"\")","v":""},{"$f":"IF(AND('EK DERS Ücret Hesaplama'!AM85=1,'EK DERS Ücret Hesaplama'!D85=\"Ücretli Öğretmen\"),\n'EK DERS Ücret Hesaplama'!M85,\"\")","v":""},{"$f":"IF(AND('EK DERS Ücret Hesaplama'!AM85=1,'EK DERS Ücret Hesaplama'!D85=\"Ücretli Öğretmen\"),\n'EK DERS Ücret Hesaplama'!N85,\"\")","v":""},{"$f":"IF(AND('EK DERS Ücret Hesaplama'!AM85=1,'EK DERS Ücret Hesaplama'!D85=\"Ücretli Öğretmen\"),\n'EK DERS Ücret Hesaplama'!P85,\"\")","v":""},{"$f":"IF(AND('EK DERS Ücret Hesaplama'!AM85=1,'EK DERS Ücret Hesaplama'!D85=\"Ücretli Öğretmen\"),\n'EK DERS Ücret Hesaplama'!Q85,\"\")","v":""},{"$f":"IF(AND('EK DERS Ücret Hesaplama'!AM85=1,'EK DERS Ücret Hesaplama'!D85=\"Ücretli Öğretmen\"),\n'EK DERS Ücret Hesaplama'!AF85,\"\")","v":""},"","","",{"$f":"IF(AND('EK DERS Ücret Hesaplama'!AM85=1,'EK DERS Ücret Hesaplama'!D85=\"Ücretli Öğretmen (Emekli çalışan)\"),\n'EK DERS Ücret Hesaplama'!M85,\"\")","v":""},{"$f":"IF(AND('EK DERS Ücret Hesaplama'!AM85=1,'EK DERS Ücret Hesaplama'!D85=\"Ücretli Öğretmen (Emekli çalışan)\"),\n'EK DERS Ücret Hesaplama'!N85,\"\")","v":""},{"$f":"IF(AND('EK DERS Ücret Hesaplama'!AM85=1,'EK DERS Ücret Hesaplama'!D85=\"Ücretli Öğretmen (Emekli çalışan)\"),\n'EK DERS Ücret Hesaplama'!P85,\"\")","v":""},{"$f":"IF(AND('EK DERS Ücret Hesaplama'!AM85=1,'EK DERS Ücret Hesaplama'!D85=\"Ücretli Öğretmen (Emekli çalışan)\"),\n'EK DERS Ücret Hesaplama'!R85,\"\")","v":""},{"$f":"IF(AND('EK DERS Ücret Hesaplama'!AM85=1,'EK DERS Ücret Hesaplama'!D85=\"Ücretli Öğretmen (Emekli çalışan)\"),\n'EK DERS Ücret Hesaplama'!AH85,\"\")","v":""},"","",null,0]
[{"$f":"IF(B91=\"\",\"\",SUBTOTAL(103,$B$11:B91))","v":""},{"$f":"IF('EK DERS Ücret Hesaplama'!$AM86=1,'EK DERS Ücret Hesaplama'!B86,\"\")","v":""},{"$f":"IF('EK DERS Ücret Hesaplama'!$AM86=1,'EK DERS Ücret Hesaplama'!C86,\"\")","v":""},{"$f":"IF('EK DERS Ücret Hesaplama'!$AM86=1,IF('EK DERS Ücret Hesaplama'!D86=\"Ücretli Öğretmen\",\"Ücretli Öğr.\",\"Ücr.Öğr. (Emekli)\"),\"\")","v":""},{"$f":"IF(AND('EK DERS Ücret Hesaplama'!AM86=1,'EK DERS Ücret Hesaplama'!D86=\"Ücretli Öğretmen\"),\n'EK DERS Ücret Hesaplama'!M86,\"\")","v":""},{"$f":"IF(AND('EK DERS Ücret Hesaplama'!AM86=1,'EK DERS Ücret Hesaplama'!D86=\"Ücretli Öğretmen\"),\n'EK DERS Ücret Hesaplama'!N86,\"\")","v":""},{"$f":"IF(AND('EK DERS Ücret Hesaplama'!AM86=1,'EK DERS Ücret Hesaplama'!D86=\"Ücretli Öğretmen\"),\n'EK DERS Ücret Hesaplama'!P86,\"\")","v":""},{"$f":"IF(AND('EK DERS Ücret Hesaplama'!AM86=1,'EK DERS Ücret Hesaplama'!D86=\"Ücretli Öğretmen\"),\n'EK DERS Ücret Hesaplama'!Q86,\"\")","v":""},{"$f":"IF(AND('EK DERS Ücret Hesaplama'!AM86=1,'EK DERS Ücret Hesaplama'!D86=\"Ücretli Öğretmen\"),\n'EK DERS Ücret Hesaplama'!AF86,\"\")","v":""},"","","",{"$f":"IF(AND('EK DERS Ücret Hesaplama'!AM86=1,'EK DERS Ücret Hesaplama'!D86=\"Ücretli Öğretmen (Emekli çalışan)\"),\n'EK DERS Ücret Hesaplama'!M86,\"\")","v":""},{"$f":"IF(AND('EK DERS Ücret Hesaplama'!AM86=1,'EK DERS Ücret Hesaplama'!D86=\"Ücretli Öğretmen (Emekli çalışan)\"),\n'EK DERS Ücret Hesaplama'!N86,\"\")","v":""},{"$f":"IF(AND('EK DERS Ücret Hesaplama'!AM86=1,'EK DERS Ücret Hesaplama'!D86=\"Ücretli Öğretmen (Emekli çalışan)\"),\n'EK DERS Ücret Hesaplama'!P86,\"\")","v":""},{"$f":"IF(AND('EK DERS Ücret Hesaplama'!AM86=1,'EK DERS Ücret Hesaplama'!D86=\"Ücretli Öğretmen (Emekli çalışan)\"),\n'EK DERS Ücret Hesaplama'!R86,\"\")","v":""},{"$f":"IF(AND('EK DERS Ücret Hesaplama'!AM86=1,'EK DERS Ücret Hesaplama'!D86=\"Ücretli Öğretmen (Emekli çalışan)\"),\n'EK DERS Ücret Hesaplama'!AH86,\"\")","v":""},"","",null,0]
[{"$f":"IF(B92=\"\",\"\",SUBTOTAL(103,$B$11:B92))","v":""},{"$f":"IF('EK DERS Ücret Hesaplama'!$AM87=1,'EK DERS Ücret Hesaplama'!B87,\"\")","v":""},{"$f":"IF('EK DERS Ücret Hesaplama'!$AM87=1,'EK DERS Ücret Hesaplama'!C87,\"\")","v":""},{"$f":"IF('EK DERS Ücret Hesaplama'!$AM87=1,IF('EK DERS Ücret Hesaplama'!D87=\"Ücretli Öğretmen\",\"Ücretli Öğr.\",\"Ücr.Öğr. (Emekli)\"),\"\")","v":""},{"$f":"IF(AND('EK DERS Ücret Hesaplama'!AM87=1,'EK DERS Ücret Hesaplama'!D87=\"Ücretli Öğretmen\"),\n'EK DERS Ücret Hesaplama'!M87,\"\")","v":""},{"$f":"IF(AND('EK DERS Ücret Hesaplama'!AM87=1,'EK DERS Ücret Hesaplama'!D87=\"Ücretli Öğretmen\"),\n'EK DERS Ücret Hesaplama'!N87,\"\")","v":""},{"$f":"IF(AND('EK DERS Ücret Hesaplama'!AM87=1,'EK DERS Ücret Hesaplama'!D87=\"Ücretli Öğretmen\"),\n'EK DERS Ücret Hesaplama'!P87,\"\")","v":""},{"$f":"IF(AND('EK DERS Ücret Hesaplama'!AM87=1,'EK DERS Ücret Hesaplama'!D87=\"Ücretli Öğretmen\"),\n'EK DERS Ücret Hesaplama'!Q87,\"\")","v":""},{"$f":"IF(AND('EK DERS Ücret Hesaplama'!AM87=1,'EK DERS Ücret Hesaplama'!D87=\"Ücretli Öğretmen\"),\n'EK DERS Ücret Hesaplama'!AF87,\"\")","v":""},"","","",{"$f":"IF(AND('EK DERS Ücret Hesaplama'!AM87=1,'EK DERS Ücret Hesaplama'!D87=\"Ücretli Öğretmen (Emekli çalışan)\"),\n'EK DERS Ücret Hesaplama'!M87,\"\")","v":""},{"$f":"IF(AND('EK DERS Ücret Hesaplama'!AM87=1,'EK DERS Ücret Hesaplama'!D87=\"Ücretli Öğretmen (Emekli çalışan)\"),\n'EK DERS Ücret Hesaplama'!N87,\"\")","v":""},{"$f":"IF(AND('EK DERS Ücret Hesaplama'!AM87=1,'EK DERS Ücret Hesaplama'!D87=\"Ücretli Öğretmen (Emekli çalışan)\"),\n'EK DERS Ücret Hesaplama'!P87,\"\")","v":""},{"$f":"IF(AND('EK DERS Ücret Hesaplama'!AM87=1,'EK DERS Ücret Hesaplama'!D87=\"Ücretli Öğretmen (Emekli çalışan)\"),\n'EK DERS Ücret Hesaplama'!R87,\"\")","v":""},{"$f":"IF(AND('EK DERS Ücret Hesaplama'!AM87=1,'EK DERS Ücret Hesaplama'!D87=\"Ücretli Öğretmen (Emekli çalışan)\"),\n'EK DERS Ücret Hesaplama'!AH87,\"\")","v":""},"","",null,0]
[{"$f":"IF(B93=\"\",\"\",SUBTOTAL(103,$B$11:B93))","v":""},{"$f":"IF('EK DERS Ücret Hesaplama'!$AM88=1,'EK DERS Ücret Hesaplama'!B88,\"\")","v":""},{"$f":"IF('EK DERS Ücret Hesaplama'!$AM88=1,'EK DERS Ücret Hesaplama'!C88,\"\")","v":""},{"$f":"IF('EK DERS Ücret Hesaplama'!$AM88=1,IF('EK DERS Ücret Hesaplama'!D88=\"Ücretli Öğretmen\",\"Ücretli Öğr.\",\"Ücr.Öğr. (Emekli)\"),\"\")","v":""},{"$f":"IF(AND('EK DERS Ücret Hesaplama'!AM88=1,'EK DERS Ücret Hesaplama'!D88=\"Ücretli Öğretmen\"),\n'EK DERS Ücret Hesaplama'!M88,\"\")","v":""},{"$f":"IF(AND('EK DERS Ücret Hesaplama'!AM88=1,'EK DERS Ücret Hesaplama'!D88=\"Ücretli Öğretmen\"),\n'EK DERS Ücret Hesaplama'!N88,\"\")","v":""},{"$f":"IF(AND('EK DERS Ücret Hesaplama'!AM88=1,'EK DERS Ücret Hesaplama'!D88=\"Ücretli Öğretmen\"),\n'EK DERS Ücret Hesaplama'!P88,\"\")","v":""},{"$f":"IF(AND('EK DERS Ücret Hesaplama'!AM88=1,'EK DERS Ücret Hesaplama'!D88=\"Ücretli Öğretmen\"),\n'EK DERS Ücret Hesaplama'!Q88,\"\")","v":""},{"$f":"IF(AND('EK DERS Ücret Hesaplama'!AM88=1,'EK DERS Ücret Hesaplama'!D88=\"Ücretli Öğretmen\"),\n'EK DERS Ücret Hesaplama'!AF88,\"\")","v":""},"","","",{"$f":"IF(AND('EK DERS Ücret Hesaplama'!AM88=1,'EK DERS Ücret Hesaplama'!D88=\"Ücretli Öğretmen (Emekli çalışan)\"),\n'EK DERS Ücret Hesaplama'!M88,\"\")","v":""},{"$f":"IF(AND('EK DERS Ücret Hesaplama'!AM88=1,'EK DERS Ücret Hesaplama'!D88=\"Ücretli Öğretmen (Emekli çalışan)\"),\n'EK DERS Ücret Hesaplama'!N88,\"\")","v":""},{"$f":"IF(AND('EK DERS Ücret Hesaplama'!AM88=1,'EK DERS Ücret Hesaplama'!D88=\"Ücretli Öğretmen (Emekli çalışan)\"),\n'EK DERS Ücret Hesaplama'!P88,\"\")","v":""},{"$f":"IF(AND('EK DERS Ücret Hesaplama'!AM88=1,'EK DERS Ücret Hesaplama'!D88=\"Ücretli Öğretmen (Emekli çalışan)\"),\n'EK DERS Ücret Hesaplama'!R88,\"\")","v":""},{"$f":"IF(AND('EK DERS Ücret Hesaplama'!AM88=1,'EK DERS Ücret Hesaplama'!D88=\"Ücretli Öğretmen (Emekli çalışan)\"),\n'EK DERS Ücret Hesaplama'!AH88,\"\")","v":""},"","",null,0]
[{"$f":"IF(B94=\"\",\"\",SUBTOTAL(103,$B$11:B94))","v":""},{"$f":"IF('EK DERS Ücret Hesaplama'!$AM89=1,'EK DERS Ücret Hesaplama'!B89,\"\")","v":""},{"$f":"IF('EK DERS Ücret Hesaplama'!$AM89=1,'EK DERS Ücret Hesaplama'!C89,\"\")","v":""},{"$f":"IF('EK DERS Ücret Hesaplama'!$AM89=1,IF('EK DERS Ücret Hesaplama'!D89=\"Ücretli Öğretmen\",\"Ücretli Öğr.\",\"Ücr.Öğr. (Emekli)\"),\"\")","v":""},{"$f":"IF(AND('EK DERS Ücret Hesaplama'!AM89=1,'EK DERS Ücret Hesaplama'!D89=\"Ücretli Öğretmen\"),\n'EK DERS Ücret Hesaplama'!M89,\"\")","v":""},{"$f":"IF(AND('EK DERS Ücret Hesaplama'!AM89=1,'EK DERS Ücret Hesaplama'!D89=\"Ücretli Öğretmen\"),\n'EK DERS Ücret Hesaplama'!N89,\"\")","v":""},{"$f":"IF(AND('EK DERS Ücret Hesaplama'!AM89=1,'EK DERS Ücret Hesaplama'!D89=\"Ücretli Öğretmen\"),\n'EK DERS Ücret Hesaplama'!P89,\"\")","v":""},{"$f":"IF(AND('EK DERS Ücret Hesaplama'!AM89=1,'EK DERS Ücret Hesaplama'!D89=\"Ücretli Öğretmen\"),\n'EK DERS Ücret Hesaplama'!Q89,\"\")","v":""},{"$f":"IF(AND('EK DERS Ücret Hesaplama'!AM89=1,'EK DERS Ücret Hesaplama'!D89=\"Ücretli Öğretmen\"),\n'EK DERS Ücret Hesaplama'!AF89,\"\")","v":""},"","","",{"$f":"IF(AND('EK DERS Ücret Hesaplama'!AM89=1,'EK DERS Ücret Hesaplama'!D89=\"Ücretli Öğretmen (Emekli çalışan)\"),\n'EK DERS Ücret Hesaplama'!M89,\"\")","v":""},{"$f":"IF(AND('EK DERS Ücret Hesaplama'!AM89=1,'EK DERS Ücret Hesaplama'!D89=\"Ücretli Öğretmen (Emekli çalışan)\"),\n'EK DERS Ücret Hesaplama'!N89,\"\")","v":""},{"$f":"IF(AND('EK DERS Ücret Hesaplama'!AM89=1,'EK DERS Ücret Hesaplama'!D89=\"Ücretli Öğretmen (Emekli çalışan)\"),\n'EK DERS Ücret Hesaplama'!P89,\"\")","v":""},{"$f":"IF(AND('EK DERS Ücret Hesaplama'!AM89=1,'EK DERS Ücret Hesaplama'!D89=\"Ücretli Öğretmen (Emekli çalışan)\"),\n'EK DERS Ücret Hesaplama'!R89,\"\")","v":""},{"$f":"IF(AND('EK DERS Ücret Hesaplama'!AM89=1,'EK DERS Ücret Hesaplama'!D89=\"Ücretli Öğretmen (Emekli çalışan)\"),\n'EK DERS Ücret Hesaplama'!AH89,\"\")","v":""},"","",null,0]
[{"$f":"IF(B95=\"\",\"\",SUBTOTAL(103,$B$11:B95))","v":""},{"$f":"IF('EK DERS Ücret Hesaplama'!$AM90=1,'EK DERS Ücret Hesaplama'!B90,\"\")","v":""},{"$f":"IF('EK DERS Ücret Hesaplama'!$AM90=1,'EK DERS Ücret Hesaplama'!C90,\"\")","v":""},{"$f":"IF('EK DERS Ücret Hesaplama'!$AM90=1,IF('EK DERS Ücret Hesaplama'!D90=\"Ücretli Öğretmen\",\"Ücretli Öğr.\",\"Ücr.Öğr. (Emekli)\"),\"\")","v":""},{"$f":"IF(AND('EK DERS Ücret Hesaplama'!AM90=1,'EK DERS Ücret Hesaplama'!D90=\"Ücretli Öğretmen\"),\n'EK DERS Ücret Hesaplama'!M90,\"\")","v":""},{"$f":"IF(AND('EK DERS Ücret Hesaplama'!AM90=1,'EK DERS Ücret Hesaplama'!D90=\"Ücretli Öğretmen\"),\n'EK DERS Ücret Hesaplama'!N90,\"\")","v":""},{"$f":"IF(AND('EK DERS Ücret Hesaplama'!AM90=1,'EK DERS Ücret Hesaplama'!D90=\"Ücretli Öğretmen\"),\n'EK DERS Ücret Hesaplama'!P90,\"\")","v":""},{"$f":"IF(AND('EK DERS Ücret Hesaplama'!AM90=1,'EK DERS Ücret Hesaplama'!D90=\"Ücretli Öğretmen\"),\n'EK DERS Ücret Hesaplama'!Q90,\"\")","v":""},{"$f":"IF(AND('EK DERS Ücret Hesaplama'!AM90=1,'EK DERS Ücret Hesaplama'!D90=\"Ücretli Öğretmen\"),\n'EK DERS Ücret Hesaplama'!AF90,\"\")","v":""},"","","",{"$f":"IF(AND('EK DERS Ücret Hesaplama'!AM90=1,'EK DERS Ücret Hesaplama'!D90=\"Ücretli Öğretmen (Emekli çalışan)\"),\n'EK DERS Ücret Hesaplama'!M90,\"\")","v":""},{"$f":"IF(AND('EK DERS Ücret Hesaplama'!AM90=1,'EK DERS Ücret Hesaplama'!D90=\"Ücretli Öğretmen (Emekli çalışan)\"),\n'EK DERS Ücret Hesaplama'!N90,\"\")","v":""},{"$f":"IF(AND('EK DERS Ücret Hesaplama'!AM90=1,'EK DERS Ücret Hesaplama'!D90=\"Ücretli Öğretmen (Emekli çalışan)\"),\n'EK DERS Ücret Hesaplama'!P90,\"\")","v":""},{"$f":"IF(AND('EK DERS Ücret Hesaplama'!AM90=1,'EK DERS Ücret Hesaplama'!D90=\"Ücretli Öğretmen (Emekli çalışan)\"),\n'EK DERS Ücret Hesaplama'!R90,\"\")","v":""},{"$f":"IF(AND('EK DERS Ücret Hesaplama'!AM90=1,'EK DERS Ücret Hesaplama'!D90=\"Ücretli Öğretmen (Emekli çalışan)\"),\n'EK DERS Ücret Hesaplama'!AH90,\"\")","v":""},"","",null,0]
[{"$f":"IF(B96=\"\",\"\",SUBTOTAL(103,$B$11:B96))","v":""},{"$f":"IF('EK DERS Ücret Hesaplama'!$AM91=1,'EK DERS Ücret Hesaplama'!B91,\"\")","v":""},{"$f":"IF('EK DERS Ücret Hesaplama'!$AM91=1,'EK DERS Ücret Hesaplama'!C91,\"\")","v":""},{"$f":"IF('EK DERS Ücret Hesaplama'!$AM91=1,IF('EK DERS Ücret Hesaplama'!D91=\"Ücretli Öğretmen\",\"Ücretli Öğr.\",\"Ücr.Öğr. (Emekli)\"),\"\")","v":""},{"$f":"IF(AND('EK DERS Ücret Hesaplama'!AM91=1,'EK DERS Ücret Hesaplama'!D91=\"Ücretli Öğretmen\"),\n'EK DERS Ücret Hesaplama'!M91,\"\")","v":""},{"$f":"IF(AND('EK DERS Ücret Hesaplama'!AM91=1,'EK DERS Ücret Hesaplama'!D91=\"Ücretli Öğretmen\"),\n'EK DERS Ücret Hesaplama'!N91,\"\")","v":""},{"$f":"IF(AND('EK DERS Ücret Hesaplama'!AM91=1,'EK DERS Ücret Hesaplama'!D91=\"Ücretli Öğretmen\"),\n'EK DERS Ücret Hesaplama'!P91,\"\")","v":""},{"$f":"IF(AND('EK DERS Ücret Hesaplama'!AM91=1,'EK DERS Ücret Hesaplama'!D91=\"Ücretli Öğretmen\"),\n'EK DERS Ücret Hesaplama'!Q91,\"\")","v":""},{"$f":"IF(AND('EK DERS Ücret Hesaplama'!AM91=1,'EK DERS Ücret Hesaplama'!D91=\"Ücretli Öğretmen\"),\n'EK DERS Ücret Hesaplama'!AF91,\"\")","v":""},"","","",{"$f":"IF(AND('EK DERS Ücret Hesaplama'!AM91=1,'EK DERS Ücret Hesaplama'!D91=\"Ücretli Öğretmen (Emekli çalışan)\"),\n'EK DERS Ücret Hesaplama'!M91,\"\")","v":""},{"$f":"IF(AND('EK DERS Ücret Hesaplama'!AM91=1,'EK DERS Ücret Hesaplama'!D91=\"Ücretli Öğretmen (Emekli çalışan)\"),\n'EK DERS Ücret Hesaplama'!N91,\"\")","v":""},{"$f":"IF(AND('EK DERS Ücret Hesaplama'!AM91=1,'EK DERS Ücret Hesaplama'!D91=\"Ücretli Öğretmen (Emekli çalışan)\"),\n'EK DERS Ücret Hesaplama'!P91,\"\")","v":""},{"$f":"IF(AND('EK DERS Ücret Hesaplama'!AM91=1,'EK DERS Ücret Hesaplama'!D91=\"Ücretli Öğretmen (Emekli çalışan)\"),\n'EK DERS Ücret Hesaplama'!R91,\"\")","v":""},{"$f":"IF(AND('EK DERS Ücret Hesaplama'!AM91=1,'EK DERS Ücret Hesaplama'!D91=\"Ücretli Öğretmen (Emekli çalışan)\"),\n'EK DERS Ücret Hesaplama'!AH91,\"\")","v":""},"","",null,0]
[{"$f":"IF(B97=\"\",\"\",SUBTOTAL(103,$B$11:B97))","v":""},{"$f":"IF('EK DERS Ücret Hesaplama'!$AM92=1,'EK DERS Ücret Hesaplama'!B92,\"\")","v":""},{"$f":"IF('EK DERS Ücret Hesaplama'!$AM92=1,'EK DERS Ücret Hesaplama'!C92,\"\")","v":""},{"$f":"IF('EK DERS Ücret Hesaplama'!$AM92=1,IF('EK DERS Ücret Hesaplama'!D92=\"Ücretli Öğretmen\",\"Ücretli Öğr.\",\"Ücr.Öğr. (Emekli)\"),\"\")","v":""},{"$f":"IF(AND('EK DERS Ücret Hesaplama'!AM92=1,'EK DERS Ücret Hesaplama'!D92=\"Ücretli Öğretmen\"),\n'EK DERS Ücret Hesaplama'!M92,\"\")","v":""},{"$f":"IF(AND('EK DERS Ücret Hesaplama'!AM92=1,'EK DERS Ücret Hesaplama'!D92=\"Ücretli Öğretmen\"),\n'EK DERS Ücret Hesaplama'!N92,\"\")","v":""},{"$f":"IF(AND('EK DERS Ücret Hesaplama'!AM92=1,'EK DERS Ücret Hesaplama'!D92=\"Ücretli Öğretmen\"),\n'EK DERS Ücret Hesaplama'!P92,\"\")","v":""},{"$f":"IF(AND('EK DERS Ücret Hesaplama'!AM92=1,'EK DERS Ücret Hesaplama'!D92=\"Ücretli Öğretmen\"),\n'EK DERS Ücret Hesaplama'!Q92,\"\")","v":""},{"$f":"IF(AND('EK DERS Ücret Hesaplama'!AM92=1,'EK DERS Ücret Hesaplama'!D92=\"Ücretli Öğretmen\"),\n'EK DERS Ücret Hesaplama'!AF92,\"\")","v":""},"","","",{"$f":"IF(AND('EK DERS Ücret Hesaplama'!AM92=1,'EK DERS Ücret Hesaplama'!D92=\"Ücretli Öğretmen (Emekli çalışan)\"),\n'EK DERS Ücret Hesaplama'!M92,\"\")","v":""},{"$f":"IF(AND('EK DERS Ücret Hesaplama'!AM92=1,'EK DERS Ücret Hesaplama'!D92=\"Ücretli Öğretmen (Emekli çalışan)\"),\n'EK DERS Ücret Hesaplama'!N92,\"\")","v":""},{"$f":"IF(AND('EK DERS Ücret Hesaplama'!AM92=1,'EK DERS Ücret Hesaplama'!D92=\"Ücretli Öğretmen (Emekli çalışan)\"),\n'EK DERS Ücret Hesaplama'!P92,\"\")","v":""},{"$f":"IF(AND('EK DERS Ücret Hesaplama'!AM92=1,'EK DERS Ücret Hesaplama'!D92=\"Ücretli Öğretmen (Emekli çalışan)\"),\n'EK DERS Ücret Hesaplama'!R92,\"\")","v":""},{"$f":"IF(AND('EK DERS Ücret Hesaplama'!AM92=1,'EK DERS Ücret Hesaplama'!D92=\"Ücretli Öğretmen (Emekli çalışan)\"),\n'EK DERS Ücret Hesaplama'!AH92,\"\")","v":""},"","",null,0]
[{"$f":"IF(B98=\"\",\"\",SUBTOTAL(103,$B$11:B98))","v":""},{"$f":"IF('EK DERS Ücret Hesaplama'!$AM93=1,'EK DERS Ücret Hesaplama'!B93,\"\")","v":""},{"$f":"IF('EK DERS Ücret Hesaplama'!$AM93=1,'EK DERS Ücret Hesaplama'!C93,\"\")","v":""},{"$f":"IF('EK DERS Ücret Hesaplama'!$AM93=1,IF('EK DERS Ücret Hesaplama'!D93=\"Ücretli Öğretmen\",\"Ücretli Öğr.\",\"Ücr.Öğr. (Emekli)\"),\"\")","v":""},{"$f":"IF(AND('EK DERS Ücret Hesaplama'!AM93=1,'EK DERS Ücret Hesaplama'!D93=\"Ücretli Öğretmen\"),\n'EK DERS Ücret Hesaplama'!M93,\"\")","v":""},{"$f":"IF(AND('EK DERS Ücret Hesaplama'!AM93=1,'EK DERS Ücret Hesaplama'!D93=\"Ücretli Öğretmen\"),\n'EK DERS Ücret Hesaplama'!N93,\"\")","v":""},{"$f":"IF(AND('EK DERS Ücret Hesaplama'!AM93=1,'EK DERS Ücret Hesaplama'!D93=\"Ücretli Öğretmen\"),\n'EK DERS Ücret Hesaplama'!P93,\"\")","v":""},{"$f":"IF(AND('EK DERS Ücret Hesaplama'!AM93=1,'EK DERS Ücret Hesaplama'!D93=\"Ücretli Öğretmen\"),\n'EK DERS Ücret Hesaplama'!Q93,\"\")","v":""},{"$f":"IF(AND('EK DERS Ücret Hesaplama'!AM93=1,'EK DERS Ücret Hesaplama'!D93=\"Ücretli Öğretmen\"),\n'EK DERS Ücret Hesaplama'!AF93,\"\")","v":""},"","","",{"$f":"IF(AND('EK DERS Ücret Hesaplama'!AM93=1,'EK DERS Ücret Hesaplama'!D93=\"Ücretli Öğretmen (Emekli çalışan)\"),\n'EK DERS Ücret Hesaplama'!M93,\"\")","v":""},{"$f":"IF(AND('EK DERS Ücret Hesaplama'!AM93=1,'EK DERS Ücret Hesaplama'!D93=\"Ücretli Öğretmen (Emekli çalışan)\"),\n'EK DERS Ücret Hesaplama'!N93,\"\")","v":""},{"$f":"IF(AND('EK DERS Ücret Hesaplama'!AM93=1,'EK DERS Ücret Hesaplama'!D93=\"Ücretli Öğretmen (Emekli çalışan)\"),\n'EK DERS Ücret Hesaplama'!P93,\"\")","v":""},{"$f":"IF(AND('EK DERS Ücret Hesaplama'!AM93=1,'EK DERS Ücret Hesaplama'!D93=\"Ücretli Öğretmen (Emekli çalışan)\"),\n'EK DERS Ücret Hesaplama'!R93,\"\")","v":""},{"$f":"IF(AND('EK DERS Ücret Hesaplama'!AM93=1,'EK DERS Ücret Hesaplama'!D93=\"Ücretli Öğretmen (Emekli çalışan)\"),\n'EK DERS Ücret Hesaplama'!AH93,\"\")","v":""},"","",null,0]
[{"$f":"IF(B99=\"\",\"\",SUBTOTAL(103,$B$11:B99))","v":""},{"$f":"IF('EK DERS Ücret Hesaplama'!$AM94=1,'EK DERS Ücret Hesaplama'!B94,\"\")","v":""},{"$f":"IF('EK DERS Ücret Hesaplama'!$AM94=1,'EK DERS Ücret Hesaplama'!C94,\"\")","v":""},{"$f":"IF('EK DERS Ücret Hesaplama'!$AM94=1,IF('EK DERS Ücret Hesaplama'!D94=\"Ücretli Öğretmen\",\"Ücretli Öğr.\",\"Ücr.Öğr. (Emekli)\"),\"\")","v":""},{"$f":"IF(AND('EK DERS Ücret Hesaplama'!AM94=1,'EK DERS Ücret Hesaplama'!D94=\"Ücretli Öğretmen\"),\n'EK DERS Ücret Hesaplama'!M94,\"\")","v":""},{"$f":"IF(AND('EK DERS Ücret Hesaplama'!AM94=1,'EK DERS Ücret Hesaplama'!D94=\"Ücretli Öğretmen\"),\n'EK DERS Ücret Hesaplama'!N94,\"\")","v":""},{"$f":"IF(AND('EK DERS Ücret Hesaplama'!AM94=1,'EK DERS Ücret Hesaplama'!D94=\"Ücretli Öğretmen\"),\n'EK DERS Ücret Hesaplama'!P94,\"\")","v":""},{"$f":"IF(AND('EK DERS Ücret Hesaplama'!AM94=1,'EK DERS Ücret Hesaplama'!D94=\"Ücretli Öğretmen\"),\n'EK DERS Ücret Hesaplama'!Q94,\"\")","v":""},{"$f":"IF(AND('EK DERS Ücret Hesaplama'!AM94=1,'EK DERS Ücret Hesaplama'!D94=\"Ücretli Öğretmen\"),\n'EK DERS Ücret Hesaplama'!AF94,\"\")","v":""},"","","",{"$f":"IF(AND('EK DERS Ücret Hesaplama'!AM94=1,'EK DERS Ücret Hesaplama'!D94=\"Ücretli Öğretmen (Emekli çalışan)\"),\n'EK DERS Ücret Hesaplama'!M94,\"\")","v":""},{"$f":"IF(AND('EK DERS Ücret Hesaplama'!AM94=1,'EK DERS Ücret Hesaplama'!D94=\"Ücretli Öğretmen (Emekli çalışan)\"),\n'EK DERS Ücret Hesaplama'!N94,\"\")","v":""},{"$f":"IF(AND('EK DERS Ücret Hesaplama'!AM94=1,'EK DERS Ücret Hesaplama'!D94=\"Ücretli Öğretmen (Emekli çalışan)\"),\n'EK DERS Ücret Hesaplama'!P94,\"\")","v":""},{"$f":"IF(AND('EK DERS Ücret Hesaplama'!AM94=1,'EK DERS Ücret Hesaplama'!D94=\"Ücretli Öğretmen (Emekli çalışan)\"),\n'EK DERS Ücret Hesaplama'!R94,\"\")","v":""},{"$f":"IF(AND('EK DERS Ücret Hesaplama'!AM94=1,'EK DERS Ücret Hesaplama'!D94=\"Ücretli Öğretmen (Emekli çalışan)\"),\n'EK DERS Ücret Hesaplama'!AH94,\"\")","v":""},"","",null,0]
[{"$f":"IF(B100=\"\",\"\",SUBTOTAL(103,$B$11:B100))","v":""},{"$f":"IF('EK DERS Ücret Hesaplama'!$AM95=1,'EK DERS Ücret Hesaplama'!B95,\"\")","v":""},{"$f":"IF('EK DERS Ücret Hesaplama'!$AM95=1,'EK DERS Ücret Hesaplama'!C95,\"\")","v":""},{"$f":"IF('EK DERS Ücret Hesaplama'!$AM95=1,IF('EK DERS Ücret Hesaplama'!D95=\"Ücretli Öğretmen\",\"Ücretli Öğr.\",\"Ücr.Öğr. (Emekli)\"),\"\")","v":""},{"$f":"IF(AND('EK DERS Ücret Hesaplama'!AM95=1,'EK DERS Ücret Hesaplama'!D95=\"Ücretli Öğretmen\"),\n'EK DERS Ücret Hesaplama'!M95,\"\")","v":""},{"$f":"IF(AND('EK DERS Ücret Hesaplama'!AM95=1,'EK DERS Ücret Hesaplama'!D95=\"Ücretli Öğretmen\"),\n'EK DERS Ücret Hesaplama'!N95,\"\")","v":""},{"$f":"IF(AND('EK DERS Ücret Hesaplama'!AM95=1,'EK DERS Ücret Hesaplama'!D95=\"Ücretli Öğretmen\"),\n'EK DERS Ücret Hesaplama'!P95,\"\")","v":""},{"$f":"IF(AND('EK DERS Ücret Hesaplama'!AM95=1,'EK DERS Ücret Hesaplama'!D95=\"Ücretli Öğretmen\"),\n'EK DERS Ücret Hesaplama'!Q95,\"\")","v":""},{"$f":"IF(AND('EK DERS Ücret Hesaplama'!AM95=1,'EK DERS Ücret Hesaplama'!D95=\"Ücretli Öğretmen\"),\n'EK DERS Ücret Hesaplama'!AF95,\"\")","v":""},"","","",{"$f":"IF(AND('EK DERS Ücret Hesaplama'!AM95=1,'EK DERS Ücret Hesaplama'!D95=\"Ücretli Öğretmen (Emekli çalışan)\"),\n'EK DERS Ücret Hesaplama'!M95,\"\")","v":""},{"$f":"IF(AND('EK DERS Ücret Hesaplama'!AM95=1,'EK DERS Ücret Hesaplama'!D95=\"Ücretli Öğretmen (Emekli çalışan)\"),\n'EK DERS Ücret Hesaplama'!N95,\"\")","v":""},{"$f":"IF(AND('EK DERS Ücret Hesaplama'!AM95=1,'EK DERS Ücret Hesaplama'!D95=\"Ücretli Öğretmen (Emekli çalışan)\"),\n'EK DERS Ücret Hesaplama'!P95,\"\")","v":""},{"$f":"IF(AND('EK DERS Ücret Hesaplama'!AM95=1,'EK DERS Ücret Hesaplama'!D95=\"Ücretli Öğretmen (Emekli çalışan)\"),\n'EK DERS Ücret Hesaplama'!R95,\"\")","v":""},{"$f":"IF(AND('EK DERS Ücret Hesaplama'!AM95=1,'EK DERS Ücret Hesaplama'!D95=\"Ücretli Öğretmen (Emekli çalışan)\"),\n'EK DERS Ücret Hesaplama'!AH95,\"\")","v":""},"","",null,0]
[{"$f":"IF(B101=\"\",\"\",SUBTOTAL(103,$B$11:B101))","v":""},{"$f":"IF('EK DERS Ücret Hesaplama'!$AM96=1,'EK DERS Ücret Hesaplama'!B96,\"\")","v":""},{"$f":"IF('EK DERS Ücret Hesaplama'!$AM96=1,'EK DERS Ücret Hesaplama'!C96,\"\")","v":""},{"$f":"IF('EK DERS Ücret Hesaplama'!$AM96=1,IF('EK DERS Ücret Hesaplama'!D96=\"Ücretli Öğretmen\",\"Ücretli Öğr.\",\"Ücr.Öğr. (Emekli)\"),\"\")","v":""},{"$f":"IF(AND('EK DERS Ücret Hesaplama'!AM96=1,'EK DERS Ücret Hesaplama'!D96=\"Ücretli Öğretmen\"),\n'EK DERS Ücret Hesaplama'!M96,\"\")","v":""},{"$f":"IF(AND('EK DERS Ücret Hesaplama'!AM96=1,'EK DERS Ücret Hesaplama'!D96=\"Ücretli Öğretmen\"),\n'EK DERS Ücret Hesaplama'!N96,\"\")","v":""},{"$f":"IF(AND('EK DERS Ücret Hesaplama'!AM96=1,'EK DERS Ücret Hesaplama'!D96=\"Ücretli Öğretmen\"),\n'EK DERS Ücret Hesaplama'!P96,\"\")","v":""},{"$f":"IF(AND('EK DERS Ücret Hesaplama'!AM96=1,'EK DERS Ücret Hesaplama'!D96=\"Ücretli Öğretmen\"),\n'EK DERS Ücret Hesaplama'!Q96,\"\")","v":""},{"$f":"IF(AND('EK DERS Ücret Hesaplama'!AM96=1,'EK DERS Ücret Hesaplama'!D96=\"Ücretli Öğretmen\"),\n'EK DERS Ücret Hesaplama'!AF96,\"\")","v":""},"","","",{"$f":"IF(AND('EK DERS Ücret Hesaplama'!AM96=1,'EK DERS Ücret Hesaplama'!D96=\"Ücretli Öğretmen (Emekli çalışan)\"),\n'EK DERS Ücret Hesaplama'!M96,\"\")","v":""},{"$f":"IF(AND('EK DERS Ücret Hesaplama'!AM96=1,'EK DERS Ücret Hesaplama'!D96=\"Ücretli Öğretmen (Emekli çalışan)\"),\n'EK DERS Ücret Hesaplama'!N96,\"\")","v":""},{"$f":"IF(AND('EK DERS Ücret Hesaplama'!AM96=1,'EK DERS Ücret Hesaplama'!D96=\"Ücretli Öğretmen (Emekli çalışan)\"),\n'EK DERS Ücret Hesaplama'!P96,\"\")","v":""},{"$f":"IF(AND('EK DERS Ücret Hesaplama'!AM96=1,'EK DERS Ücret Hesaplama'!D96=\"Ücretli Öğretmen (Emekli çalışan)\"),\n'EK DERS Ücret Hesaplama'!R96,\"\")","v":""},{"$f":"IF(AND('EK DERS Ücret Hesaplama'!AM96=1,'EK DERS Ücret Hesaplama'!D96=\"Ücretli Öğretmen (Emekli çalışan)\"),\n'EK DERS Ücret Hesaplama'!AH96,\"\")","v":""},"","",null,0]
[{"$f":"IF(B102=\"\",\"\",SUBTOTAL(103,$B$11:B102))","v":""},{"$f":"IF('EK DERS Ücret Hesaplama'!$AM97=1,'EK DERS Ücret Hesaplama'!B97,\"\")","v":""},{"$f":"IF('EK DERS Ücret Hesaplama'!$AM97=1,'EK DERS Ücret Hesaplama'!C97,\"\")","v":""},{"$f":"IF('EK DERS Ücret Hesaplama'!$AM97=1,IF('EK DERS Ücret Hesaplama'!D97=\"Ücretli Öğretmen\",\"Ücretli Öğr.\",\"Ücr.Öğr. (Emekli)\"),\"\")","v":""},{"$f":"IF(AND('EK DERS Ücret Hesaplama'!AM97=1,'EK DERS Ücret Hesaplama'!D97=\"Ücretli Öğretmen\"),\n'EK DERS Ücret Hesaplama'!M97,\"\")","v":""},{"$f":"IF(AND('EK DERS Ücret Hesaplama'!AM97=1,'EK DERS Ücret Hesaplama'!D97=\"Ücretli Öğretmen\"),\n'EK DERS Ücret Hesaplama'!N97,\"\")","v":""},{"$f":"IF(AND('EK DERS Ücret Hesaplama'!AM97=1,'EK DERS Ücret Hesaplama'!D97=\"Ücretli Öğretmen\"),\n'EK DERS Ücret Hesaplama'!P97,\"\")","v":""},{"$f":"IF(AND('EK DERS Ücret Hesaplama'!AM97=1,'EK DERS Ücret Hesaplama'!D97=\"Ücretli Öğretmen\"),\n'EK DERS Ücret Hesaplama'!Q97,\"\")","v":""},{"$f":"IF(AND('EK DERS Ücret Hesaplama'!AM97=1,'EK DERS Ücret Hesaplama'!D97=\"Ücretli Öğretmen\"),\n'EK DERS Ücret Hesaplama'!AF97,\"\")","v":""},"","","",{"$f":"IF(AND('EK DERS Ücret Hesaplama'!AM97=1,'EK DERS Ücret Hesaplama'!D97=\"Ücretli Öğretmen (Emekli çalışan)\"),\n'EK DERS Ücret Hesaplama'!M97,\"\")","v":""},{"$f":"IF(AND('EK DERS Ücret Hesaplama'!AM97=1,'EK DERS Ücret Hesaplama'!D97=\"Ücretli Öğretmen (Emekli çalışan)\"),\n'EK DERS Ücret Hesaplama'!N97,\"\")","v":""},{"$f":"IF(AND('EK DERS Ücret Hesaplama'!AM97=1,'EK DERS Ücret Hesaplama'!D97=\"Ücretli Öğretmen (Emekli çalışan)\"),\n'EK DERS Ücret Hesaplama'!P97,\"\")","v":""},{"$f":"IF(AND('EK DERS Ücret Hesaplama'!AM97=1,'EK DERS Ücret Hesaplama'!D97=\"Ücretli Öğretmen (Emekli çalışan)\"),\n'EK DERS Ücret Hesaplama'!R97,\"\")","v":""},{"$f":"IF(AND('EK DERS Ücret Hesaplama'!AM97=1,'EK DERS Ücret Hesaplama'!D97=\"Ücretli Öğretmen (Emekli çalışan)\"),\n'EK DERS Ücret Hesaplama'!AH97,\"\")","v":""},"","",null,0]
[{"$f":"IF(B103=\"\",\"\",SUBTOTAL(103,$B$11:B103))","v":""},{"$f":"IF('EK DERS Ücret Hesaplama'!$AM98=1,'EK DERS Ücret Hesaplama'!B98,\"\")","v":""},{"$f":"IF('EK DERS Ücret Hesaplama'!$AM98=1,'EK DERS Ücret Hesaplama'!C98,\"\")","v":""},{"$f":"IF('EK DERS Ücret Hesaplama'!$AM98=1,IF('EK DERS Ücret Hesaplama'!D98=\"Ücretli Öğretmen\",\"Ücretli Öğr.\",\"Ücr.Öğr. (Emekli)\"),\"\")","v":""},{"$f":"IF(AND('EK DERS Ücret Hesaplama'!AM98=1,'EK DERS Ücret Hesaplama'!D98=\"Ücretli Öğretmen\"),\n'EK DERS Ücret Hesaplama'!M98,\"\")","v":""},{"$f":"IF(AND('EK DERS Ücret Hesaplama'!AM98=1,'EK DERS Ücret Hesaplama'!D98=\"Ücretli Öğretmen\"),\n'EK DERS Ücret Hesaplama'!N98,\"\")","v":""},{"$f":"IF(AND('EK DERS Ücret Hesaplama'!AM98=1,'EK DERS Ücret Hesaplama'!D98=\"Ücretli Öğretmen\"),\n'EK DERS Ücret Hesaplama'!P98,\"\")","v":""},{"$f":"IF(AND('EK DERS Ücret Hesaplama'!AM98=1,'EK DERS Ücret Hesaplama'!D98=\"Ücretli Öğretmen\"),\n'EK DERS Ücret Hesaplama'!Q98,\"\")","v":""},{"$f":"IF(AND('EK DERS Ücret Hesaplama'!AM98=1,'EK DERS Ücret Hesaplama'!D98=\"Ücretli Öğretmen\"),\n'EK DERS Ücret Hesaplama'!AF98,\"\")","v":""},"","","",{"$f":"IF(AND('EK DERS Ücret Hesaplama'!AM98=1,'EK DERS Ücret Hesaplama'!D98=\"Ücretli Öğretmen (Emekli çalışan)\"),\n'EK DERS Ücret Hesaplama'!M98,\"\")","v":""},{"$f":"IF(AND('EK DERS Ücret Hesaplama'!AM98=1,'EK DERS Ücret Hesaplama'!D98=\"Ücretli Öğretmen (Emekli çalışan)\"),\n'EK DERS Ücret Hesaplama'!N98,\"\")","v":""},{"$f":"IF(AND('EK DERS Ücret Hesaplama'!AM98=1,'EK DERS Ücret Hesaplama'!D98=\"Ücretli Öğretmen (Emekli çalışan)\"),\n'EK DERS Ücret Hesaplama'!P98,\"\")","v":""},{"$f":"IF(AND('EK DERS Ücret Hesaplama'!AM98=1,'EK DERS Ücret Hesaplama'!D98=\"Ücretli Öğretmen (Emekli çalışan)\"),\n'EK DERS Ücret Hesaplama'!R98,\"\")","v":""},{"$f":"IF(AND('EK DERS Ücret Hesaplama'!AM98=1,'EK DERS Ücret Hesaplama'!D98=\"Ücretli Öğretmen (Emekli çalışan)\"),\n'EK DERS Ücret Hesaplama'!AH98,\"\")","v":""},"","",null,0]
[{"$f":"IF(B104=\"\",\"\",SUBTOTAL(103,$B$11:B104))","v":""},{"$f":"IF('EK DERS Ücret Hesaplama'!$AM99=1,'EK DERS Ücret Hesaplama'!B99,\"\")","v":""},{"$f":"IF('EK DERS Ücret Hesaplama'!$AM99=1,'EK DERS Ücret Hesaplama'!C99,\"\")","v":""},{"$f":"IF('EK DERS Ücret Hesaplama'!$AM99=1,IF('EK DERS Ücret Hesaplama'!D99=\"Ücretli Öğretmen\",\"Ücretli Öğr.\",\"Ücr.Öğr. (Emekli)\"),\"\")","v":""},{"$f":"IF(AND('EK DERS Ücret Hesaplama'!AM99=1,'EK DERS Ücret Hesaplama'!D99=\"Ücretli Öğretmen\"),\n'EK DERS Ücret Hesaplama'!M99,\"\")","v":""},{"$f":"IF(AND('EK DERS Ücret Hesaplama'!AM99=1,'EK DERS Ücret Hesaplama'!D99=\"Ücretli Öğretmen\"),\n'EK DERS Ücret Hesaplama'!N99,\"\")","v":""},{"$f":"IF(AND('EK DERS Ücret Hesaplama'!AM99=1,'EK DERS Ücret Hesaplama'!D99=\"Ücretli Öğretmen\"),\n'EK DERS Ücret Hesaplama'!P99,\"\")","v":""},{"$f":"IF(AND('EK DERS Ücret Hesaplama'!AM99=1,'EK DERS Ücret Hesaplama'!D99=\"Ücretli Öğretmen\"),\n'EK DERS Ücret Hesaplama'!Q99,\"\")","v":""},{"$f":"IF(AND('EK DERS Ücret Hesaplama'!AM99=1,'EK DERS Ücret Hesaplama'!D99=\"Ücretli Öğretmen\"),\n'EK DERS Ücret Hesaplama'!AF99,\"\")","v":""},"","","",{"$f":"IF(AND('EK DERS Ücret Hesaplama'!AM99=1,'EK DERS Ücret Hesaplama'!D99=\"Ücretli Öğretmen (Emekli çalışan)\"),\n'EK DERS Ücret Hesaplama'!M99,\"\")","v":""},{"$f":"IF(AND('EK DERS Ücret Hesaplama'!AM99=1,'EK DERS Ücret Hesaplama'!D99=\"Ücretli Öğretmen (Emekli çalışan)\"),\n'EK DERS Ücret Hesaplama'!N99,\"\")","v":""},{"$f":"IF(AND('EK DERS Ücret Hesaplama'!AM99=1,'EK DERS Ücret Hesaplama'!D99=\"Ücretli Öğretmen (Emekli çalışan)\"),\n'EK DERS Ücret Hesaplama'!P99,\"\")","v":""},{"$f":"IF(AND('EK DERS Ücret Hesaplama'!AM99=1,'EK DERS Ücret Hesaplama'!D99=\"Ücretli Öğretmen (Emekli çalışan)\"),\n'EK DERS Ücret Hesaplama'!R99,\"\")","v":""},{"$f":"IF(AND('EK DERS Ücret Hesaplama'!AM99=1,'EK DERS Ücret Hesaplama'!D99=\"Ücretli Öğretmen (Emekli çalışan)\"),\n'EK DERS Ücret Hesaplama'!AH99,\"\")","v":""},"","",null,0]
[{"$f":"IF(B105=\"\",\"\",SUBTOTAL(103,$B$11:B105))","v":""},{"$f":"IF('EK DERS Ücret Hesaplama'!$AM100=1,'EK DERS Ücret Hesaplama'!B100,\"\")","v":""},{"$f":"IF('EK DERS Ücret Hesaplama'!$AM100=1,'EK DERS Ücret Hesaplama'!C100,\"\")","v":""},{"$f":"IF('EK DERS Ücret Hesaplama'!$AM100=1,IF('EK DERS Ücret Hesaplama'!D100=\"Ücretli Öğretmen\",\"Ücretli Öğr.\",\"Ücr.Öğr. (Emekli)\"),\"\")","v":""},{"$f":"IF(AND('EK DERS Ücret Hesaplama'!AM100=1,'EK DERS Ücret Hesaplama'!D100=\"Ücretli Öğretmen\"),\n'EK DERS Ücret Hesaplama'!M100,\"\")","v":""},{"$f":"IF(AND('EK DERS Ücret Hesaplama'!AM100=1,'EK DERS Ücret Hesaplama'!D100=\"Ücretli Öğretmen\"),\n'EK DERS Ücret Hesaplama'!N100,\"\")","v":""},{"$f":"IF(AND('EK DERS Ücret Hesaplama'!AM100=1,'EK DERS Ücret Hesaplama'!D100=\"Ücretli Öğretmen\"),\n'EK DERS Ücret Hesaplama'!P100,\"\")","v":""},{"$f":"IF(AND('EK DERS Ücret Hesaplama'!AM100=1,'EK DERS Ücret Hesaplama'!D100=\"Ücretli Öğretmen\"),\n'EK DERS Ücret Hesaplama'!Q100,\"\")","v":""},{"$f":"IF(AND('EK DERS Ücret Hesaplama'!AM100=1,'EK DERS Ücret Hesaplama'!D100=\"Ücretli Öğretmen\"),\n'EK DERS Ücret Hesaplama'!AF100,\"\")","v":""},"","","",{"$f":"IF(AND('EK DERS Ücret Hesaplama'!AM100=1,'EK DERS Ücret Hesaplama'!D100=\"Ücretli Öğretmen (Emekli çalışan)\"),\n'EK DERS Ücret Hesaplama'!M100,\"\")","v":""},{"$f":"IF(AND('EK DERS Ücret Hesaplama'!AM100=1,'EK DERS Ücret Hesaplama'!D100=\"Ücretli Öğretmen (Emekli çalışan)\"),\n'EK DERS Ücret Hesaplama'!N100,\"\")","v":""},{"$f":"IF(AND('EK DERS Ücret Hesaplama'!AM100=1,'EK DERS Ücret Hesaplama'!D100=\"Ücretli Öğretmen (Emekli çalışan)\"),\n'EK DERS Ücret Hesaplama'!P100,\"\")","v":""},{"$f":"IF(AND('EK DERS Ücret Hesaplama'!AM100=1,'EK DERS Ücret Hesaplama'!D100=\"Ücretli Öğretmen (Emekli çalışan)\"),\n'EK DERS Ücret Hesaplama'!R100,\"\")","v":""},{"$f":"IF(AND('EK DERS Ücret Hesaplama'!AM100=1,'EK DERS Ücret Hesaplama'!D100=\"Ücretli Öğretmen (Emekli çalışan)\"),\n'EK DERS Ücret Hesaplama'!AH100,\"\")","v":""},"","",null,0]
[{"$f":"IF(B106=\"\",\"\",SUBTOTAL(103,$B$11:B106))","v":""},{"$f":"IF('EK DERS Ücret Hesaplama'!$AM101=1,'EK DERS Ücret Hesaplama'!B101,\"\")","v":""},{"$f":"IF('EK DERS Ücret Hesaplama'!$AM101=1,'EK DERS Ücret Hesaplama'!C101,\"\")","v":""},{"$f":"IF('EK DERS Ücret Hesaplama'!$AM101=1,IF('EK DERS Ücret Hesaplama'!D101=\"Ücretli Öğretmen\",\"Ücretli Öğr.\",\"Ücr.Öğr. (Emekli)\"),\"\")","v":""},{"$f":"IF(AND('EK DERS Ücret Hesaplama'!AM101=1,'EK DERS Ücret Hesaplama'!D101=\"Ücretli Öğretmen\"),\n'EK DERS Ücret Hesaplama'!M101,\"\")","v":""},{"$f":"IF(AND('EK DERS Ücret Hesaplama'!AM101=1,'EK DERS Ücret Hesaplama'!D101=\"Ücretli Öğretmen\"),\n'EK DERS Ücret Hesaplama'!N101,\"\")","v":""},{"$f":"IF(AND('EK DERS Ücret Hesaplama'!AM101=1,'EK DERS Ücret Hesaplama'!D101=\"Ücretli Öğretmen\"),\n'EK DERS Ücret Hesaplama'!P101,\"\")","v":""},{"$f":"IF(AND('EK DERS Ücret Hesaplama'!AM101=1,'EK DERS Ücret Hesaplama'!D101=\"Ücretli Öğretmen\"),\n'EK DERS Ücret Hesaplama'!Q101,\"\")","v":""},{"$f":"IF(AND('EK DERS Ücret Hesaplama'!AM101=1,'EK DERS Ücret Hesaplama'!D101=\"Ücretli Öğretmen\"),\n'EK DERS Ücret Hesaplama'!AF101,\"\")","v":""},"","","",{"$f":"IF(AND('EK DERS Ücret Hesaplama'!AM101=1,'EK DERS Ücret Hesaplama'!D101=\"Ücretli Öğretmen (Emekli çalışan)\"),\n'EK DERS Ücret Hesaplama'!M101,\"\")","v":""},{"$f":"IF(AND('EK DERS Ücret Hesaplama'!AM101=1,'EK DERS Ücret Hesaplama'!D101=\"Ücretli Öğretmen (Emekli çalışan)\"),\n'EK DERS Ücret Hesaplama'!N101,\"\")","v":""},{"$f":"IF(AND('EK DERS Ücret Hesaplama'!AM101=1,'EK DERS Ücret Hesaplama'!D101=\"Ücretli Öğretmen (Emekli çalışan)\"),\n'EK DERS Ücret Hesaplama'!P101,\"\")","v":""},{"$f":"IF(AND('EK DERS Ücret Hesaplama'!AM101=1,'EK DERS Ücret Hesaplama'!D101=\"Ücretli Öğretmen (Emekli çalışan)\"),\n'EK DERS Ücret Hesaplama'!R101,\"\")","v":""},{"$f":"IF(AND('EK DERS Ücret Hesaplama'!AM101=1,'EK DERS Ücret Hesaplama'!D101=\"Ücretli Öğretmen (Emekli çalışan)\"),\n'EK DERS Ücret Hesaplama'!AH101,\"\")","v":""},"","",null,0]
[{"$f":"IF(B107=\"\",\"\",SUBTOTAL(103,$B$11:B107))","v":""},{"$f":"IF('EK DERS Ücret Hesaplama'!$AM102=1,'EK DERS Ücret Hesaplama'!B102,\"\")","v":""},{"$f":"IF('EK DERS Ücret Hesaplama'!$AM102=1,'EK DERS Ücret Hesaplama'!C102,\"\")","v":""},{"$f":"IF('EK DERS Ücret Hesaplama'!$AM102=1,IF('EK DERS Ücret Hesaplama'!D102=\"Ücretli Öğretmen\",\"Ücretli Öğr.\",\"Ücr.Öğr. (Emekli)\"),\"\")","v":""},{"$f":"IF(AND('EK DERS Ücret Hesaplama'!AM102=1,'EK DERS Ücret Hesaplama'!D102=\"Ücretli Öğretmen\"),\n'EK DERS Ücret Hesaplama'!M102,\"\")","v":""},{"$f":"IF(AND('EK DERS Ücret Hesaplama'!AM102=1,'EK DERS Ücret Hesaplama'!D102=\"Ücretli Öğretmen\"),\n'EK DERS Ücret Hesaplama'!N102,\"\")","v":""},{"$f":"IF(AND('EK DERS Ücret Hesaplama'!AM102=1,'EK DERS Ücret Hesaplama'!D102=\"Ücretli Öğretmen\"),\n'EK DERS Ücret Hesaplama'!P102,\"\")","v":""},{"$f":"IF(AND('EK DERS Ücret Hesaplama'!AM102=1,'EK DERS Ücret Hesaplama'!D102=\"Ücretli Öğretmen\"),\n'EK DERS Ücret Hesaplama'!Q102,\"\")","v":""},{"$f":"IF(AND('EK DERS Ücret Hesaplama'!AM102=1,'EK DERS Ücret Hesaplama'!D102=\"Ücretli Öğretmen\"),\n'EK DERS Ücret Hesaplama'!AF102,\"\")","v":""},"","","",{"$f":"IF(AND('EK DERS Ücret Hesaplama'!AM102=1,'EK DERS Ücret Hesaplama'!D102=\"Ücretli Öğretmen (Emekli çalışan)\"),\n'EK DERS Ücret Hesaplama'!M102,\"\")","v":""},{"$f":"IF(AND('EK DERS Ücret Hesaplama'!AM102=1,'EK DERS Ücret Hesaplama'!D102=\"Ücretli Öğretmen (Emekli çalışan)\"),\n'EK DERS Ücret Hesaplama'!N102,\"\")","v":""},{"$f":"IF(AND('EK DERS Ücret Hesaplama'!AM102=1,'EK DERS Ücret Hesaplama'!D102=\"Ücretli Öğretmen (Emekli çalışan)\"),\n'EK DERS Ücret Hesaplama'!P102,\"\")","v":""},{"$f":"IF(AND('EK DERS Ücret Hesaplama'!AM102=1,'EK DERS Ücret Hesaplama'!D102=\"Ücretli Öğretmen (Emekli çalışan)\"),\n'EK DERS Ücret Hesaplama'!R102,\"\")","v":""},{"$f":"IF(AND('EK DERS Ücret Hesaplama'!AM102=1,'EK DERS Ücret Hesaplama'!D102=\"Ücretli Öğretmen (Emekli çalışan)\"),\n'EK DERS Ücret Hesaplama'!AH102,\"\")","v":""},"","",null,0]
[{"$f":"IF(B108=\"\",\"\",SUBTOTAL(103,$B$11:B108))","v":""},{"$f":"IF('EK DERS Ücret Hesaplama'!$AM103=1,'EK DERS Ücret Hesaplama'!B103,\"\")","v":""},{"$f":"IF('EK DERS Ücret Hesaplama'!$AM103=1,'EK DERS Ücret Hesaplama'!C103,\"\")","v":""},{"$f":"IF('EK DERS Ücret Hesaplama'!$AM103=1,IF('EK DERS Ücret Hesaplama'!D103=\"Ücretli Öğretmen\",\"Ücretli Öğr.\",\"Ücr.Öğr. (Emekli)\"),\"\")","v":""},{"$f":"IF(AND('EK DERS Ücret Hesaplama'!AM103=1,'EK DERS Ücret Hesaplama'!D103=\"Ücretli Öğretmen\"),\n'EK DERS Ücret Hesaplama'!M103,\"\")","v":""},{"$f":"IF(AND('EK DERS Ücret Hesaplama'!AM103=1,'EK DERS Ücret Hesaplama'!D103=\"Ücretli Öğretmen\"),\n'EK DERS Ücret Hesaplama'!N103,\"\")","v":""},{"$f":"IF(AND('EK DERS Ücret Hesaplama'!AM103=1,'EK DERS Ücret Hesaplama'!D103=\"Ücretli Öğretmen\"),\n'EK DERS Ücret Hesaplama'!P103,\"\")","v":""},{"$f":"IF(AND('EK DERS Ücret Hesaplama'!AM103=1,'EK DERS Ücret Hesaplama'!D103=\"Ücretli Öğretmen\"),\n'EK DERS Ücret Hesaplama'!Q103,\"\")","v":""},{"$f":"IF(AND('EK DERS Ücret Hesaplama'!AM103=1,'EK DERS Ücret Hesaplama'!D103=\"Ücretli Öğretmen\"),\n'EK DERS Ücret Hesaplama'!AF103,\"\")","v":""},"","","",{"$f":"IF(AND('EK DERS Ücret Hesaplama'!AM103=1,'EK DERS Ücret Hesaplama'!D103=\"Ücretli Öğretmen (Emekli çalışan)\"),\n'EK DERS Ücret Hesaplama'!M103,\"\")","v":""},{"$f":"IF(AND('EK DERS Ücret Hesaplama'!AM103=1,'EK DERS Ücret Hesaplama'!D103=\"Ücretli Öğretmen (Emekli çalışan)\"),\n'EK DERS Ücret Hesaplama'!N103,\"\")","v":""},{"$f":"IF(AND('EK DERS Ücret Hesaplama'!AM103=1,'EK DERS Ücret Hesaplama'!D103=\"Ücretli Öğretmen (Emekli çalışan)\"),\n'EK DERS Ücret Hesaplama'!P103,\"\")","v":""},{"$f":"IF(AND('EK DERS Ücret Hesaplama'!AM103=1,'EK DERS Ücret Hesaplama'!D103=\"Ücretli Öğretmen (Emekli çalışan)\"),\n'EK DERS Ücret Hesaplama'!R103,\"\")","v":""},{"$f":"IF(AND('EK DERS Ücret Hesaplama'!AM103=1,'EK DERS Ücret Hesaplama'!D103=\"Ücretli Öğretmen (Emekli çalışan)\"),\n'EK DERS Ücret Hesaplama'!AH103,\"\")","v":""},"","",null,0]
[{"$f":"IF(B109=\"\",\"\",SUBTOTAL(103,$B$11:B109))","v":""},{"$f":"IF('EK DERS Ücret Hesaplama'!$AM104=1,'EK DERS Ücret Hesaplama'!B104,\"\")","v":""},{"$f":"IF('EK DERS Ücret Hesaplama'!$AM104=1,'EK DERS Ücret Hesaplama'!C104,\"\")","v":""},{"$f":"IF('EK DERS Ücret Hesaplama'!$AM104=1,IF('EK DERS Ücret Hesaplama'!D104=\"Ücretli Öğretmen\",\"Ücretli Öğr.\",\"Ücr.Öğr. (Emekli)\"),\"\")","v":""},{"$f":"IF(AND('EK DERS Ücret Hesaplama'!AM104=1,'EK DERS Ücret Hesaplama'!D104=\"Ücretli Öğretmen\"),\n'EK DERS Ücret Hesaplama'!M104,\"\")","v":""},{"$f":"IF(AND('EK DERS Ücret Hesaplama'!AM104=1,'EK DERS Ücret Hesaplama'!D104=\"Ücretli Öğretmen\"),\n'EK DERS Ücret Hesaplama'!N104,\"\")","v":""},{"$f":"IF(AND('EK DERS Ücret Hesaplama'!AM104=1,'EK DERS Ücret Hesaplama'!D104=\"Ücretli Öğretmen\"),\n'EK DERS Ücret Hesaplama'!P104,\"\")","v":""},{"$f":"IF(AND('EK DERS Ücret Hesaplama'!AM104=1,'EK DERS Ücret Hesaplama'!D104=\"Ücretli Öğretmen\"),\n'EK DERS Ücret Hesaplama'!Q104,\"\")","v":""},{"$f":"IF(AND('EK DERS Ücret Hesaplama'!AM104=1,'EK DERS Ücret Hesaplama'!D104=\"Ücretli Öğretmen\"),\n'EK DERS Ücret Hesaplama'!AF104,\"\")","v":""},"","","",{"$f":"IF(AND('EK DERS Ücret Hesaplama'!AM104=1,'EK DERS Ücret Hesaplama'!D104=\"Ücretli Öğretmen (Emekli çalışan)\"),\n'EK DERS Ücret Hesaplama'!M104,\"\")","v":""},{"$f":"IF(AND('EK DERS Ücret Hesaplama'!AM104=1,'EK DERS Ücret Hesaplama'!D104=\"Ücretli Öğretmen (Emekli çalışan)\"),\n'EK DERS Ücret Hesaplama'!N104,\"\")","v":""},{"$f":"IF(AND('EK DERS Ücret Hesaplama'!AM104=1,'EK DERS Ücret Hesaplama'!D104=\"Ücretli Öğretmen (Emekli çalışan)\"),\n'EK DERS Ücret Hesaplama'!P104,\"\")","v":""},{"$f":"IF(AND('EK DERS Ücret Hesaplama'!AM104=1,'EK DERS Ücret Hesaplama'!D104=\"Ücretli Öğretmen (Emekli çalışan)\"),\n'EK DERS Ücret Hesaplama'!R104,\"\")","v":""},{"$f":"IF(AND('EK DERS Ücret Hesaplama'!AM104=1,'EK DERS Ücret Hesaplama'!D104=\"Ücretli Öğretmen (Emekli çalışan)\"),\n'EK DERS Ücret Hesaplama'!AH104,\"\")","v":""},"","",null,0]
[{"$f":"IF(B110=\"\",\"\",SUBTOTAL(103,$B$11:B110))","v":""},{"$f":"IF('EK DERS Ücret Hesaplama'!$AM105=1,'EK DERS Ücret Hesaplama'!B105,\"\")","v":""},{"$f":"IF('EK DERS Ücret Hesaplama'!$AM105=1,'EK DERS Ücret Hesaplama'!C105,\"\")","v":""},{"$f":"IF('EK DERS Ücret Hesaplama'!$AM105=1,IF('EK DERS Ücret Hesaplama'!D105=\"Ücretli Öğretmen\",\"Ücretli Öğr.\",\"Ücr.Öğr. (Emekli)\"),\"\")","v":""},{"$f":"IF(AND('EK DERS Ücret Hesaplama'!AM105=1,'EK DERS Ücret Hesaplama'!D105=\"Ücretli Öğretmen\"),\n'EK DERS Ücret Hesaplama'!M105,\"\")","v":""},{"$f":"IF(AND('EK DERS Ücret Hesaplama'!AM105=1,'EK DERS Ücret Hesaplama'!D105=\"Ücretli Öğretmen\"),\n'EK DERS Ücret Hesaplama'!N105,\"\")","v":""},{"$f":"IF(AND('EK DERS Ücret Hesaplama'!AM105=1,'EK DERS Ücret Hesaplama'!D105=\"Ücretli Öğretmen\"),\n'EK DERS Ücret Hesaplama'!P105,\"\")","v":""},{"$f":"IF(AND('EK DERS Ücret Hesaplama'!AM105=1,'EK DERS Ücret Hesaplama'!D105=\"Ücretli Öğretmen\"),\n'EK DERS Ücret Hesaplama'!Q105,\"\")","v":""},{"$f":"IF(AND('EK DERS Ücret Hesaplama'!AM105=1,'EK DERS Ücret Hesaplama'!D105=\"Ücretli Öğretmen\"),\n'EK DERS Ücret Hesaplama'!AF105,\"\")","v":""},"","","",{"$f":"IF(AND('EK DERS Ücret Hesaplama'!AM105=1,'EK DERS Ücret Hesaplama'!D105=\"Ücretli Öğretmen (Emekli çalışan)\"),\n'EK DERS Ücret Hesaplama'!M105,\"\")","v":""},{"$f":"IF(AND('EK DERS Ücret Hesaplama'!AM105=1,'EK DERS Ücret Hesaplama'!D105=\"Ücretli Öğretmen (Emekli çalışan)\"),\n'EK DERS Ücret Hesaplama'!N105,\"\")","v":""},{"$f":"IF(AND('EK DERS Ücret Hesaplama'!AM105=1,'EK DERS Ücret Hesaplama'!D105=\"Ücretli Öğretmen (Emekli çalışan)\"),\n'EK DERS Ücret Hesaplama'!P105,\"\")","v":""},{"$f":"IF(AND('EK DERS Ücret Hesaplama'!AM105=1,'EK DERS Ücret Hesaplama'!D105=\"Ücretli Öğretmen (Emekli çalışan)\"),\n'EK DERS Ücret Hesaplama'!R105,\"\")","v":""},{"$f":"IF(AND('EK DERS Ücret Hesaplama'!AM105=1,'EK DERS Ücret Hesaplama'!D105=\"Ücretli Öğretmen (Emekli çalışan)\"),\n'EK DERS Ücret Hesaplama'!AH105,\"\")","v":""},"","",null,0]
[null,null,null,"TOPLAM",{"$f":"SUM(E11:E110)","v":615},{"$f":"SUM(F11:F110)","v":83},65510.990000000005,13429.75,9171.5399999999991,13102.2,8188.8600000000006,1310.22,0,0,0,0,0,{"$f":"SUM(R11:R110)","v":0},{"$f":"SUM(S11:S110)","v":0}]
[null,null,null,null,null,null,null,{"$f":"H111+I111","v":22601.29},null,{"$f":"J111+K111+L111","v":22601.280000000002},null,null,null,null,null,{"$f":"P111+Q111","v":0},null,{"$f":"R111+S111","v":0}]
[null,null,null,null,null,null,null,{"$f":"CONCATENATE(\"Fark   \",\" \",ROUND(H112-J112,2))","v":"Fark    0,01"},null,null,null,null,null,null,null,{"$f":"CONCATENATE(\"Fark   \",\" \",ROUND(P112-R112,2))","v":"Fark    0"}]
[null,"SGK TAHAKKUK FİŞİNDEKİ NET PRİM TUTARI İLE 1 NUMARALI ALANDAKİ TUTAR EŞİT OLMALIDIR.",null,null,null,null,null,null,null,null,null,null,null,null,"ÖNEMLİDİR!!!"]
[null,null,null,null,null,null,0,null,null,0,null,null,"İLK İŞLEM YAPILIRKEN TOPLAMA VE ÇIKARMA DÜĞMELERİNİN ÜSTÜNDE BULUNAN ALANLARIN HER ZAMAN 0 OLDUĞUNDAN EMİN OLMAK GEREKİR. SOL TARAFTA YAZAN DURUMLARDA BU ALANLARA GEREKLİ KURUŞ TUTARI GİRİLMELİDİR."]
[null,"E-Bildirge ve 1 numaralı alan arasında kuruş farkı olduğunda; "]
[null,"KURUŞ FARKI DURUMA GÖRE TOPLAMA VEYA ÇIKARMA KUTUSUNA;"]
[null,"0,01 / 0,02 / 0,03 FORMATINDA TUTAR YAZILIR "]

{"sheet":" Ö.E.B ","index":8,"n_rows":15,"n_cols":22,"rows_kept":15,"cut":false,"hidden":false,"merged":[[0,0,0,19],[1,0,3,0],[1,1,1,7],[1,8,1,19],[2,1,3,3],[2,4,3,6],[2,7,3,7],[2,8,3,8],[2,9,3,12],[2,13,2,15],[2,16,3,16],[2,17,3,17],[2,18,3,18],[2,19,3,19],[3,14,3,15],[5,1,5,3],[5,4,5,6],[5,9,5,12],[5,14,5,15],[4,1,4,3],[4,4,4,6],[4,9,4,12],[4,14,4,15],[6,1,6,3],[6,4,6,6],[6,9,6,12],[6,14,6,15],[7,1,7,3],[7,4,7,6],[7,9,7,12],[7,14,7,15],[8,1,8,3],[8,4,8,6],[8,9,8,12],[8,14,8,15],[9,1,9,3],[9,4,9,6],[9,9,9,12],[9,14,9,15],[10,1,10,3],[10,4,10,6],[10,9,10,12],[10,14,10,15],[11,1,11,3],[11,4,11,6],[11,9,11,12],[11,14,11,15],[12,0,14,1],[12,2,13,3],[12,4,13,5],[12,6,12,9],[12,10,13,11],[12,12,13,14],[12,15,13,19],[13,6,13,7],[13,8,13,9],[14,2,14,3],[14,4,14,5],[14,6,14,7],[14,8,14,9],[14,10,14,11],[14,12,14,14],[14,15,14,19]]}
["Ödeme Emri Detayı  -Örnek"]
["Sıra No","Ödeme Kalemi",null,null,null,null,null,null,"Kesinti"]
[null,"Ödeme Kalemi",null,null,"Bütçe Tertibi",null,null,"Brüt Tutar","Kesinti Türü","Kesinti Alt Türü",null,null,null,"Kesinti Yapılan Kişi Kurum",null,null,"Dosya No","Hesaba Esas Tutar","Kesinti Oranı","Tutar"]
[null,null,null,null,null,null,null,null,null,null,null,null,null,"Adı Soyadı\n/ Ünvanı","VKN / TCKN",null,null,null,null,null,null,"A"]
[1,"Ders Ücreti Karşılığında Görevlendirilenlerin Ücretleri",null,null,null,null,null,{"$f":"'EK DERS Ücret Hesaplama'!O106","v":65510.990000000005},null,null,null,null,null,null,null,null,null,null,null,null,null,{"$f":"IF(H5=0,0,1)","v":1}]
[2,"Sosyal Güvenlik Primi Ödemeleri - Geçici Personel",null,null,null,null,null,{"$f":"'EK DERS Ücret Hesaplama'!Q106+'EK DERS Ücret Hesaplama'!R106","v":13429.75},null,null,null,null,null,null,null,null,null,null,null,null,null,{"$f":"IF(H6=0,0,1)","v":1}]
[null,null,null,null,null,null,null,null,"Vergi","Gelir Vergisi",null,null,null,null,null,null,null,null,null,{"$f":"'EK DERS Ücret Hesaplama'!Z106","v":0},null,{"$f":"IF(T7=0,0,1)","v":0}]
[null,null,null,null,null,null,null,null,"Vergi","Damga Vergisi",null,null,null,null,null,null,null,null,null,{"$f":"'EK DERS Ücret Hesaplama'!AD106","v":0},null,0]
[null,null,null,null,null,null,null,null,"SGK","Malüllük,Yaşlılık ve Emeklilik Primi (işveren-işçi)\n( %11 + %7,5 + %2  =  % 20,5 )",null,null,null,null,null,null,null,null,null,{"$f":"'EK DERS Ücret Hesaplama'!AE106","v":13429.75},null,1]
[null,null,null,null,null,null,null,null,"SGK","Malüllük,Yaşlılık ve Emeklilik Primi (iştirakçi-işçi)\n( %9 + %5  =  % 14 )",null,null,null,null,null,null,null,null,null,{"$f":"'EK DERS Ücret Hesaplama'!AF106","v":9171.5399999999991},null,1]
[null,null,null,null,null,null,null,null,"SGK","Sosyal Güvenlik Destekleme Primi\n( %24,5 + %7,5  =  % 32 )",null,null,null,null,null,null,null,null,null,{"$f":"'EK DERS Ücret Hesaplama'!AG106+'EK DERS Ücret Hesaplama'!AH106","v":0},null,0]
[null,null,null,null,null,null,null,null,"İcra","İcra + Nafaka",null,null,null,null,null,null,null,null,null,{"$f":"'EK DERS Ücret Hesaplama'!AI106","v":0},null,0]
["Toplam Ödenmesi Gereken Tutar",null,"Brüt Tutar",null,"Kesinti Toplamı",null,"Diğer Detay Toplamı",null,null,null,"Net Tutar",null,"Mahsup Edilen Ön Ödeme Tutarı",null,null,"Ödenmesi Gereken Tutar"]
[null,null,null,null,null,null,"İndirim",null,"Artırım"]
[null,null,{"$f":"H5+H6","v":78940.740000000005},null,{"$f":"T7+T8+T9+T10+T11+T12","v":22601.29},null,null,null,null,null,{"$f":"C15-E15","v":56339.450000000004},null,null,null,null,{"$f":"K15","v":56339.450000000004}]

{"sheet":"KATSAYILAR","index":9,"n_rows":40,"n_cols":6,"rows_kept":40,"cut":false,"hidden":false,"merged":[[12,4,22,5],[0,0,0,2],[27,0,31,0],[32,0,33,0],[10,0,13,0],[15,0,17,0],[21,0,22,0],[23,0,24,0]]}
["ÜCRET HESAPLAMAYA İLİŞKİN KATSAYILAR-GÖSTERGELER-ORANLAR"]
[]
["MEMUR MAAŞ KAT SAYISI",null,0.76087099999999996,null,"OKUL / KURUM ADI","OKUL KURUM ADI GİRİNİZ!!!"]
["Brüt Asgari Ücret",null,20002.5,null,"OKUL / KURUM KODU"]
["SGK Matrahı",null,{"$f":"C4","v":20002.5},null,"OKUL / KURUM Vergi Kimlik No"]
["Gelir Vergisi Matrahı",null,{"$f":"ROUND(C4-(C4*0.15),2)","v":17002.13}]
["Damga Vergisi Matrahı",null,{"$f":"C4","v":20002.5},null,"Ödemenin Yapıldığı Banka","ZİRAAT BANKASI"]
["Net Asgari ücret",null,{"$f":"ROUND(C4-(C4*0.15),2)","v":17002.13},null,"Şube Adı","İZMİR"]
["1 Günlük Ücret",null,{"$f":"ROUND(C4/30,2)","v":666.75}]
[null,null,null,null,"Muhasebe Birimi","KARABAĞLAR MAL MÜDÜRLÜĞÜ"]
["GELİR VERGİSİ DİLİMLERİ (%)",0.15,110000]
[null,0.2,230000]
[null,0.27,870000,null,"Bu sayfada sarı renkli hücrelerde değişiklik yapabilirsiniz.\n\nBu hücrelerdeki veriler yıla, döneme, okula, kuruma vs. göre değiştiğinden bunları inceleyip değiştirin.\n"]
[null,0.35]
[]
["SAKATLIK İNDİRİMİ (TL)","1. Derece (%80)",2000]
[null,"2. Derece (%60)",1170]
[null,"3. Derece (%40)",500]
[]
["Damga Vergisi Oranı (ücretliler)",null,7.5900000000000004E-3]
[]
["Ücretli Öğretmen","SGK Primi İşveren Oranı",0.20499999999999999]
[null,"SGK Primi İşçi Oranı",0.14000000000000001]
["Ücretli Öğretmen (Emekli çalışan)","SGK Primi İşveren Oranı",0.245]
[null,"SGK Primi İşçi Oranı",7.4999999999999997E-2]
[]
[]
["Ücretli Öğretmen","Malulük Yaşlılık Primi %11 (işveren)",0.11]
[null,"Kısa Vadeli %2 (İşveren)",0.02]
[null,"Genel Sağlık %7,5 (İşveren)",7.4999999999999997E-2]
[null,"Malullük Yaşlılık Primi %9 (İşçi Payı)",0.09]
[null,"Genel Sağlık%5 (İşçi Payı)",0.05]
["Ücretli Öğretmen (Emekli çalışan)","Emekli İşveren payı %24,5",0.245]
[null,"Emekli İşçi Payı %7,5",7.4999999999999997E-2]
[]
[]
["1 Saatlik Ücret - Gündüz",140,{"$f":"ROUND(C3*B37,2)","v":106.52}]
["1 Saatlik Ücret - Gece / H.S.",150,{"$f":"ROUND(C3*B38,2)","v":114.13}]
["1 Saatlik Ücret - DYK (Gündüz)",280,{"$f":"ROUND(C3*B39,2)","v":213.04}]
["1 Saatlik Ücret - DYK (Gece/H.S.)",300,{"$f":"ROUND(C3*B40,2)","v":228.26}]